{"text_format":"1","workbook":"xlsx","n_sheets":5,"sheets":["data","sheet1","TABLE1","TABLE2","PLOT"],"not_rendered":{"charts":2,"images":0,"macros":1,"external_links":0,"defined_names":9,"comments":0,"pivot_tables":0},"unopened":[],"bounds":{"document_bytes":16777216,"sheet_cells":100000,"rows_first":2000,"rows_last":500,"rows_between":2000,"halvings":0,"cell_chars":16384,"cell_head_chars":4096},"cells_cut":0,"cells_raw":0,"read":"whole","date_system":"1900"}

{"sheet":"data","index":0,"n_rows":1503,"n_cols":98,"rows_kept":562,"cut":true,"hidden":false,"merged":[[0,6,1,6],[0,7,0,35],[0,36,0,64],[0,65,0,93],[0,0,1,0],[0,5,1,5],[0,1,1,1],[0,2,1,2],[0,3,1,3],[0,4,1,4]],"bounds":{"rows_first":250,"rows_last":62,"rows_between":250,"halvings":3}}
["ردیف","نام ","تاریخ","نوع باکتری","نوع کشت","نام بخش","جواب","حساس",null,null,null,null,null,null,null,null,null,null,null,null,null,null,null,null,null,null,null,null,null,null,null,null,null,null,null,null,"نیمه حساس",null,null,null,null,null,null,null,null,null,null,null,null,null,null,null,null,null,null,null,null,null,null,null,null,null,null,null,null,"مقاوم"]
[null,null,null,null,null,null,null,"جنتامایسین ","آمیکاسین ","آمپی سیلین ","پنی سیلین ","ایمی پنم","سفازولین ","سفوتاکسیم ","سفالوتین ","سفتریاکسون","سفتیزوکسیم ","سیپروفلوکساسین ","کلیندامایسین ","کوتریموکسازول","نالیدیک اسید ","ونکومایسین","سفتازیدیم ","آموکسی سیلین","آزیترومایسین","کاربنی سیلین","سفالکسین","سپفیم","تتراسایکلین","نورفلوکساسین","نیتروفورانتوئین","مترونیدازول","مروپنم","کانامایسین","داکسی سایکلین","کلوگزایسلین","جنتامایسین ","آمیکاسین ","آمپی سیلین ","پنی سیلین ","ایمی پنم","سفازولین ","سفوتاکسیم ","سفالوتین ","سفتریاکسون","سفتیزوکسیم ","سیپروفلوکساسین ","کلیندامایسین ","کوتریموکسازول","نالیدیک اسید ","ونکومایسین","سفتازیدیم ","آموکسی سیلین","آزیترومایسین","کاربنی سیلین","سفالکسین","سپفیم","تتراسایکلین","نورفلوکساسین","نیتروفورانتوئین","مترونیدازول","مروپنم","کانامایسین","داکسی سایکلین","کلوگزایسلین","جنتامایسین ","آمیکاسین ","آمپی سیلین ","پنی سیلین ","ایمی پنم","سفازولین ","سفوتاکسیم ","سفالوتین ","سفتریاکسون","سفتیزوکسیم ","سیپروفلوکساسین ","کلیندامایسین ","کوتریموکسازول","نالیدیک اسید ","ونکومایسین","سفتازیدیم ","آموکسی سیلین","آزیترومایسین","کاربنی سیلین","سفالکسین","سپفیم","تتراسایکلین","نورفلوکساسین","نیتروفورانتوئین","مترونیدازول","مروپنم","کانامایسین","داکسی سایکلین","کلوگزایسلین","ماه","سال","انتخاب شده ","بخش"]
[null,null,null,null,null,null,null,null,null,null,null,null,null,null,null,null,null,null,null,null,null,null,null,null,null,null,null,null,null,null,null,null,null,null,null,null,null,null,null,null,null,null,null,null,null,null,null,null,null,null,null,null,null,null,null,null,null,null,null,null,null,null,null,null,null,null,null,null,null,null,null,null,null,null,null,null,null,null,null,null,null,null,null,null,null,null,null,null,null,null,null,null,null,null,{"$f":"IFERROR(VALUE(MID(C3,3,2)),\"\")","v":""},{"$f":"IF(LEFT(C3,2)=TABLE1!$F$1,1,0)","v":0},{"$f":"IF(AND(IF(AND(IF(OR(AND(CQ3=1,TABLE1!$AN$3=TRUE),AND(CQ3=2,TABLE1!$AN$4=TRUE),AND(CQ3=3,TABLE1!$AN$5=TRUE),AND(CQ3=4,TABLE1!$AQ$3=TRUE),AND(CQ3=5,TABLE1!$AQ$4=TRUE),AND(CQ3=6,TABLE1!$AQ$5=TRUE),AND(CQ3=7,TABLE1!$AT$3=TRUE),AND(CQ3=8,TABLE1!$AT$4=TRUE),AND(CQ3=9,TABLE1!$AT$5=TRUE),AND(CQ3=10,TABLE1!$AW$3=TRUE),AND(CQ3=11,TABLE1!$AW$4=TRUE),AND(CQ3=12,TABLE1!$AW$5=TRUE)),1,0)=1),1,0)=1,CR3=1,CT3=1),1,0)","v":0},{"$f":"IF(AND(OR(F3=TABLE1!$D$5,TABLE1!$D$5=\"کل بخشها\"),F3<>\"\"),1,0)","v":0}]
[null,null,null,null,null,null,null,null,null,null,null,null,null,null,null,null,null,null,null,null,null,null,null,null,null,null,null,null,null,null,null,null,null,null,null,null,null,null,null,null,null,null,null,null,null,null,null,null,null,null,null,null,null,null,null,null,null,null,null,null,null,null,null,null,null,null,null,null,null,null,null,null,null,null,null,null,null,null,null,null,null,null,null,null,null,null,null,null,null,null,null,null,null,null,{"$f":"IFERROR(VALUE(MID(C4,3,2)),\"\")","v":""},{"$f":"IF(LEFT(C4,2)=TABLE1!$F$1,1,0)","v":0},{"$f":"IF(AND(IF(AND(IF(OR(AND(CQ4=1,TABLE1!$AN$3=TRUE),AND(CQ4=2,TABLE1!$AN$4=TRUE),AND(CQ4=3,TABLE1!$AN$5=TRUE),AND(CQ4=4,TABLE1!$AQ$3=TRUE),AND(CQ4=5,TABLE1!$AQ$4=TRUE),AND(CQ4=6,TABLE1!$AQ$5=TRUE),AND(CQ4=7,TABLE1!$AT$3=TRUE),AND(CQ4=8,TABLE1!$AT$4=TRUE),AND(CQ4=9,TABLE1!$AT$5=TRUE),AND(CQ4=10,TABLE1!$AW$3=TRUE),AND(CQ4=11,TABLE1!$AW$4=TRUE),AND(CQ4=12,TABLE1!$AW$5=TRUE)),1,0)=1),1,0)=1,CR4=1,CT4=1),1,0)","v":0},{"$f":"IF(AND(OR(F4=TABLE1!$D$5,TABLE1!$D$5=\"کل بخشها\"),F4<>\"\"),1,0)","v":0}]
[null,null,null,null,null,null,null,null,null,null,null,null,null,null,null,null,null,null,null,null,null,null,null,null,null,null,null,null,null,null,null,null,null,null,null,null,null,null,null,null,null,null,null,null,null,null,null,null,null,null,null,null,null,null,null,null,null,null,null,null,null,null,null,null,null,null,null,null,null,null,null,null,null,null,null,null,null,null,null,null,null,null,null,null,null,null,null,null,null,null,null,null,null,null,"",{"$f":"IF(LEFT(C5,2)=TABLE1!$F$1,1,0)","v":0},{"$f":"IF(AND(IF(AND(IF(OR(AND(CQ5=1,TABLE1!$AN$3=TRUE),AND(CQ5=2,TABLE1!$AN$4=TRUE),AND(CQ5=3,TABLE1!$AN$5=TRUE),AND(CQ5=4,TABLE1!$AQ$3=TRUE),AND(CQ5=5,TABLE1!$AQ$4=TRUE),AND(CQ5=6,TABLE1!$AQ$5=TRUE),AND(CQ5=7,TABLE1!$AT$3=TRUE),AND(CQ5=8,TABLE1!$AT$4=TRUE),AND(CQ5=9,TABLE1!$AT$5=TRUE),AND(CQ5=10,TABLE1!$AW$3=TRUE),AND(CQ5=11,TABLE1!$AW$4=TRUE),AND(CQ5=12,TABLE1!$AW$5=TRUE)),1,0)=1),1,0)=1,CR5=1,CT5=1),1,0)","v":0},{"$f":"IF(AND(OR(F5=TABLE1!$D$5,TABLE1!$D$5=\"کل بخشها\"),F5<>\"\"),1,0)","v":0}]
[null,null,null,null,null,null,null,null,null,null,null,null,null,null,null,null,null,null,null,null,null,null,null,null,null,null,null,null,null,null,null,null,null,null,null,null,null,null,null,null,null,null,null,null,null,null,null,null,null,null,null,null,null,null,null,null,null,null,null,null,null,null,null,null,null,null,null,null,null,null,null,null,null,null,null,null,null,null,null,null,null,null,null,null,null,null,null,null,null,null,null,null,null,null,"",{"$f":"IF(LEFT(C6,2)=TABLE1!$F$1,1,0)","v":0},{"$f":"IF(AND(IF(AND(IF(OR(AND(CQ6=1,TABLE1!$AN$3=TRUE),AND(CQ6=2,TABLE1!$AN$4=TRUE),AND(CQ6=3,TABLE1!$AN$5=TRUE),AND(CQ6=4,TABLE1!$AQ$3=TRUE),AND(CQ6=5,TABLE1!$AQ$4=TRUE),AND(CQ6=6,TABLE1!$AQ$5=TRUE),AND(CQ6=7,TABLE1!$AT$3=TRUE),AND(CQ6=8,TABLE1!$AT$4=TRUE),AND(CQ6=9,TABLE1!$AT$5=TRUE),AND(CQ6=10,TABLE1!$AW$3=TRUE),AND(CQ6=11,TABLE1!$AW$4=TRUE),AND(CQ6=12,TABLE1!$AW$5=TRUE)),1,0)=1),1,0)=1,CR6=1,CT6=1),1,0)","v":0},{"$f":"IF(AND(OR(F6=TABLE1!$D$5,TABLE1!$D$5=\"کل بخشها\"),F6<>\"\"),1,0)","v":0}]
[null,null,null,null,null,null,null,null,null,null,null,null,null,null,null,null,null,null,null,null,null,null,null,null,null,null,null,null,null,null,null,null,null,null,null,null,null,null,null,null,null,null,null,null,null,null,null,null,null,null,null,null,null,null,null,null,null,null,null,null,null,null,null,null,null,null,null,null,null,null,null,null,null,null,null,null,null,null,null,null,null,null,null,null,null,null,null,null,null,null,null,null,null,null,"",{"$f":"IF(LEFT(C7,2)=TABLE1!$F$1,1,0)","v":0},{"$f":"IF(AND(IF(AND(IF(OR(AND(CQ7=1,TABLE1!$AN$3=TRUE),AND(CQ7=2,TABLE1!$AN$4=TRUE),AND(CQ7=3,TABLE1!$AN$5=TRUE),AND(CQ7=4,TABLE1!$AQ$3=TRUE),AND(CQ7=5,TABLE1!$AQ$4=TRUE),AND(CQ7=6,TABLE1!$AQ$5=TRUE),AND(CQ7=7,TABLE1!$AT$3=TRUE),AND(CQ7=8,TABLE1!$AT$4=TRUE),AND(CQ7=9,TABLE1!$AT$5=TRUE),AND(CQ7=10,TABLE1!$AW$3=TRUE),AND(CQ7=11,TABLE1!$AW$4=TRUE),AND(CQ7=12,TABLE1!$AW$5=TRUE)),1,0)=1),1,0)=1,CR7=1,CT7=1),1,0)","v":0},{"$f":"IF(AND(OR(F7=TABLE1!$D$5,TABLE1!$D$5=\"کل بخشها\"),F7<>\"\"),1,0)","v":0}]
[null,null,null,null,null,null,null,null,null,null,null,null,null,null,null,null,null,null,null,null,null,null,null,null,null,null,null,null,null,null,null,null,null,null,null,null,null,null,null,null,null,null,null,null,null,null,null,null,null,null,null,null,null,null,null,null,null,null,null,null,null,null,null,null,null,null,null,null,null,null,null,null,null,null,null,null,null,null,null,null,null,null,null,null,null,null,null,null,null,null,null,null,null,null,"",{"$f":"IF(LEFT(C8,2)=TABLE1!$F$1,1,0)","v":0},{"$f":"IF(AND(IF(AND(IF(OR(AND(CQ8=1,TABLE1!$AN$3=TRUE),AND(CQ8=2,TABLE1!$AN$4=TRUE),AND(CQ8=3,TABLE1!$AN$5=TRUE),AND(CQ8=4,TABLE1!$AQ$3=TRUE),AND(CQ8=5,TABLE1!$AQ$4=TRUE),AND(CQ8=6,TABLE1!$AQ$5=TRUE),AND(CQ8=7,TABLE1!$AT$3=TRUE),AND(CQ8=8,TABLE1!$AT$4=TRUE),AND(CQ8=9,TABLE1!$AT$5=TRUE),AND(CQ8=10,TABLE1!$AW$3=TRUE),AND(CQ8=11,TABLE1!$AW$4=TRUE),AND(CQ8=12,TABLE1!$AW$5=TRUE)),1,0)=1),1,0)=1,CR8=1,CT8=1),1,0)","v":0},{"$f":"IF(AND(OR(F8=TABLE1!$D$5,TABLE1!$D$5=\"کل بخشها\"),F8<>\"\"),1,0)","v":0}]
[null,null,null,null,null,null,null,null,null,null,null,null,null,null,null,null,null,null,null,null,null,null,null,null,null,null,null,null,null,null,null,null,null,null,null,null,null,null,null,null,null,null,null,null,null,null,null,null,null,null,null,null,null,null,null,null,null,null,null,null,null,null,null,null,null,null,null,null,null,null,null,null,null,null,null,null,null,null,null,null,null,null,null,null,null,null,null,null,null,null,null,null,null,null,"",{"$f":"IF(LEFT(C9,2)=TABLE1!$F$1,1,0)","v":0},{"$f":"IF(AND(IF(AND(IF(OR(AND(CQ9=1,TABLE1!$AN$3=TRUE),AND(CQ9=2,TABLE1!$AN$4=TRUE),AND(CQ9=3,TABLE1!$AN$5=TRUE),AND(CQ9=4,TABLE1!$AQ$3=TRUE),AND(CQ9=5,TABLE1!$AQ$4=TRUE),AND(CQ9=6,TABLE1!$AQ$5=TRUE),AND(CQ9=7,TABLE1!$AT$3=TRUE),AND(CQ9=8,TABLE1!$AT$4=TRUE),AND(CQ9=9,TABLE1!$AT$5=TRUE),AND(CQ9=10,TABLE1!$AW$3=TRUE),AND(CQ9=11,TABLE1!$AW$4=TRUE),AND(CQ9=12,TABLE1!$AW$5=TRUE)),1,0)=1),1,0)=1,CR9=1,CT9=1),1,0)","v":0},{"$f":"IF(AND(OR(F9=TABLE1!$D$5,TABLE1!$D$5=\"کل بخشها\"),F9<>\"\"),1,0)","v":0}]
[null,null,null,null,null,null,null,null,null,null,null,null,null,null,null,null,null,null,null,null,null,null,null,null,null,null,null,null,null,null,null,null,null,null,null,null,null,null,null,null,null,null,null,null,null,null,null,null,null,null,null,null,null,null,null,null,null,null,null,null,null,null,null,null,null,null,null,null,null,null,null,null,null,null,null,null,null,null,null,null,null,null,null,null,null,null,null,null,null,null,null,null,null,null,"",{"$f":"IF(LEFT(C10,2)=TABLE1!$F$1,1,0)","v":0},{"$f":"IF(AND(IF(AND(IF(OR(AND(CQ10=1,TABLE1!$AN$3=TRUE),AND(CQ10=2,TABLE1!$AN$4=TRUE),AND(CQ10=3,TABLE1!$AN$5=TRUE),AND(CQ10=4,TABLE1!$AQ$3=TRUE),AND(CQ10=5,TABLE1!$AQ$4=TRUE),AND(CQ10=6,TABLE1!$AQ$5=TRUE),AND(CQ10=7,TABLE1!$AT$3=TRUE),AND(CQ10=8,TABLE1!$AT$4=TRUE),AND(CQ10=9,TABLE1!$AT$5=TRUE),AND(CQ10=10,TABLE1!$AW$3=TRUE),AND(CQ10=11,TABLE1!$AW$4=TRUE),AND(CQ10=12,TABLE1!$AW$5=TRUE)),1,0)=1),1,0)=1,CR10=1,CT10=1),1,0)","v":0},{"$f":"IF(AND(OR(F10=TABLE1!$D$5,TABLE1!$D$5=\"کل بخشها\"),F10<>\"\"),1,0)","v":0}]
[null,null,null,null,null,null,null,null,null,null,null,null,null,null,null,null,null,null,null,null,null,null,null,null,null,null,null,null,null,null,null,null,null,null,null,null,null,null,null,null,null,null,null,null,null,null,null,null,null,null,null,null,null,null,null,null,null,null,null,null,null,null,null,null,null,null,null,null,null,null,null,null,null,null,null,null,null,null,null,null,null,null,null,null,null,null,null,null,null,null,null,null,null,null,"",{"$f":"IF(LEFT(C11,2)=TABLE1!$F$1,1,0)","v":0},{"$f":"IF(AND(IF(AND(IF(OR(AND(CQ11=1,TABLE1!$AN$3=TRUE),AND(CQ11=2,TABLE1!$AN$4=TRUE),AND(CQ11=3,TABLE1!$AN$5=TRUE),AND(CQ11=4,TABLE1!$AQ$3=TRUE),AND(CQ11=5,TABLE1!$AQ$4=TRUE),AND(CQ11=6,TABLE1!$AQ$5=TRUE),AND(CQ11=7,TABLE1!$AT$3=TRUE),AND(CQ11=8,TABLE1!$AT$4=TRUE),AND(CQ11=9,TABLE1!$AT$5=TRUE),AND(CQ11=10,TABLE1!$AW$3=TRUE),AND(CQ11=11,TABLE1!$AW$4=TRUE),AND(CQ11=12,TABLE1!$AW$5=TRUE)),1,0)=1),1,0)=1,CR11=1,CT11=1),1,0)","v":0},{"$f":"IF(AND(OR(F11=TABLE1!$D$5,TABLE1!$D$5=\"کل بخشها\"),F11<>\"\"),1,0)","v":0}]
[null,null,null,null,null,null,null,null,null,null,null,null,null,null,null,null,null,null,null,null,null,null,null,null,null,null,null,null,null,null,null,null,null,null,null,null,null,null,null,null,null,null,null,null,null,null,null,null,null,null,null,null,null,null,null,null,null,null,null,null,null,null,null,null,null,null,null,null,null,null,null,null,null,null,null,null,null,null,null,null,null,null,null,null,null,null,null,null,null,null,null,null,null,null,"",{"$f":"IF(LEFT(C12,2)=TABLE1!$F$1,1,0)","v":0},{"$f":"IF(AND(IF(AND(IF(OR(AND(CQ12=1,TABLE1!$AN$3=TRUE),AND(CQ12=2,TABLE1!$AN$4=TRUE),AND(CQ12=3,TABLE1!$AN$5=TRUE),AND(CQ12=4,TABLE1!$AQ$3=TRUE),AND(CQ12=5,TABLE1!$AQ$4=TRUE),AND(CQ12=6,TABLE1!$AQ$5=TRUE),AND(CQ12=7,TABLE1!$AT$3=TRUE),AND(CQ12=8,TABLE1!$AT$4=TRUE),AND(CQ12=9,TABLE1!$AT$5=TRUE),AND(CQ12=10,TABLE1!$AW$3=TRUE),AND(CQ12=11,TABLE1!$AW$4=TRUE),AND(CQ12=12,TABLE1!$AW$5=TRUE)),1,0)=1),1,0)=1,CR12=1,CT12=1),1,0)","v":0},{"$f":"IF(AND(OR(F12=TABLE1!$D$5,TABLE1!$D$5=\"کل بخشها\"),F12<>\"\"),1,0)","v":0}]
[null,null,null,null,null,null,null,null,null,null,null,null,null,null,null,null,null,null,null,null,null,null,null,null,null,null,null,null,null,null,null,null,null,null,null,null,null,null,null,null,null,null,null,null,null,null,null,null,null,null,null,null,null,null,null,null,null,null,null,null,null,null,null,null,null,null,null,null,null,null,null,null,null,null,null,null,null,null,null,null,null,null,null,null,null,null,null,null,null,null,null,null,null,null,"",{"$f":"IF(LEFT(C13,2)=TABLE1!$F$1,1,0)","v":0},{"$f":"IF(AND(IF(AND(IF(OR(AND(CQ13=1,TABLE1!$AN$3=TRUE),AND(CQ13=2,TABLE1!$AN$4=TRUE),AND(CQ13=3,TABLE1!$AN$5=TRUE),AND(CQ13=4,TABLE1!$AQ$3=TRUE),AND(CQ13=5,TABLE1!$AQ$4=TRUE),AND(CQ13=6,TABLE1!$AQ$5=TRUE),AND(CQ13=7,TABLE1!$AT$3=TRUE),AND(CQ13=8,TABLE1!$AT$4=TRUE),AND(CQ13=9,TABLE1!$AT$5=TRUE),AND(CQ13=10,TABLE1!$AW$3=TRUE),AND(CQ13=11,TABLE1!$AW$4=TRUE),AND(CQ13=12,TABLE1!$AW$5=TRUE)),1,0)=1),1,0)=1,CR13=1,CT13=1),1,0)","v":0},{"$f":"IF(AND(OR(F13=TABLE1!$D$5,TABLE1!$D$5=\"کل بخشها\"),F13<>\"\"),1,0)","v":0}]
[null,null,null,null,null,null,null,null,null,null,null,null,null,null,null,null,null,null,null,null,null,null,null,null,null,null,null,null,null,null,null,null,null,null,null,null,null,null,null,null,null,null,null,null,null,null,null,null,null,null,null,null,null,null,null,null,null,null,null,null,null,null,null,null,null,null,null,null,null,null,null,null,null,null,null,null,null,null,null,null,null,null,null,null,null,null,null,null,null,null,null,null,null,null,"",{"$f":"IF(LEFT(C14,2)=TABLE1!$F$1,1,0)","v":0},{"$f":"IF(AND(IF(AND(IF(OR(AND(CQ14=1,TABLE1!$AN$3=TRUE),AND(CQ14=2,TABLE1!$AN$4=TRUE),AND(CQ14=3,TABLE1!$AN$5=TRUE),AND(CQ14=4,TABLE1!$AQ$3=TRUE),AND(CQ14=5,TABLE1!$AQ$4=TRUE),AND(CQ14=6,TABLE1!$AQ$5=TRUE),AND(CQ14=7,TABLE1!$AT$3=TRUE),AND(CQ14=8,TABLE1!$AT$4=TRUE),AND(CQ14=9,TABLE1!$AT$5=TRUE),AND(CQ14=10,TABLE1!$AW$3=TRUE),AND(CQ14=11,TABLE1!$AW$4=TRUE),AND(CQ14=12,TABLE1!$AW$5=TRUE)),1,0)=1),1,0)=1,CR14=1,CT14=1),1,0)","v":0},{"$f":"IF(AND(OR(F14=TABLE1!$D$5,TABLE1!$D$5=\"کل بخشها\"),F14<>\"\"),1,0)","v":0}]
[null,null,null,null,null,null,null,null,null,null,null,null,null,null,null,null,null,null,null,null,null,null,null,null,null,null,null,null,null,null,null,null,null,null,null,null,null,null,null,null,null,null,null,null,null,null,null,null,null,null,null,null,null,null,null,null,null,null,null,null,null,null,null,null,null,null,null,null,null,null,null,null,null,null,null,null,null,null,null,null,null,null,null,null,null,null,null,null,null,null,null,null,null,null,"",{"$f":"IF(LEFT(C15,2)=TABLE1!$F$1,1,0)","v":0},{"$f":"IF(AND(IF(AND(IF(OR(AND(CQ15=1,TABLE1!$AN$3=TRUE),AND(CQ15=2,TABLE1!$AN$4=TRUE),AND(CQ15=3,TABLE1!$AN$5=TRUE),AND(CQ15=4,TABLE1!$AQ$3=TRUE),AND(CQ15=5,TABLE1!$AQ$4=TRUE),AND(CQ15=6,TABLE1!$AQ$5=TRUE),AND(CQ15=7,TABLE1!$AT$3=TRUE),AND(CQ15=8,TABLE1!$AT$4=TRUE),AND(CQ15=9,TABLE1!$AT$5=TRUE),AND(CQ15=10,TABLE1!$AW$3=TRUE),AND(CQ15=11,TABLE1!$AW$4=TRUE),AND(CQ15=12,TABLE1!$AW$5=TRUE)),1,0)=1),1,0)=1,CR15=1,CT15=1),1,0)","v":0},{"$f":"IF(AND(OR(F15=TABLE1!$D$5,TABLE1!$D$5=\"کل بخشها\"),F15<>\"\"),1,0)","v":0}]
[null,null,null,null,null,null,null,null,null,null,null,null,null,null,null,null,null,null,null,null,null,null,null,null,null,null,null,null,null,null,null,null,null,null,null,null,null,null,null,null,null,null,null,null,null,null,null,null,null,null,null,null,null,null,null,null,null,null,null,null,null,null,null,null,null,null,null,null,null,null,null,null,null,null,null,null,null,null,null,null,null,null,null,null,null,null,null,null,null,null,null,null,null,null,"",{"$f":"IF(LEFT(C16,2)=TABLE1!$F$1,1,0)","v":0},{"$f":"IF(AND(IF(AND(IF(OR(AND(CQ16=1,TABLE1!$AN$3=TRUE),AND(CQ16=2,TABLE1!$AN$4=TRUE),AND(CQ16=3,TABLE1!$AN$5=TRUE),AND(CQ16=4,TABLE1!$AQ$3=TRUE),AND(CQ16=5,TABLE1!$AQ$4=TRUE),AND(CQ16=6,TABLE1!$AQ$5=TRUE),AND(CQ16=7,TABLE1!$AT$3=TRUE),AND(CQ16=8,TABLE1!$AT$4=TRUE),AND(CQ16=9,TABLE1!$AT$5=TRUE),AND(CQ16=10,TABLE1!$AW$3=TRUE),AND(CQ16=11,TABLE1!$AW$4=TRUE),AND(CQ16=12,TABLE1!$AW$5=TRUE)),1,0)=1),1,0)=1,CR16=1,CT16=1),1,0)","v":0},{"$f":"IF(AND(OR(F16=TABLE1!$D$5,TABLE1!$D$5=\"کل بخشها\"),F16<>\"\"),1,0)","v":0}]
[null,null,null,null,null,null,null,null,null,null,null,null,null,null,null,null,null,null,null,null,null,null,null,null,null,null,null,null,null,null,null,null,null,null,null,null,null,null,null,null,null,null,null,null,null,null,null,null,null,null,null,null,null,null,null,null,null,null,null,null,null,null,null,null,null,null,null,null,null,null,null,null,null,null,null,null,null,null,null,null,null,null,null,null,null,null,null,null,null,null,null,null,null,null,"",{"$f":"IF(LEFT(C17,2)=TABLE1!$F$1,1,0)","v":0},{"$f":"IF(AND(IF(AND(IF(OR(AND(CQ17=1,TABLE1!$AN$3=TRUE),AND(CQ17=2,TABLE1!$AN$4=TRUE),AND(CQ17=3,TABLE1!$AN$5=TRUE),AND(CQ17=4,TABLE1!$AQ$3=TRUE),AND(CQ17=5,TABLE1!$AQ$4=TRUE),AND(CQ17=6,TABLE1!$AQ$5=TRUE),AND(CQ17=7,TABLE1!$AT$3=TRUE),AND(CQ17=8,TABLE1!$AT$4=TRUE),AND(CQ17=9,TABLE1!$AT$5=TRUE),AND(CQ17=10,TABLE1!$AW$3=TRUE),AND(CQ17=11,TABLE1!$AW$4=TRUE),AND(CQ17=12,TABLE1!$AW$5=TRUE)),1,0)=1),1,0)=1,CR17=1,CT17=1),1,0)","v":0},{"$f":"IF(AND(OR(F17=TABLE1!$D$5,TABLE1!$D$5=\"کل بخشها\"),F17<>\"\"),1,0)","v":0}]
[null,null,null,null,null,null,null,null,null,null,null,null,null,null,null,null,null,null,null,null,null,null,null,null,null,null,null,null,null,null,null,null,null,null,null,null,null,null,null,null,null,null,null,null,null,null,null,null,null,null,null,null,null,null,null,null,null,null,null,null,null,null,null,null,null,null,null,null,null,null,null,null,null,null,null,null,null,null,null,null,null,null,null,null,null,null,null,null,null,null,null,null,null,null,"",{"$f":"IF(LEFT(C18,2)=TABLE1!$F$1,1,0)","v":0},{"$f":"IF(AND(IF(AND(IF(OR(AND(CQ18=1,TABLE1!$AN$3=TRUE),AND(CQ18=2,TABLE1!$AN$4=TRUE),AND(CQ18=3,TABLE1!$AN$5=TRUE),AND(CQ18=4,TABLE1!$AQ$3=TRUE),AND(CQ18=5,TABLE1!$AQ$4=TRUE),AND(CQ18=6,TABLE1!$AQ$5=TRUE),AND(CQ18=7,TABLE1!$AT$3=TRUE),AND(CQ18=8,TABLE1!$AT$4=TRUE),AND(CQ18=9,TABLE1!$AT$5=TRUE),AND(CQ18=10,TABLE1!$AW$3=TRUE),AND(CQ18=11,TABLE1!$AW$4=TRUE),AND(CQ18=12,TABLE1!$AW$5=TRUE)),1,0)=1),1,0)=1,CR18=1,CT18=1),1,0)","v":0},{"$f":"IF(AND(OR(F18=TABLE1!$D$5,TABLE1!$D$5=\"کل بخشها\"),F18<>\"\"),1,0)","v":0}]
[null,null,null,null,null,null,null,null,null,null,null,null,null,null,null,null,null,null,null,null,null,null,null,null,null,null,null,null,null,null,null,null,null,null,null,null,null,null,null,null,null,null,null,null,null,null,null,null,null,null,null,null,null,null,null,null,null,null,null,null,null,null,null,null,null,null,null,null,null,null,null,null,null,null,null,null,null,null,null,null,null,null,null,null,null,null,null,null,null,null,null,null,null,null,"",{"$f":"IF(LEFT(C19,2)=TABLE1!$F$1,1,0)","v":0},{"$f":"IF(AND(IF(AND(IF(OR(AND(CQ19=1,TABLE1!$AN$3=TRUE),AND(CQ19=2,TABLE1!$AN$4=TRUE),AND(CQ19=3,TABLE1!$AN$5=TRUE),AND(CQ19=4,TABLE1!$AQ$3=TRUE),AND(CQ19=5,TABLE1!$AQ$4=TRUE),AND(CQ19=6,TABLE1!$AQ$5=TRUE),AND(CQ19=7,TABLE1!$AT$3=TRUE),AND(CQ19=8,TABLE1!$AT$4=TRUE),AND(CQ19=9,TABLE1!$AT$5=TRUE),AND(CQ19=10,TABLE1!$AW$3=TRUE),AND(CQ19=11,TABLE1!$AW$4=TRUE),AND(CQ19=12,TABLE1!$AW$5=TRUE)),1,0)=1),1,0)=1,CR19=1,CT19=1),1,0)","v":0},{"$f":"IF(AND(OR(F19=TABLE1!$D$5,TABLE1!$D$5=\"کل بخشها\"),F19<>\"\"),1,0)","v":0}]
[null,null,null,null,null,null,null,null,null,null,null,null,null,null,null,null,null,null,null,null,null,null,null,null,null,null,null,null,null,null,null,null,null,null,null,null,null,null,null,null,null,null,null,null,null,null,null,null,null,null,null,null,null,null,null,null,null,null,null,null,null,null,null,null,null,null,null,null,null,null,null,null,null,null,null,null,null,null,null,null,null,null,null,null,null,null,null,null,null,null,null,null,null,null,"",{"$f":"IF(LEFT(C20,2)=TABLE1!$F$1,1,0)","v":0},{"$f":"IF(AND(IF(AND(IF(OR(AND(CQ20=1,TABLE1!$AN$3=TRUE),AND(CQ20=2,TABLE1!$AN$4=TRUE),AND(CQ20=3,TABLE1!$AN$5=TRUE),AND(CQ20=4,TABLE1!$AQ$3=TRUE),AND(CQ20=5,TABLE1!$AQ$4=TRUE),AND(CQ20=6,TABLE1!$AQ$5=TRUE),AND(CQ20=7,TABLE1!$AT$3=TRUE),AND(CQ20=8,TABLE1!$AT$4=TRUE),AND(CQ20=9,TABLE1!$AT$5=TRUE),AND(CQ20=10,TABLE1!$AW$3=TRUE),AND(CQ20=11,TABLE1!$AW$4=TRUE),AND(CQ20=12,TABLE1!$AW$5=TRUE)),1,0)=1),1,0)=1,CR20=1,CT20=1),1,0)","v":0},{"$f":"IF(AND(OR(F20=TABLE1!$D$5,TABLE1!$D$5=\"کل بخشها\"),F20<>\"\"),1,0)","v":0}]
[null,null,null,null,null,null,null,null,null,null,null,null,null,null,null,null,null,null,null,null,null,null,null,null,null,null,null,null,null,null,null,null,null,null,null,null,null,null,null,null,null,null,null,null,null,null,null,null,null,null,null,null,null,null,null,null,null,null,null,null,null,null,null,null,null,null,null,null,null,null,null,null,null,null,null,null,null,null,null,null,null,null,null,null,null,null,null,null,null,null,null,null,null,null,"",{"$f":"IF(LEFT(C21,2)=TABLE1!$F$1,1,0)","v":0},{"$f":"IF(AND(IF(AND(IF(OR(AND(CQ21=1,TABLE1!$AN$3=TRUE),AND(CQ21=2,TABLE1!$AN$4=TRUE),AND(CQ21=3,TABLE1!$AN$5=TRUE),AND(CQ21=4,TABLE1!$AQ$3=TRUE),AND(CQ21=5,TABLE1!$AQ$4=TRUE),AND(CQ21=6,TABLE1!$AQ$5=TRUE),AND(CQ21=7,TABLE1!$AT$3=TRUE),AND(CQ21=8,TABLE1!$AT$4=TRUE),AND(CQ21=9,TABLE1!$AT$5=TRUE),AND(CQ21=10,TABLE1!$AW$3=TRUE),AND(CQ21=11,TABLE1!$AW$4=TRUE),AND(CQ21=12,TABLE1!$AW$5=TRUE)),1,0)=1),1,0)=1,CR21=1,CT21=1),1,0)","v":0},{"$f":"IF(AND(OR(F21=TABLE1!$D$5,TABLE1!$D$5=\"کل بخشها\"),F21<>\"\"),1,0)","v":0}]
[null,null,null,null,null,null,null,null,null,null,null,null,null,null,null,null,null,null,null,null,null,null,null,null,null,null,null,null,null,null,null,null,null,null,null,null,null,null,null,null,null,null,null,null,null,null,null,null,null,null,null,null,null,null,null,null,null,null,null,null,null,null,null,null,null,null,null,null,null,null,null,null,null,null,null,null,null,null,null,null,null,null,null,null,null,null,null,null,null,null,null,null,null,null,"",{"$f":"IF(LEFT(C22,2)=TABLE1!$F$1,1,0)","v":0},{"$f":"IF(AND(IF(AND(IF(OR(AND(CQ22=1,TABLE1!$AN$3=TRUE),AND(CQ22=2,TABLE1!$AN$4=TRUE),AND(CQ22=3,TABLE1!$AN$5=TRUE),AND(CQ22=4,TABLE1!$AQ$3=TRUE),AND(CQ22=5,TABLE1!$AQ$4=TRUE),AND(CQ22=6,TABLE1!$AQ$5=TRUE),AND(CQ22=7,TABLE1!$AT$3=TRUE),AND(CQ22=8,TABLE1!$AT$4=TRUE),AND(CQ22=9,TABLE1!$AT$5=TRUE),AND(CQ22=10,TABLE1!$AW$3=TRUE),AND(CQ22=11,TABLE1!$AW$4=TRUE),AND(CQ22=12,TABLE1!$AW$5=TRUE)),1,0)=1),1,0)=1,CR22=1,CT22=1),1,0)","v":0},{"$f":"IF(AND(OR(F22=TABLE1!$D$5,TABLE1!$D$5=\"کل بخشها\"),F22<>\"\"),1,0)","v":0}]
[null,null,null,null,null,null,null,null,null,null,null,null,null,null,null,null,null,null,null,null,null,null,null,null,null,null,null,null,null,null,null,null,null,null,null,null,null,null,null,null,null,null,null,null,null,null,null,null,null,null,null,null,null,null,null,null,null,null,null,null,null,null,null,null,null,null,null,null,null,null,null,null,null,null,null,null,null,null,null,null,null,null,null,null,null,null,null,null,null,null,null,null,null,null,"",{"$f":"IF(LEFT(C23,2)=TABLE1!$F$1,1,0)","v":0},{"$f":"IF(AND(IF(AND(IF(OR(AND(CQ23=1,TABLE1!$AN$3=TRUE),AND(CQ23=2,TABLE1!$AN$4=TRUE),AND(CQ23=3,TABLE1!$AN$5=TRUE),AND(CQ23=4,TABLE1!$AQ$3=TRUE),AND(CQ23=5,TABLE1!$AQ$4=TRUE),AND(CQ23=6,TABLE1!$AQ$5=TRUE),AND(CQ23=7,TABLE1!$AT$3=TRUE),AND(CQ23=8,TABLE1!$AT$4=TRUE),AND(CQ23=9,TABLE1!$AT$5=TRUE),AND(CQ23=10,TABLE1!$AW$3=TRUE),AND(CQ23=11,TABLE1!$AW$4=TRUE),AND(CQ23=12,TABLE1!$AW$5=TRUE)),1,0)=1),1,0)=1,CR23=1,CT23=1),1,0)","v":0},{"$f":"IF(AND(OR(F23=TABLE1!$D$5,TABLE1!$D$5=\"کل بخشها\"),F23<>\"\"),1,0)","v":0}]
[null,null,null,null,null,null,null,null,null,null,null,null,null,null,null,null,null,null,null,null,null,null,null,null,null,null,null,null,null,null,null,null,null,null,null,null,null,null,null,null,null,null,null,null,null,null,null,null,null,null,null,null,null,null,null,null,null,null,null,null,null,null,null,null,null,null,null,null,null,null,null,null,null,null,null,null,null,null,null,null,null,null,null,null,null,null,null,null,null,null,null,null,null,null,"",{"$f":"IF(LEFT(C24,2)=TABLE1!$F$1,1,0)","v":0},{"$f":"IF(AND(IF(AND(IF(OR(AND(CQ24=1,TABLE1!$AN$3=TRUE),AND(CQ24=2,TABLE1!$AN$4=TRUE),AND(CQ24=3,TABLE1!$AN$5=TRUE),AND(CQ24=4,TABLE1!$AQ$3=TRUE),AND(CQ24=5,TABLE1!$AQ$4=TRUE),AND(CQ24=6,TABLE1!$AQ$5=TRUE),AND(CQ24=7,TABLE1!$AT$3=TRUE),AND(CQ24=8,TABLE1!$AT$4=TRUE),AND(CQ24=9,TABLE1!$AT$5=TRUE),AND(CQ24=10,TABLE1!$AW$3=TRUE),AND(CQ24=11,TABLE1!$AW$4=TRUE),AND(CQ24=12,TABLE1!$AW$5=TRUE)),1,0)=1),1,0)=1,CR24=1,CT24=1),1,0)","v":0},{"$f":"IF(AND(OR(F24=TABLE1!$D$5,TABLE1!$D$5=\"کل بخشها\"),F24<>\"\"),1,0)","v":0}]
[null,null,null,null,null,null,null,null,null,null,null,null,null,null,null,null,null,null,null,null,null,null,null,null,null,null,null,null,null,null,null,null,null,null,null,null,null,null,null,null,null,null,null,null,null,null,null,null,null,null,null,null,null,null,null,null,null,null,null,null,null,null,null,null,null,null,null,null,null,null,null,null,null,null,null,null,null,null,null,null,null,null,null,null,null,null,null,null,null,null,null,null,null,null,"",{"$f":"IF(LEFT(C25,2)=TABLE1!$F$1,1,0)","v":0},{"$f":"IF(AND(IF(AND(IF(OR(AND(CQ25=1,TABLE1!$AN$3=TRUE),AND(CQ25=2,TABLE1!$AN$4=TRUE),AND(CQ25=3,TABLE1!$AN$5=TRUE),AND(CQ25=4,TABLE1!$AQ$3=TRUE),AND(CQ25=5,TABLE1!$AQ$4=TRUE),AND(CQ25=6,TABLE1!$AQ$5=TRUE),AND(CQ25=7,TABLE1!$AT$3=TRUE),AND(CQ25=8,TABLE1!$AT$4=TRUE),AND(CQ25=9,TABLE1!$AT$5=TRUE),AND(CQ25=10,TABLE1!$AW$3=TRUE),AND(CQ25=11,TABLE1!$AW$4=TRUE),AND(CQ25=12,TABLE1!$AW$5=TRUE)),1,0)=1),1,0)=1,CR25=1,CT25=1),1,0)","v":0},{"$f":"IF(AND(OR(F25=TABLE1!$D$5,TABLE1!$D$5=\"کل بخشها\"),F25<>\"\"),1,0)","v":0}]
[null,null,null,null,null,null,null,null,null,null,null,null,null,null,null,null,null,null,null,null,null,null,null,null,null,null,null,null,null,null,null,null,null,null,null,null,null,null,null,null,null,null,null,null,null,null,null,null,null,null,null,null,null,null,null,null,null,null,null,null,null,null,null,null,null,null,null,null,null,null,null,null,null,null,null,null,null,null,null,null,null,null,null,null,null,null,null,null,null,null,null,null,null,null,"",{"$f":"IF(LEFT(C26,2)=TABLE1!$F$1,1,0)","v":0},{"$f":"IF(AND(IF(AND(IF(OR(AND(CQ26=1,TABLE1!$AN$3=TRUE),AND(CQ26=2,TABLE1!$AN$4=TRUE),AND(CQ26=3,TABLE1!$AN$5=TRUE),AND(CQ26=4,TABLE1!$AQ$3=TRUE),AND(CQ26=5,TABLE1!$AQ$4=TRUE),AND(CQ26=6,TABLE1!$AQ$5=TRUE),AND(CQ26=7,TABLE1!$AT$3=TRUE),AND(CQ26=8,TABLE1!$AT$4=TRUE),AND(CQ26=9,TABLE1!$AT$5=TRUE),AND(CQ26=10,TABLE1!$AW$3=TRUE),AND(CQ26=11,TABLE1!$AW$4=TRUE),AND(CQ26=12,TABLE1!$AW$5=TRUE)),1,0)=1),1,0)=1,CR26=1,CT26=1),1,0)","v":0},{"$f":"IF(AND(OR(F26=TABLE1!$D$5,TABLE1!$D$5=\"کل بخشها\"),F26<>\"\"),1,0)","v":0}]
[null,null,null,null,null,null,null,null,null,null,null,null,null,null,null,null,null,null,null,null,null,null,null,null,null,null,null,null,null,null,null,null,null,null,null,null,null,null,null,null,null,null,null,null,null,null,null,null,null,null,null,null,null,null,null,null,null,null,null,null,null,null,null,null,null,null,null,null,null,null,null,null,null,null,null,null,null,null,null,null,null,null,null,null,null,null,null,null,null,null,null,null,null,null,"",{"$f":"IF(LEFT(C27,2)=TABLE1!$F$1,1,0)","v":0},{"$f":"IF(AND(IF(AND(IF(OR(AND(CQ27=1,TABLE1!$AN$3=TRUE),AND(CQ27=2,TABLE1!$AN$4=TRUE),AND(CQ27=3,TABLE1!$AN$5=TRUE),AND(CQ27=4,TABLE1!$AQ$3=TRUE),AND(CQ27=5,TABLE1!$AQ$4=TRUE),AND(CQ27=6,TABLE1!$AQ$5=TRUE),AND(CQ27=7,TABLE1!$AT$3=TRUE),AND(CQ27=8,TABLE1!$AT$4=TRUE),AND(CQ27=9,TABLE1!$AT$5=TRUE),AND(CQ27=10,TABLE1!$AW$3=TRUE),AND(CQ27=11,TABLE1!$AW$4=TRUE),AND(CQ27=12,TABLE1!$AW$5=TRUE)),1,0)=1),1,0)=1,CR27=1,CT27=1),1,0)","v":0},{"$f":"IF(AND(OR(F27=TABLE1!$D$5,TABLE1!$D$5=\"کل بخشها\"),F27<>\"\"),1,0)","v":0}]
[null,null,null,null,null,null,null,null,null,null,null,null,null,null,null,null,null,null,null,null,null,null,null,null,null,null,null,null,null,null,null,null,null,null,null,null,null,null,null,null,null,null,null,null,null,null,null,null,null,null,null,null,null,null,null,null,null,null,null,null,null,null,null,null,null,null,null,null,null,null,null,null,null,null,null,null,null,null,null,null,null,null,null,null,null,null,null,null,null,null,null,null,null,null,"",{"$f":"IF(LEFT(C28,2)=TABLE1!$F$1,1,0)","v":0},{"$f":"IF(AND(IF(AND(IF(OR(AND(CQ28=1,TABLE1!$AN$3=TRUE),AND(CQ28=2,TABLE1!$AN$4=TRUE),AND(CQ28=3,TABLE1!$AN$5=TRUE),AND(CQ28=4,TABLE1!$AQ$3=TRUE),AND(CQ28=5,TABLE1!$AQ$4=TRUE),AND(CQ28=6,TABLE1!$AQ$5=TRUE),AND(CQ28=7,TABLE1!$AT$3=TRUE),AND(CQ28=8,TABLE1!$AT$4=TRUE),AND(CQ28=9,TABLE1!$AT$5=TRUE),AND(CQ28=10,TABLE1!$AW$3=TRUE),AND(CQ28=11,TABLE1!$AW$4=TRUE),AND(CQ28=12,TABLE1!$AW$5=TRUE)),1,0)=1),1,0)=1,CR28=1,CT28=1),1,0)","v":0},{"$f":"IF(AND(OR(F28=TABLE1!$D$5,TABLE1!$D$5=\"کل بخشها\"),F28<>\"\"),1,0)","v":0}]
[null,null,null,null,null,null,null,null,null,null,null,null,null,null,null,null,null,null,null,null,null,null,null,null,null,null,null,null,null,null,null,null,null,null,null,null,null,null,null,null,null,null,null,null,null,null,null,null,null,null,null,null,null,null,null,null,null,null,null,null,null,null,null,null,null,null,null,null,null,null,null,null,null,null,null,null,null,null,null,null,null,null,null,null,null,null,null,null,null,null,null,null,null,null,"",{"$f":"IF(LEFT(C29,2)=TABLE1!$F$1,1,0)","v":0},{"$f":"IF(AND(IF(AND(IF(OR(AND(CQ29=1,TABLE1!$AN$3=TRUE),AND(CQ29=2,TABLE1!$AN$4=TRUE),AND(CQ29=3,TABLE1!$AN$5=TRUE),AND(CQ29=4,TABLE1!$AQ$3=TRUE),AND(CQ29=5,TABLE1!$AQ$4=TRUE),AND(CQ29=6,TABLE1!$AQ$5=TRUE),AND(CQ29=7,TABLE1!$AT$3=TRUE),AND(CQ29=8,TABLE1!$AT$4=TRUE),AND(CQ29=9,TABLE1!$AT$5=TRUE),AND(CQ29=10,TABLE1!$AW$3=TRUE),AND(CQ29=11,TABLE1!$AW$4=TRUE),AND(CQ29=12,TABLE1!$AW$5=TRUE)),1,0)=1),1,0)=1,CR29=1,CT29=1),1,0)","v":0},{"$f":"IF(AND(OR(F29=TABLE1!$D$5,TABLE1!$D$5=\"کل بخشها\"),F29<>\"\"),1,0)","v":0}]
[null,null,null,null,null,null,null,null,null,null,null,null,null,null,null,null,null,null,null,null,null,null,null,null,null,null,null,null,null,null,null,null,null,null,null,null,null,null,null,null,null,null,null,null,null,null,null,null,null,null,null,null,null,null,null,null,null,null,null,null,null,null,null,null,null,null,null,null,null,null,null,null,null,null,null,null,null,null,null,null,null,null,null,null,null,null,null,null,null,null,null,null,null,null,"",{"$f":"IF(LEFT(C30,2)=TABLE1!$F$1,1,0)","v":0},{"$f":"IF(AND(IF(AND(IF(OR(AND(CQ30=1,TABLE1!$AN$3=TRUE),AND(CQ30=2,TABLE1!$AN$4=TRUE),AND(CQ30=3,TABLE1!$AN$5=TRUE),AND(CQ30=4,TABLE1!$AQ$3=TRUE),AND(CQ30=5,TABLE1!$AQ$4=TRUE),AND(CQ30=6,TABLE1!$AQ$5=TRUE),AND(CQ30=7,TABLE1!$AT$3=TRUE),AND(CQ30=8,TABLE1!$AT$4=TRUE),AND(CQ30=9,TABLE1!$AT$5=TRUE),AND(CQ30=10,TABLE1!$AW$3=TRUE),AND(CQ30=11,TABLE1!$AW$4=TRUE),AND(CQ30=12,TABLE1!$AW$5=TRUE)),1,0)=1),1,0)=1,CR30=1,CT30=1),1,0)","v":0},{"$f":"IF(AND(OR(F30=TABLE1!$D$5,TABLE1!$D$5=\"کل بخشها\"),F30<>\"\"),1,0)","v":0}]
[null,null,null,null,null,null,null,null,null,null,null,null,null,null,null,null,null,null,null,null,null,null,null,null,null,null,null,null,null,null,null,null,null,null,null,null,null,null,null,null,null,null,null,null,null,null,null,null,null,null,null,null,null,null,null,null,null,null,null,null,null,null,null,null,null,null,null,null,null,null,null,null,null,null,null,null,null,null,null,null,null,null,null,null,null,null,null,null,null,null,null,null,null,null,"",{"$f":"IF(LEFT(C31,2)=TABLE1!$F$1,1,0)","v":0},{"$f":"IF(AND(IF(AND(IF(OR(AND(CQ31=1,TABLE1!$AN$3=TRUE),AND(CQ31=2,TABLE1!$AN$4=TRUE),AND(CQ31=3,TABLE1!$AN$5=TRUE),AND(CQ31=4,TABLE1!$AQ$3=TRUE),AND(CQ31=5,TABLE1!$AQ$4=TRUE),AND(CQ31=6,TABLE1!$AQ$5=TRUE),AND(CQ31=7,TABLE1!$AT$3=TRUE),AND(CQ31=8,TABLE1!$AT$4=TRUE),AND(CQ31=9,TABLE1!$AT$5=TRUE),AND(CQ31=10,TABLE1!$AW$3=TRUE),AND(CQ31=11,TABLE1!$AW$4=TRUE),AND(CQ31=12,TABLE1!$AW$5=TRUE)),1,0)=1),1,0)=1,CR31=1,CT31=1),1,0)","v":0},{"$f":"IF(AND(OR(F31=TABLE1!$D$5,TABLE1!$D$5=\"کل بخشها\"),F31<>\"\"),1,0)","v":0}]
[null,null,null,null,null,null,null,null,null,null,null,null,null,null,null,null,null,null,null,null,null,null,null,null,null,null,null,null,null,null,null,null,null,null,null,null,null,null,null,null,null,null,null,null,null,null,null,null,null,null,null,null,null,null,null,null,null,null,null,null,null,null,null,null,null,null,null,null,null,null,null,null,null,null,null,null,null,null,null,null,null,null,null,null,null,null,null,null,null,null,null,null,null,null,"",{"$f":"IF(LEFT(C32,2)=TABLE1!$F$1,1,0)","v":0},{"$f":"IF(AND(IF(AND(IF(OR(AND(CQ32=1,TABLE1!$AN$3=TRUE),AND(CQ32=2,TABLE1!$AN$4=TRUE),AND(CQ32=3,TABLE1!$AN$5=TRUE),AND(CQ32=4,TABLE1!$AQ$3=TRUE),AND(CQ32=5,TABLE1!$AQ$4=TRUE),AND(CQ32=6,TABLE1!$AQ$5=TRUE),AND(CQ32=7,TABLE1!$AT$3=TRUE),AND(CQ32=8,TABLE1!$AT$4=TRUE),AND(CQ32=9,TABLE1!$AT$5=TRUE),AND(CQ32=10,TABLE1!$AW$3=TRUE),AND(CQ32=11,TABLE1!$AW$4=TRUE),AND(CQ32=12,TABLE1!$AW$5=TRUE)),1,0)=1),1,0)=1,CR32=1,CT32=1),1,0)","v":0},{"$f":"IF(AND(OR(F32=TABLE1!$D$5,TABLE1!$D$5=\"کل بخشها\"),F32<>\"\"),1,0)","v":0}]
[null,null,null,null,null,null,null,null,null,null,null,null,null,null,null,null,null,null,null,null,null,null,null,null,null,null,null,null,null,null,null,null,null,null,null,null,null,null,null,null,null,null,null,null,null,null,null,null,null,null,null,null,null,null,null,null,null,null,null,null,null,null,null,null,null,null,null,null,null,null,null,null,null,null,null,null,null,null,null,null,null,null,null,null,null,null,null,null,null,null,null,null,null,null,"",{"$f":"IF(LEFT(C33,2)=TABLE1!$F$1,1,0)","v":0},{"$f":"IF(AND(IF(AND(IF(OR(AND(CQ33=1,TABLE1!$AN$3=TRUE),AND(CQ33=2,TABLE1!$AN$4=TRUE),AND(CQ33=3,TABLE1!$AN$5=TRUE),AND(CQ33=4,TABLE1!$AQ$3=TRUE),AND(CQ33=5,TABLE1!$AQ$4=TRUE),AND(CQ33=6,TABLE1!$AQ$5=TRUE),AND(CQ33=7,TABLE1!$AT$3=TRUE),AND(CQ33=8,TABLE1!$AT$4=TRUE),AND(CQ33=9,TABLE1!$AT$5=TRUE),AND(CQ33=10,TABLE1!$AW$3=TRUE),AND(CQ33=11,TABLE1!$AW$4=TRUE),AND(CQ33=12,TABLE1!$AW$5=TRUE)),1,0)=1),1,0)=1,CR33=1,CT33=1),1,0)","v":0},{"$f":"IF(AND(OR(F33=TABLE1!$D$5,TABLE1!$D$5=\"کل بخشها\"),F33<>\"\"),1,0)","v":0}]
[null,null,null,null,null,null,null,null,null,null,null,null,null,null,null,null,null,null,null,null,null,null,null,null,null,null,null,null,null,null,null,null,null,null,null,null,null,null,null,null,null,null,null,null,null,null,null,null,null,null,null,null,null,null,null,null,null,null,null,null,null,null,null,null,null,null,null,null,null,null,null,null,null,null,null,null,null,null,null,null,null,null,null,null,null,null,null,null,null,null,null,null,null,null,"",{"$f":"IF(LEFT(C34,2)=TABLE1!$F$1,1,0)","v":0},{"$f":"IF(AND(IF(AND(IF(OR(AND(CQ34=1,TABLE1!$AN$3=TRUE),AND(CQ34=2,TABLE1!$AN$4=TRUE),AND(CQ34=3,TABLE1!$AN$5=TRUE),AND(CQ34=4,TABLE1!$AQ$3=TRUE),AND(CQ34=5,TABLE1!$AQ$4=TRUE),AND(CQ34=6,TABLE1!$AQ$5=TRUE),AND(CQ34=7,TABLE1!$AT$3=TRUE),AND(CQ34=8,TABLE1!$AT$4=TRUE),AND(CQ34=9,TABLE1!$AT$5=TRUE),AND(CQ34=10,TABLE1!$AW$3=TRUE),AND(CQ34=11,TABLE1!$AW$4=TRUE),AND(CQ34=12,TABLE1!$AW$5=TRUE)),1,0)=1),1,0)=1,CR34=1,CT34=1),1,0)","v":0},{"$f":"IF(AND(OR(F34=TABLE1!$D$5,TABLE1!$D$5=\"کل بخشها\"),F34<>\"\"),1,0)","v":0}]
[null,null,null,null,null,null,null,null,null,null,null,null,null,null,null,null,null,null,null,null,null,null,null,null,null,null,null,null,null,null,null,null,null,null,null,null,null,null,null,null,null,null,null,null,null,null,null,null,null,null,null,null,null,null,null,null,null,null,null,null,null,null,null,null,null,null,null,null,null,null,null,null,null,null,null,null,null,null,null,null,null,null,null,null,null,null,null,null,null,null,null,null,null,null,"",{"$f":"IF(LEFT(C35,2)=TABLE1!$F$1,1,0)","v":0},{"$f":"IF(AND(IF(AND(IF(OR(AND(CQ35=1,TABLE1!$AN$3=TRUE),AND(CQ35=2,TABLE1!$AN$4=TRUE),AND(CQ35=3,TABLE1!$AN$5=TRUE),AND(CQ35=4,TABLE1!$AQ$3=TRUE),AND(CQ35=5,TABLE1!$AQ$4=TRUE),AND(CQ35=6,TABLE1!$AQ$5=TRUE),AND(CQ35=7,TABLE1!$AT$3=TRUE),AND(CQ35=8,TABLE1!$AT$4=TRUE),AND(CQ35=9,TABLE1!$AT$5=TRUE),AND(CQ35=10,TABLE1!$AW$3=TRUE),AND(CQ35=11,TABLE1!$AW$4=TRUE),AND(CQ35=12,TABLE1!$AW$5=TRUE)),1,0)=1),1,0)=1,CR35=1,CT35=1),1,0)","v":0},{"$f":"IF(AND(OR(F35=TABLE1!$D$5,TABLE1!$D$5=\"کل بخشها\"),F35<>\"\"),1,0)","v":0}]
[null,null,null,null,null,null,null,null,null,null,null,null,null,null,null,null,null,null,null,null,null,null,null,null,null,null,null,null,null,null,null,null,null,null,null,null,null,null,null,null,null,null,null,null,null,null,null,null,null,null,null,null,null,null,null,null,null,null,null,null,null,null,null,null,null,null,null,null,null,null,null,null,null,null,null,null,null,null,null,null,null,null,null,null,null,null,null,null,null,null,null,null,null,null,"",{"$f":"IF(LEFT(C36,2)=TABLE1!$F$1,1,0)","v":0},{"$f":"IF(AND(IF(AND(IF(OR(AND(CQ36=1,TABLE1!$AN$3=TRUE),AND(CQ36=2,TABLE1!$AN$4=TRUE),AND(CQ36=3,TABLE1!$AN$5=TRUE),AND(CQ36=4,TABLE1!$AQ$3=TRUE),AND(CQ36=5,TABLE1!$AQ$4=TRUE),AND(CQ36=6,TABLE1!$AQ$5=TRUE),AND(CQ36=7,TABLE1!$AT$3=TRUE),AND(CQ36=8,TABLE1!$AT$4=TRUE),AND(CQ36=9,TABLE1!$AT$5=TRUE),AND(CQ36=10,TABLE1!$AW$3=TRUE),AND(CQ36=11,TABLE1!$AW$4=TRUE),AND(CQ36=12,TABLE1!$AW$5=TRUE)),1,0)=1),1,0)=1,CR36=1,CT36=1),1,0)","v":0},{"$f":"IF(AND(OR(F36=TABLE1!$D$5,TABLE1!$D$5=\"کل بخشها\"),F36<>\"\"),1,0)","v":0}]
[null,null,null,null,null,null,null,null,null,null,null,null,null,null,null,null,null,null,null,null,null,null,null,null,null,null,null,null,null,null,null,null,null,null,null,null,null,null,null,null,null,null,null,null,null,null,null,null,null,null,null,null,null,null,null,null,null,null,null,null,null,null,null,null,null,null,null,null,null,null,null,null,null,null,null,null,null,null,null,null,null,null,null,null,null,null,null,null,null,null,null,null,null,null,"",{"$f":"IF(LEFT(C37,2)=TABLE1!$F$1,1,0)","v":0},{"$f":"IF(AND(IF(AND(IF(OR(AND(CQ37=1,TABLE1!$AN$3=TRUE),AND(CQ37=2,TABLE1!$AN$4=TRUE),AND(CQ37=3,TABLE1!$AN$5=TRUE),AND(CQ37=4,TABLE1!$AQ$3=TRUE),AND(CQ37=5,TABLE1!$AQ$4=TRUE),AND(CQ37=6,TABLE1!$AQ$5=TRUE),AND(CQ37=7,TABLE1!$AT$3=TRUE),AND(CQ37=8,TABLE1!$AT$4=TRUE),AND(CQ37=9,TABLE1!$AT$5=TRUE),AND(CQ37=10,TABLE1!$AW$3=TRUE),AND(CQ37=11,TABLE1!$AW$4=TRUE),AND(CQ37=12,TABLE1!$AW$5=TRUE)),1,0)=1),1,0)=1,CR37=1,CT37=1),1,0)","v":0},{"$f":"IF(AND(OR(F37=TABLE1!$D$5,TABLE1!$D$5=\"کل بخشها\"),F37<>\"\"),1,0)","v":0}]
[null,null,null,null,null,null,null,null,null,null,null,null,null,null,null,null,null,null,null,null,null,null,null,null,null,null,null,null,null,null,null,null,null,null,null,null,null,null,null,null,null,null,null,null,null,null,null,null,null,null,null,null,null,null,null,null,null,null,null,null,null,null,null,null,null,null,null,null,null,null,null,null,null,null,null,null,null,null,null,null,null,null,null,null,null,null,null,null,null,null,null,null,null,null,"",{"$f":"IF(LEFT(C38,2)=TABLE1!$F$1,1,0)","v":0},{"$f":"IF(AND(IF(AND(IF(OR(AND(CQ38=1,TABLE1!$AN$3=TRUE),AND(CQ38=2,TABLE1!$AN$4=TRUE),AND(CQ38=3,TABLE1!$AN$5=TRUE),AND(CQ38=4,TABLE1!$AQ$3=TRUE),AND(CQ38=5,TABLE1!$AQ$4=TRUE),AND(CQ38=6,TABLE1!$AQ$5=TRUE),AND(CQ38=7,TABLE1!$AT$3=TRUE),AND(CQ38=8,TABLE1!$AT$4=TRUE),AND(CQ38=9,TABLE1!$AT$5=TRUE),AND(CQ38=10,TABLE1!$AW$3=TRUE),AND(CQ38=11,TABLE1!$AW$4=TRUE),AND(CQ38=12,TABLE1!$AW$5=TRUE)),1,0)=1),1,0)=1,CR38=1,CT38=1),1,0)","v":0},{"$f":"IF(AND(OR(F38=TABLE1!$D$5,TABLE1!$D$5=\"کل بخشها\"),F38<>\"\"),1,0)","v":0}]
[null,null,null,null,null,null,null,null,null,null,null,null,null,null,null,null,null,null,null,null,null,null,null,null,null,null,null,null,null,null,null,null,null,null,null,null,null,null,null,null,null,null,null,null,null,null,null,null,null,null,null,null,null,null,null,null,null,null,null,null,null,null,null,null,null,null,null,null,null,null,null,null,null,null,null,null,null,null,null,null,null,null,null,null,null,null,null,null,null,null,null,null,null,null,"",{"$f":"IF(LEFT(C39,2)=TABLE1!$F$1,1,0)","v":0},{"$f":"IF(AND(IF(AND(IF(OR(AND(CQ39=1,TABLE1!$AN$3=TRUE),AND(CQ39=2,TABLE1!$AN$4=TRUE),AND(CQ39=3,TABLE1!$AN$5=TRUE),AND(CQ39=4,TABLE1!$AQ$3=TRUE),AND(CQ39=5,TABLE1!$AQ$4=TRUE),AND(CQ39=6,TABLE1!$AQ$5=TRUE),AND(CQ39=7,TABLE1!$AT$3=TRUE),AND(CQ39=8,TABLE1!$AT$4=TRUE),AND(CQ39=9,TABLE1!$AT$5=TRUE),AND(CQ39=10,TABLE1!$AW$3=TRUE),AND(CQ39=11,TABLE1!$AW$4=TRUE),AND(CQ39=12,TABLE1!$AW$5=TRUE)),1,0)=1),1,0)=1,CR39=1,CT39=1),1,0)","v":0},{"$f":"IF(AND(OR(F39=TABLE1!$D$5,TABLE1!$D$5=\"کل بخشها\"),F39<>\"\"),1,0)","v":0}]
[null,null,null,null,null,null,null,null,null,null,null,null,null,null,null,null,null,null,null,null,null,null,null,null,null,null,null,null,null,null,null,null,null,null,null,null,null,null,null,null,null,null,null,null,null,null,null,null,null,null,null,null,null,null,null,null,null,null,null,null,null,null,null,null,null,null,null,null,null,null,null,null,null,null,null,null,null,null,null,null,null,null,null,null,null,null,null,null,null,null,null,null,null,null,"",{"$f":"IF(LEFT(C40,2)=TABLE1!$F$1,1,0)","v":0},{"$f":"IF(AND(IF(AND(IF(OR(AND(CQ40=1,TABLE1!$AN$3=TRUE),AND(CQ40=2,TABLE1!$AN$4=TRUE),AND(CQ40=3,TABLE1!$AN$5=TRUE),AND(CQ40=4,TABLE1!$AQ$3=TRUE),AND(CQ40=5,TABLE1!$AQ$4=TRUE),AND(CQ40=6,TABLE1!$AQ$5=TRUE),AND(CQ40=7,TABLE1!$AT$3=TRUE),AND(CQ40=8,TABLE1!$AT$4=TRUE),AND(CQ40=9,TABLE1!$AT$5=TRUE),AND(CQ40=10,TABLE1!$AW$3=TRUE),AND(CQ40=11,TABLE1!$AW$4=TRUE),AND(CQ40=12,TABLE1!$AW$5=TRUE)),1,0)=1),1,0)=1,CR40=1,CT40=1),1,0)","v":0},{"$f":"IF(AND(OR(F40=TABLE1!$D$5,TABLE1!$D$5=\"کل بخشها\"),F40<>\"\"),1,0)","v":0}]
[null,null,null,null,null,null,null,null,null,null,null,null,null,null,null,null,null,null,null,null,null,null,null,null,null,null,null,null,null,null,null,null,null,null,null,null,null,null,null,null,null,null,null,null,null,null,null,null,null,null,null,null,null,null,null,null,null,null,null,null,null,null,null,null,null,null,null,null,null,null,null,null,null,null,null,null,null,null,null,null,null,null,null,null,null,null,null,null,null,null,null,null,null,null,"",{"$f":"IF(LEFT(C41,2)=TABLE1!$F$1,1,0)","v":0},{"$f":"IF(AND(IF(AND(IF(OR(AND(CQ41=1,TABLE1!$AN$3=TRUE),AND(CQ41=2,TABLE1!$AN$4=TRUE),AND(CQ41=3,TABLE1!$AN$5=TRUE),AND(CQ41=4,TABLE1!$AQ$3=TRUE),AND(CQ41=5,TABLE1!$AQ$4=TRUE),AND(CQ41=6,TABLE1!$AQ$5=TRUE),AND(CQ41=7,TABLE1!$AT$3=TRUE),AND(CQ41=8,TABLE1!$AT$4=TRUE),AND(CQ41=9,TABLE1!$AT$5=TRUE),AND(CQ41=10,TABLE1!$AW$3=TRUE),AND(CQ41=11,TABLE1!$AW$4=TRUE),AND(CQ41=12,TABLE1!$AW$5=TRUE)),1,0)=1),1,0)=1,CR41=1,CT41=1),1,0)","v":0},{"$f":"IF(AND(OR(F41=TABLE1!$D$5,TABLE1!$D$5=\"کل بخشها\"),F41<>\"\"),1,0)","v":0}]
[null,null,null,null,null,null,null,null,null,null,null,null,null,null,null,null,null,null,null,null,null,null,null,null,null,null,null,null,null,null,null,null,null,null,null,null,null,null,null,null,null,null,null,null,null,null,null,null,null,null,null,null,null,null,null,null,null,null,null,null,null,null,null,null,null,null,null,null,null,null,null,null,null,null,null,null,null,null,null,null,null,null,null,null,null,null,null,null,null,null,null,null,null,null,"",{"$f":"IF(LEFT(C42,2)=TABLE1!$F$1,1,0)","v":0},{"$f":"IF(AND(IF(AND(IF(OR(AND(CQ42=1,TABLE1!$AN$3=TRUE),AND(CQ42=2,TABLE1!$AN$4=TRUE),AND(CQ42=3,TABLE1!$AN$5=TRUE),AND(CQ42=4,TABLE1!$AQ$3=TRUE),AND(CQ42=5,TABLE1!$AQ$4=TRUE),AND(CQ42=6,TABLE1!$AQ$5=TRUE),AND(CQ42=7,TABLE1!$AT$3=TRUE),AND(CQ42=8,TABLE1!$AT$4=TRUE),AND(CQ42=9,TABLE1!$AT$5=TRUE),AND(CQ42=10,TABLE1!$AW$3=TRUE),AND(CQ42=11,TABLE1!$AW$4=TRUE),AND(CQ42=12,TABLE1!$AW$5=TRUE)),1,0)=1),1,0)=1,CR42=1,CT42=1),1,0)","v":0},{"$f":"IF(AND(OR(F42=TABLE1!$D$5,TABLE1!$D$5=\"کل بخشها\"),F42<>\"\"),1,0)","v":0}]
[null,null,null,null,null,null,null,null,null,null,null,null,null,null,null,null,null,null,null,null,null,null,null,null,null,null,null,null,null,null,null,null,null,null,null,null,null,null,null,null,null,null,null,null,null,null,null,null,null,null,null,null,null,null,null,null,null,null,null,null,null,null,null,null,null,null,null,null,null,null,null,null,null,null,null,null,null,null,null,null,null,null,null,null,null,null,null,null,null,null,null,null,null,null,"",{"$f":"IF(LEFT(C43,2)=TABLE1!$F$1,1,0)","v":0},{"$f":"IF(AND(IF(AND(IF(OR(AND(CQ43=1,TABLE1!$AN$3=TRUE),AND(CQ43=2,TABLE1!$AN$4=TRUE),AND(CQ43=3,TABLE1!$AN$5=TRUE),AND(CQ43=4,TABLE1!$AQ$3=TRUE),AND(CQ43=5,TABLE1!$AQ$4=TRUE),AND(CQ43=6,TABLE1!$AQ$5=TRUE),AND(CQ43=7,TABLE1!$AT$3=TRUE),AND(CQ43=8,TABLE1!$AT$4=TRUE),AND(CQ43=9,TABLE1!$AT$5=TRUE),AND(CQ43=10,TABLE1!$AW$3=TRUE),AND(CQ43=11,TABLE1!$AW$4=TRUE),AND(CQ43=12,TABLE1!$AW$5=TRUE)),1,0)=1),1,0)=1,CR43=1,CT43=1),1,0)","v":0},{"$f":"IF(AND(OR(F43=TABLE1!$D$5,TABLE1!$D$5=\"کل بخشها\"),F43<>\"\"),1,0)","v":0}]
[null,null,null,null,null,null,null,null,null,null,null,null,null,null,null,null,null,null,null,null,null,null,null,null,null,null,null,null,null,null,null,null,null,null,null,null,null,null,null,null,null,null,null,null,null,null,null,null,null,null,null,null,null,null,null,null,null,null,null,null,null,null,null,null,null,null,null,null,null,null,null,null,null,null,null,null,null,null,null,null,null,null,null,null,null,null,null,null,null,null,null,null,null,null,"",{"$f":"IF(LEFT(C44,2)=TABLE1!$F$1,1,0)","v":0},{"$f":"IF(AND(IF(AND(IF(OR(AND(CQ44=1,TABLE1!$AN$3=TRUE),AND(CQ44=2,TABLE1!$AN$4=TRUE),AND(CQ44=3,TABLE1!$AN$5=TRUE),AND(CQ44=4,TABLE1!$AQ$3=TRUE),AND(CQ44=5,TABLE1!$AQ$4=TRUE),AND(CQ44=6,TABLE1!$AQ$5=TRUE),AND(CQ44=7,TABLE1!$AT$3=TRUE),AND(CQ44=8,TABLE1!$AT$4=TRUE),AND(CQ44=9,TABLE1!$AT$5=TRUE),AND(CQ44=10,TABLE1!$AW$3=TRUE),AND(CQ44=11,TABLE1!$AW$4=TRUE),AND(CQ44=12,TABLE1!$AW$5=TRUE)),1,0)=1),1,0)=1,CR44=1,CT44=1),1,0)","v":0},{"$f":"IF(AND(OR(F44=TABLE1!$D$5,TABLE1!$D$5=\"کل بخشها\"),F44<>\"\"),1,0)","v":0}]
[null,null,null,null,null,null,null,null,null,null,null,null,null,null,null,null,null,null,null,null,null,null,null,null,null,null,null,null,null,null,null,null,null,null,null,null,null,null,null,null,null,null,null,null,null,null,null,null,null,null,null,null,null,null,null,null,null,null,null,null,null,null,null,null,null,null,null,null,null,null,null,null,null,null,null,null,null,null,null,null,null,null,null,null,null,null,null,null,null,null,null,null,null,null,"",{"$f":"IF(LEFT(C45,2)=TABLE1!$F$1,1,0)","v":0},{"$f":"IF(AND(IF(AND(IF(OR(AND(CQ45=1,TABLE1!$AN$3=TRUE),AND(CQ45=2,TABLE1!$AN$4=TRUE),AND(CQ45=3,TABLE1!$AN$5=TRUE),AND(CQ45=4,TABLE1!$AQ$3=TRUE),AND(CQ45=5,TABLE1!$AQ$4=TRUE),AND(CQ45=6,TABLE1!$AQ$5=TRUE),AND(CQ45=7,TABLE1!$AT$3=TRUE),AND(CQ45=8,TABLE1!$AT$4=TRUE),AND(CQ45=9,TABLE1!$AT$5=TRUE),AND(CQ45=10,TABLE1!$AW$3=TRUE),AND(CQ45=11,TABLE1!$AW$4=TRUE),AND(CQ45=12,TABLE1!$AW$5=TRUE)),1,0)=1),1,0)=1,CR45=1,CT45=1),1,0)","v":0},{"$f":"IF(AND(OR(F45=TABLE1!$D$5,TABLE1!$D$5=\"کل بخشها\"),F45<>\"\"),1,0)","v":0}]
[null,null,null,null,null,null,null,null,null,null,null,null,null,null,null,null,null,null,null,null,null,null,null,null,null,null,null,null,null,null,null,null,null,null,null,null,null,null,null,null,null,null,null,null,null,null,null,null,null,null,null,null,null,null,null,null,null,null,null,null,null,null,null,null,null,null,null,null,null,null,null,null,null,null,null,null,null,null,null,null,null,null,null,null,null,null,null,null,null,null,null,null,null,null,"",{"$f":"IF(LEFT(C46,2)=TABLE1!$F$1,1,0)","v":0},{"$f":"IF(AND(IF(AND(IF(OR(AND(CQ46=1,TABLE1!$AN$3=TRUE),AND(CQ46=2,TABLE1!$AN$4=TRUE),AND(CQ46=3,TABLE1!$AN$5=TRUE),AND(CQ46=4,TABLE1!$AQ$3=TRUE),AND(CQ46=5,TABLE1!$AQ$4=TRUE),AND(CQ46=6,TABLE1!$AQ$5=TRUE),AND(CQ46=7,TABLE1!$AT$3=TRUE),AND(CQ46=8,TABLE1!$AT$4=TRUE),AND(CQ46=9,TABLE1!$AT$5=TRUE),AND(CQ46=10,TABLE1!$AW$3=TRUE),AND(CQ46=11,TABLE1!$AW$4=TRUE),AND(CQ46=12,TABLE1!$AW$5=TRUE)),1,0)=1),1,0)=1,CR46=1,CT46=1),1,0)","v":0},{"$f":"IF(AND(OR(F46=TABLE1!$D$5,TABLE1!$D$5=\"کل بخشها\"),F46<>\"\"),1,0)","v":0}]
[null,null,null,null,null,null,null,null,null,null,null,null,null,null,null,null,null,null,null,null,null,null,null,null,null,null,null,null,null,null,null,null,null,null,null,null,null,null,null,null,null,null,null,null,null,null,null,null,null,null,null,null,null,null,null,null,null,null,null,null,null,null,null,null,null,null,null,null,null,null,null,null,null,null,null,null,null,null,null,null,null,null,null,null,null,null,null,null,null,null,null,null,null,null,"",{"$f":"IF(LEFT(C47,2)=TABLE1!$F$1,1,0)","v":0},{"$f":"IF(AND(IF(AND(IF(OR(AND(CQ47=1,TABLE1!$AN$3=TRUE),AND(CQ47=2,TABLE1!$AN$4=TRUE),AND(CQ47=3,TABLE1!$AN$5=TRUE),AND(CQ47=4,TABLE1!$AQ$3=TRUE),AND(CQ47=5,TABLE1!$AQ$4=TRUE),AND(CQ47=6,TABLE1!$AQ$5=TRUE),AND(CQ47=7,TABLE1!$AT$3=TRUE),AND(CQ47=8,TABLE1!$AT$4=TRUE),AND(CQ47=9,TABLE1!$AT$5=TRUE),AND(CQ47=10,TABLE1!$AW$3=TRUE),AND(CQ47=11,TABLE1!$AW$4=TRUE),AND(CQ47=12,TABLE1!$AW$5=TRUE)),1,0)=1),1,0)=1,CR47=1,CT47=1),1,0)","v":0},{"$f":"IF(AND(OR(F47=TABLE1!$D$5,TABLE1!$D$5=\"کل بخشها\"),F47<>\"\"),1,0)","v":0}]
[null,null,null,null,null,null,null,null,null,null,null,null,null,null,null,null,null,null,null,null,null,null,null,null,null,null,null,null,null,null,null,null,null,null,null,null,null,null,null,null,null,null,null,null,null,null,null,null,null,null,null,null,null,null,null,null,null,null,null,null,null,null,null,null,null,null,null,null,null,null,null,null,null,null,null,null,null,null,null,null,null,null,null,null,null,null,null,null,null,null,null,null,null,null,"",{"$f":"IF(LEFT(C48,2)=TABLE1!$F$1,1,0)","v":0},{"$f":"IF(AND(IF(AND(IF(OR(AND(CQ48=1,TABLE1!$AN$3=TRUE),AND(CQ48=2,TABLE1!$AN$4=TRUE),AND(CQ48=3,TABLE1!$AN$5=TRUE),AND(CQ48=4,TABLE1!$AQ$3=TRUE),AND(CQ48=5,TABLE1!$AQ$4=TRUE),AND(CQ48=6,TABLE1!$AQ$5=TRUE),AND(CQ48=7,TABLE1!$AT$3=TRUE),AND(CQ48=8,TABLE1!$AT$4=TRUE),AND(CQ48=9,TABLE1!$AT$5=TRUE),AND(CQ48=10,TABLE1!$AW$3=TRUE),AND(CQ48=11,TABLE1!$AW$4=TRUE),AND(CQ48=12,TABLE1!$AW$5=TRUE)),1,0)=1),1,0)=1,CR48=1,CT48=1),1,0)","v":0},{"$f":"IF(AND(OR(F48=TABLE1!$D$5,TABLE1!$D$5=\"کل بخشها\"),F48<>\"\"),1,0)","v":0}]
[null,null,null,null,null,null,null,null,null,null,null,null,null,null,null,null,null,null,null,null,null,null,null,null,null,null,null,null,null,null,null,null,null,null,null,null,null,null,null,null,null,null,null,null,null,null,null,null,null,null,null,null,null,null,null,null,null,null,null,null,null,null,null,null,null,null,null,null,null,null,null,null,null,null,null,null,null,null,null,null,null,null,null,null,null,null,null,null,null,null,null,null,null,null,"",{"$f":"IF(LEFT(C49,2)=TABLE1!$F$1,1,0)","v":0},{"$f":"IF(AND(IF(AND(IF(OR(AND(CQ49=1,TABLE1!$AN$3=TRUE),AND(CQ49=2,TABLE1!$AN$4=TRUE),AND(CQ49=3,TABLE1!$AN$5=TRUE),AND(CQ49=4,TABLE1!$AQ$3=TRUE),AND(CQ49=5,TABLE1!$AQ$4=TRUE),AND(CQ49=6,TABLE1!$AQ$5=TRUE),AND(CQ49=7,TABLE1!$AT$3=TRUE),AND(CQ49=8,TABLE1!$AT$4=TRUE),AND(CQ49=9,TABLE1!$AT$5=TRUE),AND(CQ49=10,TABLE1!$AW$3=TRUE),AND(CQ49=11,TABLE1!$AW$4=TRUE),AND(CQ49=12,TABLE1!$AW$5=TRUE)),1,0)=1),1,0)=1,CR49=1,CT49=1),1,0)","v":0},{"$f":"IF(AND(OR(F49=TABLE1!$D$5,TABLE1!$D$5=\"کل بخشها\"),F49<>\"\"),1,0)","v":0}]
[null,null,null,null,null,null,null,null,null,null,null,null,null,null,null,null,null,null,null,null,null,null,null,null,null,null,null,null,null,null,null,null,null,null,null,null,null,null,null,null,null,null,null,null,null,null,null,null,null,null,null,null,null,null,null,null,null,null,null,null,null,null,null,null,null,null,null,null,null,null,null,null,null,null,null,null,null,null,null,null,null,null,null,null,null,null,null,null,null,null,null,null,null,null,"",{"$f":"IF(LEFT(C50,2)=TABLE1!$F$1,1,0)","v":0},{"$f":"IF(AND(IF(AND(IF(OR(AND(CQ50=1,TABLE1!$AN$3=TRUE),AND(CQ50=2,TABLE1!$AN$4=TRUE),AND(CQ50=3,TABLE1!$AN$5=TRUE),AND(CQ50=4,TABLE1!$AQ$3=TRUE),AND(CQ50=5,TABLE1!$AQ$4=TRUE),AND(CQ50=6,TABLE1!$AQ$5=TRUE),AND(CQ50=7,TABLE1!$AT$3=TRUE),AND(CQ50=8,TABLE1!$AT$4=TRUE),AND(CQ50=9,TABLE1!$AT$5=TRUE),AND(CQ50=10,TABLE1!$AW$3=TRUE),AND(CQ50=11,TABLE1!$AW$4=TRUE),AND(CQ50=12,TABLE1!$AW$5=TRUE)),1,0)=1),1,0)=1,CR50=1,CT50=1),1,0)","v":0},{"$f":"IF(AND(OR(F50=TABLE1!$D$5,TABLE1!$D$5=\"کل بخشها\"),F50<>\"\"),1,0)","v":0}]
[null,null,null,null,null,null,null,null,null,null,null,null,null,null,null,null,null,null,null,null,null,null,null,null,null,null,null,null,null,null,null,null,null,null,null,null,null,null,null,null,null,null,null,null,null,null,null,null,null,null,null,null,null,null,null,null,null,null,null,null,null,null,null,null,null,null,null,null,null,null,null,null,null,null,null,null,null,null,null,null,null,null,null,null,null,null,null,null,null,null,null,null,null,null,"",{"$f":"IF(LEFT(C51,2)=TABLE1!$F$1,1,0)","v":0},{"$f":"IF(AND(IF(AND(IF(OR(AND(CQ51=1,TABLE1!$AN$3=TRUE),AND(CQ51=2,TABLE1!$AN$4=TRUE),AND(CQ51=3,TABLE1!$AN$5=TRUE),AND(CQ51=4,TABLE1!$AQ$3=TRUE),AND(CQ51=5,TABLE1!$AQ$4=TRUE),AND(CQ51=6,TABLE1!$AQ$5=TRUE),AND(CQ51=7,TABLE1!$AT$3=TRUE),AND(CQ51=8,TABLE1!$AT$4=TRUE),AND(CQ51=9,TABLE1!$AT$5=TRUE),AND(CQ51=10,TABLE1!$AW$3=TRUE),AND(CQ51=11,TABLE1!$AW$4=TRUE),AND(CQ51=12,TABLE1!$AW$5=TRUE)),1,0)=1),1,0)=1,CR51=1,CT51=1),1,0)","v":0},{"$f":"IF(AND(OR(F51=TABLE1!$D$5,TABLE1!$D$5=\"کل بخشها\"),F51<>\"\"),1,0)","v":0}]
[null,null,null,null,null,null,null,null,null,null,null,null,null,null,null,null,null,null,null,null,null,null,null,null,null,null,null,null,null,null,null,null,null,null,null,null,null,null,null,null,null,null,null,null,null,null,null,null,null,null,null,null,null,null,null,null,null,null,null,null,null,null,null,null,null,null,null,null,null,null,null,null,null,null,null,null,null,null,null,null,null,null,null,null,null,null,null,null,null,null,null,null,null,null,"",{"$f":"IF(LEFT(C52,2)=TABLE1!$F$1,1,0)","v":0},{"$f":"IF(AND(IF(AND(IF(OR(AND(CQ52=1,TABLE1!$AN$3=TRUE),AND(CQ52=2,TABLE1!$AN$4=TRUE),AND(CQ52=3,TABLE1!$AN$5=TRUE),AND(CQ52=4,TABLE1!$AQ$3=TRUE),AND(CQ52=5,TABLE1!$AQ$4=TRUE),AND(CQ52=6,TABLE1!$AQ$5=TRUE),AND(CQ52=7,TABLE1!$AT$3=TRUE),AND(CQ52=8,TABLE1!$AT$4=TRUE),AND(CQ52=9,TABLE1!$AT$5=TRUE),AND(CQ52=10,TABLE1!$AW$3=TRUE),AND(CQ52=11,TABLE1!$AW$4=TRUE),AND(CQ52=12,TABLE1!$AW$5=TRUE)),1,0)=1),1,0)=1,CR52=1,CT52=1),1,0)","v":0},{"$f":"IF(AND(OR(F52=TABLE1!$D$5,TABLE1!$D$5=\"کل بخشها\"),F52<>\"\"),1,0)","v":0}]
[null,null,null,null,null,null,null,null,null,null,null,null,null,null,null,null,null,null,null,null,null,null,null,null,null,null,null,null,null,null,null,null,null,null,null,null,null,null,null,null,null,null,null,null,null,null,null,null,null,null,null,null,null,null,null,null,null,null,null,null,null,null,null,null,null,null,null,null,null,null,null,null,null,null,null,null,null,null,null,null,null,null,null,null,null,null,null,null,null,null,null,null,null,null,"",{"$f":"IF(LEFT(C53,2)=TABLE1!$F$1,1,0)","v":0},{"$f":"IF(AND(IF(AND(IF(OR(AND(CQ53=1,TABLE1!$AN$3=TRUE),AND(CQ53=2,TABLE1!$AN$4=TRUE),AND(CQ53=3,TABLE1!$AN$5=TRUE),AND(CQ53=4,TABLE1!$AQ$3=TRUE),AND(CQ53=5,TABLE1!$AQ$4=TRUE),AND(CQ53=6,TABLE1!$AQ$5=TRUE),AND(CQ53=7,TABLE1!$AT$3=TRUE),AND(CQ53=8,TABLE1!$AT$4=TRUE),AND(CQ53=9,TABLE1!$AT$5=TRUE),AND(CQ53=10,TABLE1!$AW$3=TRUE),AND(CQ53=11,TABLE1!$AW$4=TRUE),AND(CQ53=12,TABLE1!$AW$5=TRUE)),1,0)=1),1,0)=1,CR53=1,CT53=1),1,0)","v":0},{"$f":"IF(AND(OR(F53=TABLE1!$D$5,TABLE1!$D$5=\"کل بخشها\"),F53<>\"\"),1,0)","v":0}]
[null,null,null,null,null,null,null,null,null,null,null,null,null,null,null,null,null,null,null,null,null,null,null,null,null,null,null,null,null,null,null,null,null,null,null,null,null,null,null,null,null,null,null,null,null,null,null,null,null,null,null,null,null,null,null,null,null,null,null,null,null,null,null,null,null,null,null,null,null,null,null,null,null,null,null,null,null,null,null,null,null,null,null,null,null,null,null,null,null,null,null,null,null,null,"",{"$f":"IF(LEFT(C54,2)=TABLE1!$F$1,1,0)","v":0},{"$f":"IF(AND(IF(AND(IF(OR(AND(CQ54=1,TABLE1!$AN$3=TRUE),AND(CQ54=2,TABLE1!$AN$4=TRUE),AND(CQ54=3,TABLE1!$AN$5=TRUE),AND(CQ54=4,TABLE1!$AQ$3=TRUE),AND(CQ54=5,TABLE1!$AQ$4=TRUE),AND(CQ54=6,TABLE1!$AQ$5=TRUE),AND(CQ54=7,TABLE1!$AT$3=TRUE),AND(CQ54=8,TABLE1!$AT$4=TRUE),AND(CQ54=9,TABLE1!$AT$5=TRUE),AND(CQ54=10,TABLE1!$AW$3=TRUE),AND(CQ54=11,TABLE1!$AW$4=TRUE),AND(CQ54=12,TABLE1!$AW$5=TRUE)),1,0)=1),1,0)=1,CR54=1,CT54=1),1,0)","v":0},{"$f":"IF(AND(OR(F54=TABLE1!$D$5,TABLE1!$D$5=\"کل بخشها\"),F54<>\"\"),1,0)","v":0}]
[null,null,null,null,null,null,null,null,null,null,null,null,null,null,null,null,null,null,null,null,null,null,null,null,null,null,null,null,null,null,null,null,null,null,null,null,null,null,null,null,null,null,null,null,null,null,null,null,null,null,null,null,null,null,null,null,null,null,null,null,null,null,null,null,null,null,null,null,null,null,null,null,null,null,null,null,null,null,null,null,null,null,null,null,null,null,null,null,null,null,null,null,null,null,"",{"$f":"IF(LEFT(C55,2)=TABLE1!$F$1,1,0)","v":0},{"$f":"IF(AND(IF(AND(IF(OR(AND(CQ55=1,TABLE1!$AN$3=TRUE),AND(CQ55=2,TABLE1!$AN$4=TRUE),AND(CQ55=3,TABLE1!$AN$5=TRUE),AND(CQ55=4,TABLE1!$AQ$3=TRUE),AND(CQ55=5,TABLE1!$AQ$4=TRUE),AND(CQ55=6,TABLE1!$AQ$5=TRUE),AND(CQ55=7,TABLE1!$AT$3=TRUE),AND(CQ55=8,TABLE1!$AT$4=TRUE),AND(CQ55=9,TABLE1!$AT$5=TRUE),AND(CQ55=10,TABLE1!$AW$3=TRUE),AND(CQ55=11,TABLE1!$AW$4=TRUE),AND(CQ55=12,TABLE1!$AW$5=TRUE)),1,0)=1),1,0)=1,CR55=1,CT55=1),1,0)","v":0},{"$f":"IF(AND(OR(F55=TABLE1!$D$5,TABLE1!$D$5=\"کل بخشها\"),F55<>\"\"),1,0)","v":0}]
[null,null,null,null,null,null,null,null,null,null,null,null,null,null,null,null,null,null,null,null,null,null,null,null,null,null,null,null,null,null,null,null,null,null,null,null,null,null,null,null,null,null,null,null,null,null,null,null,null,null,null,null,null,null,null,null,null,null,null,null,null,null,null,null,null,null,null,null,null,null,null,null,null,null,null,null,null,null,null,null,null,null,null,null,null,null,null,null,null,null,null,null,null,null,"",{"$f":"IF(LEFT(C56,2)=TABLE1!$F$1,1,0)","v":0},{"$f":"IF(AND(IF(AND(IF(OR(AND(CQ56=1,TABLE1!$AN$3=TRUE),AND(CQ56=2,TABLE1!$AN$4=TRUE),AND(CQ56=3,TABLE1!$AN$5=TRUE),AND(CQ56=4,TABLE1!$AQ$3=TRUE),AND(CQ56=5,TABLE1!$AQ$4=TRUE),AND(CQ56=6,TABLE1!$AQ$5=TRUE),AND(CQ56=7,TABLE1!$AT$3=TRUE),AND(CQ56=8,TABLE1!$AT$4=TRUE),AND(CQ56=9,TABLE1!$AT$5=TRUE),AND(CQ56=10,TABLE1!$AW$3=TRUE),AND(CQ56=11,TABLE1!$AW$4=TRUE),AND(CQ56=12,TABLE1!$AW$5=TRUE)),1,0)=1),1,0)=1,CR56=1,CT56=1),1,0)","v":0},{"$f":"IF(AND(OR(F56=TABLE1!$D$5,TABLE1!$D$5=\"کل بخشها\"),F56<>\"\"),1,0)","v":0}]
[null,null,null,null,null,null,null,null,null,null,null,null,null,null,null,null,null,null,null,null,null,null,null,null,null,null,null,null,null,null,null,null,null,null,null,null,null,null,null,null,null,null,null,null,null,null,null,null,null,null,null,null,null,null,null,null,null,null,null,null,null,null,null,null,null,null,null,null,null,null,null,null,null,null,null,null,null,null,null,null,null,null,null,null,null,null,null,null,null,null,null,null,null,null,"",{"$f":"IF(LEFT(C57,2)=TABLE1!$F$1,1,0)","v":0},{"$f":"IF(AND(IF(AND(IF(OR(AND(CQ57=1,TABLE1!$AN$3=TRUE),AND(CQ57=2,TABLE1!$AN$4=TRUE),AND(CQ57=3,TABLE1!$AN$5=TRUE),AND(CQ57=4,TABLE1!$AQ$3=TRUE),AND(CQ57=5,TABLE1!$AQ$4=TRUE),AND(CQ57=6,TABLE1!$AQ$5=TRUE),AND(CQ57=7,TABLE1!$AT$3=TRUE),AND(CQ57=8,TABLE1!$AT$4=TRUE),AND(CQ57=9,TABLE1!$AT$5=TRUE),AND(CQ57=10,TABLE1!$AW$3=TRUE),AND(CQ57=11,TABLE1!$AW$4=TRUE),AND(CQ57=12,TABLE1!$AW$5=TRUE)),1,0)=1),1,0)=1,CR57=1,CT57=1),1,0)","v":0},{"$f":"IF(AND(OR(F57=TABLE1!$D$5,TABLE1!$D$5=\"کل بخشها\"),F57<>\"\"),1,0)","v":0}]
[null,null,null,null,null,null,null,null,null,null,null,null,null,null,null,null,null,null,null,null,null,null,null,null,null,null,null,null,null,null,null,null,null,null,null,null,null,null,null,null,null,null,null,null,null,null,null,null,null,null,null,null,null,null,null,null,null,null,null,null,null,null,null,null,null,null,null,null,null,null,null,null,null,null,null,null,null,null,null,null,null,null,null,null,null,null,null,null,null,null,null,null,null,null,"",{"$f":"IF(LEFT(C58,2)=TABLE1!$F$1,1,0)","v":0},{"$f":"IF(AND(IF(AND(IF(OR(AND(CQ58=1,TABLE1!$AN$3=TRUE),AND(CQ58=2,TABLE1!$AN$4=TRUE),AND(CQ58=3,TABLE1!$AN$5=TRUE),AND(CQ58=4,TABLE1!$AQ$3=TRUE),AND(CQ58=5,TABLE1!$AQ$4=TRUE),AND(CQ58=6,TABLE1!$AQ$5=TRUE),AND(CQ58=7,TABLE1!$AT$3=TRUE),AND(CQ58=8,TABLE1!$AT$4=TRUE),AND(CQ58=9,TABLE1!$AT$5=TRUE),AND(CQ58=10,TABLE1!$AW$3=TRUE),AND(CQ58=11,TABLE1!$AW$4=TRUE),AND(CQ58=12,TABLE1!$AW$5=TRUE)),1,0)=1),1,0)=1,CR58=1,CT58=1),1,0)","v":0},{"$f":"IF(AND(OR(F58=TABLE1!$D$5,TABLE1!$D$5=\"کل بخشها\"),F58<>\"\"),1,0)","v":0}]
[null,null,null,null,null,null,null,null,null,null,null,null,null,null,null,null,null,null,null,null,null,null,null,null,null,null,null,null,null,null,null,null,null,null,null,null,null,null,null,null,null,null,null,null,null,null,null,null,null,null,null,null,null,null,null,null,null,null,null,null,null,null,null,null,null,null,null,null,null,null,null,null,null,null,null,null,null,null,null,null,null,null,null,null,null,null,null,null,null,null,null,null,null,null,"",{"$f":"IF(LEFT(C59,2)=TABLE1!$F$1,1,0)","v":0},{"$f":"IF(AND(IF(AND(IF(OR(AND(CQ59=1,TABLE1!$AN$3=TRUE),AND(CQ59=2,TABLE1!$AN$4=TRUE),AND(CQ59=3,TABLE1!$AN$5=TRUE),AND(CQ59=4,TABLE1!$AQ$3=TRUE),AND(CQ59=5,TABLE1!$AQ$4=TRUE),AND(CQ59=6,TABLE1!$AQ$5=TRUE),AND(CQ59=7,TABLE1!$AT$3=TRUE),AND(CQ59=8,TABLE1!$AT$4=TRUE),AND(CQ59=9,TABLE1!$AT$5=TRUE),AND(CQ59=10,TABLE1!$AW$3=TRUE),AND(CQ59=11,TABLE1!$AW$4=TRUE),AND(CQ59=12,TABLE1!$AW$5=TRUE)),1,0)=1),1,0)=1,CR59=1,CT59=1),1,0)","v":0},{"$f":"IF(AND(OR(F59=TABLE1!$D$5,TABLE1!$D$5=\"کل بخشها\"),F59<>\"\"),1,0)","v":0}]
[null,null,null,null,null,null,null,null,null,null,null,null,null,null,null,null,null,null,null,null,null,null,null,null,null,null,null,null,null,null,null,null,null,null,null,null,null,null,null,null,null,null,null,null,null,null,null,null,null,null,null,null,null,null,null,null,null,null,null,null,null,null,null,null,null,null,null,null,null,null,null,null,null,null,null,null,null,null,null,null,null,null,null,null,null,null,null,null,null,null,null,null,null,null,"",{"$f":"IF(LEFT(C60,2)=TABLE1!$F$1,1,0)","v":0},{"$f":"IF(AND(IF(AND(IF(OR(AND(CQ60=1,TABLE1!$AN$3=TRUE),AND(CQ60=2,TABLE1!$AN$4=TRUE),AND(CQ60=3,TABLE1!$AN$5=TRUE),AND(CQ60=4,TABLE1!$AQ$3=TRUE),AND(CQ60=5,TABLE1!$AQ$4=TRUE),AND(CQ60=6,TABLE1!$AQ$5=TRUE),AND(CQ60=7,TABLE1!$AT$3=TRUE),AND(CQ60=8,TABLE1!$AT$4=TRUE),AND(CQ60=9,TABLE1!$AT$5=TRUE),AND(CQ60=10,TABLE1!$AW$3=TRUE),AND(CQ60=11,TABLE1!$AW$4=TRUE),AND(CQ60=12,TABLE1!$AW$5=TRUE)),1,0)=1),1,0)=1,CR60=1,CT60=1),1,0)","v":0},{"$f":"IF(AND(OR(F60=TABLE1!$D$5,TABLE1!$D$5=\"کل بخشها\"),F60<>\"\"),1,0)","v":0}]
[null,null,null,null,null,null,null,null,null,null,null,null,null,null,null,null,null,null,null,null,null,null,null,null,null,null,null,null,null,null,null,null,null,null,null,null,null,null,null,null,null,null,null,null,null,null,null,null,null,null,null,null,null,null,null,null,null,null,null,null,null,null,null,null,null,null,null,null,null,null,null,null,null,null,null,null,null,null,null,null,null,null,null,null,null,null,null,null,null,null,null,null,null,null,"",{"$f":"IF(LEFT(C61,2)=TABLE1!$F$1,1,0)","v":0},{"$f":"IF(AND(IF(AND(IF(OR(AND(CQ61=1,TABLE1!$AN$3=TRUE),AND(CQ61=2,TABLE1!$AN$4=TRUE),AND(CQ61=3,TABLE1!$AN$5=TRUE),AND(CQ61=4,TABLE1!$AQ$3=TRUE),AND(CQ61=5,TABLE1!$AQ$4=TRUE),AND(CQ61=6,TABLE1!$AQ$5=TRUE),AND(CQ61=7,TABLE1!$AT$3=TRUE),AND(CQ61=8,TABLE1!$AT$4=TRUE),AND(CQ61=9,TABLE1!$AT$5=TRUE),AND(CQ61=10,TABLE1!$AW$3=TRUE),AND(CQ61=11,TABLE1!$AW$4=TRUE),AND(CQ61=12,TABLE1!$AW$5=TRUE)),1,0)=1),1,0)=1,CR61=1,CT61=1),1,0)","v":0},{"$f":"IF(AND(OR(F61=TABLE1!$D$5,TABLE1!$D$5=\"کل بخشها\"),F61<>\"\"),1,0)","v":0}]
[null,null,null,null,null,null,null,null,null,null,null,null,null,null,null,null,null,null,null,null,null,null,null,null,null,null,null,null,null,null,null,null,null,null,null,null,null,null,null,null,null,null,null,null,null,null,null,null,null,null,null,null,null,null,null,null,null,null,null,null,null,null,null,null,null,null,null,null,null,null,null,null,null,null,null,null,null,null,null,null,null,null,null,null,null,null,null,null,null,null,null,null,null,null,"",{"$f":"IF(LEFT(C62,2)=TABLE1!$F$1,1,0)","v":0},{"$f":"IF(AND(IF(AND(IF(OR(AND(CQ62=1,TABLE1!$AN$3=TRUE),AND(CQ62=2,TABLE1!$AN$4=TRUE),AND(CQ62=3,TABLE1!$AN$5=TRUE),AND(CQ62=4,TABLE1!$AQ$3=TRUE),AND(CQ62=5,TABLE1!$AQ$4=TRUE),AND(CQ62=6,TABLE1!$AQ$5=TRUE),AND(CQ62=7,TABLE1!$AT$3=TRUE),AND(CQ62=8,TABLE1!$AT$4=TRUE),AND(CQ62=9,TABLE1!$AT$5=TRUE),AND(CQ62=10,TABLE1!$AW$3=TRUE),AND(CQ62=11,TABLE1!$AW$4=TRUE),AND(CQ62=12,TABLE1!$AW$5=TRUE)),1,0)=1),1,0)=1,CR62=1,CT62=1),1,0)","v":0},{"$f":"IF(AND(OR(F62=TABLE1!$D$5,TABLE1!$D$5=\"کل بخشها\"),F62<>\"\"),1,0)","v":0}]
[null,null,null,null,null,null,null,null,null,null,null,null,null,null,null,null,null,null,null,null,null,null,null,null,null,null,null,null,null,null,null,null,null,null,null,null,null,null,null,null,null,null,null,null,null,null,null,null,null,null,null,null,null,null,null,null,null,null,null,null,null,null,null,null,null,null,null,null,null,null,null,null,null,null,null,null,null,null,null,null,null,null,null,null,null,null,null,null,null,null,null,null,null,null,"",{"$f":"IF(LEFT(C63,2)=TABLE1!$F$1,1,0)","v":0},{"$f":"IF(AND(IF(AND(IF(OR(AND(CQ63=1,TABLE1!$AN$3=TRUE),AND(CQ63=2,TABLE1!$AN$4=TRUE),AND(CQ63=3,TABLE1!$AN$5=TRUE),AND(CQ63=4,TABLE1!$AQ$3=TRUE),AND(CQ63=5,TABLE1!$AQ$4=TRUE),AND(CQ63=6,TABLE1!$AQ$5=TRUE),AND(CQ63=7,TABLE1!$AT$3=TRUE),AND(CQ63=8,TABLE1!$AT$4=TRUE),AND(CQ63=9,TABLE1!$AT$5=TRUE),AND(CQ63=10,TABLE1!$AW$3=TRUE),AND(CQ63=11,TABLE1!$AW$4=TRUE),AND(CQ63=12,TABLE1!$AW$5=TRUE)),1,0)=1),1,0)=1,CR63=1,CT63=1),1,0)","v":0},{"$f":"IF(AND(OR(F63=TABLE1!$D$5,TABLE1!$D$5=\"کل بخشها\"),F63<>\"\"),1,0)","v":0}]
[null,null,null,null,null,null,null,null,null,null,null,null,null,null,null,null,null,null,null,null,null,null,null,null,null,null,null,null,null,null,null,null,null,null,null,null,null,null,null,null,null,null,null,null,null,null,null,null,null,null,null,null,null,null,null,null,null,null,null,null,null,null,null,null,null,null,null,null,null,null,null,null,null,null,null,null,null,null,null,null,null,null,null,null,null,null,null,null,null,null,null,null,null,null,"",{"$f":"IF(LEFT(C64,2)=TABLE1!$F$1,1,0)","v":0},{"$f":"IF(AND(IF(AND(IF(OR(AND(CQ64=1,TABLE1!$AN$3=TRUE),AND(CQ64=2,TABLE1!$AN$4=TRUE),AND(CQ64=3,TABLE1!$AN$5=TRUE),AND(CQ64=4,TABLE1!$AQ$3=TRUE),AND(CQ64=5,TABLE1!$AQ$4=TRUE),AND(CQ64=6,TABLE1!$AQ$5=TRUE),AND(CQ64=7,TABLE1!$AT$3=TRUE),AND(CQ64=8,TABLE1!$AT$4=TRUE),AND(CQ64=9,TABLE1!$AT$5=TRUE),AND(CQ64=10,TABLE1!$AW$3=TRUE),AND(CQ64=11,TABLE1!$AW$4=TRUE),AND(CQ64=12,TABLE1!$AW$5=TRUE)),1,0)=1),1,0)=1,CR64=1,CT64=1),1,0)","v":0},{"$f":"IF(AND(OR(F64=TABLE1!$D$5,TABLE1!$D$5=\"کل بخشها\"),F64<>\"\"),1,0)","v":0}]
[null,null,null,null,null,null,null,null,null,null,null,null,null,null,null,null,null,null,null,null,null,null,null,null,null,null,null,null,null,null,null,null,null,null,null,null,null,null,null,null,null,null,null,null,null,null,null,null,null,null,null,null,null,null,null,null,null,null,null,null,null,null,null,null,null,null,null,null,null,null,null,null,null,null,null,null,null,null,null,null,null,null,null,null,null,null,null,null,null,null,null,null,null,null,"",{"$f":"IF(LEFT(C65,2)=TABLE1!$F$1,1,0)","v":0},{"$f":"IF(AND(IF(AND(IF(OR(AND(CQ65=1,TABLE1!$AN$3=TRUE),AND(CQ65=2,TABLE1!$AN$4=TRUE),AND(CQ65=3,TABLE1!$AN$5=TRUE),AND(CQ65=4,TABLE1!$AQ$3=TRUE),AND(CQ65=5,TABLE1!$AQ$4=TRUE),AND(CQ65=6,TABLE1!$AQ$5=TRUE),AND(CQ65=7,TABLE1!$AT$3=TRUE),AND(CQ65=8,TABLE1!$AT$4=TRUE),AND(CQ65=9,TABLE1!$AT$5=TRUE),AND(CQ65=10,TABLE1!$AW$3=TRUE),AND(CQ65=11,TABLE1!$AW$4=TRUE),AND(CQ65=12,TABLE1!$AW$5=TRUE)),1,0)=1),1,0)=1,CR65=1,CT65=1),1,0)","v":0},{"$f":"IF(AND(OR(F65=TABLE1!$D$5,TABLE1!$D$5=\"کل بخشها\"),F65<>\"\"),1,0)","v":0}]
[null,null,null,null,null,null,null,null,null,null,null,null,null,null,null,null,null,null,null,null,null,null,null,null,null,null,null,null,null,null,null,null,null,null,null,null,null,null,null,null,null,null,null,null,null,null,null,null,null,null,null,null,null,null,null,null,null,null,null,null,null,null,null,null,null,null,null,null,null,null,null,null,null,null,null,null,null,null,null,null,null,null,null,null,null,null,null,null,null,null,null,null,null,null,"",{"$f":"IF(LEFT(C66,2)=TABLE1!$F$1,1,0)","v":0},{"$f":"IF(AND(IF(AND(IF(OR(AND(CQ66=1,TABLE1!$AN$3=TRUE),AND(CQ66=2,TABLE1!$AN$4=TRUE),AND(CQ66=3,TABLE1!$AN$5=TRUE),AND(CQ66=4,TABLE1!$AQ$3=TRUE),AND(CQ66=5,TABLE1!$AQ$4=TRUE),AND(CQ66=6,TABLE1!$AQ$5=TRUE),AND(CQ66=7,TABLE1!$AT$3=TRUE),AND(CQ66=8,TABLE1!$AT$4=TRUE),AND(CQ66=9,TABLE1!$AT$5=TRUE),AND(CQ66=10,TABLE1!$AW$3=TRUE),AND(CQ66=11,TABLE1!$AW$4=TRUE),AND(CQ66=12,TABLE1!$AW$5=TRUE)),1,0)=1),1,0)=1,CR66=1,CT66=1),1,0)","v":0},{"$f":"IF(AND(OR(F66=TABLE1!$D$5,TABLE1!$D$5=\"کل بخشها\"),F66<>\"\"),1,0)","v":0}]
[null,null,null,null,null,null,null,null,null,null,null,null,null,null,null,null,null,null,null,null,null,null,null,null,null,null,null,null,null,null,null,null,null,null,null,null,null,null,null,null,null,null,null,null,null,null,null,null,null,null,null,null,null,null,null,null,null,null,null,null,null,null,null,null,null,null,null,null,null,null,null,null,null,null,null,null,null,null,null,null,null,null,null,null,null,null,null,null,null,null,null,null,null,null,{"$f":"IFERROR(VALUE(MID(C67,3,2)),\"\")","v":""},{"$f":"IF(LEFT(C67,2)=TABLE1!$F$1,1,0)","v":0},{"$f":"IF(AND(IF(AND(IF(OR(AND(CQ67=1,TABLE1!$AN$3=TRUE),AND(CQ67=2,TABLE1!$AN$4=TRUE),AND(CQ67=3,TABLE1!$AN$5=TRUE),AND(CQ67=4,TABLE1!$AQ$3=TRUE),AND(CQ67=5,TABLE1!$AQ$4=TRUE),AND(CQ67=6,TABLE1!$AQ$5=TRUE),AND(CQ67=7,TABLE1!$AT$3=TRUE),AND(CQ67=8,TABLE1!$AT$4=TRUE),AND(CQ67=9,TABLE1!$AT$5=TRUE),AND(CQ67=10,TABLE1!$AW$3=TRUE),AND(CQ67=11,TABLE1!$AW$4=TRUE),AND(CQ67=12,TABLE1!$AW$5=TRUE)),1,0)=1),1,0)=1,CR67=1,CT67=1),1,0)","v":0},{"$f":"IF(AND(OR(F67=TABLE1!$D$5,TABLE1!$D$5=\"کل بخشها\"),F67<>\"\"),1,0)","v":0}]
[null,null,null,null,null,null,null,null,null,null,null,null,null,null,null,null,null,null,null,null,null,null,null,null,null,null,null,null,null,null,null,null,null,null,null,null,null,null,null,null,null,null,null,null,null,null,null,null,null,null,null,null,null,null,null,null,null,null,null,null,null,null,null,null,null,null,null,null,null,null,null,null,null,null,null,null,null,null,null,null,null,null,null,null,null,null,null,null,null,null,null,null,null,null,"",{"$f":"IF(LEFT(C68,2)=TABLE1!$F$1,1,0)","v":0},{"$f":"IF(AND(IF(AND(IF(OR(AND(CQ68=1,TABLE1!$AN$3=TRUE),AND(CQ68=2,TABLE1!$AN$4=TRUE),AND(CQ68=3,TABLE1!$AN$5=TRUE),AND(CQ68=4,TABLE1!$AQ$3=TRUE),AND(CQ68=5,TABLE1!$AQ$4=TRUE),AND(CQ68=6,TABLE1!$AQ$5=TRUE),AND(CQ68=7,TABLE1!$AT$3=TRUE),AND(CQ68=8,TABLE1!$AT$4=TRUE),AND(CQ68=9,TABLE1!$AT$5=TRUE),AND(CQ68=10,TABLE1!$AW$3=TRUE),AND(CQ68=11,TABLE1!$AW$4=TRUE),AND(CQ68=12,TABLE1!$AW$5=TRUE)),1,0)=1),1,0)=1,CR68=1,CT68=1),1,0)","v":0},{"$f":"IF(AND(OR(F68=TABLE1!$D$5,TABLE1!$D$5=\"کل بخشها\"),F68<>\"\"),1,0)","v":0}]
[null,null,null,null,null,null,null,null,null,null,null,null,null,null,null,null,null,null,null,null,null,null,null,null,null,null,null,null,null,null,null,null,null,null,null,null,null,null,null,null,null,null,null,null,null,null,null,null,null,null,null,null,null,null,null,null,null,null,null,null,null,null,null,null,null,null,null,null,null,null,null,null,null,null,null,null,null,null,null,null,null,null,null,null,null,null,null,null,null,null,null,null,null,null,"",{"$f":"IF(LEFT(C69,2)=TABLE1!$F$1,1,0)","v":0},{"$f":"IF(AND(IF(AND(IF(OR(AND(CQ69=1,TABLE1!$AN$3=TRUE),AND(CQ69=2,TABLE1!$AN$4=TRUE),AND(CQ69=3,TABLE1!$AN$5=TRUE),AND(CQ69=4,TABLE1!$AQ$3=TRUE),AND(CQ69=5,TABLE1!$AQ$4=TRUE),AND(CQ69=6,TABLE1!$AQ$5=TRUE),AND(CQ69=7,TABLE1!$AT$3=TRUE),AND(CQ69=8,TABLE1!$AT$4=TRUE),AND(CQ69=9,TABLE1!$AT$5=TRUE),AND(CQ69=10,TABLE1!$AW$3=TRUE),AND(CQ69=11,TABLE1!$AW$4=TRUE),AND(CQ69=12,TABLE1!$AW$5=TRUE)),1,0)=1),1,0)=1,CR69=1,CT69=1),1,0)","v":0},{"$f":"IF(AND(OR(F69=TABLE1!$D$5,TABLE1!$D$5=\"کل بخشها\"),F69<>\"\"),1,0)","v":0}]
[null,null,null,null,null,null,null,null,null,null,null,null,null,null,null,null,null,null,null,null,null,null,null,null,null,null,null,null,null,null,null,null,null,null,null,null,null,null,null,null,null,null,null,null,null,null,null,null,null,null,null,null,null,null,null,null,null,null,null,null,null,null,null,null,null,null,null,null,null,null,null,null,null,null,null,null,null,null,null,null,null,null,null,null,null,null,null,null,null,null,null,null,null,null,"",{"$f":"IF(LEFT(C70,2)=TABLE1!$F$1,1,0)","v":0},{"$f":"IF(AND(IF(AND(IF(OR(AND(CQ70=1,TABLE1!$AN$3=TRUE),AND(CQ70=2,TABLE1!$AN$4=TRUE),AND(CQ70=3,TABLE1!$AN$5=TRUE),AND(CQ70=4,TABLE1!$AQ$3=TRUE),AND(CQ70=5,TABLE1!$AQ$4=TRUE),AND(CQ70=6,TABLE1!$AQ$5=TRUE),AND(CQ70=7,TABLE1!$AT$3=TRUE),AND(CQ70=8,TABLE1!$AT$4=TRUE),AND(CQ70=9,TABLE1!$AT$5=TRUE),AND(CQ70=10,TABLE1!$AW$3=TRUE),AND(CQ70=11,TABLE1!$AW$4=TRUE),AND(CQ70=12,TABLE1!$AW$5=TRUE)),1,0)=1),1,0)=1,CR70=1,CT70=1),1,0)","v":0},{"$f":"IF(AND(OR(F70=TABLE1!$D$5,TABLE1!$D$5=\"کل بخشها\"),F70<>\"\"),1,0)","v":0}]
[null,null,null,null,null,null,null,null,null,null,null,null,null,null,null,null,null,null,null,null,null,null,null,null,null,null,null,null,null,null,null,null,null,null,null,null,null,null,null,null,null,null,null,null,null,null,null,null,null,null,null,null,null,null,null,null,null,null,null,null,null,null,null,null,null,null,null,null,null,null,null,null,null,null,null,null,null,null,null,null,null,null,null,null,null,null,null,null,null,null,null,null,null,null,"",{"$f":"IF(LEFT(C71,2)=TABLE1!$F$1,1,0)","v":0},{"$f":"IF(AND(IF(AND(IF(OR(AND(CQ71=1,TABLE1!$AN$3=TRUE),AND(CQ71=2,TABLE1!$AN$4=TRUE),AND(CQ71=3,TABLE1!$AN$5=TRUE),AND(CQ71=4,TABLE1!$AQ$3=TRUE),AND(CQ71=5,TABLE1!$AQ$4=TRUE),AND(CQ71=6,TABLE1!$AQ$5=TRUE),AND(CQ71=7,TABLE1!$AT$3=TRUE),AND(CQ71=8,TABLE1!$AT$4=TRUE),AND(CQ71=9,TABLE1!$AT$5=TRUE),AND(CQ71=10,TABLE1!$AW$3=TRUE),AND(CQ71=11,TABLE1!$AW$4=TRUE),AND(CQ71=12,TABLE1!$AW$5=TRUE)),1,0)=1),1,0)=1,CR71=1,CT71=1),1,0)","v":0},{"$f":"IF(AND(OR(F71=TABLE1!$D$5,TABLE1!$D$5=\"کل بخشها\"),F71<>\"\"),1,0)","v":0}]
[null,null,null,null,null,null,null,null,null,null,null,null,null,null,null,null,null,null,null,null,null,null,null,null,null,null,null,null,null,null,null,null,null,null,null,null,null,null,null,null,null,null,null,null,null,null,null,null,null,null,null,null,null,null,null,null,null,null,null,null,null,null,null,null,null,null,null,null,null,null,null,null,null,null,null,null,null,null,null,null,null,null,null,null,null,null,null,null,null,null,null,null,null,null,"",{"$f":"IF(LEFT(C72,2)=TABLE1!$F$1,1,0)","v":0},{"$f":"IF(AND(IF(AND(IF(OR(AND(CQ72=1,TABLE1!$AN$3=TRUE),AND(CQ72=2,TABLE1!$AN$4=TRUE),AND(CQ72=3,TABLE1!$AN$5=TRUE),AND(CQ72=4,TABLE1!$AQ$3=TRUE),AND(CQ72=5,TABLE1!$AQ$4=TRUE),AND(CQ72=6,TABLE1!$AQ$5=TRUE),AND(CQ72=7,TABLE1!$AT$3=TRUE),AND(CQ72=8,TABLE1!$AT$4=TRUE),AND(CQ72=9,TABLE1!$AT$5=TRUE),AND(CQ72=10,TABLE1!$AW$3=TRUE),AND(CQ72=11,TABLE1!$AW$4=TRUE),AND(CQ72=12,TABLE1!$AW$5=TRUE)),1,0)=1),1,0)=1,CR72=1,CT72=1),1,0)","v":0},{"$f":"IF(AND(OR(F72=TABLE1!$D$5,TABLE1!$D$5=\"کل بخشها\"),F72<>\"\"),1,0)","v":0}]
[null,null,null,null,null,null,null,null,null,null,null,null,null,null,null,null,null,null,null,null,null,null,null,null,null,null,null,null,null,null,null,null,null,null,null,null,null,null,null,null,null,null,null,null,null,null,null,null,null,null,null,null,null,null,null,null,null,null,null,null,null,null,null,null,null,null,null,null,null,null,null,null,null,null,null,null,null,null,null,null,null,null,null,null,null,null,null,null,null,null,null,null,null,null,"",{"$f":"IF(LEFT(C73,2)=TABLE1!$F$1,1,0)","v":0},{"$f":"IF(AND(IF(AND(IF(OR(AND(CQ73=1,TABLE1!$AN$3=TRUE),AND(CQ73=2,TABLE1!$AN$4=TRUE),AND(CQ73=3,TABLE1!$AN$5=TRUE),AND(CQ73=4,TABLE1!$AQ$3=TRUE),AND(CQ73=5,TABLE1!$AQ$4=TRUE),AND(CQ73=6,TABLE1!$AQ$5=TRUE),AND(CQ73=7,TABLE1!$AT$3=TRUE),AND(CQ73=8,TABLE1!$AT$4=TRUE),AND(CQ73=9,TABLE1!$AT$5=TRUE),AND(CQ73=10,TABLE1!$AW$3=TRUE),AND(CQ73=11,TABLE1!$AW$4=TRUE),AND(CQ73=12,TABLE1!$AW$5=TRUE)),1,0)=1),1,0)=1,CR73=1,CT73=1),1,0)","v":0},{"$f":"IF(AND(OR(F73=TABLE1!$D$5,TABLE1!$D$5=\"کل بخشها\"),F73<>\"\"),1,0)","v":0}]
[null,null,null,null,null,null,null,null,null,null,null,null,null,null,null,null,null,null,null,null,null,null,null,null,null,null,null,null,null,null,null,null,null,null,null,null,null,null,null,null,null,null,null,null,null,null,null,null,null,null,null,null,null,null,null,null,null,null,null,null,null,null,null,null,null,null,null,null,null,null,null,null,null,null,null,null,null,null,null,null,null,null,null,null,null,null,null,null,null,null,null,null,null,null,"",{"$f":"IF(LEFT(C74,2)=TABLE1!$F$1,1,0)","v":0},{"$f":"IF(AND(IF(AND(IF(OR(AND(CQ74=1,TABLE1!$AN$3=TRUE),AND(CQ74=2,TABLE1!$AN$4=TRUE),AND(CQ74=3,TABLE1!$AN$5=TRUE),AND(CQ74=4,TABLE1!$AQ$3=TRUE),AND(CQ74=5,TABLE1!$AQ$4=TRUE),AND(CQ74=6,TABLE1!$AQ$5=TRUE),AND(CQ74=7,TABLE1!$AT$3=TRUE),AND(CQ74=8,TABLE1!$AT$4=TRUE),AND(CQ74=9,TABLE1!$AT$5=TRUE),AND(CQ74=10,TABLE1!$AW$3=TRUE),AND(CQ74=11,TABLE1!$AW$4=TRUE),AND(CQ74=12,TABLE1!$AW$5=TRUE)),1,0)=1),1,0)=1,CR74=1,CT74=1),1,0)","v":0},{"$f":"IF(AND(OR(F74=TABLE1!$D$5,TABLE1!$D$5=\"کل بخشها\"),F74<>\"\"),1,0)","v":0}]
[null,null,null,null,null,null,null,null,null,null,null,null,null,null,null,null,null,null,null,null,null,null,null,null,null,null,null,null,null,null,null,null,null,null,null,null,null,null,null,null,null,null,null,null,null,null,null,null,null,null,null,null,null,null,null,null,null,null,null,null,null,null,null,null,null,null,null,null,null,null,null,null,null,null,null,null,null,null,null,null,null,null,null,null,null,null,null,null,null,null,null,null,null,null,"",{"$f":"IF(LEFT(C75,2)=TABLE1!$F$1,1,0)","v":0},{"$f":"IF(AND(IF(AND(IF(OR(AND(CQ75=1,TABLE1!$AN$3=TRUE),AND(CQ75=2,TABLE1!$AN$4=TRUE),AND(CQ75=3,TABLE1!$AN$5=TRUE),AND(CQ75=4,TABLE1!$AQ$3=TRUE),AND(CQ75=5,TABLE1!$AQ$4=TRUE),AND(CQ75=6,TABLE1!$AQ$5=TRUE),AND(CQ75=7,TABLE1!$AT$3=TRUE),AND(CQ75=8,TABLE1!$AT$4=TRUE),AND(CQ75=9,TABLE1!$AT$5=TRUE),AND(CQ75=10,TABLE1!$AW$3=TRUE),AND(CQ75=11,TABLE1!$AW$4=TRUE),AND(CQ75=12,TABLE1!$AW$5=TRUE)),1,0)=1),1,0)=1,CR75=1,CT75=1),1,0)","v":0},{"$f":"IF(AND(OR(F75=TABLE1!$D$5,TABLE1!$D$5=\"کل بخشها\"),F75<>\"\"),1,0)","v":0}]
[null,null,null,null,null,null,null,null,null,null,null,null,null,null,null,null,null,null,null,null,null,null,null,null,null,null,null,null,null,null,null,null,null,null,null,null,null,null,null,null,null,null,null,null,null,null,null,null,null,null,null,null,null,null,null,null,null,null,null,null,null,null,null,null,null,null,null,null,null,null,null,null,null,null,null,null,null,null,null,null,null,null,null,null,null,null,null,null,null,null,null,null,null,null,"",{"$f":"IF(LEFT(C76,2)=TABLE1!$F$1,1,0)","v":0},{"$f":"IF(AND(IF(AND(IF(OR(AND(CQ76=1,TABLE1!$AN$3=TRUE),AND(CQ76=2,TABLE1!$AN$4=TRUE),AND(CQ76=3,TABLE1!$AN$5=TRUE),AND(CQ76=4,TABLE1!$AQ$3=TRUE),AND(CQ76=5,TABLE1!$AQ$4=TRUE),AND(CQ76=6,TABLE1!$AQ$5=TRUE),AND(CQ76=7,TABLE1!$AT$3=TRUE),AND(CQ76=8,TABLE1!$AT$4=TRUE),AND(CQ76=9,TABLE1!$AT$5=TRUE),AND(CQ76=10,TABLE1!$AW$3=TRUE),AND(CQ76=11,TABLE1!$AW$4=TRUE),AND(CQ76=12,TABLE1!$AW$5=TRUE)),1,0)=1),1,0)=1,CR76=1,CT76=1),1,0)","v":0},{"$f":"IF(AND(OR(F76=TABLE1!$D$5,TABLE1!$D$5=\"کل بخشها\"),F76<>\"\"),1,0)","v":0}]
[null,null,null,null,null,null,null,null,null,null,null,null,null,null,null,null,null,null,null,null,null,null,null,null,null,null,null,null,null,null,null,null,null,null,null,null,null,null,null,null,null,null,null,null,null,null,null,null,null,null,null,null,null,null,null,null,null,null,null,null,null,null,null,null,null,null,null,null,null,null,null,null,null,null,null,null,null,null,null,null,null,null,null,null,null,null,null,null,null,null,null,null,null,null,"",{"$f":"IF(LEFT(C77,2)=TABLE1!$F$1,1,0)","v":0},{"$f":"IF(AND(IF(AND(IF(OR(AND(CQ77=1,TABLE1!$AN$3=TRUE),AND(CQ77=2,TABLE1!$AN$4=TRUE),AND(CQ77=3,TABLE1!$AN$5=TRUE),AND(CQ77=4,TABLE1!$AQ$3=TRUE),AND(CQ77=5,TABLE1!$AQ$4=TRUE),AND(CQ77=6,TABLE1!$AQ$5=TRUE),AND(CQ77=7,TABLE1!$AT$3=TRUE),AND(CQ77=8,TABLE1!$AT$4=TRUE),AND(CQ77=9,TABLE1!$AT$5=TRUE),AND(CQ77=10,TABLE1!$AW$3=TRUE),AND(CQ77=11,TABLE1!$AW$4=TRUE),AND(CQ77=12,TABLE1!$AW$5=TRUE)),1,0)=1),1,0)=1,CR77=1,CT77=1),1,0)","v":0},{"$f":"IF(AND(OR(F77=TABLE1!$D$5,TABLE1!$D$5=\"کل بخشها\"),F77<>\"\"),1,0)","v":0}]
[null,null,null,null,null,null,null,null,null,null,null,null,null,null,null,null,null,null,null,null,null,null,null,null,null,null,null,null,null,null,null,null,null,null,null,null,null,null,null,null,null,null,null,null,null,null,null,null,null,null,null,null,null,null,null,null,null,null,null,null,null,null,null,null,null,null,null,null,null,null,null,null,null,null,null,null,null,null,null,null,null,null,null,null,null,null,null,null,null,null,null,null,null,null,"",{"$f":"IF(LEFT(C78,2)=TABLE1!$F$1,1,0)","v":0},{"$f":"IF(AND(IF(AND(IF(OR(AND(CQ78=1,TABLE1!$AN$3=TRUE),AND(CQ78=2,TABLE1!$AN$4=TRUE),AND(CQ78=3,TABLE1!$AN$5=TRUE),AND(CQ78=4,TABLE1!$AQ$3=TRUE),AND(CQ78=5,TABLE1!$AQ$4=TRUE),AND(CQ78=6,TABLE1!$AQ$5=TRUE),AND(CQ78=7,TABLE1!$AT$3=TRUE),AND(CQ78=8,TABLE1!$AT$4=TRUE),AND(CQ78=9,TABLE1!$AT$5=TRUE),AND(CQ78=10,TABLE1!$AW$3=TRUE),AND(CQ78=11,TABLE1!$AW$4=TRUE),AND(CQ78=12,TABLE1!$AW$5=TRUE)),1,0)=1),1,0)=1,CR78=1,CT78=1),1,0)","v":0},{"$f":"IF(AND(OR(F78=TABLE1!$D$5,TABLE1!$D$5=\"کل بخشها\"),F78<>\"\"),1,0)","v":0}]
[null,null,null,null,null,null,null,null,null,null,null,null,null,null,null,null,null,null,null,null,null,null,null,null,null,null,null,null,null,null,null,null,null,null,null,null,null,null,null,null,null,null,null,null,null,null,null,null,null,null,null,null,null,null,null,null,null,null,null,null,null,null,null,null,null,null,null,null,null,null,null,null,null,null,null,null,null,null,null,null,null,null,null,null,null,null,null,null,null,null,null,null,null,null,"",{"$f":"IF(LEFT(C79,2)=TABLE1!$F$1,1,0)","v":0},{"$f":"IF(AND(IF(AND(IF(OR(AND(CQ79=1,TABLE1!$AN$3=TRUE),AND(CQ79=2,TABLE1!$AN$4=TRUE),AND(CQ79=3,TABLE1!$AN$5=TRUE),AND(CQ79=4,TABLE1!$AQ$3=TRUE),AND(CQ79=5,TABLE1!$AQ$4=TRUE),AND(CQ79=6,TABLE1!$AQ$5=TRUE),AND(CQ79=7,TABLE1!$AT$3=TRUE),AND(CQ79=8,TABLE1!$AT$4=TRUE),AND(CQ79=9,TABLE1!$AT$5=TRUE),AND(CQ79=10,TABLE1!$AW$3=TRUE),AND(CQ79=11,TABLE1!$AW$4=TRUE),AND(CQ79=12,TABLE1!$AW$5=TRUE)),1,0)=1),1,0)=1,CR79=1,CT79=1),1,0)","v":0},{"$f":"IF(AND(OR(F79=TABLE1!$D$5,TABLE1!$D$5=\"کل بخشها\"),F79<>\"\"),1,0)","v":0}]
[null,null,null,null,null,null,null,null,null,null,null,null,null,null,null,null,null,null,null,null,null,null,null,null,null,null,null,null,null,null,null,null,null,null,null,null,null,null,null,null,null,null,null,null,null,null,null,null,null,null,null,null,null,null,null,null,null,null,null,null,null,null,null,null,null,null,null,null,null,null,null,null,null,null,null,null,null,null,null,null,null,null,null,null,null,null,null,null,null,null,null,null,null,null,"",{"$f":"IF(LEFT(C80,2)=TABLE1!$F$1,1,0)","v":0},{"$f":"IF(AND(IF(AND(IF(OR(AND(CQ80=1,TABLE1!$AN$3=TRUE),AND(CQ80=2,TABLE1!$AN$4=TRUE),AND(CQ80=3,TABLE1!$AN$5=TRUE),AND(CQ80=4,TABLE1!$AQ$3=TRUE),AND(CQ80=5,TABLE1!$AQ$4=TRUE),AND(CQ80=6,TABLE1!$AQ$5=TRUE),AND(CQ80=7,TABLE1!$AT$3=TRUE),AND(CQ80=8,TABLE1!$AT$4=TRUE),AND(CQ80=9,TABLE1!$AT$5=TRUE),AND(CQ80=10,TABLE1!$AW$3=TRUE),AND(CQ80=11,TABLE1!$AW$4=TRUE),AND(CQ80=12,TABLE1!$AW$5=TRUE)),1,0)=1),1,0)=1,CR80=1,CT80=1),1,0)","v":0},{"$f":"IF(AND(OR(F80=TABLE1!$D$5,TABLE1!$D$5=\"کل بخشها\"),F80<>\"\"),1,0)","v":0}]
[null,null,null,null,null,null,null,null,null,null,null,null,null,null,null,null,null,null,null,null,null,null,null,null,null,null,null,null,null,null,null,null,null,null,null,null,null,null,null,null,null,null,null,null,null,null,null,null,null,null,null,null,null,null,null,null,null,null,null,null,null,null,null,null,null,null,null,null,null,null,null,null,null,null,null,null,null,null,null,null,null,null,null,null,null,null,null,null,null,null,null,null,null,null,"",{"$f":"IF(LEFT(C81,2)=TABLE1!$F$1,1,0)","v":0},{"$f":"IF(AND(IF(AND(IF(OR(AND(CQ81=1,TABLE1!$AN$3=TRUE),AND(CQ81=2,TABLE1!$AN$4=TRUE),AND(CQ81=3,TABLE1!$AN$5=TRUE),AND(CQ81=4,TABLE1!$AQ$3=TRUE),AND(CQ81=5,TABLE1!$AQ$4=TRUE),AND(CQ81=6,TABLE1!$AQ$5=TRUE),AND(CQ81=7,TABLE1!$AT$3=TRUE),AND(CQ81=8,TABLE1!$AT$4=TRUE),AND(CQ81=9,TABLE1!$AT$5=TRUE),AND(CQ81=10,TABLE1!$AW$3=TRUE),AND(CQ81=11,TABLE1!$AW$4=TRUE),AND(CQ81=12,TABLE1!$AW$5=TRUE)),1,0)=1),1,0)=1,CR81=1,CT81=1),1,0)","v":0},{"$f":"IF(AND(OR(F81=TABLE1!$D$5,TABLE1!$D$5=\"کل بخشها\"),F81<>\"\"),1,0)","v":0}]
[null,null,null,null,null,null,null,null,null,null,null,null,null,null,null,null,null,null,null,null,null,null,null,null,null,null,null,null,null,null,null,null,null,null,null,null,null,null,null,null,null,null,null,null,null,null,null,null,null,null,null,null,null,null,null,null,null,null,null,null,null,null,null,null,null,null,null,null,null,null,null,null,null,null,null,null,null,null,null,null,null,null,null,null,null,null,null,null,null,null,null,null,null,null,"",{"$f":"IF(LEFT(C82,2)=TABLE1!$F$1,1,0)","v":0},{"$f":"IF(AND(IF(AND(IF(OR(AND(CQ82=1,TABLE1!$AN$3=TRUE),AND(CQ82=2,TABLE1!$AN$4=TRUE),AND(CQ82=3,TABLE1!$AN$5=TRUE),AND(CQ82=4,TABLE1!$AQ$3=TRUE),AND(CQ82=5,TABLE1!$AQ$4=TRUE),AND(CQ82=6,TABLE1!$AQ$5=TRUE),AND(CQ82=7,TABLE1!$AT$3=TRUE),AND(CQ82=8,TABLE1!$AT$4=TRUE),AND(CQ82=9,TABLE1!$AT$5=TRUE),AND(CQ82=10,TABLE1!$AW$3=TRUE),AND(CQ82=11,TABLE1!$AW$4=TRUE),AND(CQ82=12,TABLE1!$AW$5=TRUE)),1,0)=1),1,0)=1,CR82=1,CT82=1),1,0)","v":0},{"$f":"IF(AND(OR(F82=TABLE1!$D$5,TABLE1!$D$5=\"کل بخشها\"),F82<>\"\"),1,0)","v":0}]
[null,null,null,null,null,null,null,null,null,null,null,null,null,null,null,null,null,null,null,null,null,null,null,null,null,null,null,null,null,null,null,null,null,null,null,null,null,null,null,null,null,null,null,null,null,null,null,null,null,null,null,null,null,null,null,null,null,null,null,null,null,null,null,null,null,null,null,null,null,null,null,null,null,null,null,null,null,null,null,null,null,null,null,null,null,null,null,null,null,null,null,null,null,null,"",{"$f":"IF(LEFT(C83,2)=TABLE1!$F$1,1,0)","v":0},{"$f":"IF(AND(IF(AND(IF(OR(AND(CQ83=1,TABLE1!$AN$3=TRUE),AND(CQ83=2,TABLE1!$AN$4=TRUE),AND(CQ83=3,TABLE1!$AN$5=TRUE),AND(CQ83=4,TABLE1!$AQ$3=TRUE),AND(CQ83=5,TABLE1!$AQ$4=TRUE),AND(CQ83=6,TABLE1!$AQ$5=TRUE),AND(CQ83=7,TABLE1!$AT$3=TRUE),AND(CQ83=8,TABLE1!$AT$4=TRUE),AND(CQ83=9,TABLE1!$AT$5=TRUE),AND(CQ83=10,TABLE1!$AW$3=TRUE),AND(CQ83=11,TABLE1!$AW$4=TRUE),AND(CQ83=12,TABLE1!$AW$5=TRUE)),1,0)=1),1,0)=1,CR83=1,CT83=1),1,0)","v":0},{"$f":"IF(AND(OR(F83=TABLE1!$D$5,TABLE1!$D$5=\"کل بخشها\"),F83<>\"\"),1,0)","v":0}]
[null,null,null,null,null,null,null,null,null,null,null,null,null,null,null,null,null,null,null,null,null,null,null,null,null,null,null,null,null,null,null,null,null,null,null,null,null,null,null,null,null,null,null,null,null,null,null,null,null,null,null,null,null,null,null,null,null,null,null,null,null,null,null,null,null,null,null,null,null,null,null,null,null,null,null,null,null,null,null,null,null,null,null,null,null,null,null,null,null,null,null,null,null,null,"",{"$f":"IF(LEFT(C84,2)=TABLE1!$F$1,1,0)","v":0},{"$f":"IF(AND(IF(AND(IF(OR(AND(CQ84=1,TABLE1!$AN$3=TRUE),AND(CQ84=2,TABLE1!$AN$4=TRUE),AND(CQ84=3,TABLE1!$AN$5=TRUE),AND(CQ84=4,TABLE1!$AQ$3=TRUE),AND(CQ84=5,TABLE1!$AQ$4=TRUE),AND(CQ84=6,TABLE1!$AQ$5=TRUE),AND(CQ84=7,TABLE1!$AT$3=TRUE),AND(CQ84=8,TABLE1!$AT$4=TRUE),AND(CQ84=9,TABLE1!$AT$5=TRUE),AND(CQ84=10,TABLE1!$AW$3=TRUE),AND(CQ84=11,TABLE1!$AW$4=TRUE),AND(CQ84=12,TABLE1!$AW$5=TRUE)),1,0)=1),1,0)=1,CR84=1,CT84=1),1,0)","v":0},{"$f":"IF(AND(OR(F84=TABLE1!$D$5,TABLE1!$D$5=\"کل بخشها\"),F84<>\"\"),1,0)","v":0}]
[null,null,null,null,null,null,null,null,null,null,null,null,null,null,null,null,null,null,null,null,null,null,null,null,null,null,null,null,null,null,null,null,null,null,null,null,null,null,null,null,null,null,null,null,null,null,null,null,null,null,null,null,null,null,null,null,null,null,null,null,null,null,null,null,null,null,null,null,null,null,null,null,null,null,null,null,null,null,null,null,null,null,null,null,null,null,null,null,null,null,null,null,null,null,"",{"$f":"IF(LEFT(C85,2)=TABLE1!$F$1,1,0)","v":0},{"$f":"IF(AND(IF(AND(IF(OR(AND(CQ85=1,TABLE1!$AN$3=TRUE),AND(CQ85=2,TABLE1!$AN$4=TRUE),AND(CQ85=3,TABLE1!$AN$5=TRUE),AND(CQ85=4,TABLE1!$AQ$3=TRUE),AND(CQ85=5,TABLE1!$AQ$4=TRUE),AND(CQ85=6,TABLE1!$AQ$5=TRUE),AND(CQ85=7,TABLE1!$AT$3=TRUE),AND(CQ85=8,TABLE1!$AT$4=TRUE),AND(CQ85=9,TABLE1!$AT$5=TRUE),AND(CQ85=10,TABLE1!$AW$3=TRUE),AND(CQ85=11,TABLE1!$AW$4=TRUE),AND(CQ85=12,TABLE1!$AW$5=TRUE)),1,0)=1),1,0)=1,CR85=1,CT85=1),1,0)","v":0},{"$f":"IF(AND(OR(F85=TABLE1!$D$5,TABLE1!$D$5=\"کل بخشها\"),F85<>\"\"),1,0)","v":0}]
[null,null,null,null,null,null,null,null,null,null,null,null,null,null,null,null,null,null,null,null,null,null,null,null,null,null,null,null,null,null,null,null,null,null,null,null,null,null,null,null,null,null,null,null,null,null,null,null,null,null,null,null,null,null,null,null,null,null,null,null,null,null,null,null,null,null,null,null,null,null,null,null,null,null,null,null,null,null,null,null,null,null,null,null,null,null,null,null,null,null,null,null,null,null,"",{"$f":"IF(LEFT(C86,2)=TABLE1!$F$1,1,0)","v":0},{"$f":"IF(AND(IF(AND(IF(OR(AND(CQ86=1,TABLE1!$AN$3=TRUE),AND(CQ86=2,TABLE1!$AN$4=TRUE),AND(CQ86=3,TABLE1!$AN$5=TRUE),AND(CQ86=4,TABLE1!$AQ$3=TRUE),AND(CQ86=5,TABLE1!$AQ$4=TRUE),AND(CQ86=6,TABLE1!$AQ$5=TRUE),AND(CQ86=7,TABLE1!$AT$3=TRUE),AND(CQ86=8,TABLE1!$AT$4=TRUE),AND(CQ86=9,TABLE1!$AT$5=TRUE),AND(CQ86=10,TABLE1!$AW$3=TRUE),AND(CQ86=11,TABLE1!$AW$4=TRUE),AND(CQ86=12,TABLE1!$AW$5=TRUE)),1,0)=1),1,0)=1,CR86=1,CT86=1),1,0)","v":0},{"$f":"IF(AND(OR(F86=TABLE1!$D$5,TABLE1!$D$5=\"کل بخشها\"),F86<>\"\"),1,0)","v":0}]
[null,null,null,null,null,null,null,null,null,null,null,null,null,null,null,null,null,null,null,null,null,null,null,null,null,null,null,null,null,null,null,null,null,null,null,null,null,null,null,null,null,null,null,null,null,null,null,null,null,null,null,null,null,null,null,null,null,null,null,null,null,null,null,null,null,null,null,null,null,null,null,null,null,null,null,null,null,null,null,null,null,null,null,null,null,null,null,null,null,null,null,null,null,null,"",{"$f":"IF(LEFT(C87,2)=TABLE1!$F$1,1,0)","v":0},{"$f":"IF(AND(IF(AND(IF(OR(AND(CQ87=1,TABLE1!$AN$3=TRUE),AND(CQ87=2,TABLE1!$AN$4=TRUE),AND(CQ87=3,TABLE1!$AN$5=TRUE),AND(CQ87=4,TABLE1!$AQ$3=TRUE),AND(CQ87=5,TABLE1!$AQ$4=TRUE),AND(CQ87=6,TABLE1!$AQ$5=TRUE),AND(CQ87=7,TABLE1!$AT$3=TRUE),AND(CQ87=8,TABLE1!$AT$4=TRUE),AND(CQ87=9,TABLE1!$AT$5=TRUE),AND(CQ87=10,TABLE1!$AW$3=TRUE),AND(CQ87=11,TABLE1!$AW$4=TRUE),AND(CQ87=12,TABLE1!$AW$5=TRUE)),1,0)=1),1,0)=1,CR87=1,CT87=1),1,0)","v":0},{"$f":"IF(AND(OR(F87=TABLE1!$D$5,TABLE1!$D$5=\"کل بخشها\"),F87<>\"\"),1,0)","v":0}]
[null,null,null,null,null,null,null,null,null,null,null,null,null,null,null,null,null,null,null,null,null,null,null,null,null,null,null,null,null,null,null,null,null,null,null,null,null,null,null,null,null,null,null,null,null,null,null,null,null,null,null,null,null,null,null,null,null,null,null,null,null,null,null,null,null,null,null,null,null,null,null,null,null,null,null,null,null,null,null,null,null,null,null,null,null,null,null,null,null,null,null,null,null,null,"",{"$f":"IF(LEFT(C88,2)=TABLE1!$F$1,1,0)","v":0},{"$f":"IF(AND(IF(AND(IF(OR(AND(CQ88=1,TABLE1!$AN$3=TRUE),AND(CQ88=2,TABLE1!$AN$4=TRUE),AND(CQ88=3,TABLE1!$AN$5=TRUE),AND(CQ88=4,TABLE1!$AQ$3=TRUE),AND(CQ88=5,TABLE1!$AQ$4=TRUE),AND(CQ88=6,TABLE1!$AQ$5=TRUE),AND(CQ88=7,TABLE1!$AT$3=TRUE),AND(CQ88=8,TABLE1!$AT$4=TRUE),AND(CQ88=9,TABLE1!$AT$5=TRUE),AND(CQ88=10,TABLE1!$AW$3=TRUE),AND(CQ88=11,TABLE1!$AW$4=TRUE),AND(CQ88=12,TABLE1!$AW$5=TRUE)),1,0)=1),1,0)=1,CR88=1,CT88=1),1,0)","v":0},{"$f":"IF(AND(OR(F88=TABLE1!$D$5,TABLE1!$D$5=\"کل بخشها\"),F88<>\"\"),1,0)","v":0}]
[null,null,null,null,null,null,null,null,null,null,null,null,null,null,null,null,null,null,null,null,null,null,null,null,null,null,null,null,null,null,null,null,null,null,null,null,null,null,null,null,null,null,null,null,null,null,null,null,null,null,null,null,null,null,null,null,null,null,null,null,null,null,null,null,null,null,null,null,null,null,null,null,null,null,null,null,null,null,null,null,null,null,null,null,null,null,null,null,null,null,null,null,null,null,"",{"$f":"IF(LEFT(C89,2)=TABLE1!$F$1,1,0)","v":0},{"$f":"IF(AND(IF(AND(IF(OR(AND(CQ89=1,TABLE1!$AN$3=TRUE),AND(CQ89=2,TABLE1!$AN$4=TRUE),AND(CQ89=3,TABLE1!$AN$5=TRUE),AND(CQ89=4,TABLE1!$AQ$3=TRUE),AND(CQ89=5,TABLE1!$AQ$4=TRUE),AND(CQ89=6,TABLE1!$AQ$5=TRUE),AND(CQ89=7,TABLE1!$AT$3=TRUE),AND(CQ89=8,TABLE1!$AT$4=TRUE),AND(CQ89=9,TABLE1!$AT$5=TRUE),AND(CQ89=10,TABLE1!$AW$3=TRUE),AND(CQ89=11,TABLE1!$AW$4=TRUE),AND(CQ89=12,TABLE1!$AW$5=TRUE)),1,0)=1),1,0)=1,CR89=1,CT89=1),1,0)","v":0},{"$f":"IF(AND(OR(F89=TABLE1!$D$5,TABLE1!$D$5=\"کل بخشها\"),F89<>\"\"),1,0)","v":0}]
[null,null,null,null,null,null,null,null,null,null,null,null,null,null,null,null,null,null,null,null,null,null,null,null,null,null,null,null,null,null,null,null,null,null,null,null,null,null,null,null,null,null,null,null,null,null,null,null,null,null,null,null,null,null,null,null,null,null,null,null,null,null,null,null,null,null,null,null,null,null,null,null,null,null,null,null,null,null,null,null,null,null,null,null,null,null,null,null,null,null,null,null,null,null,"",{"$f":"IF(LEFT(C90,2)=TABLE1!$F$1,1,0)","v":0},{"$f":"IF(AND(IF(AND(IF(OR(AND(CQ90=1,TABLE1!$AN$3=TRUE),AND(CQ90=2,TABLE1!$AN$4=TRUE),AND(CQ90=3,TABLE1!$AN$5=TRUE),AND(CQ90=4,TABLE1!$AQ$3=TRUE),AND(CQ90=5,TABLE1!$AQ$4=TRUE),AND(CQ90=6,TABLE1!$AQ$5=TRUE),AND(CQ90=7,TABLE1!$AT$3=TRUE),AND(CQ90=8,TABLE1!$AT$4=TRUE),AND(CQ90=9,TABLE1!$AT$5=TRUE),AND(CQ90=10,TABLE1!$AW$3=TRUE),AND(CQ90=11,TABLE1!$AW$4=TRUE),AND(CQ90=12,TABLE1!$AW$5=TRUE)),1,0)=1),1,0)=1,CR90=1,CT90=1),1,0)","v":0},{"$f":"IF(AND(OR(F90=TABLE1!$D$5,TABLE1!$D$5=\"کل بخشها\"),F90<>\"\"),1,0)","v":0}]
[null,null,null,null,null,null,null,null,null,null,null,null,null,null,null,null,null,null,null,null,null,null,null,null,null,null,null,null,null,null,null,null,null,null,null,null,null,null,null,null,null,null,null,null,null,null,null,null,null,null,null,null,null,null,null,null,null,null,null,null,null,null,null,null,null,null,null,null,null,null,null,null,null,null,null,null,null,null,null,null,null,null,null,null,null,null,null,null,null,null,null,null,null,null,"",{"$f":"IF(LEFT(C91,2)=TABLE1!$F$1,1,0)","v":0},{"$f":"IF(AND(IF(AND(IF(OR(AND(CQ91=1,TABLE1!$AN$3=TRUE),AND(CQ91=2,TABLE1!$AN$4=TRUE),AND(CQ91=3,TABLE1!$AN$5=TRUE),AND(CQ91=4,TABLE1!$AQ$3=TRUE),AND(CQ91=5,TABLE1!$AQ$4=TRUE),AND(CQ91=6,TABLE1!$AQ$5=TRUE),AND(CQ91=7,TABLE1!$AT$3=TRUE),AND(CQ91=8,TABLE1!$AT$4=TRUE),AND(CQ91=9,TABLE1!$AT$5=TRUE),AND(CQ91=10,TABLE1!$AW$3=TRUE),AND(CQ91=11,TABLE1!$AW$4=TRUE),AND(CQ91=12,TABLE1!$AW$5=TRUE)),1,0)=1),1,0)=1,CR91=1,CT91=1),1,0)","v":0},{"$f":"IF(AND(OR(F91=TABLE1!$D$5,TABLE1!$D$5=\"کل بخشها\"),F91<>\"\"),1,0)","v":0}]
[null,null,null,null,null,null,null,null,null,null,null,null,null,null,null,null,null,null,null,null,null,null,null,null,null,null,null,null,null,null,null,null,null,null,null,null,null,null,null,null,null,null,null,null,null,null,null,null,null,null,null,null,null,null,null,null,null,null,null,null,null,null,null,null,null,null,null,null,null,null,null,null,null,null,null,null,null,null,null,null,null,null,null,null,null,null,null,null,null,null,null,null,null,null,"",{"$f":"IF(LEFT(C92,2)=TABLE1!$F$1,1,0)","v":0},{"$f":"IF(AND(IF(AND(IF(OR(AND(CQ92=1,TABLE1!$AN$3=TRUE),AND(CQ92=2,TABLE1!$AN$4=TRUE),AND(CQ92=3,TABLE1!$AN$5=TRUE),AND(CQ92=4,TABLE1!$AQ$3=TRUE),AND(CQ92=5,TABLE1!$AQ$4=TRUE),AND(CQ92=6,TABLE1!$AQ$5=TRUE),AND(CQ92=7,TABLE1!$AT$3=TRUE),AND(CQ92=8,TABLE1!$AT$4=TRUE),AND(CQ92=9,TABLE1!$AT$5=TRUE),AND(CQ92=10,TABLE1!$AW$3=TRUE),AND(CQ92=11,TABLE1!$AW$4=TRUE),AND(CQ92=12,TABLE1!$AW$5=TRUE)),1,0)=1),1,0)=1,CR92=1,CT92=1),1,0)","v":0},{"$f":"IF(AND(OR(F92=TABLE1!$D$5,TABLE1!$D$5=\"کل بخشها\"),F92<>\"\"),1,0)","v":0}]
[null,null,null,null,null,null,null,null,null,null,null,null,null,null,null,null,null,null,null,null,null,null,null,null,null,null,null,null,null,null,null,null,null,null,null,null,null,null,null,null,null,null,null,null,null,null,null,null,null,null,null,null,null,null,null,null,null,null,null,null,null,null,null,null,null,null,null,null,null,null,null,null,null,null,null,null,null,null,null,null,null,null,null,null,null,null,null,null,null,null,null,null,null,null,"",{"$f":"IF(LEFT(C93,2)=TABLE1!$F$1,1,0)","v":0},{"$f":"IF(AND(IF(AND(IF(OR(AND(CQ93=1,TABLE1!$AN$3=TRUE),AND(CQ93=2,TABLE1!$AN$4=TRUE),AND(CQ93=3,TABLE1!$AN$5=TRUE),AND(CQ93=4,TABLE1!$AQ$3=TRUE),AND(CQ93=5,TABLE1!$AQ$4=TRUE),AND(CQ93=6,TABLE1!$AQ$5=TRUE),AND(CQ93=7,TABLE1!$AT$3=TRUE),AND(CQ93=8,TABLE1!$AT$4=TRUE),AND(CQ93=9,TABLE1!$AT$5=TRUE),AND(CQ93=10,TABLE1!$AW$3=TRUE),AND(CQ93=11,TABLE1!$AW$4=TRUE),AND(CQ93=12,TABLE1!$AW$5=TRUE)),1,0)=1),1,0)=1,CR93=1,CT93=1),1,0)","v":0},{"$f":"IF(AND(OR(F93=TABLE1!$D$5,TABLE1!$D$5=\"کل بخشها\"),F93<>\"\"),1,0)","v":0}]
[null,null,null,null,null,null,null,null,null,null,null,null,null,null,null,null,null,null,null,null,null,null,null,null,null,null,null,null,null,null,null,null,null,null,null,null,null,null,null,null,null,null,null,null,null,null,null,null,null,null,null,null,null,null,null,null,null,null,null,null,null,null,null,null,null,null,null,null,null,null,null,null,null,null,null,null,null,null,null,null,null,null,null,null,null,null,null,null,null,null,null,null,null,null,"",{"$f":"IF(LEFT(C94,2)=TABLE1!$F$1,1,0)","v":0},{"$f":"IF(AND(IF(AND(IF(OR(AND(CQ94=1,TABLE1!$AN$3=TRUE),AND(CQ94=2,TABLE1!$AN$4=TRUE),AND(CQ94=3,TABLE1!$AN$5=TRUE),AND(CQ94=4,TABLE1!$AQ$3=TRUE),AND(CQ94=5,TABLE1!$AQ$4=TRUE),AND(CQ94=6,TABLE1!$AQ$5=TRUE),AND(CQ94=7,TABLE1!$AT$3=TRUE),AND(CQ94=8,TABLE1!$AT$4=TRUE),AND(CQ94=9,TABLE1!$AT$5=TRUE),AND(CQ94=10,TABLE1!$AW$3=TRUE),AND(CQ94=11,TABLE1!$AW$4=TRUE),AND(CQ94=12,TABLE1!$AW$5=TRUE)),1,0)=1),1,0)=1,CR94=1,CT94=1),1,0)","v":0},{"$f":"IF(AND(OR(F94=TABLE1!$D$5,TABLE1!$D$5=\"کل بخشها\"),F94<>\"\"),1,0)","v":0}]
[null,null,null,null,null,null,null,null,null,null,null,null,null,null,null,null,null,null,null,null,null,null,null,null,null,null,null,null,null,null,null,null,null,null,null,null,null,null,null,null,null,null,null,null,null,null,null,null,null,null,null,null,null,null,null,null,null,null,null,null,null,null,null,null,null,null,null,null,null,null,null,null,null,null,null,null,null,null,null,null,null,null,null,null,null,null,null,null,null,null,null,null,null,null,"",{"$f":"IF(LEFT(C95,2)=TABLE1!$F$1,1,0)","v":0},{"$f":"IF(AND(IF(AND(IF(OR(AND(CQ95=1,TABLE1!$AN$3=TRUE),AND(CQ95=2,TABLE1!$AN$4=TRUE),AND(CQ95=3,TABLE1!$AN$5=TRUE),AND(CQ95=4,TABLE1!$AQ$3=TRUE),AND(CQ95=5,TABLE1!$AQ$4=TRUE),AND(CQ95=6,TABLE1!$AQ$5=TRUE),AND(CQ95=7,TABLE1!$AT$3=TRUE),AND(CQ95=8,TABLE1!$AT$4=TRUE),AND(CQ95=9,TABLE1!$AT$5=TRUE),AND(CQ95=10,TABLE1!$AW$3=TRUE),AND(CQ95=11,TABLE1!$AW$4=TRUE),AND(CQ95=12,TABLE1!$AW$5=TRUE)),1,0)=1),1,0)=1,CR95=1,CT95=1),1,0)","v":0},{"$f":"IF(AND(OR(F95=TABLE1!$D$5,TABLE1!$D$5=\"کل بخشها\"),F95<>\"\"),1,0)","v":0}]
[null,null,null,null,null,null,null,null,null,null,null,null,null,null,null,null,null,null,null,null,null,null,null,null,null,null,null,null,null,null,null,null,null,null,null,null,null,null,null,null,null,null,null,null,null,null,null,null,null,null,null,null,null,null,null,null,null,null,null,null,null,null,null,null,null,null,null,null,null,null,null,null,null,null,null,null,null,null,null,null,null,null,null,null,null,null,null,null,null,null,null,null,null,null,"",{"$f":"IF(LEFT(C96,2)=TABLE1!$F$1,1,0)","v":0},{"$f":"IF(AND(IF(AND(IF(OR(AND(CQ96=1,TABLE1!$AN$3=TRUE),AND(CQ96=2,TABLE1!$AN$4=TRUE),AND(CQ96=3,TABLE1!$AN$5=TRUE),AND(CQ96=4,TABLE1!$AQ$3=TRUE),AND(CQ96=5,TABLE1!$AQ$4=TRUE),AND(CQ96=6,TABLE1!$AQ$5=TRUE),AND(CQ96=7,TABLE1!$AT$3=TRUE),AND(CQ96=8,TABLE1!$AT$4=TRUE),AND(CQ96=9,TABLE1!$AT$5=TRUE),AND(CQ96=10,TABLE1!$AW$3=TRUE),AND(CQ96=11,TABLE1!$AW$4=TRUE),AND(CQ96=12,TABLE1!$AW$5=TRUE)),1,0)=1),1,0)=1,CR96=1,CT96=1),1,0)","v":0},{"$f":"IF(AND(OR(F96=TABLE1!$D$5,TABLE1!$D$5=\"کل بخشها\"),F96<>\"\"),1,0)","v":0}]
[null,null,null,null,null,null,null,null,null,null,null,null,null,null,null,null,null,null,null,null,null,null,null,null,null,null,null,null,null,null,null,null,null,null,null,null,null,null,null,null,null,null,null,null,null,null,null,null,null,null,null,null,null,null,null,null,null,null,null,null,null,null,null,null,null,null,null,null,null,null,null,null,null,null,null,null,null,null,null,null,null,null,null,null,null,null,null,null,null,null,null,null,null,null,"",{"$f":"IF(LEFT(C97,2)=TABLE1!$F$1,1,0)","v":0},{"$f":"IF(AND(IF(AND(IF(OR(AND(CQ97=1,TABLE1!$AN$3=TRUE),AND(CQ97=2,TABLE1!$AN$4=TRUE),AND(CQ97=3,TABLE1!$AN$5=TRUE),AND(CQ97=4,TABLE1!$AQ$3=TRUE),AND(CQ97=5,TABLE1!$AQ$4=TRUE),AND(CQ97=6,TABLE1!$AQ$5=TRUE),AND(CQ97=7,TABLE1!$AT$3=TRUE),AND(CQ97=8,TABLE1!$AT$4=TRUE),AND(CQ97=9,TABLE1!$AT$5=TRUE),AND(CQ97=10,TABLE1!$AW$3=TRUE),AND(CQ97=11,TABLE1!$AW$4=TRUE),AND(CQ97=12,TABLE1!$AW$5=TRUE)),1,0)=1),1,0)=1,CR97=1,CT97=1),1,0)","v":0},{"$f":"IF(AND(OR(F97=TABLE1!$D$5,TABLE1!$D$5=\"کل بخشها\"),F97<>\"\"),1,0)","v":0}]
[null,null,null,null,null,null,null,null,null,null,null,null,null,null,null,null,null,null,null,null,null,null,null,null,null,null,null,null,null,null,null,null,null,null,null,null,null,null,null,null,null,null,null,null,null,null,null,null,null,null,null,null,null,null,null,null,null,null,null,null,null,null,null,null,null,null,null,null,null,null,null,null,null,null,null,null,null,null,null,null,null,null,null,null,null,null,null,null,null,null,null,null,null,null,"",{"$f":"IF(LEFT(C98,2)=TABLE1!$F$1,1,0)","v":0},{"$f":"IF(AND(IF(AND(IF(OR(AND(CQ98=1,TABLE1!$AN$3=TRUE),AND(CQ98=2,TABLE1!$AN$4=TRUE),AND(CQ98=3,TABLE1!$AN$5=TRUE),AND(CQ98=4,TABLE1!$AQ$3=TRUE),AND(CQ98=5,TABLE1!$AQ$4=TRUE),AND(CQ98=6,TABLE1!$AQ$5=TRUE),AND(CQ98=7,TABLE1!$AT$3=TRUE),AND(CQ98=8,TABLE1!$AT$4=TRUE),AND(CQ98=9,TABLE1!$AT$5=TRUE),AND(CQ98=10,TABLE1!$AW$3=TRUE),AND(CQ98=11,TABLE1!$AW$4=TRUE),AND(CQ98=12,TABLE1!$AW$5=TRUE)),1,0)=1),1,0)=1,CR98=1,CT98=1),1,0)","v":0},{"$f":"IF(AND(OR(F98=TABLE1!$D$5,TABLE1!$D$5=\"کل بخشها\"),F98<>\"\"),1,0)","v":0}]
[null,null,null,null,null,null,null,null,null,null,null,null,null,null,null,null,null,null,null,null,null,null,null,null,null,null,null,null,null,null,null,null,null,null,null,null,null,null,null,null,null,null,null,null,null,null,null,null,null,null,null,null,null,null,null,null,null,null,null,null,null,null,null,null,null,null,null,null,null,null,null,null,null,null,null,null,null,null,null,null,null,null,null,null,null,null,null,null,null,null,null,null,null,null,"",{"$f":"IF(LEFT(C99,2)=TABLE1!$F$1,1,0)","v":0},{"$f":"IF(AND(IF(AND(IF(OR(AND(CQ99=1,TABLE1!$AN$3=TRUE),AND(CQ99=2,TABLE1!$AN$4=TRUE),AND(CQ99=3,TABLE1!$AN$5=TRUE),AND(CQ99=4,TABLE1!$AQ$3=TRUE),AND(CQ99=5,TABLE1!$AQ$4=TRUE),AND(CQ99=6,TABLE1!$AQ$5=TRUE),AND(CQ99=7,TABLE1!$AT$3=TRUE),AND(CQ99=8,TABLE1!$AT$4=TRUE),AND(CQ99=9,TABLE1!$AT$5=TRUE),AND(CQ99=10,TABLE1!$AW$3=TRUE),AND(CQ99=11,TABLE1!$AW$4=TRUE),AND(CQ99=12,TABLE1!$AW$5=TRUE)),1,0)=1),1,0)=1,CR99=1,CT99=1),1,0)","v":0},{"$f":"IF(AND(OR(F99=TABLE1!$D$5,TABLE1!$D$5=\"کل بخشها\"),F99<>\"\"),1,0)","v":0}]
[null,null,null,null,null,null,null,null,null,null,null,null,null,null,null,null,null,null,null,null,null,null,null,null,null,null,null,null,null,null,null,null,null,null,null,null,null,null,null,null,null,null,null,null,null,null,null,null,null,null,null,null,null,null,null,null,null,null,null,null,null,null,null,null,null,null,null,null,null,null,null,null,null,null,null,null,null,null,null,null,null,null,null,null,null,null,null,null,null,null,null,null,null,null,"",{"$f":"IF(LEFT(C100,2)=TABLE1!$F$1,1,0)","v":0},{"$f":"IF(AND(IF(AND(IF(OR(AND(CQ100=1,TABLE1!$AN$3=TRUE),AND(CQ100=2,TABLE1!$AN$4=TRUE),AND(CQ100=3,TABLE1!$AN$5=TRUE),AND(CQ100=4,TABLE1!$AQ$3=TRUE),AND(CQ100=5,TABLE1!$AQ$4=TRUE),AND(CQ100=6,TABLE1!$AQ$5=TRUE),AND(CQ100=7,TABLE1!$AT$3=TRUE),AND(CQ100=8,TABLE1!$AT$4=TRUE),AND(CQ100=9,TABLE1!$AT$5=TRUE),AND(CQ100=10,TABLE1!$AW$3=TRUE),AND(CQ100=11,TABLE1!$AW$4=TRUE),AND(CQ100=12,TABLE1!$AW$5=TRUE)),1,0)=1),1,0)=1,CR100=1,CT100=1),1,0)","v":0},{"$f":"IF(AND(OR(F100=TABLE1!$D$5,TABLE1!$D$5=\"کل بخشها\"),F100<>\"\"),1,0)","v":0}]
[null,null,null,null,null,null,null,null,null,null,null,null,null,null,null,null,null,null,null,null,null,null,null,null,null,null,null,null,null,null,null,null,null,null,null,null,null,null,null,null,null,null,null,null,null,null,null,null,null,null,null,null,null,null,null,null,null,null,null,null,null,null,null,null,null,null,null,null,null,null,null,null,null,null,null,null,null,null,null,null,null,null,null,null,null,null,null,null,null,null,null,null,null,null,"",{"$f":"IF(LEFT(C101,2)=TABLE1!$F$1,1,0)","v":0},{"$f":"IF(AND(IF(AND(IF(OR(AND(CQ101=1,TABLE1!$AN$3=TRUE),AND(CQ101=2,TABLE1!$AN$4=TRUE),AND(CQ101=3,TABLE1!$AN$5=TRUE),AND(CQ101=4,TABLE1!$AQ$3=TRUE),AND(CQ101=5,TABLE1!$AQ$4=TRUE),AND(CQ101=6,TABLE1!$AQ$5=TRUE),AND(CQ101=7,TABLE1!$AT$3=TRUE),AND(CQ101=8,TABLE1!$AT$4=TRUE),AND(CQ101=9,TABLE1!$AT$5=TRUE),AND(CQ101=10,TABLE1!$AW$3=TRUE),AND(CQ101=11,TABLE1!$AW$4=TRUE),AND(CQ101=12,TABLE1!$AW$5=TRUE)),1,0)=1),1,0)=1,CR101=1,CT101=1),1,0)","v":0},{"$f":"IF(AND(OR(F101=TABLE1!$D$5,TABLE1!$D$5=\"کل بخشها\"),F101<>\"\"),1,0)","v":0}]
[null,null,null,null,null,null,null,null,null,null,null,null,null,null,null,null,null,null,null,null,null,null,null,null,null,null,null,null,null,null,null,null,null,null,null,null,null,null,null,null,null,null,null,null,null,null,null,null,null,null,null,null,null,null,null,null,null,null,null,null,null,null,null,null,null,null,null,null,null,null,null,null,null,null,null,null,null,null,null,null,null,null,null,null,null,null,null,null,null,null,null,null,null,null,"",{"$f":"IF(LEFT(C102,2)=TABLE1!$F$1,1,0)","v":0},{"$f":"IF(AND(IF(AND(IF(OR(AND(CQ102=1,TABLE1!$AN$3=TRUE),AND(CQ102=2,TABLE1!$AN$4=TRUE),AND(CQ102=3,TABLE1!$AN$5=TRUE),AND(CQ102=4,TABLE1!$AQ$3=TRUE),AND(CQ102=5,TABLE1!$AQ$4=TRUE),AND(CQ102=6,TABLE1!$AQ$5=TRUE),AND(CQ102=7,TABLE1!$AT$3=TRUE),AND(CQ102=8,TABLE1!$AT$4=TRUE),AND(CQ102=9,TABLE1!$AT$5=TRUE),AND(CQ102=10,TABLE1!$AW$3=TRUE),AND(CQ102=11,TABLE1!$AW$4=TRUE),AND(CQ102=12,TABLE1!$AW$5=TRUE)),1,0)=1),1,0)=1,CR102=1,CT102=1),1,0)","v":0},{"$f":"IF(AND(OR(F102=TABLE1!$D$5,TABLE1!$D$5=\"کل بخشها\"),F102<>\"\"),1,0)","v":0}]
[null,null,null,null,null,null,null,null,null,null,null,null,null,null,null,null,null,null,null,null,null,null,null,null,null,null,null,null,null,null,null,null,null,null,null,null,null,null,null,null,null,null,null,null,null,null,null,null,null,null,null,null,null,null,null,null,null,null,null,null,null,null,null,null,null,null,null,null,null,null,null,null,null,null,null,null,null,null,null,null,null,null,null,null,null,null,null,null,null,null,null,null,null,null,"",{"$f":"IF(LEFT(C103,2)=TABLE1!$F$1,1,0)","v":0},{"$f":"IF(AND(IF(AND(IF(OR(AND(CQ103=1,TABLE1!$AN$3=TRUE),AND(CQ103=2,TABLE1!$AN$4=TRUE),AND(CQ103=3,TABLE1!$AN$5=TRUE),AND(CQ103=4,TABLE1!$AQ$3=TRUE),AND(CQ103=5,TABLE1!$AQ$4=TRUE),AND(CQ103=6,TABLE1!$AQ$5=TRUE),AND(CQ103=7,TABLE1!$AT$3=TRUE),AND(CQ103=8,TABLE1!$AT$4=TRUE),AND(CQ103=9,TABLE1!$AT$5=TRUE),AND(CQ103=10,TABLE1!$AW$3=TRUE),AND(CQ103=11,TABLE1!$AW$4=TRUE),AND(CQ103=12,TABLE1!$AW$5=TRUE)),1,0)=1),1,0)=1,CR103=1,CT103=1),1,0)","v":0},{"$f":"IF(AND(OR(F103=TABLE1!$D$5,TABLE1!$D$5=\"کل بخشها\"),F103<>\"\"),1,0)","v":0}]
[null,null,null,null,null,null,null,null,null,null,null,null,null,null,null,null,null,null,null,null,null,null,null,null,null,null,null,null,null,null,null,null,null,null,null,null,null,null,null,null,null,null,null,null,null,null,null,null,null,null,null,null,null,null,null,null,null,null,null,null,null,null,null,null,null,null,null,null,null,null,null,null,null,null,null,null,null,null,null,null,null,null,null,null,null,null,null,null,null,null,null,null,null,null,"",{"$f":"IF(LEFT(C104,2)=TABLE1!$F$1,1,0)","v":0},{"$f":"IF(AND(IF(AND(IF(OR(AND(CQ104=1,TABLE1!$AN$3=TRUE),AND(CQ104=2,TABLE1!$AN$4=TRUE),AND(CQ104=3,TABLE1!$AN$5=TRUE),AND(CQ104=4,TABLE1!$AQ$3=TRUE),AND(CQ104=5,TABLE1!$AQ$4=TRUE),AND(CQ104=6,TABLE1!$AQ$5=TRUE),AND(CQ104=7,TABLE1!$AT$3=TRUE),AND(CQ104=8,TABLE1!$AT$4=TRUE),AND(CQ104=9,TABLE1!$AT$5=TRUE),AND(CQ104=10,TABLE1!$AW$3=TRUE),AND(CQ104=11,TABLE1!$AW$4=TRUE),AND(CQ104=12,TABLE1!$AW$5=TRUE)),1,0)=1),1,0)=1,CR104=1,CT104=1),1,0)","v":0},{"$f":"IF(AND(OR(F104=TABLE1!$D$5,TABLE1!$D$5=\"کل بخشها\"),F104<>\"\"),1,0)","v":0}]
[null,null,null,null,null,null,null,null,null,null,null,null,null,null,null,null,null,null,null,null,null,null,null,null,null,null,null,null,null,null,null,null,null,null,null,null,null,null,null,null,null,null,null,null,null,null,null,null,null,null,null,null,null,null,null,null,null,null,null,null,null,null,null,null,null,null,null,null,null,null,null,null,null,null,null,null,null,null,null,null,null,null,null,null,null,null,null,null,null,null,null,null,null,null,"",{"$f":"IF(LEFT(C105,2)=TABLE1!$F$1,1,0)","v":0},{"$f":"IF(AND(IF(AND(IF(OR(AND(CQ105=1,TABLE1!$AN$3=TRUE),AND(CQ105=2,TABLE1!$AN$4=TRUE),AND(CQ105=3,TABLE1!$AN$5=TRUE),AND(CQ105=4,TABLE1!$AQ$3=TRUE),AND(CQ105=5,TABLE1!$AQ$4=TRUE),AND(CQ105=6,TABLE1!$AQ$5=TRUE),AND(CQ105=7,TABLE1!$AT$3=TRUE),AND(CQ105=8,TABLE1!$AT$4=TRUE),AND(CQ105=9,TABLE1!$AT$5=TRUE),AND(CQ105=10,TABLE1!$AW$3=TRUE),AND(CQ105=11,TABLE1!$AW$4=TRUE),AND(CQ105=12,TABLE1!$AW$5=TRUE)),1,0)=1),1,0)=1,CR105=1,CT105=1),1,0)","v":0},{"$f":"IF(AND(OR(F105=TABLE1!$D$5,TABLE1!$D$5=\"کل بخشها\"),F105<>\"\"),1,0)","v":0}]
[null,null,null,null,null,null,null,null,null,null,null,null,null,null,null,null,null,null,null,null,null,null,null,null,null,null,null,null,null,null,null,null,null,null,null,null,null,null,null,null,null,null,null,null,null,null,null,null,null,null,null,null,null,null,null,null,null,null,null,null,null,null,null,null,null,null,null,null,null,null,null,null,null,null,null,null,null,null,null,null,null,null,null,null,null,null,null,null,null,null,null,null,null,null,"",{"$f":"IF(LEFT(C106,2)=TABLE1!$F$1,1,0)","v":0},{"$f":"IF(AND(IF(AND(IF(OR(AND(CQ106=1,TABLE1!$AN$3=TRUE),AND(CQ106=2,TABLE1!$AN$4=TRUE),AND(CQ106=3,TABLE1!$AN$5=TRUE),AND(CQ106=4,TABLE1!$AQ$3=TRUE),AND(CQ106=5,TABLE1!$AQ$4=TRUE),AND(CQ106=6,TABLE1!$AQ$5=TRUE),AND(CQ106=7,TABLE1!$AT$3=TRUE),AND(CQ106=8,TABLE1!$AT$4=TRUE),AND(CQ106=9,TABLE1!$AT$5=TRUE),AND(CQ106=10,TABLE1!$AW$3=TRUE),AND(CQ106=11,TABLE1!$AW$4=TRUE),AND(CQ106=12,TABLE1!$AW$5=TRUE)),1,0)=1),1,0)=1,CR106=1,CT106=1),1,0)","v":0},{"$f":"IF(AND(OR(F106=TABLE1!$D$5,TABLE1!$D$5=\"کل بخشها\"),F106<>\"\"),1,0)","v":0}]
[null,null,null,null,null,null,null,null,null,null,null,null,null,null,null,null,null,null,null,null,null,null,null,null,null,null,null,null,null,null,null,null,null,null,null,null,null,null,null,null,null,null,null,null,null,null,null,null,null,null,null,null,null,null,null,null,null,null,null,null,null,null,null,null,null,null,null,null,null,null,null,null,null,null,null,null,null,null,null,null,null,null,null,null,null,null,null,null,null,null,null,null,null,null,"",{"$f":"IF(LEFT(C107,2)=TABLE1!$F$1,1,0)","v":0},{"$f":"IF(AND(IF(AND(IF(OR(AND(CQ107=1,TABLE1!$AN$3=TRUE),AND(CQ107=2,TABLE1!$AN$4=TRUE),AND(CQ107=3,TABLE1!$AN$5=TRUE),AND(CQ107=4,TABLE1!$AQ$3=TRUE),AND(CQ107=5,TABLE1!$AQ$4=TRUE),AND(CQ107=6,TABLE1!$AQ$5=TRUE),AND(CQ107=7,TABLE1!$AT$3=TRUE),AND(CQ107=8,TABLE1!$AT$4=TRUE),AND(CQ107=9,TABLE1!$AT$5=TRUE),AND(CQ107=10,TABLE1!$AW$3=TRUE),AND(CQ107=11,TABLE1!$AW$4=TRUE),AND(CQ107=12,TABLE1!$AW$5=TRUE)),1,0)=1),1,0)=1,CR107=1,CT107=1),1,0)","v":0},{"$f":"IF(AND(OR(F107=TABLE1!$D$5,TABLE1!$D$5=\"کل بخشها\"),F107<>\"\"),1,0)","v":0}]
[null,null,null,null,null,null,null,null,null,null,null,null,null,null,null,null,null,null,null,null,null,null,null,null,null,null,null,null,null,null,null,null,null,null,null,null,null,null,null,null,null,null,null,null,null,null,null,null,null,null,null,null,null,null,null,null,null,null,null,null,null,null,null,null,null,null,null,null,null,null,null,null,null,null,null,null,null,null,null,null,null,null,null,null,null,null,null,null,null,null,null,null,null,null,"",{"$f":"IF(LEFT(C108,2)=TABLE1!$F$1,1,0)","v":0},{"$f":"IF(AND(IF(AND(IF(OR(AND(CQ108=1,TABLE1!$AN$3=TRUE),AND(CQ108=2,TABLE1!$AN$4=TRUE),AND(CQ108=3,TABLE1!$AN$5=TRUE),AND(CQ108=4,TABLE1!$AQ$3=TRUE),AND(CQ108=5,TABLE1!$AQ$4=TRUE),AND(CQ108=6,TABLE1!$AQ$5=TRUE),AND(CQ108=7,TABLE1!$AT$3=TRUE),AND(CQ108=8,TABLE1!$AT$4=TRUE),AND(CQ108=9,TABLE1!$AT$5=TRUE),AND(CQ108=10,TABLE1!$AW$3=TRUE),AND(CQ108=11,TABLE1!$AW$4=TRUE),AND(CQ108=12,TABLE1!$AW$5=TRUE)),1,0)=1),1,0)=1,CR108=1,CT108=1),1,0)","v":0},{"$f":"IF(AND(OR(F108=TABLE1!$D$5,TABLE1!$D$5=\"کل بخشها\"),F108<>\"\"),1,0)","v":0}]
[null,null,null,null,null,null,null,null,null,null,null,null,null,null,null,null,null,null,null,null,null,null,null,null,null,null,null,null,null,null,null,null,null,null,null,null,null,null,null,null,null,null,null,null,null,null,null,null,null,null,null,null,null,null,null,null,null,null,null,null,null,null,null,null,null,null,null,null,null,null,null,null,null,null,null,null,null,null,null,null,null,null,null,null,null,null,null,null,null,null,null,null,null,null,"",{"$f":"IF(LEFT(C109,2)=TABLE1!$F$1,1,0)","v":0},{"$f":"IF(AND(IF(AND(IF(OR(AND(CQ109=1,TABLE1!$AN$3=TRUE),AND(CQ109=2,TABLE1!$AN$4=TRUE),AND(CQ109=3,TABLE1!$AN$5=TRUE),AND(CQ109=4,TABLE1!$AQ$3=TRUE),AND(CQ109=5,TABLE1!$AQ$4=TRUE),AND(CQ109=6,TABLE1!$AQ$5=TRUE),AND(CQ109=7,TABLE1!$AT$3=TRUE),AND(CQ109=8,TABLE1!$AT$4=TRUE),AND(CQ109=9,TABLE1!$AT$5=TRUE),AND(CQ109=10,TABLE1!$AW$3=TRUE),AND(CQ109=11,TABLE1!$AW$4=TRUE),AND(CQ109=12,TABLE1!$AW$5=TRUE)),1,0)=1),1,0)=1,CR109=1,CT109=1),1,0)","v":0},{"$f":"IF(AND(OR(F109=TABLE1!$D$5,TABLE1!$D$5=\"کل بخشها\"),F109<>\"\"),1,0)","v":0}]
[null,null,null,null,null,null,null,null,null,null,null,null,null,null,null,null,null,null,null,null,null,null,null,null,null,null,null,null,null,null,null,null,null,null,null,null,null,null,null,null,null,null,null,null,null,null,null,null,null,null,null,null,null,null,null,null,null,null,null,null,null,null,null,null,null,null,null,null,null,null,null,null,null,null,null,null,null,null,null,null,null,null,null,null,null,null,null,null,null,null,null,null,null,null,"",{"$f":"IF(LEFT(C110,2)=TABLE1!$F$1,1,0)","v":0},{"$f":"IF(AND(IF(AND(IF(OR(AND(CQ110=1,TABLE1!$AN$3=TRUE),AND(CQ110=2,TABLE1!$AN$4=TRUE),AND(CQ110=3,TABLE1!$AN$5=TRUE),AND(CQ110=4,TABLE1!$AQ$3=TRUE),AND(CQ110=5,TABLE1!$AQ$4=TRUE),AND(CQ110=6,TABLE1!$AQ$5=TRUE),AND(CQ110=7,TABLE1!$AT$3=TRUE),AND(CQ110=8,TABLE1!$AT$4=TRUE),AND(CQ110=9,TABLE1!$AT$5=TRUE),AND(CQ110=10,TABLE1!$AW$3=TRUE),AND(CQ110=11,TABLE1!$AW$4=TRUE),AND(CQ110=12,TABLE1!$AW$5=TRUE)),1,0)=1),1,0)=1,CR110=1,CT110=1),1,0)","v":0},{"$f":"IF(AND(OR(F110=TABLE1!$D$5,TABLE1!$D$5=\"کل بخشها\"),F110<>\"\"),1,0)","v":0}]
[null,null,null,null,null,null,null,null,null,null,null,null,null,null,null,null,null,null,null,null,null,null,null,null,null,null,null,null,null,null,null,null,null,null,null,null,null,null,null,null,null,null,null,null,null,null,null,null,null,null,null,null,null,null,null,null,null,null,null,null,null,null,null,null,null,null,null,null,null,null,null,null,null,null,null,null,null,null,null,null,null,null,null,null,null,null,null,null,null,null,null,null,null,null,"",{"$f":"IF(LEFT(C111,2)=TABLE1!$F$1,1,0)","v":0},{"$f":"IF(AND(IF(AND(IF(OR(AND(CQ111=1,TABLE1!$AN$3=TRUE),AND(CQ111=2,TABLE1!$AN$4=TRUE),AND(CQ111=3,TABLE1!$AN$5=TRUE),AND(CQ111=4,TABLE1!$AQ$3=TRUE),AND(CQ111=5,TABLE1!$AQ$4=TRUE),AND(CQ111=6,TABLE1!$AQ$5=TRUE),AND(CQ111=7,TABLE1!$AT$3=TRUE),AND(CQ111=8,TABLE1!$AT$4=TRUE),AND(CQ111=9,TABLE1!$AT$5=TRUE),AND(CQ111=10,TABLE1!$AW$3=TRUE),AND(CQ111=11,TABLE1!$AW$4=TRUE),AND(CQ111=12,TABLE1!$AW$5=TRUE)),1,0)=1),1,0)=1,CR111=1,CT111=1),1,0)","v":0},{"$f":"IF(AND(OR(F111=TABLE1!$D$5,TABLE1!$D$5=\"کل بخشها\"),F111<>\"\"),1,0)","v":0}]
[null,null,null,null,null,null,null,null,null,null,null,null,null,null,null,null,null,null,null,null,null,null,null,null,null,null,null,null,null,null,null,null,null,null,null,null,null,null,null,null,null,null,null,null,null,null,null,null,null,null,null,null,null,null,null,null,null,null,null,null,null,null,null,null,null,null,null,null,null,null,null,null,null,null,null,null,null,null,null,null,null,null,null,null,null,null,null,null,null,null,null,null,null,null,"",{"$f":"IF(LEFT(C112,2)=TABLE1!$F$1,1,0)","v":0},{"$f":"IF(AND(IF(AND(IF(OR(AND(CQ112=1,TABLE1!$AN$3=TRUE),AND(CQ112=2,TABLE1!$AN$4=TRUE),AND(CQ112=3,TABLE1!$AN$5=TRUE),AND(CQ112=4,TABLE1!$AQ$3=TRUE),AND(CQ112=5,TABLE1!$AQ$4=TRUE),AND(CQ112=6,TABLE1!$AQ$5=TRUE),AND(CQ112=7,TABLE1!$AT$3=TRUE),AND(CQ112=8,TABLE1!$AT$4=TRUE),AND(CQ112=9,TABLE1!$AT$5=TRUE),AND(CQ112=10,TABLE1!$AW$3=TRUE),AND(CQ112=11,TABLE1!$AW$4=TRUE),AND(CQ112=12,TABLE1!$AW$5=TRUE)),1,0)=1),1,0)=1,CR112=1,CT112=1),1,0)","v":0},{"$f":"IF(AND(OR(F112=TABLE1!$D$5,TABLE1!$D$5=\"کل بخشها\"),F112<>\"\"),1,0)","v":0}]
[null,null,null,null,null,null,null,null,null,null,null,null,null,null,null,null,null,null,null,null,null,null,null,null,null,null,null,null,null,null,null,null,null,null,null,null,null,null,null,null,null,null,null,null,null,null,null,null,null,null,null,null,null,null,null,null,null,null,null,null,null,null,null,null,null,null,null,null,null,null,null,null,null,null,null,null,null,null,null,null,null,null,null,null,null,null,null,null,null,null,null,null,null,null,"",{"$f":"IF(LEFT(C113,2)=TABLE1!$F$1,1,0)","v":0},{"$f":"IF(AND(IF(AND(IF(OR(AND(CQ113=1,TABLE1!$AN$3=TRUE),AND(CQ113=2,TABLE1!$AN$4=TRUE),AND(CQ113=3,TABLE1!$AN$5=TRUE),AND(CQ113=4,TABLE1!$AQ$3=TRUE),AND(CQ113=5,TABLE1!$AQ$4=TRUE),AND(CQ113=6,TABLE1!$AQ$5=TRUE),AND(CQ113=7,TABLE1!$AT$3=TRUE),AND(CQ113=8,TABLE1!$AT$4=TRUE),AND(CQ113=9,TABLE1!$AT$5=TRUE),AND(CQ113=10,TABLE1!$AW$3=TRUE),AND(CQ113=11,TABLE1!$AW$4=TRUE),AND(CQ113=12,TABLE1!$AW$5=TRUE)),1,0)=1),1,0)=1,CR113=1,CT113=1),1,0)","v":0},{"$f":"IF(AND(OR(F113=TABLE1!$D$5,TABLE1!$D$5=\"کل بخشها\"),F113<>\"\"),1,0)","v":0}]
[null,null,null,null,null,null,null,null,null,null,null,null,null,null,null,null,null,null,null,null,null,null,null,null,null,null,null,null,null,null,null,null,null,null,null,null,null,null,null,null,null,null,null,null,null,null,null,null,null,null,null,null,null,null,null,null,null,null,null,null,null,null,null,null,null,null,null,null,null,null,null,null,null,null,null,null,null,null,null,null,null,null,null,null,null,null,null,null,null,null,null,null,null,null,"",{"$f":"IF(LEFT(C114,2)=TABLE1!$F$1,1,0)","v":0},{"$f":"IF(AND(IF(AND(IF(OR(AND(CQ114=1,TABLE1!$AN$3=TRUE),AND(CQ114=2,TABLE1!$AN$4=TRUE),AND(CQ114=3,TABLE1!$AN$5=TRUE),AND(CQ114=4,TABLE1!$AQ$3=TRUE),AND(CQ114=5,TABLE1!$AQ$4=TRUE),AND(CQ114=6,TABLE1!$AQ$5=TRUE),AND(CQ114=7,TABLE1!$AT$3=TRUE),AND(CQ114=8,TABLE1!$AT$4=TRUE),AND(CQ114=9,TABLE1!$AT$5=TRUE),AND(CQ114=10,TABLE1!$AW$3=TRUE),AND(CQ114=11,TABLE1!$AW$4=TRUE),AND(CQ114=12,TABLE1!$AW$5=TRUE)),1,0)=1),1,0)=1,CR114=1,CT114=1),1,0)","v":0},{"$f":"IF(AND(OR(F114=TABLE1!$D$5,TABLE1!$D$5=\"کل بخشها\"),F114<>\"\"),1,0)","v":0}]
[null,null,null,null,null,null,null,null,null,null,null,null,null,null,null,null,null,null,null,null,null,null,null,null,null,null,null,null,null,null,null,null,null,null,null,null,null,null,null,null,null,null,null,null,null,null,null,null,null,null,null,null,null,null,null,null,null,null,null,null,null,null,null,null,null,null,null,null,null,null,null,null,null,null,null,null,null,null,null,null,null,null,null,null,null,null,null,null,null,null,null,null,null,null,"",{"$f":"IF(LEFT(C115,2)=TABLE1!$F$1,1,0)","v":0},{"$f":"IF(AND(IF(AND(IF(OR(AND(CQ115=1,TABLE1!$AN$3=TRUE),AND(CQ115=2,TABLE1!$AN$4=TRUE),AND(CQ115=3,TABLE1!$AN$5=TRUE),AND(CQ115=4,TABLE1!$AQ$3=TRUE),AND(CQ115=5,TABLE1!$AQ$4=TRUE),AND(CQ115=6,TABLE1!$AQ$5=TRUE),AND(CQ115=7,TABLE1!$AT$3=TRUE),AND(CQ115=8,TABLE1!$AT$4=TRUE),AND(CQ115=9,TABLE1!$AT$5=TRUE),AND(CQ115=10,TABLE1!$AW$3=TRUE),AND(CQ115=11,TABLE1!$AW$4=TRUE),AND(CQ115=12,TABLE1!$AW$5=TRUE)),1,0)=1),1,0)=1,CR115=1,CT115=1),1,0)","v":0},{"$f":"IF(AND(OR(F115=TABLE1!$D$5,TABLE1!$D$5=\"کل بخشها\"),F115<>\"\"),1,0)","v":0}]
[null,null,null,null,null,null,null,null,null,null,null,null,null,null,null,null,null,null,null,null,null,null,null,null,null,null,null,null,null,null,null,null,null,null,null,null,null,null,null,null,null,null,null,null,null,null,null,null,null,null,null,null,null,null,null,null,null,null,null,null,null,null,null,null,null,null,null,null,null,null,null,null,null,null,null,null,null,null,null,null,null,null,null,null,null,null,null,null,null,null,null,null,null,null,"",{"$f":"IF(LEFT(C116,2)=TABLE1!$F$1,1,0)","v":0},{"$f":"IF(AND(IF(AND(IF(OR(AND(CQ116=1,TABLE1!$AN$3=TRUE),AND(CQ116=2,TABLE1!$AN$4=TRUE),AND(CQ116=3,TABLE1!$AN$5=TRUE),AND(CQ116=4,TABLE1!$AQ$3=TRUE),AND(CQ116=5,TABLE1!$AQ$4=TRUE),AND(CQ116=6,TABLE1!$AQ$5=TRUE),AND(CQ116=7,TABLE1!$AT$3=TRUE),AND(CQ116=8,TABLE1!$AT$4=TRUE),AND(CQ116=9,TABLE1!$AT$5=TRUE),AND(CQ116=10,TABLE1!$AW$3=TRUE),AND(CQ116=11,TABLE1!$AW$4=TRUE),AND(CQ116=12,TABLE1!$AW$5=TRUE)),1,0)=1),1,0)=1,CR116=1,CT116=1),1,0)","v":0},{"$f":"IF(AND(OR(F116=TABLE1!$D$5,TABLE1!$D$5=\"کل بخشها\"),F116<>\"\"),1,0)","v":0}]
[null,null,null,null,null,null,null,null,null,null,null,null,null,null,null,null,null,null,null,null,null,null,null,null,null,null,null,null,null,null,null,null,null,null,null,null,null,null,null,null,null,null,null,null,null,null,null,null,null,null,null,null,null,null,null,null,null,null,null,null,null,null,null,null,null,null,null,null,null,null,null,null,null,null,null,null,null,null,null,null,null,null,null,null,null,null,null,null,null,null,null,null,null,null,"",{"$f":"IF(LEFT(C117,2)=TABLE1!$F$1,1,0)","v":0},{"$f":"IF(AND(IF(AND(IF(OR(AND(CQ117=1,TABLE1!$AN$3=TRUE),AND(CQ117=2,TABLE1!$AN$4=TRUE),AND(CQ117=3,TABLE1!$AN$5=TRUE),AND(CQ117=4,TABLE1!$AQ$3=TRUE),AND(CQ117=5,TABLE1!$AQ$4=TRUE),AND(CQ117=6,TABLE1!$AQ$5=TRUE),AND(CQ117=7,TABLE1!$AT$3=TRUE),AND(CQ117=8,TABLE1!$AT$4=TRUE),AND(CQ117=9,TABLE1!$AT$5=TRUE),AND(CQ117=10,TABLE1!$AW$3=TRUE),AND(CQ117=11,TABLE1!$AW$4=TRUE),AND(CQ117=12,TABLE1!$AW$5=TRUE)),1,0)=1),1,0)=1,CR117=1,CT117=1),1,0)","v":0},{"$f":"IF(AND(OR(F117=TABLE1!$D$5,TABLE1!$D$5=\"کل بخشها\"),F117<>\"\"),1,0)","v":0}]
[null,null,null,null,null,null,null,null,null,null,null,null,null,null,null,null,null,null,null,null,null,null,null,null,null,null,null,null,null,null,null,null,null,null,null,null,null,null,null,null,null,null,null,null,null,null,null,null,null,null,null,null,null,null,null,null,null,null,null,null,null,null,null,null,null,null,null,null,null,null,null,null,null,null,null,null,null,null,null,null,null,null,null,null,null,null,null,null,null,null,null,null,null,null,"",{"$f":"IF(LEFT(C118,2)=TABLE1!$F$1,1,0)","v":0},{"$f":"IF(AND(IF(AND(IF(OR(AND(CQ118=1,TABLE1!$AN$3=TRUE),AND(CQ118=2,TABLE1!$AN$4=TRUE),AND(CQ118=3,TABLE1!$AN$5=TRUE),AND(CQ118=4,TABLE1!$AQ$3=TRUE),AND(CQ118=5,TABLE1!$AQ$4=TRUE),AND(CQ118=6,TABLE1!$AQ$5=TRUE),AND(CQ118=7,TABLE1!$AT$3=TRUE),AND(CQ118=8,TABLE1!$AT$4=TRUE),AND(CQ118=9,TABLE1!$AT$5=TRUE),AND(CQ118=10,TABLE1!$AW$3=TRUE),AND(CQ118=11,TABLE1!$AW$4=TRUE),AND(CQ118=12,TABLE1!$AW$5=TRUE)),1,0)=1),1,0)=1,CR118=1,CT118=1),1,0)","v":0},{"$f":"IF(AND(OR(F118=TABLE1!$D$5,TABLE1!$D$5=\"کل بخشها\"),F118<>\"\"),1,0)","v":0}]
[null,null,null,null,null,null,null,null,null,null,null,null,null,null,null,null,null,null,null,null,null,null,null,null,null,null,null,null,null,null,null,null,null,null,null,null,null,null,null,null,null,null,null,null,null,null,null,null,null,null,null,null,null,null,null,null,null,null,null,null,null,null,null,null,null,null,null,null,null,null,null,null,null,null,null,null,null,null,null,null,null,null,null,null,null,null,null,null,null,null,null,null,null,null,"",{"$f":"IF(LEFT(C119,2)=TABLE1!$F$1,1,0)","v":0},{"$f":"IF(AND(IF(AND(IF(OR(AND(CQ119=1,TABLE1!$AN$3=TRUE),AND(CQ119=2,TABLE1!$AN$4=TRUE),AND(CQ119=3,TABLE1!$AN$5=TRUE),AND(CQ119=4,TABLE1!$AQ$3=TRUE),AND(CQ119=5,TABLE1!$AQ$4=TRUE),AND(CQ119=6,TABLE1!$AQ$5=TRUE),AND(CQ119=7,TABLE1!$AT$3=TRUE),AND(CQ119=8,TABLE1!$AT$4=TRUE),AND(CQ119=9,TABLE1!$AT$5=TRUE),AND(CQ119=10,TABLE1!$AW$3=TRUE),AND(CQ119=11,TABLE1!$AW$4=TRUE),AND(CQ119=12,TABLE1!$AW$5=TRUE)),1,0)=1),1,0)=1,CR119=1,CT119=1),1,0)","v":0},{"$f":"IF(AND(OR(F119=TABLE1!$D$5,TABLE1!$D$5=\"کل بخشها\"),F119<>\"\"),1,0)","v":0}]
[null,null,null,null,null,null,null,null,null,null,null,null,null,null,null,null,null,null,null,null,null,null,null,null,null,null,null,null,null,null,null,null,null,null,null,null,null,null,null,null,null,null,null,null,null,null,null,null,null,null,null,null,null,null,null,null,null,null,null,null,null,null,null,null,null,null,null,null,null,null,null,null,null,null,null,null,null,null,null,null,null,null,null,null,null,null,null,null,null,null,null,null,null,null,"",{"$f":"IF(LEFT(C120,2)=TABLE1!$F$1,1,0)","v":0},{"$f":"IF(AND(IF(AND(IF(OR(AND(CQ120=1,TABLE1!$AN$3=TRUE),AND(CQ120=2,TABLE1!$AN$4=TRUE),AND(CQ120=3,TABLE1!$AN$5=TRUE),AND(CQ120=4,TABLE1!$AQ$3=TRUE),AND(CQ120=5,TABLE1!$AQ$4=TRUE),AND(CQ120=6,TABLE1!$AQ$5=TRUE),AND(CQ120=7,TABLE1!$AT$3=TRUE),AND(CQ120=8,TABLE1!$AT$4=TRUE),AND(CQ120=9,TABLE1!$AT$5=TRUE),AND(CQ120=10,TABLE1!$AW$3=TRUE),AND(CQ120=11,TABLE1!$AW$4=TRUE),AND(CQ120=12,TABLE1!$AW$5=TRUE)),1,0)=1),1,0)=1,CR120=1,CT120=1),1,0)","v":0},{"$f":"IF(AND(OR(F120=TABLE1!$D$5,TABLE1!$D$5=\"کل بخشها\"),F120<>\"\"),1,0)","v":0}]
[null,null,null,null,null,null,null,null,null,null,null,null,null,null,null,null,null,null,null,null,null,null,null,null,null,null,null,null,null,null,null,null,null,null,null,null,null,null,null,null,null,null,null,null,null,null,null,null,null,null,null,null,null,null,null,null,null,null,null,null,null,null,null,null,null,null,null,null,null,null,null,null,null,null,null,null,null,null,null,null,null,null,null,null,null,null,null,null,null,null,null,null,null,null,"",{"$f":"IF(LEFT(C121,2)=TABLE1!$F$1,1,0)","v":0},{"$f":"IF(AND(IF(AND(IF(OR(AND(CQ121=1,TABLE1!$AN$3=TRUE),AND(CQ121=2,TABLE1!$AN$4=TRUE),AND(CQ121=3,TABLE1!$AN$5=TRUE),AND(CQ121=4,TABLE1!$AQ$3=TRUE),AND(CQ121=5,TABLE1!$AQ$4=TRUE),AND(CQ121=6,TABLE1!$AQ$5=TRUE),AND(CQ121=7,TABLE1!$AT$3=TRUE),AND(CQ121=8,TABLE1!$AT$4=TRUE),AND(CQ121=9,TABLE1!$AT$5=TRUE),AND(CQ121=10,TABLE1!$AW$3=TRUE),AND(CQ121=11,TABLE1!$AW$4=TRUE),AND(CQ121=12,TABLE1!$AW$5=TRUE)),1,0)=1),1,0)=1,CR121=1,CT121=1),1,0)","v":0},{"$f":"IF(AND(OR(F121=TABLE1!$D$5,TABLE1!$D$5=\"کل بخشها\"),F121<>\"\"),1,0)","v":0}]
[null,null,null,null,null,null,null,null,null,null,null,null,null,null,null,null,null,null,null,null,null,null,null,null,null,null,null,null,null,null,null,null,null,null,null,null,null,null,null,null,null,null,null,null,null,null,null,null,null,null,null,null,null,null,null,null,null,null,null,null,null,null,null,null,null,null,null,null,null,null,null,null,null,null,null,null,null,null,null,null,null,null,null,null,null,null,null,null,null,null,null,null,null,null,"",{"$f":"IF(LEFT(C122,2)=TABLE1!$F$1,1,0)","v":0},{"$f":"IF(AND(IF(AND(IF(OR(AND(CQ122=1,TABLE1!$AN$3=TRUE),AND(CQ122=2,TABLE1!$AN$4=TRUE),AND(CQ122=3,TABLE1!$AN$5=TRUE),AND(CQ122=4,TABLE1!$AQ$3=TRUE),AND(CQ122=5,TABLE1!$AQ$4=TRUE),AND(CQ122=6,TABLE1!$AQ$5=TRUE),AND(CQ122=7,TABLE1!$AT$3=TRUE),AND(CQ122=8,TABLE1!$AT$4=TRUE),AND(CQ122=9,TABLE1!$AT$5=TRUE),AND(CQ122=10,TABLE1!$AW$3=TRUE),AND(CQ122=11,TABLE1!$AW$4=TRUE),AND(CQ122=12,TABLE1!$AW$5=TRUE)),1,0)=1),1,0)=1,CR122=1,CT122=1),1,0)","v":0},{"$f":"IF(AND(OR(F122=TABLE1!$D$5,TABLE1!$D$5=\"کل بخشها\"),F122<>\"\"),1,0)","v":0}]
[null,null,null,null,null,null,null,null,null,null,null,null,null,null,null,null,null,null,null,null,null,null,null,null,null,null,null,null,null,null,null,null,null,null,null,null,null,null,null,null,null,null,null,null,null,null,null,null,null,null,null,null,null,null,null,null,null,null,null,null,null,null,null,null,null,null,null,null,null,null,null,null,null,null,null,null,null,null,null,null,null,null,null,null,null,null,null,null,null,null,null,null,null,null,"",{"$f":"IF(LEFT(C123,2)=TABLE1!$F$1,1,0)","v":0},{"$f":"IF(AND(IF(AND(IF(OR(AND(CQ123=1,TABLE1!$AN$3=TRUE),AND(CQ123=2,TABLE1!$AN$4=TRUE),AND(CQ123=3,TABLE1!$AN$5=TRUE),AND(CQ123=4,TABLE1!$AQ$3=TRUE),AND(CQ123=5,TABLE1!$AQ$4=TRUE),AND(CQ123=6,TABLE1!$AQ$5=TRUE),AND(CQ123=7,TABLE1!$AT$3=TRUE),AND(CQ123=8,TABLE1!$AT$4=TRUE),AND(CQ123=9,TABLE1!$AT$5=TRUE),AND(CQ123=10,TABLE1!$AW$3=TRUE),AND(CQ123=11,TABLE1!$AW$4=TRUE),AND(CQ123=12,TABLE1!$AW$5=TRUE)),1,0)=1),1,0)=1,CR123=1,CT123=1),1,0)","v":0},{"$f":"IF(AND(OR(F123=TABLE1!$D$5,TABLE1!$D$5=\"کل بخشها\"),F123<>\"\"),1,0)","v":0}]
[null,null,null,null,null,null,null,null,null,null,null,null,null,null,null,null,null,null,null,null,null,null,null,null,null,null,null,null,null,null,null,null,null,null,null,null,null,null,null,null,null,null,null,null,null,null,null,null,null,null,null,null,null,null,null,null,null,null,null,null,null,null,null,null,null,null,null,null,null,null,null,null,null,null,null,null,null,null,null,null,null,null,null,null,null,null,null,null,null,null,null,null,null,null,"",{"$f":"IF(LEFT(C124,2)=TABLE1!$F$1,1,0)","v":0},{"$f":"IF(AND(IF(AND(IF(OR(AND(CQ124=1,TABLE1!$AN$3=TRUE),AND(CQ124=2,TABLE1!$AN$4=TRUE),AND(CQ124=3,TABLE1!$AN$5=TRUE),AND(CQ124=4,TABLE1!$AQ$3=TRUE),AND(CQ124=5,TABLE1!$AQ$4=TRUE),AND(CQ124=6,TABLE1!$AQ$5=TRUE),AND(CQ124=7,TABLE1!$AT$3=TRUE),AND(CQ124=8,TABLE1!$AT$4=TRUE),AND(CQ124=9,TABLE1!$AT$5=TRUE),AND(CQ124=10,TABLE1!$AW$3=TRUE),AND(CQ124=11,TABLE1!$AW$4=TRUE),AND(CQ124=12,TABLE1!$AW$5=TRUE)),1,0)=1),1,0)=1,CR124=1,CT124=1),1,0)","v":0},{"$f":"IF(AND(OR(F124=TABLE1!$D$5,TABLE1!$D$5=\"کل بخشها\"),F124<>\"\"),1,0)","v":0}]
[null,null,null,null,null,null,null,null,null,null,null,null,null,null,null,null,null,null,null,null,null,null,null,null,null,null,null,null,null,null,null,null,null,null,null,null,null,null,null,null,null,null,null,null,null,null,null,null,null,null,null,null,null,null,null,null,null,null,null,null,null,null,null,null,null,null,null,null,null,null,null,null,null,null,null,null,null,null,null,null,null,null,null,null,null,null,null,null,null,null,null,null,null,null,"",{"$f":"IF(LEFT(C125,2)=TABLE1!$F$1,1,0)","v":0},{"$f":"IF(AND(IF(AND(IF(OR(AND(CQ125=1,TABLE1!$AN$3=TRUE),AND(CQ125=2,TABLE1!$AN$4=TRUE),AND(CQ125=3,TABLE1!$AN$5=TRUE),AND(CQ125=4,TABLE1!$AQ$3=TRUE),AND(CQ125=5,TABLE1!$AQ$4=TRUE),AND(CQ125=6,TABLE1!$AQ$5=TRUE),AND(CQ125=7,TABLE1!$AT$3=TRUE),AND(CQ125=8,TABLE1!$AT$4=TRUE),AND(CQ125=9,TABLE1!$AT$5=TRUE),AND(CQ125=10,TABLE1!$AW$3=TRUE),AND(CQ125=11,TABLE1!$AW$4=TRUE),AND(CQ125=12,TABLE1!$AW$5=TRUE)),1,0)=1),1,0)=1,CR125=1,CT125=1),1,0)","v":0},{"$f":"IF(AND(OR(F125=TABLE1!$D$5,TABLE1!$D$5=\"کل بخشها\"),F125<>\"\"),1,0)","v":0}]
[null,null,null,null,null,null,null,null,null,null,null,null,null,null,null,null,null,null,null,null,null,null,null,null,null,null,null,null,null,null,null,null,null,null,null,null,null,null,null,null,null,null,null,null,null,null,null,null,null,null,null,null,null,null,null,null,null,null,null,null,null,null,null,null,null,null,null,null,null,null,null,null,null,null,null,null,null,null,null,null,null,null,null,null,null,null,null,null,null,null,null,null,null,null,"",{"$f":"IF(LEFT(C126,2)=TABLE1!$F$1,1,0)","v":0},{"$f":"IF(AND(IF(AND(IF(OR(AND(CQ126=1,TABLE1!$AN$3=TRUE),AND(CQ126=2,TABLE1!$AN$4=TRUE),AND(CQ126=3,TABLE1!$AN$5=TRUE),AND(CQ126=4,TABLE1!$AQ$3=TRUE),AND(CQ126=5,TABLE1!$AQ$4=TRUE),AND(CQ126=6,TABLE1!$AQ$5=TRUE),AND(CQ126=7,TABLE1!$AT$3=TRUE),AND(CQ126=8,TABLE1!$AT$4=TRUE),AND(CQ126=9,TABLE1!$AT$5=TRUE),AND(CQ126=10,TABLE1!$AW$3=TRUE),AND(CQ126=11,TABLE1!$AW$4=TRUE),AND(CQ126=12,TABLE1!$AW$5=TRUE)),1,0)=1),1,0)=1,CR126=1,CT126=1),1,0)","v":0},{"$f":"IF(AND(OR(F126=TABLE1!$D$5,TABLE1!$D$5=\"کل بخشها\"),F126<>\"\"),1,0)","v":0}]
[null,null,null,null,null,null,null,null,null,null,null,null,null,null,null,null,null,null,null,null,null,null,null,null,null,null,null,null,null,null,null,null,null,null,null,null,null,null,null,null,null,null,null,null,null,null,null,null,null,null,null,null,null,null,null,null,null,null,null,null,null,null,null,null,null,null,null,null,null,null,null,null,null,null,null,null,null,null,null,null,null,null,null,null,null,null,null,null,null,null,null,null,null,null,"",{"$f":"IF(LEFT(C127,2)=TABLE1!$F$1,1,0)","v":0},{"$f":"IF(AND(IF(AND(IF(OR(AND(CQ127=1,TABLE1!$AN$3=TRUE),AND(CQ127=2,TABLE1!$AN$4=TRUE),AND(CQ127=3,TABLE1!$AN$5=TRUE),AND(CQ127=4,TABLE1!$AQ$3=TRUE),AND(CQ127=5,TABLE1!$AQ$4=TRUE),AND(CQ127=6,TABLE1!$AQ$5=TRUE),AND(CQ127=7,TABLE1!$AT$3=TRUE),AND(CQ127=8,TABLE1!$AT$4=TRUE),AND(CQ127=9,TABLE1!$AT$5=TRUE),AND(CQ127=10,TABLE1!$AW$3=TRUE),AND(CQ127=11,TABLE1!$AW$4=TRUE),AND(CQ127=12,TABLE1!$AW$5=TRUE)),1,0)=1),1,0)=1,CR127=1,CT127=1),1,0)","v":0},{"$f":"IF(AND(OR(F127=TABLE1!$D$5,TABLE1!$D$5=\"کل بخشها\"),F127<>\"\"),1,0)","v":0}]
[null,null,null,null,null,null,null,null,null,null,null,null,null,null,null,null,null,null,null,null,null,null,null,null,null,null,null,null,null,null,null,null,null,null,null,null,null,null,null,null,null,null,null,null,null,null,null,null,null,null,null,null,null,null,null,null,null,null,null,null,null,null,null,null,null,null,null,null,null,null,null,null,null,null,null,null,null,null,null,null,null,null,null,null,null,null,null,null,null,null,null,null,null,null,"",{"$f":"IF(LEFT(C128,2)=TABLE1!$F$1,1,0)","v":0},{"$f":"IF(AND(IF(AND(IF(OR(AND(CQ128=1,TABLE1!$AN$3=TRUE),AND(CQ128=2,TABLE1!$AN$4=TRUE),AND(CQ128=3,TABLE1!$AN$5=TRUE),AND(CQ128=4,TABLE1!$AQ$3=TRUE),AND(CQ128=5,TABLE1!$AQ$4=TRUE),AND(CQ128=6,TABLE1!$AQ$5=TRUE),AND(CQ128=7,TABLE1!$AT$3=TRUE),AND(CQ128=8,TABLE1!$AT$4=TRUE),AND(CQ128=9,TABLE1!$AT$5=TRUE),AND(CQ128=10,TABLE1!$AW$3=TRUE),AND(CQ128=11,TABLE1!$AW$4=TRUE),AND(CQ128=12,TABLE1!$AW$5=TRUE)),1,0)=1),1,0)=1,CR128=1,CT128=1),1,0)","v":0},{"$f":"IF(AND(OR(F128=TABLE1!$D$5,TABLE1!$D$5=\"کل بخشها\"),F128<>\"\"),1,0)","v":0}]
[null,null,null,null,null,null,null,null,null,null,null,null,null,null,null,null,null,null,null,null,null,null,null,null,null,null,null,null,null,null,null,null,null,null,null,null,null,null,null,null,null,null,null,null,null,null,null,null,null,null,null,null,null,null,null,null,null,null,null,null,null,null,null,null,null,null,null,null,null,null,null,null,null,null,null,null,null,null,null,null,null,null,null,null,null,null,null,null,null,null,null,null,null,null,"",{"$f":"IF(LEFT(C129,2)=TABLE1!$F$1,1,0)","v":0},{"$f":"IF(AND(IF(AND(IF(OR(AND(CQ129=1,TABLE1!$AN$3=TRUE),AND(CQ129=2,TABLE1!$AN$4=TRUE),AND(CQ129=3,TABLE1!$AN$5=TRUE),AND(CQ129=4,TABLE1!$AQ$3=TRUE),AND(CQ129=5,TABLE1!$AQ$4=TRUE),AND(CQ129=6,TABLE1!$AQ$5=TRUE),AND(CQ129=7,TABLE1!$AT$3=TRUE),AND(CQ129=8,TABLE1!$AT$4=TRUE),AND(CQ129=9,TABLE1!$AT$5=TRUE),AND(CQ129=10,TABLE1!$AW$3=TRUE),AND(CQ129=11,TABLE1!$AW$4=TRUE),AND(CQ129=12,TABLE1!$AW$5=TRUE)),1,0)=1),1,0)=1,CR129=1,CT129=1),1,0)","v":0},{"$f":"IF(AND(OR(F129=TABLE1!$D$5,TABLE1!$D$5=\"کل بخشها\"),F129<>\"\"),1,0)","v":0}]
[null,null,null,null,null,null,null,null,null,null,null,null,null,null,null,null,null,null,null,null,null,null,null,null,null,null,null,null,null,null,null,null,null,null,null,null,null,null,null,null,null,null,null,null,null,null,null,null,null,null,null,null,null,null,null,null,null,null,null,null,null,null,null,null,null,null,null,null,null,null,null,null,null,null,null,null,null,null,null,null,null,null,null,null,null,null,null,null,null,null,null,null,null,null,"",{"$f":"IF(LEFT(C130,2)=TABLE1!$F$1,1,0)","v":0},{"$f":"IF(AND(IF(AND(IF(OR(AND(CQ130=1,TABLE1!$AN$3=TRUE),AND(CQ130=2,TABLE1!$AN$4=TRUE),AND(CQ130=3,TABLE1!$AN$5=TRUE),AND(CQ130=4,TABLE1!$AQ$3=TRUE),AND(CQ130=5,TABLE1!$AQ$4=TRUE),AND(CQ130=6,TABLE1!$AQ$5=TRUE),AND(CQ130=7,TABLE1!$AT$3=TRUE),AND(CQ130=8,TABLE1!$AT$4=TRUE),AND(CQ130=9,TABLE1!$AT$5=TRUE),AND(CQ130=10,TABLE1!$AW$3=TRUE),AND(CQ130=11,TABLE1!$AW$4=TRUE),AND(CQ130=12,TABLE1!$AW$5=TRUE)),1,0)=1),1,0)=1,CR130=1,CT130=1),1,0)","v":0},{"$f":"IF(AND(OR(F130=TABLE1!$D$5,TABLE1!$D$5=\"کل بخشها\"),F130<>\"\"),1,0)","v":0}]
[null,null,null,null,null,null,null,null,null,null,null,null,null,null,null,null,null,null,null,null,null,null,null,null,null,null,null,null,null,null,null,null,null,null,null,null,null,null,null,null,null,null,null,null,null,null,null,null,null,null,null,null,null,null,null,null,null,null,null,null,null,null,null,null,null,null,null,null,null,null,null,null,null,null,null,null,null,null,null,null,null,null,null,null,null,null,null,null,null,null,null,null,null,null,{"$f":"IFERROR(VALUE(MID(C131,3,2)),\"\")","v":""},{"$f":"IF(LEFT(C131,2)=TABLE1!$F$1,1,0)","v":0},{"$f":"IF(AND(IF(AND(IF(OR(AND(CQ131=1,TABLE1!$AN$3=TRUE),AND(CQ131=2,TABLE1!$AN$4=TRUE),AND(CQ131=3,TABLE1!$AN$5=TRUE),AND(CQ131=4,TABLE1!$AQ$3=TRUE),AND(CQ131=5,TABLE1!$AQ$4=TRUE),AND(CQ131=6,TABLE1!$AQ$5=TRUE),AND(CQ131=7,TABLE1!$AT$3=TRUE),AND(CQ131=8,TABLE1!$AT$4=TRUE),AND(CQ131=9,TABLE1!$AT$5=TRUE),AND(CQ131=10,TABLE1!$AW$3=TRUE),AND(CQ131=11,TABLE1!$AW$4=TRUE),AND(CQ131=12,TABLE1!$AW$5=TRUE)),1,0)=1),1,0)=1,CR131=1,CT131=1),1,0)","v":0},{"$f":"IF(AND(OR(F131=TABLE1!$D$5,TABLE1!$D$5=\"کل بخشها\"),F131<>\"\"),1,0)","v":0}]
[null,null,null,null,null,null,null,null,null,null,null,null,null,null,null,null,null,null,null,null,null,null,null,null,null,null,null,null,null,null,null,null,null,null,null,null,null,null,null,null,null,null,null,null,null,null,null,null,null,null,null,null,null,null,null,null,null,null,null,null,null,null,null,null,null,null,null,null,null,null,null,null,null,null,null,null,null,null,null,null,null,null,null,null,null,null,null,null,null,null,null,null,null,null,"",{"$f":"IF(LEFT(C132,2)=TABLE1!$F$1,1,0)","v":0},{"$f":"IF(AND(IF(AND(IF(OR(AND(CQ132=1,TABLE1!$AN$3=TRUE),AND(CQ132=2,TABLE1!$AN$4=TRUE),AND(CQ132=3,TABLE1!$AN$5=TRUE),AND(CQ132=4,TABLE1!$AQ$3=TRUE),AND(CQ132=5,TABLE1!$AQ$4=TRUE),AND(CQ132=6,TABLE1!$AQ$5=TRUE),AND(CQ132=7,TABLE1!$AT$3=TRUE),AND(CQ132=8,TABLE1!$AT$4=TRUE),AND(CQ132=9,TABLE1!$AT$5=TRUE),AND(CQ132=10,TABLE1!$AW$3=TRUE),AND(CQ132=11,TABLE1!$AW$4=TRUE),AND(CQ132=12,TABLE1!$AW$5=TRUE)),1,0)=1),1,0)=1,CR132=1,CT132=1),1,0)","v":0},{"$f":"IF(AND(OR(F132=TABLE1!$D$5,TABLE1!$D$5=\"کل بخشها\"),F132<>\"\"),1,0)","v":0}]
[null,null,null,null,null,null,null,null,null,null,null,null,null,null,null,null,null,null,null,null,null,null,null,null,null,null,null,null,null,null,null,null,null,null,null,null,null,null,null,null,null,null,null,null,null,null,null,null,null,null,null,null,null,null,null,null,null,null,null,null,null,null,null,null,null,null,null,null,null,null,null,null,null,null,null,null,null,null,null,null,null,null,null,null,null,null,null,null,null,null,null,null,null,null,"",{"$f":"IF(LEFT(C133,2)=TABLE1!$F$1,1,0)","v":0},{"$f":"IF(AND(IF(AND(IF(OR(AND(CQ133=1,TABLE1!$AN$3=TRUE),AND(CQ133=2,TABLE1!$AN$4=TRUE),AND(CQ133=3,TABLE1!$AN$5=TRUE),AND(CQ133=4,TABLE1!$AQ$3=TRUE),AND(CQ133=5,TABLE1!$AQ$4=TRUE),AND(CQ133=6,TABLE1!$AQ$5=TRUE),AND(CQ133=7,TABLE1!$AT$3=TRUE),AND(CQ133=8,TABLE1!$AT$4=TRUE),AND(CQ133=9,TABLE1!$AT$5=TRUE),AND(CQ133=10,TABLE1!$AW$3=TRUE),AND(CQ133=11,TABLE1!$AW$4=TRUE),AND(CQ133=12,TABLE1!$AW$5=TRUE)),1,0)=1),1,0)=1,CR133=1,CT133=1),1,0)","v":0},{"$f":"IF(AND(OR(F133=TABLE1!$D$5,TABLE1!$D$5=\"کل بخشها\"),F133<>\"\"),1,0)","v":0}]
[null,null,null,null,null,null,null,null,null,null,null,null,null,null,null,null,null,null,null,null,null,null,null,null,null,null,null,null,null,null,null,null,null,null,null,null,null,null,null,null,null,null,null,null,null,null,null,null,null,null,null,null,null,null,null,null,null,null,null,null,null,null,null,null,null,null,null,null,null,null,null,null,null,null,null,null,null,null,null,null,null,null,null,null,null,null,null,null,null,null,null,null,null,null,"",{"$f":"IF(LEFT(C134,2)=TABLE1!$F$1,1,0)","v":0},{"$f":"IF(AND(IF(AND(IF(OR(AND(CQ134=1,TABLE1!$AN$3=TRUE),AND(CQ134=2,TABLE1!$AN$4=TRUE),AND(CQ134=3,TABLE1!$AN$5=TRUE),AND(CQ134=4,TABLE1!$AQ$3=TRUE),AND(CQ134=5,TABLE1!$AQ$4=TRUE),AND(CQ134=6,TABLE1!$AQ$5=TRUE),AND(CQ134=7,TABLE1!$AT$3=TRUE),AND(CQ134=8,TABLE1!$AT$4=TRUE),AND(CQ134=9,TABLE1!$AT$5=TRUE),AND(CQ134=10,TABLE1!$AW$3=TRUE),AND(CQ134=11,TABLE1!$AW$4=TRUE),AND(CQ134=12,TABLE1!$AW$5=TRUE)),1,0)=1),1,0)=1,CR134=1,CT134=1),1,0)","v":0},{"$f":"IF(AND(OR(F134=TABLE1!$D$5,TABLE1!$D$5=\"کل بخشها\"),F134<>\"\"),1,0)","v":0}]
[null,null,null,null,null,null,null,null,null,null,null,null,null,null,null,null,null,null,null,null,null,null,null,null,null,null,null,null,null,null,null,null,null,null,null,null,null,null,null,null,null,null,null,null,null,null,null,null,null,null,null,null,null,null,null,null,null,null,null,null,null,null,null,null,null,null,null,null,null,null,null,null,null,null,null,null,null,null,null,null,null,null,null,null,null,null,null,null,null,null,null,null,null,null,"",{"$f":"IF(LEFT(C135,2)=TABLE1!$F$1,1,0)","v":0},{"$f":"IF(AND(IF(AND(IF(OR(AND(CQ135=1,TABLE1!$AN$3=TRUE),AND(CQ135=2,TABLE1!$AN$4=TRUE),AND(CQ135=3,TABLE1!$AN$5=TRUE),AND(CQ135=4,TABLE1!$AQ$3=TRUE),AND(CQ135=5,TABLE1!$AQ$4=TRUE),AND(CQ135=6,TABLE1!$AQ$5=TRUE),AND(CQ135=7,TABLE1!$AT$3=TRUE),AND(CQ135=8,TABLE1!$AT$4=TRUE),AND(CQ135=9,TABLE1!$AT$5=TRUE),AND(CQ135=10,TABLE1!$AW$3=TRUE),AND(CQ135=11,TABLE1!$AW$4=TRUE),AND(CQ135=12,TABLE1!$AW$5=TRUE)),1,0)=1),1,0)=1,CR135=1,CT135=1),1,0)","v":0},{"$f":"IF(AND(OR(F135=TABLE1!$D$5,TABLE1!$D$5=\"کل بخشها\"),F135<>\"\"),1,0)","v":0}]
[null,null,null,null,null,null,null,null,null,null,null,null,null,null,null,null,null,null,null,null,null,null,null,null,null,null,null,null,null,null,null,null,null,null,null,null,null,null,null,null,null,null,null,null,null,null,null,null,null,null,null,null,null,null,null,null,null,null,null,null,null,null,null,null,null,null,null,null,null,null,null,null,null,null,null,null,null,null,null,null,null,null,null,null,null,null,null,null,null,null,null,null,null,null,"",{"$f":"IF(LEFT(C136,2)=TABLE1!$F$1,1,0)","v":0},{"$f":"IF(AND(IF(AND(IF(OR(AND(CQ136=1,TABLE1!$AN$3=TRUE),AND(CQ136=2,TABLE1!$AN$4=TRUE),AND(CQ136=3,TABLE1!$AN$5=TRUE),AND(CQ136=4,TABLE1!$AQ$3=TRUE),AND(CQ136=5,TABLE1!$AQ$4=TRUE),AND(CQ136=6,TABLE1!$AQ$5=TRUE),AND(CQ136=7,TABLE1!$AT$3=TRUE),AND(CQ136=8,TABLE1!$AT$4=TRUE),AND(CQ136=9,TABLE1!$AT$5=TRUE),AND(CQ136=10,TABLE1!$AW$3=TRUE),AND(CQ136=11,TABLE1!$AW$4=TRUE),AND(CQ136=12,TABLE1!$AW$5=TRUE)),1,0)=1),1,0)=1,CR136=1,CT136=1),1,0)","v":0},{"$f":"IF(AND(OR(F136=TABLE1!$D$5,TABLE1!$D$5=\"کل بخشها\"),F136<>\"\"),1,0)","v":0}]
[null,null,null,null,null,null,null,null,null,null,null,null,null,null,null,null,null,null,null,null,null,null,null,null,null,null,null,null,null,null,null,null,null,null,null,null,null,null,null,null,null,null,null,null,null,null,null,null,null,null,null,null,null,null,null,null,null,null,null,null,null,null,null,null,null,null,null,null,null,null,null,null,null,null,null,null,null,null,null,null,null,null,null,null,null,null,null,null,null,null,null,null,null,null,"",{"$f":"IF(LEFT(C137,2)=TABLE1!$F$1,1,0)","v":0},{"$f":"IF(AND(IF(AND(IF(OR(AND(CQ137=1,TABLE1!$AN$3=TRUE),AND(CQ137=2,TABLE1!$AN$4=TRUE),AND(CQ137=3,TABLE1!$AN$5=TRUE),AND(CQ137=4,TABLE1!$AQ$3=TRUE),AND(CQ137=5,TABLE1!$AQ$4=TRUE),AND(CQ137=6,TABLE1!$AQ$5=TRUE),AND(CQ137=7,TABLE1!$AT$3=TRUE),AND(CQ137=8,TABLE1!$AT$4=TRUE),AND(CQ137=9,TABLE1!$AT$5=TRUE),AND(CQ137=10,TABLE1!$AW$3=TRUE),AND(CQ137=11,TABLE1!$AW$4=TRUE),AND(CQ137=12,TABLE1!$AW$5=TRUE)),1,0)=1),1,0)=1,CR137=1,CT137=1),1,0)","v":0},{"$f":"IF(AND(OR(F137=TABLE1!$D$5,TABLE1!$D$5=\"کل بخشها\"),F137<>\"\"),1,0)","v":0}]
[null,null,null,null,null,null,null,null,null,null,null,null,null,null,null,null,null,null,null,null,null,null,null,null,null,null,null,null,null,null,null,null,null,null,null,null,null,null,null,null,null,null,null,null,null,null,null,null,null,null,null,null,null,null,null,null,null,null,null,null,null,null,null,null,null,null,null,null,null,null,null,null,null,null,null,null,null,null,null,null,null,null,null,null,null,null,null,null,null,null,null,null,null,null,"",{"$f":"IF(LEFT(C138,2)=TABLE1!$F$1,1,0)","v":0},{"$f":"IF(AND(IF(AND(IF(OR(AND(CQ138=1,TABLE1!$AN$3=TRUE),AND(CQ138=2,TABLE1!$AN$4=TRUE),AND(CQ138=3,TABLE1!$AN$5=TRUE),AND(CQ138=4,TABLE1!$AQ$3=TRUE),AND(CQ138=5,TABLE1!$AQ$4=TRUE),AND(CQ138=6,TABLE1!$AQ$5=TRUE),AND(CQ138=7,TABLE1!$AT$3=TRUE),AND(CQ138=8,TABLE1!$AT$4=TRUE),AND(CQ138=9,TABLE1!$AT$5=TRUE),AND(CQ138=10,TABLE1!$AW$3=TRUE),AND(CQ138=11,TABLE1!$AW$4=TRUE),AND(CQ138=12,TABLE1!$AW$5=TRUE)),1,0)=1),1,0)=1,CR138=1,CT138=1),1,0)","v":0},{"$f":"IF(AND(OR(F138=TABLE1!$D$5,TABLE1!$D$5=\"کل بخشها\"),F138<>\"\"),1,0)","v":0}]
[null,null,null,null,null,null,null,null,null,null,null,null,null,null,null,null,null,null,null,null,null,null,null,null,null,null,null,null,null,null,null,null,null,null,null,null,null,null,null,null,null,null,null,null,null,null,null,null,null,null,null,null,null,null,null,null,null,null,null,null,null,null,null,null,null,null,null,null,null,null,null,null,null,null,null,null,null,null,null,null,null,null,null,null,null,null,null,null,null,null,null,null,null,null,"",{"$f":"IF(LEFT(C139,2)=TABLE1!$F$1,1,0)","v":0},{"$f":"IF(AND(IF(AND(IF(OR(AND(CQ139=1,TABLE1!$AN$3=TRUE),AND(CQ139=2,TABLE1!$AN$4=TRUE),AND(CQ139=3,TABLE1!$AN$5=TRUE),AND(CQ139=4,TABLE1!$AQ$3=TRUE),AND(CQ139=5,TABLE1!$AQ$4=TRUE),AND(CQ139=6,TABLE1!$AQ$5=TRUE),AND(CQ139=7,TABLE1!$AT$3=TRUE),AND(CQ139=8,TABLE1!$AT$4=TRUE),AND(CQ139=9,TABLE1!$AT$5=TRUE),AND(CQ139=10,TABLE1!$AW$3=TRUE),AND(CQ139=11,TABLE1!$AW$4=TRUE),AND(CQ139=12,TABLE1!$AW$5=TRUE)),1,0)=1),1,0)=1,CR139=1,CT139=1),1,0)","v":0},{"$f":"IF(AND(OR(F139=TABLE1!$D$5,TABLE1!$D$5=\"کل بخشها\"),F139<>\"\"),1,0)","v":0}]
[null,null,null,null,null,null,null,null,null,null,null,null,null,null,null,null,null,null,null,null,null,null,null,null,null,null,null,null,null,null,null,null,null,null,null,null,null,null,null,null,null,null,null,null,null,null,null,null,null,null,null,null,null,null,null,null,null,null,null,null,null,null,null,null,null,null,null,null,null,null,null,null,null,null,null,null,null,null,null,null,null,null,null,null,null,null,null,null,null,null,null,null,null,null,"",{"$f":"IF(LEFT(C140,2)=TABLE1!$F$1,1,0)","v":0},{"$f":"IF(AND(IF(AND(IF(OR(AND(CQ140=1,TABLE1!$AN$3=TRUE),AND(CQ140=2,TABLE1!$AN$4=TRUE),AND(CQ140=3,TABLE1!$AN$5=TRUE),AND(CQ140=4,TABLE1!$AQ$3=TRUE),AND(CQ140=5,TABLE1!$AQ$4=TRUE),AND(CQ140=6,TABLE1!$AQ$5=TRUE),AND(CQ140=7,TABLE1!$AT$3=TRUE),AND(CQ140=8,TABLE1!$AT$4=TRUE),AND(CQ140=9,TABLE1!$AT$5=TRUE),AND(CQ140=10,TABLE1!$AW$3=TRUE),AND(CQ140=11,TABLE1!$AW$4=TRUE),AND(CQ140=12,TABLE1!$AW$5=TRUE)),1,0)=1),1,0)=1,CR140=1,CT140=1),1,0)","v":0},{"$f":"IF(AND(OR(F140=TABLE1!$D$5,TABLE1!$D$5=\"کل بخشها\"),F140<>\"\"),1,0)","v":0}]
[null,null,null,null,null,null,null,null,null,null,null,null,null,null,null,null,null,null,null,null,null,null,null,null,null,null,null,null,null,null,null,null,null,null,null,null,null,null,null,null,null,null,null,null,null,null,null,null,null,null,null,null,null,null,null,null,null,null,null,null,null,null,null,null,null,null,null,null,null,null,null,null,null,null,null,null,null,null,null,null,null,null,null,null,null,null,null,null,null,null,null,null,null,null,"",{"$f":"IF(LEFT(C141,2)=TABLE1!$F$1,1,0)","v":0},{"$f":"IF(AND(IF(AND(IF(OR(AND(CQ141=1,TABLE1!$AN$3=TRUE),AND(CQ141=2,TABLE1!$AN$4=TRUE),AND(CQ141=3,TABLE1!$AN$5=TRUE),AND(CQ141=4,TABLE1!$AQ$3=TRUE),AND(CQ141=5,TABLE1!$AQ$4=TRUE),AND(CQ141=6,TABLE1!$AQ$5=TRUE),AND(CQ141=7,TABLE1!$AT$3=TRUE),AND(CQ141=8,TABLE1!$AT$4=TRUE),AND(CQ141=9,TABLE1!$AT$5=TRUE),AND(CQ141=10,TABLE1!$AW$3=TRUE),AND(CQ141=11,TABLE1!$AW$4=TRUE),AND(CQ141=12,TABLE1!$AW$5=TRUE)),1,0)=1),1,0)=1,CR141=1,CT141=1),1,0)","v":0},{"$f":"IF(AND(OR(F141=TABLE1!$D$5,TABLE1!$D$5=\"کل بخشها\"),F141<>\"\"),1,0)","v":0}]
[null,null,null,null,null,null,null,null,null,null,null,null,null,null,null,null,null,null,null,null,null,null,null,null,null,null,null,null,null,null,null,null,null,null,null,null,null,null,null,null,null,null,null,null,null,null,null,null,null,null,null,null,null,null,null,null,null,null,null,null,null,null,null,null,null,null,null,null,null,null,null,null,null,null,null,null,null,null,null,null,null,null,null,null,null,null,null,null,null,null,null,null,null,null,"",{"$f":"IF(LEFT(C142,2)=TABLE1!$F$1,1,0)","v":0},{"$f":"IF(AND(IF(AND(IF(OR(AND(CQ142=1,TABLE1!$AN$3=TRUE),AND(CQ142=2,TABLE1!$AN$4=TRUE),AND(CQ142=3,TABLE1!$AN$5=TRUE),AND(CQ142=4,TABLE1!$AQ$3=TRUE),AND(CQ142=5,TABLE1!$AQ$4=TRUE),AND(CQ142=6,TABLE1!$AQ$5=TRUE),AND(CQ142=7,TABLE1!$AT$3=TRUE),AND(CQ142=8,TABLE1!$AT$4=TRUE),AND(CQ142=9,TABLE1!$AT$5=TRUE),AND(CQ142=10,TABLE1!$AW$3=TRUE),AND(CQ142=11,TABLE1!$AW$4=TRUE),AND(CQ142=12,TABLE1!$AW$5=TRUE)),1,0)=1),1,0)=1,CR142=1,CT142=1),1,0)","v":0},{"$f":"IF(AND(OR(F142=TABLE1!$D$5,TABLE1!$D$5=\"کل بخشها\"),F142<>\"\"),1,0)","v":0}]
[null,null,null,null,null,null,null,null,null,null,null,null,null,null,null,null,null,null,null,null,null,null,null,null,null,null,null,null,null,null,null,null,null,null,null,null,null,null,null,null,null,null,null,null,null,null,null,null,null,null,null,null,null,null,null,null,null,null,null,null,null,null,null,null,null,null,null,null,null,null,null,null,null,null,null,null,null,null,null,null,null,null,null,null,null,null,null,null,null,null,null,null,null,null,"",{"$f":"IF(LEFT(C143,2)=TABLE1!$F$1,1,0)","v":0},{"$f":"IF(AND(IF(AND(IF(OR(AND(CQ143=1,TABLE1!$AN$3=TRUE),AND(CQ143=2,TABLE1!$AN$4=TRUE),AND(CQ143=3,TABLE1!$AN$5=TRUE),AND(CQ143=4,TABLE1!$AQ$3=TRUE),AND(CQ143=5,TABLE1!$AQ$4=TRUE),AND(CQ143=6,TABLE1!$AQ$5=TRUE),AND(CQ143=7,TABLE1!$AT$3=TRUE),AND(CQ143=8,TABLE1!$AT$4=TRUE),AND(CQ143=9,TABLE1!$AT$5=TRUE),AND(CQ143=10,TABLE1!$AW$3=TRUE),AND(CQ143=11,TABLE1!$AW$4=TRUE),AND(CQ143=12,TABLE1!$AW$5=TRUE)),1,0)=1),1,0)=1,CR143=1,CT143=1),1,0)","v":0},{"$f":"IF(AND(OR(F143=TABLE1!$D$5,TABLE1!$D$5=\"کل بخشها\"),F143<>\"\"),1,0)","v":0}]
[null,null,null,null,null,null,null,null,null,null,null,null,null,null,null,null,null,null,null,null,null,null,null,null,null,null,null,null,null,null,null,null,null,null,null,null,null,null,null,null,null,null,null,null,null,null,null,null,null,null,null,null,null,null,null,null,null,null,null,null,null,null,null,null,null,null,null,null,null,null,null,null,null,null,null,null,null,null,null,null,null,null,null,null,null,null,null,null,null,null,null,null,null,null,"",{"$f":"IF(LEFT(C144,2)=TABLE1!$F$1,1,0)","v":0},{"$f":"IF(AND(IF(AND(IF(OR(AND(CQ144=1,TABLE1!$AN$3=TRUE),AND(CQ144=2,TABLE1!$AN$4=TRUE),AND(CQ144=3,TABLE1!$AN$5=TRUE),AND(CQ144=4,TABLE1!$AQ$3=TRUE),AND(CQ144=5,TABLE1!$AQ$4=TRUE),AND(CQ144=6,TABLE1!$AQ$5=TRUE),AND(CQ144=7,TABLE1!$AT$3=TRUE),AND(CQ144=8,TABLE1!$AT$4=TRUE),AND(CQ144=9,TABLE1!$AT$5=TRUE),AND(CQ144=10,TABLE1!$AW$3=TRUE),AND(CQ144=11,TABLE1!$AW$4=TRUE),AND(CQ144=12,TABLE1!$AW$5=TRUE)),1,0)=1),1,0)=1,CR144=1,CT144=1),1,0)","v":0},{"$f":"IF(AND(OR(F144=TABLE1!$D$5,TABLE1!$D$5=\"کل بخشها\"),F144<>\"\"),1,0)","v":0}]
[null,null,null,null,null,null,null,null,null,null,null,null,null,null,null,null,null,null,null,null,null,null,null,null,null,null,null,null,null,null,null,null,null,null,null,null,null,null,null,null,null,null,null,null,null,null,null,null,null,null,null,null,null,null,null,null,null,null,null,null,null,null,null,null,null,null,null,null,null,null,null,null,null,null,null,null,null,null,null,null,null,null,null,null,null,null,null,null,null,null,null,null,null,null,"",{"$f":"IF(LEFT(C145,2)=TABLE1!$F$1,1,0)","v":0},{"$f":"IF(AND(IF(AND(IF(OR(AND(CQ145=1,TABLE1!$AN$3=TRUE),AND(CQ145=2,TABLE1!$AN$4=TRUE),AND(CQ145=3,TABLE1!$AN$5=TRUE),AND(CQ145=4,TABLE1!$AQ$3=TRUE),AND(CQ145=5,TABLE1!$AQ$4=TRUE),AND(CQ145=6,TABLE1!$AQ$5=TRUE),AND(CQ145=7,TABLE1!$AT$3=TRUE),AND(CQ145=8,TABLE1!$AT$4=TRUE),AND(CQ145=9,TABLE1!$AT$5=TRUE),AND(CQ145=10,TABLE1!$AW$3=TRUE),AND(CQ145=11,TABLE1!$AW$4=TRUE),AND(CQ145=12,TABLE1!$AW$5=TRUE)),1,0)=1),1,0)=1,CR145=1,CT145=1),1,0)","v":0},{"$f":"IF(AND(OR(F145=TABLE1!$D$5,TABLE1!$D$5=\"کل بخشها\"),F145<>\"\"),1,0)","v":0}]
[null,null,null,null,null,null,null,null,null,null,null,null,null,null,null,null,null,null,null,null,null,null,null,null,null,null,null,null,null,null,null,null,null,null,null,null,null,null,null,null,null,null,null,null,null,null,null,null,null,null,null,null,null,null,null,null,null,null,null,null,null,null,null,null,null,null,null,null,null,null,null,null,null,null,null,null,null,null,null,null,null,null,null,null,null,null,null,null,null,null,null,null,null,null,"",{"$f":"IF(LEFT(C146,2)=TABLE1!$F$1,1,0)","v":0},{"$f":"IF(AND(IF(AND(IF(OR(AND(CQ146=1,TABLE1!$AN$3=TRUE),AND(CQ146=2,TABLE1!$AN$4=TRUE),AND(CQ146=3,TABLE1!$AN$5=TRUE),AND(CQ146=4,TABLE1!$AQ$3=TRUE),AND(CQ146=5,TABLE1!$AQ$4=TRUE),AND(CQ146=6,TABLE1!$AQ$5=TRUE),AND(CQ146=7,TABLE1!$AT$3=TRUE),AND(CQ146=8,TABLE1!$AT$4=TRUE),AND(CQ146=9,TABLE1!$AT$5=TRUE),AND(CQ146=10,TABLE1!$AW$3=TRUE),AND(CQ146=11,TABLE1!$AW$4=TRUE),AND(CQ146=12,TABLE1!$AW$5=TRUE)),1,0)=1),1,0)=1,CR146=1,CT146=1),1,0)","v":0},{"$f":"IF(AND(OR(F146=TABLE1!$D$5,TABLE1!$D$5=\"کل بخشها\"),F146<>\"\"),1,0)","v":0}]
[null,null,null,null,null,null,null,null,null,null,null,null,null,null,null,null,null,null,null,null,null,null,null,null,null,null,null,null,null,null,null,null,null,null,null,null,null,null,null,null,null,null,null,null,null,null,null,null,null,null,null,null,null,null,null,null,null,null,null,null,null,null,null,null,null,null,null,null,null,null,null,null,null,null,null,null,null,null,null,null,null,null,null,null,null,null,null,null,null,null,null,null,null,null,"",{"$f":"IF(LEFT(C147,2)=TABLE1!$F$1,1,0)","v":0},{"$f":"IF(AND(IF(AND(IF(OR(AND(CQ147=1,TABLE1!$AN$3=TRUE),AND(CQ147=2,TABLE1!$AN$4=TRUE),AND(CQ147=3,TABLE1!$AN$5=TRUE),AND(CQ147=4,TABLE1!$AQ$3=TRUE),AND(CQ147=5,TABLE1!$AQ$4=TRUE),AND(CQ147=6,TABLE1!$AQ$5=TRUE),AND(CQ147=7,TABLE1!$AT$3=TRUE),AND(CQ147=8,TABLE1!$AT$4=TRUE),AND(CQ147=9,TABLE1!$AT$5=TRUE),AND(CQ147=10,TABLE1!$AW$3=TRUE),AND(CQ147=11,TABLE1!$AW$4=TRUE),AND(CQ147=12,TABLE1!$AW$5=TRUE)),1,0)=1),1,0)=1,CR147=1,CT147=1),1,0)","v":0},{"$f":"IF(AND(OR(F147=TABLE1!$D$5,TABLE1!$D$5=\"کل بخشها\"),F147<>\"\"),1,0)","v":0}]
[null,null,null,null,null,null,null,null,null,null,null,null,null,null,null,null,null,null,null,null,null,null,null,null,null,null,null,null,null,null,null,null,null,null,null,null,null,null,null,null,null,null,null,null,null,null,null,null,null,null,null,null,null,null,null,null,null,null,null,null,null,null,null,null,null,null,null,null,null,null,null,null,null,null,null,null,null,null,null,null,null,null,null,null,null,null,null,null,null,null,null,null,null,null,"",{"$f":"IF(LEFT(C148,2)=TABLE1!$F$1,1,0)","v":0},{"$f":"IF(AND(IF(AND(IF(OR(AND(CQ148=1,TABLE1!$AN$3=TRUE),AND(CQ148=2,TABLE1!$AN$4=TRUE),AND(CQ148=3,TABLE1!$AN$5=TRUE),AND(CQ148=4,TABLE1!$AQ$3=TRUE),AND(CQ148=5,TABLE1!$AQ$4=TRUE),AND(CQ148=6,TABLE1!$AQ$5=TRUE),AND(CQ148=7,TABLE1!$AT$3=TRUE),AND(CQ148=8,TABLE1!$AT$4=TRUE),AND(CQ148=9,TABLE1!$AT$5=TRUE),AND(CQ148=10,TABLE1!$AW$3=TRUE),AND(CQ148=11,TABLE1!$AW$4=TRUE),AND(CQ148=12,TABLE1!$AW$5=TRUE)),1,0)=1),1,0)=1,CR148=1,CT148=1),1,0)","v":0},{"$f":"IF(AND(OR(F148=TABLE1!$D$5,TABLE1!$D$5=\"کل بخشها\"),F148<>\"\"),1,0)","v":0}]
[null,null,null,null,null,null,null,null,null,null,null,null,null,null,null,null,null,null,null,null,null,null,null,null,null,null,null,null,null,null,null,null,null,null,null,null,null,null,null,null,null,null,null,null,null,null,null,null,null,null,null,null,null,null,null,null,null,null,null,null,null,null,null,null,null,null,null,null,null,null,null,null,null,null,null,null,null,null,null,null,null,null,null,null,null,null,null,null,null,null,null,null,null,null,"",{"$f":"IF(LEFT(C149,2)=TABLE1!$F$1,1,0)","v":0},{"$f":"IF(AND(IF(AND(IF(OR(AND(CQ149=1,TABLE1!$AN$3=TRUE),AND(CQ149=2,TABLE1!$AN$4=TRUE),AND(CQ149=3,TABLE1!$AN$5=TRUE),AND(CQ149=4,TABLE1!$AQ$3=TRUE),AND(CQ149=5,TABLE1!$AQ$4=TRUE),AND(CQ149=6,TABLE1!$AQ$5=TRUE),AND(CQ149=7,TABLE1!$AT$3=TRUE),AND(CQ149=8,TABLE1!$AT$4=TRUE),AND(CQ149=9,TABLE1!$AT$5=TRUE),AND(CQ149=10,TABLE1!$AW$3=TRUE),AND(CQ149=11,TABLE1!$AW$4=TRUE),AND(CQ149=12,TABLE1!$AW$5=TRUE)),1,0)=1),1,0)=1,CR149=1,CT149=1),1,0)","v":0},{"$f":"IF(AND(OR(F149=TABLE1!$D$5,TABLE1!$D$5=\"کل بخشها\"),F149<>\"\"),1,0)","v":0}]
[null,null,null,null,null,null,null,null,null,null,null,null,null,null,null,null,null,null,null,null,null,null,null,null,null,null,null,null,null,null,null,null,null,null,null,null,null,null,null,null,null,null,null,null,null,null,null,null,null,null,null,null,null,null,null,null,null,null,null,null,null,null,null,null,null,null,null,null,null,null,null,null,null,null,null,null,null,null,null,null,null,null,null,null,null,null,null,null,null,null,null,null,null,null,"",{"$f":"IF(LEFT(C150,2)=TABLE1!$F$1,1,0)","v":0},{"$f":"IF(AND(IF(AND(IF(OR(AND(CQ150=1,TABLE1!$AN$3=TRUE),AND(CQ150=2,TABLE1!$AN$4=TRUE),AND(CQ150=3,TABLE1!$AN$5=TRUE),AND(CQ150=4,TABLE1!$AQ$3=TRUE),AND(CQ150=5,TABLE1!$AQ$4=TRUE),AND(CQ150=6,TABLE1!$AQ$5=TRUE),AND(CQ150=7,TABLE1!$AT$3=TRUE),AND(CQ150=8,TABLE1!$AT$4=TRUE),AND(CQ150=9,TABLE1!$AT$5=TRUE),AND(CQ150=10,TABLE1!$AW$3=TRUE),AND(CQ150=11,TABLE1!$AW$4=TRUE),AND(CQ150=12,TABLE1!$AW$5=TRUE)),1,0)=1),1,0)=1,CR150=1,CT150=1),1,0)","v":0},{"$f":"IF(AND(OR(F150=TABLE1!$D$5,TABLE1!$D$5=\"کل بخشها\"),F150<>\"\"),1,0)","v":0}]
[null,null,null,null,null,null,null,null,null,null,null,null,null,null,null,null,null,null,null,null,null,null,null,null,null,null,null,null,null,null,null,null,null,null,null,null,null,null,null,null,null,null,null,null,null,null,null,null,null,null,null,null,null,null,null,null,null,null,null,null,null,null,null,null,null,null,null,null,null,null,null,null,null,null,null,null,null,null,null,null,null,null,null,null,null,null,null,null,null,null,null,null,null,null,"",{"$f":"IF(LEFT(C151,2)=TABLE1!$F$1,1,0)","v":0},{"$f":"IF(AND(IF(AND(IF(OR(AND(CQ151=1,TABLE1!$AN$3=TRUE),AND(CQ151=2,TABLE1!$AN$4=TRUE),AND(CQ151=3,TABLE1!$AN$5=TRUE),AND(CQ151=4,TABLE1!$AQ$3=TRUE),AND(CQ151=5,TABLE1!$AQ$4=TRUE),AND(CQ151=6,TABLE1!$AQ$5=TRUE),AND(CQ151=7,TABLE1!$AT$3=TRUE),AND(CQ151=8,TABLE1!$AT$4=TRUE),AND(CQ151=9,TABLE1!$AT$5=TRUE),AND(CQ151=10,TABLE1!$AW$3=TRUE),AND(CQ151=11,TABLE1!$AW$4=TRUE),AND(CQ151=12,TABLE1!$AW$5=TRUE)),1,0)=1),1,0)=1,CR151=1,CT151=1),1,0)","v":0},{"$f":"IF(AND(OR(F151=TABLE1!$D$5,TABLE1!$D$5=\"کل بخشها\"),F151<>\"\"),1,0)","v":0}]
[null,null,null,null,null,null,null,null,null,null,null,null,null,null,null,null,null,null,null,null,null,null,null,null,null,null,null,null,null,null,null,null,null,null,null,null,null,null,null,null,null,null,null,null,null,null,null,null,null,null,null,null,null,null,null,null,null,null,null,null,null,null,null,null,null,null,null,null,null,null,null,null,null,null,null,null,null,null,null,null,null,null,null,null,null,null,null,null,null,null,null,null,null,null,"",{"$f":"IF(LEFT(C152,2)=TABLE1!$F$1,1,0)","v":0},{"$f":"IF(AND(IF(AND(IF(OR(AND(CQ152=1,TABLE1!$AN$3=TRUE),AND(CQ152=2,TABLE1!$AN$4=TRUE),AND(CQ152=3,TABLE1!$AN$5=TRUE),AND(CQ152=4,TABLE1!$AQ$3=TRUE),AND(CQ152=5,TABLE1!$AQ$4=TRUE),AND(CQ152=6,TABLE1!$AQ$5=TRUE),AND(CQ152=7,TABLE1!$AT$3=TRUE),AND(CQ152=8,TABLE1!$AT$4=TRUE),AND(CQ152=9,TABLE1!$AT$5=TRUE),AND(CQ152=10,TABLE1!$AW$3=TRUE),AND(CQ152=11,TABLE1!$AW$4=TRUE),AND(CQ152=12,TABLE1!$AW$5=TRUE)),1,0)=1),1,0)=1,CR152=1,CT152=1),1,0)","v":0},{"$f":"IF(AND(OR(F152=TABLE1!$D$5,TABLE1!$D$5=\"کل بخشها\"),F152<>\"\"),1,0)","v":0}]
[null,null,null,null,null,null,null,null,null,null,null,null,null,null,null,null,null,null,null,null,null,null,null,null,null,null,null,null,null,null,null,null,null,null,null,null,null,null,null,null,null,null,null,null,null,null,null,null,null,null,null,null,null,null,null,null,null,null,null,null,null,null,null,null,null,null,null,null,null,null,null,null,null,null,null,null,null,null,null,null,null,null,null,null,null,null,null,null,null,null,null,null,null,null,"",{"$f":"IF(LEFT(C153,2)=TABLE1!$F$1,1,0)","v":0},{"$f":"IF(AND(IF(AND(IF(OR(AND(CQ153=1,TABLE1!$AN$3=TRUE),AND(CQ153=2,TABLE1!$AN$4=TRUE),AND(CQ153=3,TABLE1!$AN$5=TRUE),AND(CQ153=4,TABLE1!$AQ$3=TRUE),AND(CQ153=5,TABLE1!$AQ$4=TRUE),AND(CQ153=6,TABLE1!$AQ$5=TRUE),AND(CQ153=7,TABLE1!$AT$3=TRUE),AND(CQ153=8,TABLE1!$AT$4=TRUE),AND(CQ153=9,TABLE1!$AT$5=TRUE),AND(CQ153=10,TABLE1!$AW$3=TRUE),AND(CQ153=11,TABLE1!$AW$4=TRUE),AND(CQ153=12,TABLE1!$AW$5=TRUE)),1,0)=1),1,0)=1,CR153=1,CT153=1),1,0)","v":0},{"$f":"IF(AND(OR(F153=TABLE1!$D$5,TABLE1!$D$5=\"کل بخشها\"),F153<>\"\"),1,0)","v":0}]
[null,null,null,null,null,null,null,null,null,null,null,null,null,null,null,null,null,null,null,null,null,null,null,null,null,null,null,null,null,null,null,null,null,null,null,null,null,null,null,null,null,null,null,null,null,null,null,null,null,null,null,null,null,null,null,null,null,null,null,null,null,null,null,null,null,null,null,null,null,null,null,null,null,null,null,null,null,null,null,null,null,null,null,null,null,null,null,null,null,null,null,null,null,null,"",{"$f":"IF(LEFT(C154,2)=TABLE1!$F$1,1,0)","v":0},{"$f":"IF(AND(IF(AND(IF(OR(AND(CQ154=1,TABLE1!$AN$3=TRUE),AND(CQ154=2,TABLE1!$AN$4=TRUE),AND(CQ154=3,TABLE1!$AN$5=TRUE),AND(CQ154=4,TABLE1!$AQ$3=TRUE),AND(CQ154=5,TABLE1!$AQ$4=TRUE),AND(CQ154=6,TABLE1!$AQ$5=TRUE),AND(CQ154=7,TABLE1!$AT$3=TRUE),AND(CQ154=8,TABLE1!$AT$4=TRUE),AND(CQ154=9,TABLE1!$AT$5=TRUE),AND(CQ154=10,TABLE1!$AW$3=TRUE),AND(CQ154=11,TABLE1!$AW$4=TRUE),AND(CQ154=12,TABLE1!$AW$5=TRUE)),1,0)=1),1,0)=1,CR154=1,CT154=1),1,0)","v":0},{"$f":"IF(AND(OR(F154=TABLE1!$D$5,TABLE1!$D$5=\"کل بخشها\"),F154<>\"\"),1,0)","v":0}]
[null,null,null,null,null,null,null,null,null,null,null,null,null,null,null,null,null,null,null,null,null,null,null,null,null,null,null,null,null,null,null,null,null,null,null,null,null,null,null,null,null,null,null,null,null,null,null,null,null,null,null,null,null,null,null,null,null,null,null,null,null,null,null,null,null,null,null,null,null,null,null,null,null,null,null,null,null,null,null,null,null,null,null,null,null,null,null,null,null,null,null,null,null,null,"",{"$f":"IF(LEFT(C155,2)=TABLE1!$F$1,1,0)","v":0},{"$f":"IF(AND(IF(AND(IF(OR(AND(CQ155=1,TABLE1!$AN$3=TRUE),AND(CQ155=2,TABLE1!$AN$4=TRUE),AND(CQ155=3,TABLE1!$AN$5=TRUE),AND(CQ155=4,TABLE1!$AQ$3=TRUE),AND(CQ155=5,TABLE1!$AQ$4=TRUE),AND(CQ155=6,TABLE1!$AQ$5=TRUE),AND(CQ155=7,TABLE1!$AT$3=TRUE),AND(CQ155=8,TABLE1!$AT$4=TRUE),AND(CQ155=9,TABLE1!$AT$5=TRUE),AND(CQ155=10,TABLE1!$AW$3=TRUE),AND(CQ155=11,TABLE1!$AW$4=TRUE),AND(CQ155=12,TABLE1!$AW$5=TRUE)),1,0)=1),1,0)=1,CR155=1,CT155=1),1,0)","v":0},{"$f":"IF(AND(OR(F155=TABLE1!$D$5,TABLE1!$D$5=\"کل بخشها\"),F155<>\"\"),1,0)","v":0}]
[null,null,null,null,null,null,null,null,null,null,null,null,null,null,null,null,null,null,null,null,null,null,null,null,null,null,null,null,null,null,null,null,null,null,null,null,null,null,null,null,null,null,null,null,null,null,null,null,null,null,null,null,null,null,null,null,null,null,null,null,null,null,null,null,null,null,null,null,null,null,null,null,null,null,null,null,null,null,null,null,null,null,null,null,null,null,null,null,null,null,null,null,null,null,"",{"$f":"IF(LEFT(C156,2)=TABLE1!$F$1,1,0)","v":0},{"$f":"IF(AND(IF(AND(IF(OR(AND(CQ156=1,TABLE1!$AN$3=TRUE),AND(CQ156=2,TABLE1!$AN$4=TRUE),AND(CQ156=3,TABLE1!$AN$5=TRUE),AND(CQ156=4,TABLE1!$AQ$3=TRUE),AND(CQ156=5,TABLE1!$AQ$4=TRUE),AND(CQ156=6,TABLE1!$AQ$5=TRUE),AND(CQ156=7,TABLE1!$AT$3=TRUE),AND(CQ156=8,TABLE1!$AT$4=TRUE),AND(CQ156=9,TABLE1!$AT$5=TRUE),AND(CQ156=10,TABLE1!$AW$3=TRUE),AND(CQ156=11,TABLE1!$AW$4=TRUE),AND(CQ156=12,TABLE1!$AW$5=TRUE)),1,0)=1),1,0)=1,CR156=1,CT156=1),1,0)","v":0},{"$f":"IF(AND(OR(F156=TABLE1!$D$5,TABLE1!$D$5=\"کل بخشها\"),F156<>\"\"),1,0)","v":0}]
[null,null,null,null,null,null,null,null,null,null,null,null,null,null,null,null,null,null,null,null,null,null,null,null,null,null,null,null,null,null,null,null,null,null,null,null,null,null,null,null,null,null,null,null,null,null,null,null,null,null,null,null,null,null,null,null,null,null,null,null,null,null,null,null,null,null,null,null,null,null,null,null,null,null,null,null,null,null,null,null,null,null,null,null,null,null,null,null,null,null,null,null,null,null,"",{"$f":"IF(LEFT(C157,2)=TABLE1!$F$1,1,0)","v":0},{"$f":"IF(AND(IF(AND(IF(OR(AND(CQ157=1,TABLE1!$AN$3=TRUE),AND(CQ157=2,TABLE1!$AN$4=TRUE),AND(CQ157=3,TABLE1!$AN$5=TRUE),AND(CQ157=4,TABLE1!$AQ$3=TRUE),AND(CQ157=5,TABLE1!$AQ$4=TRUE),AND(CQ157=6,TABLE1!$AQ$5=TRUE),AND(CQ157=7,TABLE1!$AT$3=TRUE),AND(CQ157=8,TABLE1!$AT$4=TRUE),AND(CQ157=9,TABLE1!$AT$5=TRUE),AND(CQ157=10,TABLE1!$AW$3=TRUE),AND(CQ157=11,TABLE1!$AW$4=TRUE),AND(CQ157=12,TABLE1!$AW$5=TRUE)),1,0)=1),1,0)=1,CR157=1,CT157=1),1,0)","v":0},{"$f":"IF(AND(OR(F157=TABLE1!$D$5,TABLE1!$D$5=\"کل بخشها\"),F157<>\"\"),1,0)","v":0}]
[null,null,null,null,null,null,null,null,null,null,null,null,null,null,null,null,null,null,null,null,null,null,null,null,null,null,null,null,null,null,null,null,null,null,null,null,null,null,null,null,null,null,null,null,null,null,null,null,null,null,null,null,null,null,null,null,null,null,null,null,null,null,null,null,null,null,null,null,null,null,null,null,null,null,null,null,null,null,null,null,null,null,null,null,null,null,null,null,null,null,null,null,null,null,"",{"$f":"IF(LEFT(C158,2)=TABLE1!$F$1,1,0)","v":0},{"$f":"IF(AND(IF(AND(IF(OR(AND(CQ158=1,TABLE1!$AN$3=TRUE),AND(CQ158=2,TABLE1!$AN$4=TRUE),AND(CQ158=3,TABLE1!$AN$5=TRUE),AND(CQ158=4,TABLE1!$AQ$3=TRUE),AND(CQ158=5,TABLE1!$AQ$4=TRUE),AND(CQ158=6,TABLE1!$AQ$5=TRUE),AND(CQ158=7,TABLE1!$AT$3=TRUE),AND(CQ158=8,TABLE1!$AT$4=TRUE),AND(CQ158=9,TABLE1!$AT$5=TRUE),AND(CQ158=10,TABLE1!$AW$3=TRUE),AND(CQ158=11,TABLE1!$AW$4=TRUE),AND(CQ158=12,TABLE1!$AW$5=TRUE)),1,0)=1),1,0)=1,CR158=1,CT158=1),1,0)","v":0},{"$f":"IF(AND(OR(F158=TABLE1!$D$5,TABLE1!$D$5=\"کل بخشها\"),F158<>\"\"),1,0)","v":0}]
[null,null,null,null,null,null,null,null,null,null,null,null,null,null,null,null,null,null,null,null,null,null,null,null,null,null,null,null,null,null,null,null,null,null,null,null,null,null,null,null,null,null,null,null,null,null,null,null,null,null,null,null,null,null,null,null,null,null,null,null,null,null,null,null,null,null,null,null,null,null,null,null,null,null,null,null,null,null,null,null,null,null,null,null,null,null,null,null,null,null,null,null,null,null,"",{"$f":"IF(LEFT(C159,2)=TABLE1!$F$1,1,0)","v":0},{"$f":"IF(AND(IF(AND(IF(OR(AND(CQ159=1,TABLE1!$AN$3=TRUE),AND(CQ159=2,TABLE1!$AN$4=TRUE),AND(CQ159=3,TABLE1!$AN$5=TRUE),AND(CQ159=4,TABLE1!$AQ$3=TRUE),AND(CQ159=5,TABLE1!$AQ$4=TRUE),AND(CQ159=6,TABLE1!$AQ$5=TRUE),AND(CQ159=7,TABLE1!$AT$3=TRUE),AND(CQ159=8,TABLE1!$AT$4=TRUE),AND(CQ159=9,TABLE1!$AT$5=TRUE),AND(CQ159=10,TABLE1!$AW$3=TRUE),AND(CQ159=11,TABLE1!$AW$4=TRUE),AND(CQ159=12,TABLE1!$AW$5=TRUE)),1,0)=1),1,0)=1,CR159=1,CT159=1),1,0)","v":0},{"$f":"IF(AND(OR(F159=TABLE1!$D$5,TABLE1!$D$5=\"کل بخشها\"),F159<>\"\"),1,0)","v":0}]
[null,null,null,null,null,null,null,null,null,null,null,null,null,null,null,null,null,null,null,null,null,null,null,null,null,null,null,null,null,null,null,null,null,null,null,null,null,null,null,null,null,null,null,null,null,null,null,null,null,null,null,null,null,null,null,null,null,null,null,null,null,null,null,null,null,null,null,null,null,null,null,null,null,null,null,null,null,null,null,null,null,null,null,null,null,null,null,null,null,null,null,null,null,null,"",{"$f":"IF(LEFT(C160,2)=TABLE1!$F$1,1,0)","v":0},{"$f":"IF(AND(IF(AND(IF(OR(AND(CQ160=1,TABLE1!$AN$3=TRUE),AND(CQ160=2,TABLE1!$AN$4=TRUE),AND(CQ160=3,TABLE1!$AN$5=TRUE),AND(CQ160=4,TABLE1!$AQ$3=TRUE),AND(CQ160=5,TABLE1!$AQ$4=TRUE),AND(CQ160=6,TABLE1!$AQ$5=TRUE),AND(CQ160=7,TABLE1!$AT$3=TRUE),AND(CQ160=8,TABLE1!$AT$4=TRUE),AND(CQ160=9,TABLE1!$AT$5=TRUE),AND(CQ160=10,TABLE1!$AW$3=TRUE),AND(CQ160=11,TABLE1!$AW$4=TRUE),AND(CQ160=12,TABLE1!$AW$5=TRUE)),1,0)=1),1,0)=1,CR160=1,CT160=1),1,0)","v":0},{"$f":"IF(AND(OR(F160=TABLE1!$D$5,TABLE1!$D$5=\"کل بخشها\"),F160<>\"\"),1,0)","v":0}]
[null,null,null,null,null,null,null,null,null,null,null,null,null,null,null,null,null,null,null,null,null,null,null,null,null,null,null,null,null,null,null,null,null,null,null,null,null,null,null,null,null,null,null,null,null,null,null,null,null,null,null,null,null,null,null,null,null,null,null,null,null,null,null,null,null,null,null,null,null,null,null,null,null,null,null,null,null,null,null,null,null,null,null,null,null,null,null,null,null,null,null,null,null,null,"",{"$f":"IF(LEFT(C161,2)=TABLE1!$F$1,1,0)","v":0},{"$f":"IF(AND(IF(AND(IF(OR(AND(CQ161=1,TABLE1!$AN$3=TRUE),AND(CQ161=2,TABLE1!$AN$4=TRUE),AND(CQ161=3,TABLE1!$AN$5=TRUE),AND(CQ161=4,TABLE1!$AQ$3=TRUE),AND(CQ161=5,TABLE1!$AQ$4=TRUE),AND(CQ161=6,TABLE1!$AQ$5=TRUE),AND(CQ161=7,TABLE1!$AT$3=TRUE),AND(CQ161=8,TABLE1!$AT$4=TRUE),AND(CQ161=9,TABLE1!$AT$5=TRUE),AND(CQ161=10,TABLE1!$AW$3=TRUE),AND(CQ161=11,TABLE1!$AW$4=TRUE),AND(CQ161=12,TABLE1!$AW$5=TRUE)),1,0)=1),1,0)=1,CR161=1,CT161=1),1,0)","v":0},{"$f":"IF(AND(OR(F161=TABLE1!$D$5,TABLE1!$D$5=\"کل بخشها\"),F161<>\"\"),1,0)","v":0}]
[null,null,null,null,null,null,null,null,null,null,null,null,null,null,null,null,null,null,null,null,null,null,null,null,null,null,null,null,null,null,null,null,null,null,null,null,null,null,null,null,null,null,null,null,null,null,null,null,null,null,null,null,null,null,null,null,null,null,null,null,null,null,null,null,null,null,null,null,null,null,null,null,null,null,null,null,null,null,null,null,null,null,null,null,null,null,null,null,null,null,null,null,null,null,"",{"$f":"IF(LEFT(C162,2)=TABLE1!$F$1,1,0)","v":0},{"$f":"IF(AND(IF(AND(IF(OR(AND(CQ162=1,TABLE1!$AN$3=TRUE),AND(CQ162=2,TABLE1!$AN$4=TRUE),AND(CQ162=3,TABLE1!$AN$5=TRUE),AND(CQ162=4,TABLE1!$AQ$3=TRUE),AND(CQ162=5,TABLE1!$AQ$4=TRUE),AND(CQ162=6,TABLE1!$AQ$5=TRUE),AND(CQ162=7,TABLE1!$AT$3=TRUE),AND(CQ162=8,TABLE1!$AT$4=TRUE),AND(CQ162=9,TABLE1!$AT$5=TRUE),AND(CQ162=10,TABLE1!$AW$3=TRUE),AND(CQ162=11,TABLE1!$AW$4=TRUE),AND(CQ162=12,TABLE1!$AW$5=TRUE)),1,0)=1),1,0)=1,CR162=1,CT162=1),1,0)","v":0},{"$f":"IF(AND(OR(F162=TABLE1!$D$5,TABLE1!$D$5=\"کل بخشها\"),F162<>\"\"),1,0)","v":0}]
[null,null,null,null,null,null,null,null,null,null,null,null,null,null,null,null,null,null,null,null,null,null,null,null,null,null,null,null,null,null,null,null,null,null,null,null,null,null,null,null,null,null,null,null,null,null,null,null,null,null,null,null,null,null,null,null,null,null,null,null,null,null,null,null,null,null,null,null,null,null,null,null,null,null,null,null,null,null,null,null,null,null,null,null,null,null,null,null,null,null,null,null,null,null,"",{"$f":"IF(LEFT(C163,2)=TABLE1!$F$1,1,0)","v":0},{"$f":"IF(AND(IF(AND(IF(OR(AND(CQ163=1,TABLE1!$AN$3=TRUE),AND(CQ163=2,TABLE1!$AN$4=TRUE),AND(CQ163=3,TABLE1!$AN$5=TRUE),AND(CQ163=4,TABLE1!$AQ$3=TRUE),AND(CQ163=5,TABLE1!$AQ$4=TRUE),AND(CQ163=6,TABLE1!$AQ$5=TRUE),AND(CQ163=7,TABLE1!$AT$3=TRUE),AND(CQ163=8,TABLE1!$AT$4=TRUE),AND(CQ163=9,TABLE1!$AT$5=TRUE),AND(CQ163=10,TABLE1!$AW$3=TRUE),AND(CQ163=11,TABLE1!$AW$4=TRUE),AND(CQ163=12,TABLE1!$AW$5=TRUE)),1,0)=1),1,0)=1,CR163=1,CT163=1),1,0)","v":0},{"$f":"IF(AND(OR(F163=TABLE1!$D$5,TABLE1!$D$5=\"کل بخشها\"),F163<>\"\"),1,0)","v":0}]
[null,null,null,null,null,null,null,null,null,null,null,null,null,null,null,null,null,null,null,null,null,null,null,null,null,null,null,null,null,null,null,null,null,null,null,null,null,null,null,null,null,null,null,null,null,null,null,null,null,null,null,null,null,null,null,null,null,null,null,null,null,null,null,null,null,null,null,null,null,null,null,null,null,null,null,null,null,null,null,null,null,null,null,null,null,null,null,null,null,null,null,null,null,null,"",{"$f":"IF(LEFT(C164,2)=TABLE1!$F$1,1,0)","v":0},{"$f":"IF(AND(IF(AND(IF(OR(AND(CQ164=1,TABLE1!$AN$3=TRUE),AND(CQ164=2,TABLE1!$AN$4=TRUE),AND(CQ164=3,TABLE1!$AN$5=TRUE),AND(CQ164=4,TABLE1!$AQ$3=TRUE),AND(CQ164=5,TABLE1!$AQ$4=TRUE),AND(CQ164=6,TABLE1!$AQ$5=TRUE),AND(CQ164=7,TABLE1!$AT$3=TRUE),AND(CQ164=8,TABLE1!$AT$4=TRUE),AND(CQ164=9,TABLE1!$AT$5=TRUE),AND(CQ164=10,TABLE1!$AW$3=TRUE),AND(CQ164=11,TABLE1!$AW$4=TRUE),AND(CQ164=12,TABLE1!$AW$5=TRUE)),1,0)=1),1,0)=1,CR164=1,CT164=1),1,0)","v":0},{"$f":"IF(AND(OR(F164=TABLE1!$D$5,TABLE1!$D$5=\"کل بخشها\"),F164<>\"\"),1,0)","v":0}]
[null,null,null,null,null,null,null,null,null,null,null,null,null,null,null,null,null,null,null,null,null,null,null,null,null,null,null,null,null,null,null,null,null,null,null,null,null,null,null,null,null,null,null,null,null,null,null,null,null,null,null,null,null,null,null,null,null,null,null,null,null,null,null,null,null,null,null,null,null,null,null,null,null,null,null,null,null,null,null,null,null,null,null,null,null,null,null,null,null,null,null,null,null,null,"",{"$f":"IF(LEFT(C165,2)=TABLE1!$F$1,1,0)","v":0},{"$f":"IF(AND(IF(AND(IF(OR(AND(CQ165=1,TABLE1!$AN$3=TRUE),AND(CQ165=2,TABLE1!$AN$4=TRUE),AND(CQ165=3,TABLE1!$AN$5=TRUE),AND(CQ165=4,TABLE1!$AQ$3=TRUE),AND(CQ165=5,TABLE1!$AQ$4=TRUE),AND(CQ165=6,TABLE1!$AQ$5=TRUE),AND(CQ165=7,TABLE1!$AT$3=TRUE),AND(CQ165=8,TABLE1!$AT$4=TRUE),AND(CQ165=9,TABLE1!$AT$5=TRUE),AND(CQ165=10,TABLE1!$AW$3=TRUE),AND(CQ165=11,TABLE1!$AW$4=TRUE),AND(CQ165=12,TABLE1!$AW$5=TRUE)),1,0)=1),1,0)=1,CR165=1,CT165=1),1,0)","v":0},{"$f":"IF(AND(OR(F165=TABLE1!$D$5,TABLE1!$D$5=\"کل بخشها\"),F165<>\"\"),1,0)","v":0}]
[null,null,null,null,null,null,null,null,null,null,null,null,null,null,null,null,null,null,null,null,null,null,null,null,null,null,null,null,null,null,null,null,null,null,null,null,null,null,null,null,null,null,null,null,null,null,null,null,null,null,null,null,null,null,null,null,null,null,null,null,null,null,null,null,null,null,null,null,null,null,null,null,null,null,null,null,null,null,null,null,null,null,null,null,null,null,null,null,null,null,null,null,null,null,"",{"$f":"IF(LEFT(C166,2)=TABLE1!$F$1,1,0)","v":0},{"$f":"IF(AND(IF(AND(IF(OR(AND(CQ166=1,TABLE1!$AN$3=TRUE),AND(CQ166=2,TABLE1!$AN$4=TRUE),AND(CQ166=3,TABLE1!$AN$5=TRUE),AND(CQ166=4,TABLE1!$AQ$3=TRUE),AND(CQ166=5,TABLE1!$AQ$4=TRUE),AND(CQ166=6,TABLE1!$AQ$5=TRUE),AND(CQ166=7,TABLE1!$AT$3=TRUE),AND(CQ166=8,TABLE1!$AT$4=TRUE),AND(CQ166=9,TABLE1!$AT$5=TRUE),AND(CQ166=10,TABLE1!$AW$3=TRUE),AND(CQ166=11,TABLE1!$AW$4=TRUE),AND(CQ166=12,TABLE1!$AW$5=TRUE)),1,0)=1),1,0)=1,CR166=1,CT166=1),1,0)","v":0},{"$f":"IF(AND(OR(F166=TABLE1!$D$5,TABLE1!$D$5=\"کل بخشها\"),F166<>\"\"),1,0)","v":0}]
[null,null,null,null,null,null,null,null,null,null,null,null,null,null,null,null,null,null,null,null,null,null,null,null,null,null,null,null,null,null,null,null,null,null,null,null,null,null,null,null,null,null,null,null,null,null,null,null,null,null,null,null,null,null,null,null,null,null,null,null,null,null,null,null,null,null,null,null,null,null,null,null,null,null,null,null,null,null,null,null,null,null,null,null,null,null,null,null,null,null,null,null,null,null,"",{"$f":"IF(LEFT(C167,2)=TABLE1!$F$1,1,0)","v":0},{"$f":"IF(AND(IF(AND(IF(OR(AND(CQ167=1,TABLE1!$AN$3=TRUE),AND(CQ167=2,TABLE1!$AN$4=TRUE),AND(CQ167=3,TABLE1!$AN$5=TRUE),AND(CQ167=4,TABLE1!$AQ$3=TRUE),AND(CQ167=5,TABLE1!$AQ$4=TRUE),AND(CQ167=6,TABLE1!$AQ$5=TRUE),AND(CQ167=7,TABLE1!$AT$3=TRUE),AND(CQ167=8,TABLE1!$AT$4=TRUE),AND(CQ167=9,TABLE1!$AT$5=TRUE),AND(CQ167=10,TABLE1!$AW$3=TRUE),AND(CQ167=11,TABLE1!$AW$4=TRUE),AND(CQ167=12,TABLE1!$AW$5=TRUE)),1,0)=1),1,0)=1,CR167=1,CT167=1),1,0)","v":0},{"$f":"IF(AND(OR(F167=TABLE1!$D$5,TABLE1!$D$5=\"کل بخشها\"),F167<>\"\"),1,0)","v":0}]
[null,null,null,null,null,null,null,null,null,null,null,null,null,null,null,null,null,null,null,null,null,null,null,null,null,null,null,null,null,null,null,null,null,null,null,null,null,null,null,null,null,null,null,null,null,null,null,null,null,null,null,null,null,null,null,null,null,null,null,null,null,null,null,null,null,null,null,null,null,null,null,null,null,null,null,null,null,null,null,null,null,null,null,null,null,null,null,null,null,null,null,null,null,null,"",{"$f":"IF(LEFT(C168,2)=TABLE1!$F$1,1,0)","v":0},{"$f":"IF(AND(IF(AND(IF(OR(AND(CQ168=1,TABLE1!$AN$3=TRUE),AND(CQ168=2,TABLE1!$AN$4=TRUE),AND(CQ168=3,TABLE1!$AN$5=TRUE),AND(CQ168=4,TABLE1!$AQ$3=TRUE),AND(CQ168=5,TABLE1!$AQ$4=TRUE),AND(CQ168=6,TABLE1!$AQ$5=TRUE),AND(CQ168=7,TABLE1!$AT$3=TRUE),AND(CQ168=8,TABLE1!$AT$4=TRUE),AND(CQ168=9,TABLE1!$AT$5=TRUE),AND(CQ168=10,TABLE1!$AW$3=TRUE),AND(CQ168=11,TABLE1!$AW$4=TRUE),AND(CQ168=12,TABLE1!$AW$5=TRUE)),1,0)=1),1,0)=1,CR168=1,CT168=1),1,0)","v":0},{"$f":"IF(AND(OR(F168=TABLE1!$D$5,TABLE1!$D$5=\"کل بخشها\"),F168<>\"\"),1,0)","v":0}]
[null,null,null,null,null,null,null,null,null,null,null,null,null,null,null,null,null,null,null,null,null,null,null,null,null,null,null,null,null,null,null,null,null,null,null,null,null,null,null,null,null,null,null,null,null,null,null,null,null,null,null,null,null,null,null,null,null,null,null,null,null,null,null,null,null,null,null,null,null,null,null,null,null,null,null,null,null,null,null,null,null,null,null,null,null,null,null,null,null,null,null,null,null,null,"",{"$f":"IF(LEFT(C169,2)=TABLE1!$F$1,1,0)","v":0},{"$f":"IF(AND(IF(AND(IF(OR(AND(CQ169=1,TABLE1!$AN$3=TRUE),AND(CQ169=2,TABLE1!$AN$4=TRUE),AND(CQ169=3,TABLE1!$AN$5=TRUE),AND(CQ169=4,TABLE1!$AQ$3=TRUE),AND(CQ169=5,TABLE1!$AQ$4=TRUE),AND(CQ169=6,TABLE1!$AQ$5=TRUE),AND(CQ169=7,TABLE1!$AT$3=TRUE),AND(CQ169=8,TABLE1!$AT$4=TRUE),AND(CQ169=9,TABLE1!$AT$5=TRUE),AND(CQ169=10,TABLE1!$AW$3=TRUE),AND(CQ169=11,TABLE1!$AW$4=TRUE),AND(CQ169=12,TABLE1!$AW$5=TRUE)),1,0)=1),1,0)=1,CR169=1,CT169=1),1,0)","v":0},{"$f":"IF(AND(OR(F169=TABLE1!$D$5,TABLE1!$D$5=\"کل بخشها\"),F169<>\"\"),1,0)","v":0}]
[null,null,null,null,null,null,null,null,null,null,null,null,null,null,null,null,null,null,null,null,null,null,null,null,null,null,null,null,null,null,null,null,null,null,null,null,null,null,null,null,null,null,null,null,null,null,null,null,null,null,null,null,null,null,null,null,null,null,null,null,null,null,null,null,null,null,null,null,null,null,null,null,null,null,null,null,null,null,null,null,null,null,null,null,null,null,null,null,null,null,null,null,null,null,"",{"$f":"IF(LEFT(C170,2)=TABLE1!$F$1,1,0)","v":0},{"$f":"IF(AND(IF(AND(IF(OR(AND(CQ170=1,TABLE1!$AN$3=TRUE),AND(CQ170=2,TABLE1!$AN$4=TRUE),AND(CQ170=3,TABLE1!$AN$5=TRUE),AND(CQ170=4,TABLE1!$AQ$3=TRUE),AND(CQ170=5,TABLE1!$AQ$4=TRUE),AND(CQ170=6,TABLE1!$AQ$5=TRUE),AND(CQ170=7,TABLE1!$AT$3=TRUE),AND(CQ170=8,TABLE1!$AT$4=TRUE),AND(CQ170=9,TABLE1!$AT$5=TRUE),AND(CQ170=10,TABLE1!$AW$3=TRUE),AND(CQ170=11,TABLE1!$AW$4=TRUE),AND(CQ170=12,TABLE1!$AW$5=TRUE)),1,0)=1),1,0)=1,CR170=1,CT170=1),1,0)","v":0},{"$f":"IF(AND(OR(F170=TABLE1!$D$5,TABLE1!$D$5=\"کل بخشها\"),F170<>\"\"),1,0)","v":0}]
[null,null,null,null,null,null,null,null,null,null,null,null,null,null,null,null,null,null,null,null,null,null,null,null,null,null,null,null,null,null,null,null,null,null,null,null,null,null,null,null,null,null,null,null,null,null,null,null,null,null,null,null,null,null,null,null,null,null,null,null,null,null,null,null,null,null,null,null,null,null,null,null,null,null,null,null,null,null,null,null,null,null,null,null,null,null,null,null,null,null,null,null,null,null,"",{"$f":"IF(LEFT(C171,2)=TABLE1!$F$1,1,0)","v":0},{"$f":"IF(AND(IF(AND(IF(OR(AND(CQ171=1,TABLE1!$AN$3=TRUE),AND(CQ171=2,TABLE1!$AN$4=TRUE),AND(CQ171=3,TABLE1!$AN$5=TRUE),AND(CQ171=4,TABLE1!$AQ$3=TRUE),AND(CQ171=5,TABLE1!$AQ$4=TRUE),AND(CQ171=6,TABLE1!$AQ$5=TRUE),AND(CQ171=7,TABLE1!$AT$3=TRUE),AND(CQ171=8,TABLE1!$AT$4=TRUE),AND(CQ171=9,TABLE1!$AT$5=TRUE),AND(CQ171=10,TABLE1!$AW$3=TRUE),AND(CQ171=11,TABLE1!$AW$4=TRUE),AND(CQ171=12,TABLE1!$AW$5=TRUE)),1,0)=1),1,0)=1,CR171=1,CT171=1),1,0)","v":0},{"$f":"IF(AND(OR(F171=TABLE1!$D$5,TABLE1!$D$5=\"کل بخشها\"),F171<>\"\"),1,0)","v":0}]
[null,null,null,null,null,null,null,null,null,null,null,null,null,null,null,null,null,null,null,null,null,null,null,null,null,null,null,null,null,null,null,null,null,null,null,null,null,null,null,null,null,null,null,null,null,null,null,null,null,null,null,null,null,null,null,null,null,null,null,null,null,null,null,null,null,null,null,null,null,null,null,null,null,null,null,null,null,null,null,null,null,null,null,null,null,null,null,null,null,null,null,null,null,null,"",{"$f":"IF(LEFT(C172,2)=TABLE1!$F$1,1,0)","v":0},{"$f":"IF(AND(IF(AND(IF(OR(AND(CQ172=1,TABLE1!$AN$3=TRUE),AND(CQ172=2,TABLE1!$AN$4=TRUE),AND(CQ172=3,TABLE1!$AN$5=TRUE),AND(CQ172=4,TABLE1!$AQ$3=TRUE),AND(CQ172=5,TABLE1!$AQ$4=TRUE),AND(CQ172=6,TABLE1!$AQ$5=TRUE),AND(CQ172=7,TABLE1!$AT$3=TRUE),AND(CQ172=8,TABLE1!$AT$4=TRUE),AND(CQ172=9,TABLE1!$AT$5=TRUE),AND(CQ172=10,TABLE1!$AW$3=TRUE),AND(CQ172=11,TABLE1!$AW$4=TRUE),AND(CQ172=12,TABLE1!$AW$5=TRUE)),1,0)=1),1,0)=1,CR172=1,CT172=1),1,0)","v":0},{"$f":"IF(AND(OR(F172=TABLE1!$D$5,TABLE1!$D$5=\"کل بخشها\"),F172<>\"\"),1,0)","v":0}]
[null,null,null,null,null,null,null,null,null,null,null,null,null,null,null,null,null,null,null,null,null,null,null,null,null,null,null,null,null,null,null,null,null,null,null,null,null,null,null,null,null,null,null,null,null,null,null,null,null,null,null,null,null,null,null,null,null,null,null,null,null,null,null,null,null,null,null,null,null,null,null,null,null,null,null,null,null,null,null,null,null,null,null,null,null,null,null,null,null,null,null,null,null,null,"",{"$f":"IF(LEFT(C173,2)=TABLE1!$F$1,1,0)","v":0},{"$f":"IF(AND(IF(AND(IF(OR(AND(CQ173=1,TABLE1!$AN$3=TRUE),AND(CQ173=2,TABLE1!$AN$4=TRUE),AND(CQ173=3,TABLE1!$AN$5=TRUE),AND(CQ173=4,TABLE1!$AQ$3=TRUE),AND(CQ173=5,TABLE1!$AQ$4=TRUE),AND(CQ173=6,TABLE1!$AQ$5=TRUE),AND(CQ173=7,TABLE1!$AT$3=TRUE),AND(CQ173=8,TABLE1!$AT$4=TRUE),AND(CQ173=9,TABLE1!$AT$5=TRUE),AND(CQ173=10,TABLE1!$AW$3=TRUE),AND(CQ173=11,TABLE1!$AW$4=TRUE),AND(CQ173=12,TABLE1!$AW$5=TRUE)),1,0)=1),1,0)=1,CR173=1,CT173=1),1,0)","v":0},{"$f":"IF(AND(OR(F173=TABLE1!$D$5,TABLE1!$D$5=\"کل بخشها\"),F173<>\"\"),1,0)","v":0}]
[null,null,null,null,null,null,null,null,null,null,null,null,null,null,null,null,null,null,null,null,null,null,null,null,null,null,null,null,null,null,null,null,null,null,null,null,null,null,null,null,null,null,null,null,null,null,null,null,null,null,null,null,null,null,null,null,null,null,null,null,null,null,null,null,null,null,null,null,null,null,null,null,null,null,null,null,null,null,null,null,null,null,null,null,null,null,null,null,null,null,null,null,null,null,"",{"$f":"IF(LEFT(C174,2)=TABLE1!$F$1,1,0)","v":0},{"$f":"IF(AND(IF(AND(IF(OR(AND(CQ174=1,TABLE1!$AN$3=TRUE),AND(CQ174=2,TABLE1!$AN$4=TRUE),AND(CQ174=3,TABLE1!$AN$5=TRUE),AND(CQ174=4,TABLE1!$AQ$3=TRUE),AND(CQ174=5,TABLE1!$AQ$4=TRUE),AND(CQ174=6,TABLE1!$AQ$5=TRUE),AND(CQ174=7,TABLE1!$AT$3=TRUE),AND(CQ174=8,TABLE1!$AT$4=TRUE),AND(CQ174=9,TABLE1!$AT$5=TRUE),AND(CQ174=10,TABLE1!$AW$3=TRUE),AND(CQ174=11,TABLE1!$AW$4=TRUE),AND(CQ174=12,TABLE1!$AW$5=TRUE)),1,0)=1),1,0)=1,CR174=1,CT174=1),1,0)","v":0},{"$f":"IF(AND(OR(F174=TABLE1!$D$5,TABLE1!$D$5=\"کل بخشها\"),F174<>\"\"),1,0)","v":0}]
[null,null,null,null,null,null,null,null,null,null,null,null,null,null,null,null,null,null,null,null,null,null,null,null,null,null,null,null,null,null,null,null,null,null,null,null,null,null,null,null,null,null,null,null,null,null,null,null,null,null,null,null,null,null,null,null,null,null,null,null,null,null,null,null,null,null,null,null,null,null,null,null,null,null,null,null,null,null,null,null,null,null,null,null,null,null,null,null,null,null,null,null,null,null,"",{"$f":"IF(LEFT(C175,2)=TABLE1!$F$1,1,0)","v":0},{"$f":"IF(AND(IF(AND(IF(OR(AND(CQ175=1,TABLE1!$AN$3=TRUE),AND(CQ175=2,TABLE1!$AN$4=TRUE),AND(CQ175=3,TABLE1!$AN$5=TRUE),AND(CQ175=4,TABLE1!$AQ$3=TRUE),AND(CQ175=5,TABLE1!$AQ$4=TRUE),AND(CQ175=6,TABLE1!$AQ$5=TRUE),AND(CQ175=7,TABLE1!$AT$3=TRUE),AND(CQ175=8,TABLE1!$AT$4=TRUE),AND(CQ175=9,TABLE1!$AT$5=TRUE),AND(CQ175=10,TABLE1!$AW$3=TRUE),AND(CQ175=11,TABLE1!$AW$4=TRUE),AND(CQ175=12,TABLE1!$AW$5=TRUE)),1,0)=1),1,0)=1,CR175=1,CT175=1),1,0)","v":0},{"$f":"IF(AND(OR(F175=TABLE1!$D$5,TABLE1!$D$5=\"کل بخشها\"),F175<>\"\"),1,0)","v":0}]
[null,null,null,null,null,null,null,null,null,null,null,null,null,null,null,null,null,null,null,null,null,null,null,null,null,null,null,null,null,null,null,null,null,null,null,null,null,null,null,null,null,null,null,null,null,null,null,null,null,null,null,null,null,null,null,null,null,null,null,null,null,null,null,null,null,null,null,null,null,null,null,null,null,null,null,null,null,null,null,null,null,null,null,null,null,null,null,null,null,null,null,null,null,null,"",{"$f":"IF(LEFT(C176,2)=TABLE1!$F$1,1,0)","v":0},{"$f":"IF(AND(IF(AND(IF(OR(AND(CQ176=1,TABLE1!$AN$3=TRUE),AND(CQ176=2,TABLE1!$AN$4=TRUE),AND(CQ176=3,TABLE1!$AN$5=TRUE),AND(CQ176=4,TABLE1!$AQ$3=TRUE),AND(CQ176=5,TABLE1!$AQ$4=TRUE),AND(CQ176=6,TABLE1!$AQ$5=TRUE),AND(CQ176=7,TABLE1!$AT$3=TRUE),AND(CQ176=8,TABLE1!$AT$4=TRUE),AND(CQ176=9,TABLE1!$AT$5=TRUE),AND(CQ176=10,TABLE1!$AW$3=TRUE),AND(CQ176=11,TABLE1!$AW$4=TRUE),AND(CQ176=12,TABLE1!$AW$5=TRUE)),1,0)=1),1,0)=1,CR176=1,CT176=1),1,0)","v":0},{"$f":"IF(AND(OR(F176=TABLE1!$D$5,TABLE1!$D$5=\"کل بخشها\"),F176<>\"\"),1,0)","v":0}]
[null,null,null,null,null,null,null,null,null,null,null,null,null,null,null,null,null,null,null,null,null,null,null,null,null,null,null,null,null,null,null,null,null,null,null,null,null,null,null,null,null,null,null,null,null,null,null,null,null,null,null,null,null,null,null,null,null,null,null,null,null,null,null,null,null,null,null,null,null,null,null,null,null,null,null,null,null,null,null,null,null,null,null,null,null,null,null,null,null,null,null,null,null,null,"",{"$f":"IF(LEFT(C177,2)=TABLE1!$F$1,1,0)","v":0},{"$f":"IF(AND(IF(AND(IF(OR(AND(CQ177=1,TABLE1!$AN$3=TRUE),AND(CQ177=2,TABLE1!$AN$4=TRUE),AND(CQ177=3,TABLE1!$AN$5=TRUE),AND(CQ177=4,TABLE1!$AQ$3=TRUE),AND(CQ177=5,TABLE1!$AQ$4=TRUE),AND(CQ177=6,TABLE1!$AQ$5=TRUE),AND(CQ177=7,TABLE1!$AT$3=TRUE),AND(CQ177=8,TABLE1!$AT$4=TRUE),AND(CQ177=9,TABLE1!$AT$5=TRUE),AND(CQ177=10,TABLE1!$AW$3=TRUE),AND(CQ177=11,TABLE1!$AW$4=TRUE),AND(CQ177=12,TABLE1!$AW$5=TRUE)),1,0)=1),1,0)=1,CR177=1,CT177=1),1,0)","v":0},{"$f":"IF(AND(OR(F177=TABLE1!$D$5,TABLE1!$D$5=\"کل بخشها\"),F177<>\"\"),1,0)","v":0}]
[null,null,null,null,null,null,null,null,null,null,null,null,null,null,null,null,null,null,null,null,null,null,null,null,null,null,null,null,null,null,null,null,null,null,null,null,null,null,null,null,null,null,null,null,null,null,null,null,null,null,null,null,null,null,null,null,null,null,null,null,null,null,null,null,null,null,null,null,null,null,null,null,null,null,null,null,null,null,null,null,null,null,null,null,null,null,null,null,null,null,null,null,null,null,"",{"$f":"IF(LEFT(C178,2)=TABLE1!$F$1,1,0)","v":0},{"$f":"IF(AND(IF(AND(IF(OR(AND(CQ178=1,TABLE1!$AN$3=TRUE),AND(CQ178=2,TABLE1!$AN$4=TRUE),AND(CQ178=3,TABLE1!$AN$5=TRUE),AND(CQ178=4,TABLE1!$AQ$3=TRUE),AND(CQ178=5,TABLE1!$AQ$4=TRUE),AND(CQ178=6,TABLE1!$AQ$5=TRUE),AND(CQ178=7,TABLE1!$AT$3=TRUE),AND(CQ178=8,TABLE1!$AT$4=TRUE),AND(CQ178=9,TABLE1!$AT$5=TRUE),AND(CQ178=10,TABLE1!$AW$3=TRUE),AND(CQ178=11,TABLE1!$AW$4=TRUE),AND(CQ178=12,TABLE1!$AW$5=TRUE)),1,0)=1),1,0)=1,CR178=1,CT178=1),1,0)","v":0},{"$f":"IF(AND(OR(F178=TABLE1!$D$5,TABLE1!$D$5=\"کل بخشها\"),F178<>\"\"),1,0)","v":0}]
[null,null,null,null,null,null,null,null,null,null,null,null,null,null,null,null,null,null,null,null,null,null,null,null,null,null,null,null,null,null,null,null,null,null,null,null,null,null,null,null,null,null,null,null,null,null,null,null,null,null,null,null,null,null,null,null,null,null,null,null,null,null,null,null,null,null,null,null,null,null,null,null,null,null,null,null,null,null,null,null,null,null,null,null,null,null,null,null,null,null,null,null,null,null,"",{"$f":"IF(LEFT(C179,2)=TABLE1!$F$1,1,0)","v":0},{"$f":"IF(AND(IF(AND(IF(OR(AND(CQ179=1,TABLE1!$AN$3=TRUE),AND(CQ179=2,TABLE1!$AN$4=TRUE),AND(CQ179=3,TABLE1!$AN$5=TRUE),AND(CQ179=4,TABLE1!$AQ$3=TRUE),AND(CQ179=5,TABLE1!$AQ$4=TRUE),AND(CQ179=6,TABLE1!$AQ$5=TRUE),AND(CQ179=7,TABLE1!$AT$3=TRUE),AND(CQ179=8,TABLE1!$AT$4=TRUE),AND(CQ179=9,TABLE1!$AT$5=TRUE),AND(CQ179=10,TABLE1!$AW$3=TRUE),AND(CQ179=11,TABLE1!$AW$4=TRUE),AND(CQ179=12,TABLE1!$AW$5=TRUE)),1,0)=1),1,0)=1,CR179=1,CT179=1),1,0)","v":0},{"$f":"IF(AND(OR(F179=TABLE1!$D$5,TABLE1!$D$5=\"کل بخشها\"),F179<>\"\"),1,0)","v":0}]
[null,null,null,null,null,null,null,null,null,null,null,null,null,null,null,null,null,null,null,null,null,null,null,null,null,null,null,null,null,null,null,null,null,null,null,null,null,null,null,null,null,null,null,null,null,null,null,null,null,null,null,null,null,null,null,null,null,null,null,null,null,null,null,null,null,null,null,null,null,null,null,null,null,null,null,null,null,null,null,null,null,null,null,null,null,null,null,null,null,null,null,null,null,null,"",{"$f":"IF(LEFT(C180,2)=TABLE1!$F$1,1,0)","v":0},{"$f":"IF(AND(IF(AND(IF(OR(AND(CQ180=1,TABLE1!$AN$3=TRUE),AND(CQ180=2,TABLE1!$AN$4=TRUE),AND(CQ180=3,TABLE1!$AN$5=TRUE),AND(CQ180=4,TABLE1!$AQ$3=TRUE),AND(CQ180=5,TABLE1!$AQ$4=TRUE),AND(CQ180=6,TABLE1!$AQ$5=TRUE),AND(CQ180=7,TABLE1!$AT$3=TRUE),AND(CQ180=8,TABLE1!$AT$4=TRUE),AND(CQ180=9,TABLE1!$AT$5=TRUE),AND(CQ180=10,TABLE1!$AW$3=TRUE),AND(CQ180=11,TABLE1!$AW$4=TRUE),AND(CQ180=12,TABLE1!$AW$5=TRUE)),1,0)=1),1,0)=1,CR180=1,CT180=1),1,0)","v":0},{"$f":"IF(AND(OR(F180=TABLE1!$D$5,TABLE1!$D$5=\"کل بخشها\"),F180<>\"\"),1,0)","v":0}]
[null,null,null,null,null,null,null,null,null,null,null,null,null,null,null,null,null,null,null,null,null,null,null,null,null,null,null,null,null,null,null,null,null,null,null,null,null,null,null,null,null,null,null,null,null,null,null,null,null,null,null,null,null,null,null,null,null,null,null,null,null,null,null,null,null,null,null,null,null,null,null,null,null,null,null,null,null,null,null,null,null,null,null,null,null,null,null,null,null,null,null,null,null,null,"",{"$f":"IF(LEFT(C181,2)=TABLE1!$F$1,1,0)","v":0},{"$f":"IF(AND(IF(AND(IF(OR(AND(CQ181=1,TABLE1!$AN$3=TRUE),AND(CQ181=2,TABLE1!$AN$4=TRUE),AND(CQ181=3,TABLE1!$AN$5=TRUE),AND(CQ181=4,TABLE1!$AQ$3=TRUE),AND(CQ181=5,TABLE1!$AQ$4=TRUE),AND(CQ181=6,TABLE1!$AQ$5=TRUE),AND(CQ181=7,TABLE1!$AT$3=TRUE),AND(CQ181=8,TABLE1!$AT$4=TRUE),AND(CQ181=9,TABLE1!$AT$5=TRUE),AND(CQ181=10,TABLE1!$AW$3=TRUE),AND(CQ181=11,TABLE1!$AW$4=TRUE),AND(CQ181=12,TABLE1!$AW$5=TRUE)),1,0)=1),1,0)=1,CR181=1,CT181=1),1,0)","v":0},{"$f":"IF(AND(OR(F181=TABLE1!$D$5,TABLE1!$D$5=\"کل بخشها\"),F181<>\"\"),1,0)","v":0}]
[null,null,null,null,null,null,null,null,null,null,null,null,null,null,null,null,null,null,null,null,null,null,null,null,null,null,null,null,null,null,null,null,null,null,null,null,null,null,null,null,null,null,null,null,null,null,null,null,null,null,null,null,null,null,null,null,null,null,null,null,null,null,null,null,null,null,null,null,null,null,null,null,null,null,null,null,null,null,null,null,null,null,null,null,null,null,null,null,null,null,null,null,null,null,"",{"$f":"IF(LEFT(C182,2)=TABLE1!$F$1,1,0)","v":0},{"$f":"IF(AND(IF(AND(IF(OR(AND(CQ182=1,TABLE1!$AN$3=TRUE),AND(CQ182=2,TABLE1!$AN$4=TRUE),AND(CQ182=3,TABLE1!$AN$5=TRUE),AND(CQ182=4,TABLE1!$AQ$3=TRUE),AND(CQ182=5,TABLE1!$AQ$4=TRUE),AND(CQ182=6,TABLE1!$AQ$5=TRUE),AND(CQ182=7,TABLE1!$AT$3=TRUE),AND(CQ182=8,TABLE1!$AT$4=TRUE),AND(CQ182=9,TABLE1!$AT$5=TRUE),AND(CQ182=10,TABLE1!$AW$3=TRUE),AND(CQ182=11,TABLE1!$AW$4=TRUE),AND(CQ182=12,TABLE1!$AW$5=TRUE)),1,0)=1),1,0)=1,CR182=1,CT182=1),1,0)","v":0},{"$f":"IF(AND(OR(F182=TABLE1!$D$5,TABLE1!$D$5=\"کل بخشها\"),F182<>\"\"),1,0)","v":0}]
[null,null,null,null,null,null,null,null,null,null,null,null,null,null,null,null,null,null,null,null,null,null,null,null,null,null,null,null,null,null,null,null,null,null,null,null,null,null,null,null,null,null,null,null,null,null,null,null,null,null,null,null,null,null,null,null,null,null,null,null,null,null,null,null,null,null,null,null,null,null,null,null,null,null,null,null,null,null,null,null,null,null,null,null,null,null,null,null,null,null,null,null,null,null,"",{"$f":"IF(LEFT(C183,2)=TABLE1!$F$1,1,0)","v":0},{"$f":"IF(AND(IF(AND(IF(OR(AND(CQ183=1,TABLE1!$AN$3=TRUE),AND(CQ183=2,TABLE1!$AN$4=TRUE),AND(CQ183=3,TABLE1!$AN$5=TRUE),AND(CQ183=4,TABLE1!$AQ$3=TRUE),AND(CQ183=5,TABLE1!$AQ$4=TRUE),AND(CQ183=6,TABLE1!$AQ$5=TRUE),AND(CQ183=7,TABLE1!$AT$3=TRUE),AND(CQ183=8,TABLE1!$AT$4=TRUE),AND(CQ183=9,TABLE1!$AT$5=TRUE),AND(CQ183=10,TABLE1!$AW$3=TRUE),AND(CQ183=11,TABLE1!$AW$4=TRUE),AND(CQ183=12,TABLE1!$AW$5=TRUE)),1,0)=1),1,0)=1,CR183=1,CT183=1),1,0)","v":0},{"$f":"IF(AND(OR(F183=TABLE1!$D$5,TABLE1!$D$5=\"کل بخشها\"),F183<>\"\"),1,0)","v":0}]
[null,null,null,null,null,null,null,null,null,null,null,null,null,null,null,null,null,null,null,null,null,null,null,null,null,null,null,null,null,null,null,null,null,null,null,null,null,null,null,null,null,null,null,null,null,null,null,null,null,null,null,null,null,null,null,null,null,null,null,null,null,null,null,null,null,null,null,null,null,null,null,null,null,null,null,null,null,null,null,null,null,null,null,null,null,null,null,null,null,null,null,null,null,null,"",{"$f":"IF(LEFT(C184,2)=TABLE1!$F$1,1,0)","v":0},{"$f":"IF(AND(IF(AND(IF(OR(AND(CQ184=1,TABLE1!$AN$3=TRUE),AND(CQ184=2,TABLE1!$AN$4=TRUE),AND(CQ184=3,TABLE1!$AN$5=TRUE),AND(CQ184=4,TABLE1!$AQ$3=TRUE),AND(CQ184=5,TABLE1!$AQ$4=TRUE),AND(CQ184=6,TABLE1!$AQ$5=TRUE),AND(CQ184=7,TABLE1!$AT$3=TRUE),AND(CQ184=8,TABLE1!$AT$4=TRUE),AND(CQ184=9,TABLE1!$AT$5=TRUE),AND(CQ184=10,TABLE1!$AW$3=TRUE),AND(CQ184=11,TABLE1!$AW$4=TRUE),AND(CQ184=12,TABLE1!$AW$5=TRUE)),1,0)=1),1,0)=1,CR184=1,CT184=1),1,0)","v":0},{"$f":"IF(AND(OR(F184=TABLE1!$D$5,TABLE1!$D$5=\"کل بخشها\"),F184<>\"\"),1,0)","v":0}]
[null,null,null,null,null,null,null,null,null,null,null,null,null,null,null,null,null,null,null,null,null,null,null,null,null,null,null,null,null,null,null,null,null,null,null,null,null,null,null,null,null,null,null,null,null,null,null,null,null,null,null,null,null,null,null,null,null,null,null,null,null,null,null,null,null,null,null,null,null,null,null,null,null,null,null,null,null,null,null,null,null,null,null,null,null,null,null,null,null,null,null,null,null,null,"",{"$f":"IF(LEFT(C185,2)=TABLE1!$F$1,1,0)","v":0},{"$f":"IF(AND(IF(AND(IF(OR(AND(CQ185=1,TABLE1!$AN$3=TRUE),AND(CQ185=2,TABLE1!$AN$4=TRUE),AND(CQ185=3,TABLE1!$AN$5=TRUE),AND(CQ185=4,TABLE1!$AQ$3=TRUE),AND(CQ185=5,TABLE1!$AQ$4=TRUE),AND(CQ185=6,TABLE1!$AQ$5=TRUE),AND(CQ185=7,TABLE1!$AT$3=TRUE),AND(CQ185=8,TABLE1!$AT$4=TRUE),AND(CQ185=9,TABLE1!$AT$5=TRUE),AND(CQ185=10,TABLE1!$AW$3=TRUE),AND(CQ185=11,TABLE1!$AW$4=TRUE),AND(CQ185=12,TABLE1!$AW$5=TRUE)),1,0)=1),1,0)=1,CR185=1,CT185=1),1,0)","v":0},{"$f":"IF(AND(OR(F185=TABLE1!$D$5,TABLE1!$D$5=\"کل بخشها\"),F185<>\"\"),1,0)","v":0}]
[null,null,null,null,null,null,null,null,null,null,null,null,null,null,null,null,null,null,null,null,null,null,null,null,null,null,null,null,null,null,null,null,null,null,null,null,null,null,null,null,null,null,null,null,null,null,null,null,null,null,null,null,null,null,null,null,null,null,null,null,null,null,null,null,null,null,null,null,null,null,null,null,null,null,null,null,null,null,null,null,null,null,null,null,null,null,null,null,null,null,null,null,null,null,"",{"$f":"IF(LEFT(C186,2)=TABLE1!$F$1,1,0)","v":0},{"$f":"IF(AND(IF(AND(IF(OR(AND(CQ186=1,TABLE1!$AN$3=TRUE),AND(CQ186=2,TABLE1!$AN$4=TRUE),AND(CQ186=3,TABLE1!$AN$5=TRUE),AND(CQ186=4,TABLE1!$AQ$3=TRUE),AND(CQ186=5,TABLE1!$AQ$4=TRUE),AND(CQ186=6,TABLE1!$AQ$5=TRUE),AND(CQ186=7,TABLE1!$AT$3=TRUE),AND(CQ186=8,TABLE1!$AT$4=TRUE),AND(CQ186=9,TABLE1!$AT$5=TRUE),AND(CQ186=10,TABLE1!$AW$3=TRUE),AND(CQ186=11,TABLE1!$AW$4=TRUE),AND(CQ186=12,TABLE1!$AW$5=TRUE)),1,0)=1),1,0)=1,CR186=1,CT186=1),1,0)","v":0},{"$f":"IF(AND(OR(F186=TABLE1!$D$5,TABLE1!$D$5=\"کل بخشها\"),F186<>\"\"),1,0)","v":0}]
[null,null,null,null,null,null,null,null,null,null,null,null,null,null,null,null,null,null,null,null,null,null,null,null,null,null,null,null,null,null,null,null,null,null,null,null,null,null,null,null,null,null,null,null,null,null,null,null,null,null,null,null,null,null,null,null,null,null,null,null,null,null,null,null,null,null,null,null,null,null,null,null,null,null,null,null,null,null,null,null,null,null,null,null,null,null,null,null,null,null,null,null,null,null,"",{"$f":"IF(LEFT(C187,2)=TABLE1!$F$1,1,0)","v":0},{"$f":"IF(AND(IF(AND(IF(OR(AND(CQ187=1,TABLE1!$AN$3=TRUE),AND(CQ187=2,TABLE1!$AN$4=TRUE),AND(CQ187=3,TABLE1!$AN$5=TRUE),AND(CQ187=4,TABLE1!$AQ$3=TRUE),AND(CQ187=5,TABLE1!$AQ$4=TRUE),AND(CQ187=6,TABLE1!$AQ$5=TRUE),AND(CQ187=7,TABLE1!$AT$3=TRUE),AND(CQ187=8,TABLE1!$AT$4=TRUE),AND(CQ187=9,TABLE1!$AT$5=TRUE),AND(CQ187=10,TABLE1!$AW$3=TRUE),AND(CQ187=11,TABLE1!$AW$4=TRUE),AND(CQ187=12,TABLE1!$AW$5=TRUE)),1,0)=1),1,0)=1,CR187=1,CT187=1),1,0)","v":0},{"$f":"IF(AND(OR(F187=TABLE1!$D$5,TABLE1!$D$5=\"کل بخشها\"),F187<>\"\"),1,0)","v":0}]
[null,null,null,null,null,null,null,null,null,null,null,null,null,null,null,null,null,null,null,null,null,null,null,null,null,null,null,null,null,null,null,null,null,null,null,null,null,null,null,null,null,null,null,null,null,null,null,null,null,null,null,null,null,null,null,null,null,null,null,null,null,null,null,null,null,null,null,null,null,null,null,null,null,null,null,null,null,null,null,null,null,null,null,null,null,null,null,null,null,null,null,null,null,null,"",{"$f":"IF(LEFT(C188,2)=TABLE1!$F$1,1,0)","v":0},{"$f":"IF(AND(IF(AND(IF(OR(AND(CQ188=1,TABLE1!$AN$3=TRUE),AND(CQ188=2,TABLE1!$AN$4=TRUE),AND(CQ188=3,TABLE1!$AN$5=TRUE),AND(CQ188=4,TABLE1!$AQ$3=TRUE),AND(CQ188=5,TABLE1!$AQ$4=TRUE),AND(CQ188=6,TABLE1!$AQ$5=TRUE),AND(CQ188=7,TABLE1!$AT$3=TRUE),AND(CQ188=8,TABLE1!$AT$4=TRUE),AND(CQ188=9,TABLE1!$AT$5=TRUE),AND(CQ188=10,TABLE1!$AW$3=TRUE),AND(CQ188=11,TABLE1!$AW$4=TRUE),AND(CQ188=12,TABLE1!$AW$5=TRUE)),1,0)=1),1,0)=1,CR188=1,CT188=1),1,0)","v":0},{"$f":"IF(AND(OR(F188=TABLE1!$D$5,TABLE1!$D$5=\"کل بخشها\"),F188<>\"\"),1,0)","v":0}]
[null,null,null,null,null,null,null,null,null,null,null,null,null,null,null,null,null,null,null,null,null,null,null,null,null,null,null,null,null,null,null,null,null,null,null,null,null,null,null,null,null,null,null,null,null,null,null,null,null,null,null,null,null,null,null,null,null,null,null,null,null,null,null,null,null,null,null,null,null,null,null,null,null,null,null,null,null,null,null,null,null,null,null,null,null,null,null,null,null,null,null,null,null,null,"",{"$f":"IF(LEFT(C189,2)=TABLE1!$F$1,1,0)","v":0},{"$f":"IF(AND(IF(AND(IF(OR(AND(CQ189=1,TABLE1!$AN$3=TRUE),AND(CQ189=2,TABLE1!$AN$4=TRUE),AND(CQ189=3,TABLE1!$AN$5=TRUE),AND(CQ189=4,TABLE1!$AQ$3=TRUE),AND(CQ189=5,TABLE1!$AQ$4=TRUE),AND(CQ189=6,TABLE1!$AQ$5=TRUE),AND(CQ189=7,TABLE1!$AT$3=TRUE),AND(CQ189=8,TABLE1!$AT$4=TRUE),AND(CQ189=9,TABLE1!$AT$5=TRUE),AND(CQ189=10,TABLE1!$AW$3=TRUE),AND(CQ189=11,TABLE1!$AW$4=TRUE),AND(CQ189=12,TABLE1!$AW$5=TRUE)),1,0)=1),1,0)=1,CR189=1,CT189=1),1,0)","v":0},{"$f":"IF(AND(OR(F189=TABLE1!$D$5,TABLE1!$D$5=\"کل بخشها\"),F189<>\"\"),1,0)","v":0}]
[null,null,null,null,null,null,null,null,null,null,null,null,null,null,null,null,null,null,null,null,null,null,null,null,null,null,null,null,null,null,null,null,null,null,null,null,null,null,null,null,null,null,null,null,null,null,null,null,null,null,null,null,null,null,null,null,null,null,null,null,null,null,null,null,null,null,null,null,null,null,null,null,null,null,null,null,null,null,null,null,null,null,null,null,null,null,null,null,null,null,null,null,null,null,"",{"$f":"IF(LEFT(C190,2)=TABLE1!$F$1,1,0)","v":0},{"$f":"IF(AND(IF(AND(IF(OR(AND(CQ190=1,TABLE1!$AN$3=TRUE),AND(CQ190=2,TABLE1!$AN$4=TRUE),AND(CQ190=3,TABLE1!$AN$5=TRUE),AND(CQ190=4,TABLE1!$AQ$3=TRUE),AND(CQ190=5,TABLE1!$AQ$4=TRUE),AND(CQ190=6,TABLE1!$AQ$5=TRUE),AND(CQ190=7,TABLE1!$AT$3=TRUE),AND(CQ190=8,TABLE1!$AT$4=TRUE),AND(CQ190=9,TABLE1!$AT$5=TRUE),AND(CQ190=10,TABLE1!$AW$3=TRUE),AND(CQ190=11,TABLE1!$AW$4=TRUE),AND(CQ190=12,TABLE1!$AW$5=TRUE)),1,0)=1),1,0)=1,CR190=1,CT190=1),1,0)","v":0},{"$f":"IF(AND(OR(F190=TABLE1!$D$5,TABLE1!$D$5=\"کل بخشها\"),F190<>\"\"),1,0)","v":0}]
[null,null,null,null,null,null,null,null,null,null,null,null,null,null,null,null,null,null,null,null,null,null,null,null,null,null,null,null,null,null,null,null,null,null,null,null,null,null,null,null,null,null,null,null,null,null,null,null,null,null,null,null,null,null,null,null,null,null,null,null,null,null,null,null,null,null,null,null,null,null,null,null,null,null,null,null,null,null,null,null,null,null,null,null,null,null,null,null,null,null,null,null,null,null,"",{"$f":"IF(LEFT(C191,2)=TABLE1!$F$1,1,0)","v":0},{"$f":"IF(AND(IF(AND(IF(OR(AND(CQ191=1,TABLE1!$AN$3=TRUE),AND(CQ191=2,TABLE1!$AN$4=TRUE),AND(CQ191=3,TABLE1!$AN$5=TRUE),AND(CQ191=4,TABLE1!$AQ$3=TRUE),AND(CQ191=5,TABLE1!$AQ$4=TRUE),AND(CQ191=6,TABLE1!$AQ$5=TRUE),AND(CQ191=7,TABLE1!$AT$3=TRUE),AND(CQ191=8,TABLE1!$AT$4=TRUE),AND(CQ191=9,TABLE1!$AT$5=TRUE),AND(CQ191=10,TABLE1!$AW$3=TRUE),AND(CQ191=11,TABLE1!$AW$4=TRUE),AND(CQ191=12,TABLE1!$AW$5=TRUE)),1,0)=1),1,0)=1,CR191=1,CT191=1),1,0)","v":0},{"$f":"IF(AND(OR(F191=TABLE1!$D$5,TABLE1!$D$5=\"کل بخشها\"),F191<>\"\"),1,0)","v":0}]
[null,null,null,null,null,null,null,null,null,null,null,null,null,null,null,null,null,null,null,null,null,null,null,null,null,null,null,null,null,null,null,null,null,null,null,null,null,null,null,null,null,null,null,null,null,null,null,null,null,null,null,null,null,null,null,null,null,null,null,null,null,null,null,null,null,null,null,null,null,null,null,null,null,null,null,null,null,null,null,null,null,null,null,null,null,null,null,null,null,null,null,null,null,null,"",{"$f":"IF(LEFT(C192,2)=TABLE1!$F$1,1,0)","v":0},{"$f":"IF(AND(IF(AND(IF(OR(AND(CQ192=1,TABLE1!$AN$3=TRUE),AND(CQ192=2,TABLE1!$AN$4=TRUE),AND(CQ192=3,TABLE1!$AN$5=TRUE),AND(CQ192=4,TABLE1!$AQ$3=TRUE),AND(CQ192=5,TABLE1!$AQ$4=TRUE),AND(CQ192=6,TABLE1!$AQ$5=TRUE),AND(CQ192=7,TABLE1!$AT$3=TRUE),AND(CQ192=8,TABLE1!$AT$4=TRUE),AND(CQ192=9,TABLE1!$AT$5=TRUE),AND(CQ192=10,TABLE1!$AW$3=TRUE),AND(CQ192=11,TABLE1!$AW$4=TRUE),AND(CQ192=12,TABLE1!$AW$5=TRUE)),1,0)=1),1,0)=1,CR192=1,CT192=1),1,0)","v":0},{"$f":"IF(AND(OR(F192=TABLE1!$D$5,TABLE1!$D$5=\"کل بخشها\"),F192<>\"\"),1,0)","v":0}]
[null,null,null,null,null,null,null,null,null,null,null,null,null,null,null,null,null,null,null,null,null,null,null,null,null,null,null,null,null,null,null,null,null,null,null,null,null,null,null,null,null,null,null,null,null,null,null,null,null,null,null,null,null,null,null,null,null,null,null,null,null,null,null,null,null,null,null,null,null,null,null,null,null,null,null,null,null,null,null,null,null,null,null,null,null,null,null,null,null,null,null,null,null,null,"",{"$f":"IF(LEFT(C193,2)=TABLE1!$F$1,1,0)","v":0},{"$f":"IF(AND(IF(AND(IF(OR(AND(CQ193=1,TABLE1!$AN$3=TRUE),AND(CQ193=2,TABLE1!$AN$4=TRUE),AND(CQ193=3,TABLE1!$AN$5=TRUE),AND(CQ193=4,TABLE1!$AQ$3=TRUE),AND(CQ193=5,TABLE1!$AQ$4=TRUE),AND(CQ193=6,TABLE1!$AQ$5=TRUE),AND(CQ193=7,TABLE1!$AT$3=TRUE),AND(CQ193=8,TABLE1!$AT$4=TRUE),AND(CQ193=9,TABLE1!$AT$5=TRUE),AND(CQ193=10,TABLE1!$AW$3=TRUE),AND(CQ193=11,TABLE1!$AW$4=TRUE),AND(CQ193=12,TABLE1!$AW$5=TRUE)),1,0)=1),1,0)=1,CR193=1,CT193=1),1,0)","v":0},{"$f":"IF(AND(OR(F193=TABLE1!$D$5,TABLE1!$D$5=\"کل بخشها\"),F193<>\"\"),1,0)","v":0}]
[null,null,null,null,null,null,null,null,null,null,null,null,null,null,null,null,null,null,null,null,null,null,null,null,null,null,null,null,null,null,null,null,null,null,null,null,null,null,null,null,null,null,null,null,null,null,null,null,null,null,null,null,null,null,null,null,null,null,null,null,null,null,null,null,null,null,null,null,null,null,null,null,null,null,null,null,null,null,null,null,null,null,null,null,null,null,null,null,null,null,null,null,null,null,"",{"$f":"IF(LEFT(C194,2)=TABLE1!$F$1,1,0)","v":0},{"$f":"IF(AND(IF(AND(IF(OR(AND(CQ194=1,TABLE1!$AN$3=TRUE),AND(CQ194=2,TABLE1!$AN$4=TRUE),AND(CQ194=3,TABLE1!$AN$5=TRUE),AND(CQ194=4,TABLE1!$AQ$3=TRUE),AND(CQ194=5,TABLE1!$AQ$4=TRUE),AND(CQ194=6,TABLE1!$AQ$5=TRUE),AND(CQ194=7,TABLE1!$AT$3=TRUE),AND(CQ194=8,TABLE1!$AT$4=TRUE),AND(CQ194=9,TABLE1!$AT$5=TRUE),AND(CQ194=10,TABLE1!$AW$3=TRUE),AND(CQ194=11,TABLE1!$AW$4=TRUE),AND(CQ194=12,TABLE1!$AW$5=TRUE)),1,0)=1),1,0)=1,CR194=1,CT194=1),1,0)","v":0},{"$f":"IF(AND(OR(F194=TABLE1!$D$5,TABLE1!$D$5=\"کل بخشها\"),F194<>\"\"),1,0)","v":0}]
[null,null,null,null,null,null,null,null,null,null,null,null,null,null,null,null,null,null,null,null,null,null,null,null,null,null,null,null,null,null,null,null,null,null,null,null,null,null,null,null,null,null,null,null,null,null,null,null,null,null,null,null,null,null,null,null,null,null,null,null,null,null,null,null,null,null,null,null,null,null,null,null,null,null,null,null,null,null,null,null,null,null,null,null,null,null,null,null,null,null,null,null,null,null,{"$f":"IFERROR(VALUE(MID(C195,3,2)),\"\")","v":""},{"$f":"IF(LEFT(C195,2)=TABLE1!$F$1,1,0)","v":0},{"$f":"IF(AND(IF(AND(IF(OR(AND(CQ195=1,TABLE1!$AN$3=TRUE),AND(CQ195=2,TABLE1!$AN$4=TRUE),AND(CQ195=3,TABLE1!$AN$5=TRUE),AND(CQ195=4,TABLE1!$AQ$3=TRUE),AND(CQ195=5,TABLE1!$AQ$4=TRUE),AND(CQ195=6,TABLE1!$AQ$5=TRUE),AND(CQ195=7,TABLE1!$AT$3=TRUE),AND(CQ195=8,TABLE1!$AT$4=TRUE),AND(CQ195=9,TABLE1!$AT$5=TRUE),AND(CQ195=10,TABLE1!$AW$3=TRUE),AND(CQ195=11,TABLE1!$AW$4=TRUE),AND(CQ195=12,TABLE1!$AW$5=TRUE)),1,0)=1),1,0)=1,CR195=1,CT195=1),1,0)","v":0},{"$f":"IF(AND(OR(F195=TABLE1!$D$5,TABLE1!$D$5=\"کل بخشها\"),F195<>\"\"),1,0)","v":0}]
[null,null,null,null,null,null,null,null,null,null,null,null,null,null,null,null,null,null,null,null,null,null,null,null,null,null,null,null,null,null,null,null,null,null,null,null,null,null,null,null,null,null,null,null,null,null,null,null,null,null,null,null,null,null,null,null,null,null,null,null,null,null,null,null,null,null,null,null,null,null,null,null,null,null,null,null,null,null,null,null,null,null,null,null,null,null,null,null,null,null,null,null,null,null,"",{"$f":"IF(LEFT(C196,2)=TABLE1!$F$1,1,0)","v":0},{"$f":"IF(AND(IF(AND(IF(OR(AND(CQ196=1,TABLE1!$AN$3=TRUE),AND(CQ196=2,TABLE1!$AN$4=TRUE),AND(CQ196=3,TABLE1!$AN$5=TRUE),AND(CQ196=4,TABLE1!$AQ$3=TRUE),AND(CQ196=5,TABLE1!$AQ$4=TRUE),AND(CQ196=6,TABLE1!$AQ$5=TRUE),AND(CQ196=7,TABLE1!$AT$3=TRUE),AND(CQ196=8,TABLE1!$AT$4=TRUE),AND(CQ196=9,TABLE1!$AT$5=TRUE),AND(CQ196=10,TABLE1!$AW$3=TRUE),AND(CQ196=11,TABLE1!$AW$4=TRUE),AND(CQ196=12,TABLE1!$AW$5=TRUE)),1,0)=1),1,0)=1,CR196=1,CT196=1),1,0)","v":0},{"$f":"IF(AND(OR(F196=TABLE1!$D$5,TABLE1!$D$5=\"کل بخشها\"),F196<>\"\"),1,0)","v":0}]
[null,null,null,null,null,null,null,null,null,null,null,null,null,null,null,null,null,null,null,null,null,null,null,null,null,null,null,null,null,null,null,null,null,null,null,null,null,null,null,null,null,null,null,null,null,null,null,null,null,null,null,null,null,null,null,null,null,null,null,null,null,null,null,null,null,null,null,null,null,null,null,null,null,null,null,null,null,null,null,null,null,null,null,null,null,null,null,null,null,null,null,null,null,null,"",{"$f":"IF(LEFT(C197,2)=TABLE1!$F$1,1,0)","v":0},{"$f":"IF(AND(IF(AND(IF(OR(AND(CQ197=1,TABLE1!$AN$3=TRUE),AND(CQ197=2,TABLE1!$AN$4=TRUE),AND(CQ197=3,TABLE1!$AN$5=TRUE),AND(CQ197=4,TABLE1!$AQ$3=TRUE),AND(CQ197=5,TABLE1!$AQ$4=TRUE),AND(CQ197=6,TABLE1!$AQ$5=TRUE),AND(CQ197=7,TABLE1!$AT$3=TRUE),AND(CQ197=8,TABLE1!$AT$4=TRUE),AND(CQ197=9,TABLE1!$AT$5=TRUE),AND(CQ197=10,TABLE1!$AW$3=TRUE),AND(CQ197=11,TABLE1!$AW$4=TRUE),AND(CQ197=12,TABLE1!$AW$5=TRUE)),1,0)=1),1,0)=1,CR197=1,CT197=1),1,0)","v":0},{"$f":"IF(AND(OR(F197=TABLE1!$D$5,TABLE1!$D$5=\"کل بخشها\"),F197<>\"\"),1,0)","v":0}]
[null,null,null,null,null,null,null,null,null,null,null,null,null,null,null,null,null,null,null,null,null,null,null,null,null,null,null,null,null,null,null,null,null,null,null,null,null,null,null,null,null,null,null,null,null,null,null,null,null,null,null,null,null,null,null,null,null,null,null,null,null,null,null,null,null,null,null,null,null,null,null,null,null,null,null,null,null,null,null,null,null,null,null,null,null,null,null,null,null,null,null,null,null,null,"",{"$f":"IF(LEFT(C198,2)=TABLE1!$F$1,1,0)","v":0},{"$f":"IF(AND(IF(AND(IF(OR(AND(CQ198=1,TABLE1!$AN$3=TRUE),AND(CQ198=2,TABLE1!$AN$4=TRUE),AND(CQ198=3,TABLE1!$AN$5=TRUE),AND(CQ198=4,TABLE1!$AQ$3=TRUE),AND(CQ198=5,TABLE1!$AQ$4=TRUE),AND(CQ198=6,TABLE1!$AQ$5=TRUE),AND(CQ198=7,TABLE1!$AT$3=TRUE),AND(CQ198=8,TABLE1!$AT$4=TRUE),AND(CQ198=9,TABLE1!$AT$5=TRUE),AND(CQ198=10,TABLE1!$AW$3=TRUE),AND(CQ198=11,TABLE1!$AW$4=TRUE),AND(CQ198=12,TABLE1!$AW$5=TRUE)),1,0)=1),1,0)=1,CR198=1,CT198=1),1,0)","v":0},{"$f":"IF(AND(OR(F198=TABLE1!$D$5,TABLE1!$D$5=\"کل بخشها\"),F198<>\"\"),1,0)","v":0}]
[null,null,null,null,null,null,null,null,null,null,null,null,null,null,null,null,null,null,null,null,null,null,null,null,null,null,null,null,null,null,null,null,null,null,null,null,null,null,null,null,null,null,null,null,null,null,null,null,null,null,null,null,null,null,null,null,null,null,null,null,null,null,null,null,null,null,null,null,null,null,null,null,null,null,null,null,null,null,null,null,null,null,null,null,null,null,null,null,null,null,null,null,null,null,"",{"$f":"IF(LEFT(C199,2)=TABLE1!$F$1,1,0)","v":0},{"$f":"IF(AND(IF(AND(IF(OR(AND(CQ199=1,TABLE1!$AN$3=TRUE),AND(CQ199=2,TABLE1!$AN$4=TRUE),AND(CQ199=3,TABLE1!$AN$5=TRUE),AND(CQ199=4,TABLE1!$AQ$3=TRUE),AND(CQ199=5,TABLE1!$AQ$4=TRUE),AND(CQ199=6,TABLE1!$AQ$5=TRUE),AND(CQ199=7,TABLE1!$AT$3=TRUE),AND(CQ199=8,TABLE1!$AT$4=TRUE),AND(CQ199=9,TABLE1!$AT$5=TRUE),AND(CQ199=10,TABLE1!$AW$3=TRUE),AND(CQ199=11,TABLE1!$AW$4=TRUE),AND(CQ199=12,TABLE1!$AW$5=TRUE)),1,0)=1),1,0)=1,CR199=1,CT199=1),1,0)","v":0},{"$f":"IF(AND(OR(F199=TABLE1!$D$5,TABLE1!$D$5=\"کل بخشها\"),F199<>\"\"),1,0)","v":0}]
[null,null,null,null,null,null,null,null,null,null,null,null,null,null,null,null,null,null,null,null,null,null,null,null,null,null,null,null,null,null,null,null,null,null,null,null,null,null,null,null,null,null,null,null,null,null,null,null,null,null,null,null,null,null,null,null,null,null,null,null,null,null,null,null,null,null,null,null,null,null,null,null,null,null,null,null,null,null,null,null,null,null,null,null,null,null,null,null,null,null,null,null,null,null,"",{"$f":"IF(LEFT(C200,2)=TABLE1!$F$1,1,0)","v":0},{"$f":"IF(AND(IF(AND(IF(OR(AND(CQ200=1,TABLE1!$AN$3=TRUE),AND(CQ200=2,TABLE1!$AN$4=TRUE),AND(CQ200=3,TABLE1!$AN$5=TRUE),AND(CQ200=4,TABLE1!$AQ$3=TRUE),AND(CQ200=5,TABLE1!$AQ$4=TRUE),AND(CQ200=6,TABLE1!$AQ$5=TRUE),AND(CQ200=7,TABLE1!$AT$3=TRUE),AND(CQ200=8,TABLE1!$AT$4=TRUE),AND(CQ200=9,TABLE1!$AT$5=TRUE),AND(CQ200=10,TABLE1!$AW$3=TRUE),AND(CQ200=11,TABLE1!$AW$4=TRUE),AND(CQ200=12,TABLE1!$AW$5=TRUE)),1,0)=1),1,0)=1,CR200=1,CT200=1),1,0)","v":0},{"$f":"IF(AND(OR(F200=TABLE1!$D$5,TABLE1!$D$5=\"کل بخشها\"),F200<>\"\"),1,0)","v":0}]
[null,null,null,null,null,null,null,null,null,null,null,null,null,null,null,null,null,null,null,null,null,null,null,null,null,null,null,null,null,null,null,null,null,null,null,null,null,null,null,null,null,null,null,null,null,null,null,null,null,null,null,null,null,null,null,null,null,null,null,null,null,null,null,null,null,null,null,null,null,null,null,null,null,null,null,null,null,null,null,null,null,null,null,null,null,null,null,null,null,null,null,null,null,null,"",{"$f":"IF(LEFT(C201,2)=TABLE1!$F$1,1,0)","v":0},{"$f":"IF(AND(IF(AND(IF(OR(AND(CQ201=1,TABLE1!$AN$3=TRUE),AND(CQ201=2,TABLE1!$AN$4=TRUE),AND(CQ201=3,TABLE1!$AN$5=TRUE),AND(CQ201=4,TABLE1!$AQ$3=TRUE),AND(CQ201=5,TABLE1!$AQ$4=TRUE),AND(CQ201=6,TABLE1!$AQ$5=TRUE),AND(CQ201=7,TABLE1!$AT$3=TRUE),AND(CQ201=8,TABLE1!$AT$4=TRUE),AND(CQ201=9,TABLE1!$AT$5=TRUE),AND(CQ201=10,TABLE1!$AW$3=TRUE),AND(CQ201=11,TABLE1!$AW$4=TRUE),AND(CQ201=12,TABLE1!$AW$5=TRUE)),1,0)=1),1,0)=1,CR201=1,CT201=1),1,0)","v":0},{"$f":"IF(AND(OR(F201=TABLE1!$D$5,TABLE1!$D$5=\"کل بخشها\"),F201<>\"\"),1,0)","v":0}]
[null,null,null,null,null,null,null,null,null,null,null,null,null,null,null,null,null,null,null,null,null,null,null,null,null,null,null,null,null,null,null,null,null,null,null,null,null,null,null,null,null,null,null,null,null,null,null,null,null,null,null,null,null,null,null,null,null,null,null,null,null,null,null,null,null,null,null,null,null,null,null,null,null,null,null,null,null,null,null,null,null,null,null,null,null,null,null,null,null,null,null,null,null,null,"",{"$f":"IF(LEFT(C202,2)=TABLE1!$F$1,1,0)","v":0},{"$f":"IF(AND(IF(AND(IF(OR(AND(CQ202=1,TABLE1!$AN$3=TRUE),AND(CQ202=2,TABLE1!$AN$4=TRUE),AND(CQ202=3,TABLE1!$AN$5=TRUE),AND(CQ202=4,TABLE1!$AQ$3=TRUE),AND(CQ202=5,TABLE1!$AQ$4=TRUE),AND(CQ202=6,TABLE1!$AQ$5=TRUE),AND(CQ202=7,TABLE1!$AT$3=TRUE),AND(CQ202=8,TABLE1!$AT$4=TRUE),AND(CQ202=9,TABLE1!$AT$5=TRUE),AND(CQ202=10,TABLE1!$AW$3=TRUE),AND(CQ202=11,TABLE1!$AW$4=TRUE),AND(CQ202=12,TABLE1!$AW$5=TRUE)),1,0)=1),1,0)=1,CR202=1,CT202=1),1,0)","v":0},{"$f":"IF(AND(OR(F202=TABLE1!$D$5,TABLE1!$D$5=\"کل بخشها\"),F202<>\"\"),1,0)","v":0}]
[null,null,null,null,null,null,null,null,null,null,null,null,null,null,null,null,null,null,null,null,null,null,null,null,null,null,null,null,null,null,null,null,null,null,null,null,null,null,null,null,null,null,null,null,null,null,null,null,null,null,null,null,null,null,null,null,null,null,null,null,null,null,null,null,null,null,null,null,null,null,null,null,null,null,null,null,null,null,null,null,null,null,null,null,null,null,null,null,null,null,null,null,null,null,"",{"$f":"IF(LEFT(C203,2)=TABLE1!$F$1,1,0)","v":0},{"$f":"IF(AND(IF(AND(IF(OR(AND(CQ203=1,TABLE1!$AN$3=TRUE),AND(CQ203=2,TABLE1!$AN$4=TRUE),AND(CQ203=3,TABLE1!$AN$5=TRUE),AND(CQ203=4,TABLE1!$AQ$3=TRUE),AND(CQ203=5,TABLE1!$AQ$4=TRUE),AND(CQ203=6,TABLE1!$AQ$5=TRUE),AND(CQ203=7,TABLE1!$AT$3=TRUE),AND(CQ203=8,TABLE1!$AT$4=TRUE),AND(CQ203=9,TABLE1!$AT$5=TRUE),AND(CQ203=10,TABLE1!$AW$3=TRUE),AND(CQ203=11,TABLE1!$AW$4=TRUE),AND(CQ203=12,TABLE1!$AW$5=TRUE)),1,0)=1),1,0)=1,CR203=1,CT203=1),1,0)","v":0},{"$f":"IF(AND(OR(F203=TABLE1!$D$5,TABLE1!$D$5=\"کل بخشها\"),F203<>\"\"),1,0)","v":0}]
[null,null,null,null,null,null,null,null,null,null,null,null,null,null,null,null,null,null,null,null,null,null,null,null,null,null,null,null,null,null,null,null,null,null,null,null,null,null,null,null,null,null,null,null,null,null,null,null,null,null,null,null,null,null,null,null,null,null,null,null,null,null,null,null,null,null,null,null,null,null,null,null,null,null,null,null,null,null,null,null,null,null,null,null,null,null,null,null,null,null,null,null,null,null,"",{"$f":"IF(LEFT(C204,2)=TABLE1!$F$1,1,0)","v":0},{"$f":"IF(AND(IF(AND(IF(OR(AND(CQ204=1,TABLE1!$AN$3=TRUE),AND(CQ204=2,TABLE1!$AN$4=TRUE),AND(CQ204=3,TABLE1!$AN$5=TRUE),AND(CQ204=4,TABLE1!$AQ$3=TRUE),AND(CQ204=5,TABLE1!$AQ$4=TRUE),AND(CQ204=6,TABLE1!$AQ$5=TRUE),AND(CQ204=7,TABLE1!$AT$3=TRUE),AND(CQ204=8,TABLE1!$AT$4=TRUE),AND(CQ204=9,TABLE1!$AT$5=TRUE),AND(CQ204=10,TABLE1!$AW$3=TRUE),AND(CQ204=11,TABLE1!$AW$4=TRUE),AND(CQ204=12,TABLE1!$AW$5=TRUE)),1,0)=1),1,0)=1,CR204=1,CT204=1),1,0)","v":0},{"$f":"IF(AND(OR(F204=TABLE1!$D$5,TABLE1!$D$5=\"کل بخشها\"),F204<>\"\"),1,0)","v":0}]
[null,null,null,null,null,null,null,null,null,null,null,null,null,null,null,null,null,null,null,null,null,null,null,null,null,null,null,null,null,null,null,null,null,null,null,null,null,null,null,null,null,null,null,null,null,null,null,null,null,null,null,null,null,null,null,null,null,null,null,null,null,null,null,null,null,null,null,null,null,null,null,null,null,null,null,null,null,null,null,null,null,null,null,null,null,null,null,null,null,null,null,null,null,null,"",{"$f":"IF(LEFT(C205,2)=TABLE1!$F$1,1,0)","v":0},{"$f":"IF(AND(IF(AND(IF(OR(AND(CQ205=1,TABLE1!$AN$3=TRUE),AND(CQ205=2,TABLE1!$AN$4=TRUE),AND(CQ205=3,TABLE1!$AN$5=TRUE),AND(CQ205=4,TABLE1!$AQ$3=TRUE),AND(CQ205=5,TABLE1!$AQ$4=TRUE),AND(CQ205=6,TABLE1!$AQ$5=TRUE),AND(CQ205=7,TABLE1!$AT$3=TRUE),AND(CQ205=8,TABLE1!$AT$4=TRUE),AND(CQ205=9,TABLE1!$AT$5=TRUE),AND(CQ205=10,TABLE1!$AW$3=TRUE),AND(CQ205=11,TABLE1!$AW$4=TRUE),AND(CQ205=12,TABLE1!$AW$5=TRUE)),1,0)=1),1,0)=1,CR205=1,CT205=1),1,0)","v":0},{"$f":"IF(AND(OR(F205=TABLE1!$D$5,TABLE1!$D$5=\"کل بخشها\"),F205<>\"\"),1,0)","v":0}]
[null,null,null,null,null,null,null,null,null,null,null,null,null,null,null,null,null,null,null,null,null,null,null,null,null,null,null,null,null,null,null,null,null,null,null,null,null,null,null,null,null,null,null,null,null,null,null,null,null,null,null,null,null,null,null,null,null,null,null,null,null,null,null,null,null,null,null,null,null,null,null,null,null,null,null,null,null,null,null,null,null,null,null,null,null,null,null,null,null,null,null,null,null,null,"",{"$f":"IF(LEFT(C206,2)=TABLE1!$F$1,1,0)","v":0},{"$f":"IF(AND(IF(AND(IF(OR(AND(CQ206=1,TABLE1!$AN$3=TRUE),AND(CQ206=2,TABLE1!$AN$4=TRUE),AND(CQ206=3,TABLE1!$AN$5=TRUE),AND(CQ206=4,TABLE1!$AQ$3=TRUE),AND(CQ206=5,TABLE1!$AQ$4=TRUE),AND(CQ206=6,TABLE1!$AQ$5=TRUE),AND(CQ206=7,TABLE1!$AT$3=TRUE),AND(CQ206=8,TABLE1!$AT$4=TRUE),AND(CQ206=9,TABLE1!$AT$5=TRUE),AND(CQ206=10,TABLE1!$AW$3=TRUE),AND(CQ206=11,TABLE1!$AW$4=TRUE),AND(CQ206=12,TABLE1!$AW$5=TRUE)),1,0)=1),1,0)=1,CR206=1,CT206=1),1,0)","v":0},{"$f":"IF(AND(OR(F206=TABLE1!$D$5,TABLE1!$D$5=\"کل بخشها\"),F206<>\"\"),1,0)","v":0}]
[null,null,null,null,null,null,null,null,null,null,null,null,null,null,null,null,null,null,null,null,null,null,null,null,null,null,null,null,null,null,null,null,null,null,null,null,null,null,null,null,null,null,null,null,null,null,null,null,null,null,null,null,null,null,null,null,null,null,null,null,null,null,null,null,null,null,null,null,null,null,null,null,null,null,null,null,null,null,null,null,null,null,null,null,null,null,null,null,null,null,null,null,null,null,"",{"$f":"IF(LEFT(C207,2)=TABLE1!$F$1,1,0)","v":0},{"$f":"IF(AND(IF(AND(IF(OR(AND(CQ207=1,TABLE1!$AN$3=TRUE),AND(CQ207=2,TABLE1!$AN$4=TRUE),AND(CQ207=3,TABLE1!$AN$5=TRUE),AND(CQ207=4,TABLE1!$AQ$3=TRUE),AND(CQ207=5,TABLE1!$AQ$4=TRUE),AND(CQ207=6,TABLE1!$AQ$5=TRUE),AND(CQ207=7,TABLE1!$AT$3=TRUE),AND(CQ207=8,TABLE1!$AT$4=TRUE),AND(CQ207=9,TABLE1!$AT$5=TRUE),AND(CQ207=10,TABLE1!$AW$3=TRUE),AND(CQ207=11,TABLE1!$AW$4=TRUE),AND(CQ207=12,TABLE1!$AW$5=TRUE)),1,0)=1),1,0)=1,CR207=1,CT207=1),1,0)","v":0},{"$f":"IF(AND(OR(F207=TABLE1!$D$5,TABLE1!$D$5=\"کل بخشها\"),F207<>\"\"),1,0)","v":0}]
[null,null,null,null,null,null,null,null,null,null,null,null,null,null,null,null,null,null,null,null,null,null,null,null,null,null,null,null,null,null,null,null,null,null,null,null,null,null,null,null,null,null,null,null,null,null,null,null,null,null,null,null,null,null,null,null,null,null,null,null,null,null,null,null,null,null,null,null,null,null,null,null,null,null,null,null,null,null,null,null,null,null,null,null,null,null,null,null,null,null,null,null,null,null,"",{"$f":"IF(LEFT(C208,2)=TABLE1!$F$1,1,0)","v":0},{"$f":"IF(AND(IF(AND(IF(OR(AND(CQ208=1,TABLE1!$AN$3=TRUE),AND(CQ208=2,TABLE1!$AN$4=TRUE),AND(CQ208=3,TABLE1!$AN$5=TRUE),AND(CQ208=4,TABLE1!$AQ$3=TRUE),AND(CQ208=5,TABLE1!$AQ$4=TRUE),AND(CQ208=6,TABLE1!$AQ$5=TRUE),AND(CQ208=7,TABLE1!$AT$3=TRUE),AND(CQ208=8,TABLE1!$AT$4=TRUE),AND(CQ208=9,TABLE1!$AT$5=TRUE),AND(CQ208=10,TABLE1!$AW$3=TRUE),AND(CQ208=11,TABLE1!$AW$4=TRUE),AND(CQ208=12,TABLE1!$AW$5=TRUE)),1,0)=1),1,0)=1,CR208=1,CT208=1),1,0)","v":0},{"$f":"IF(AND(OR(F208=TABLE1!$D$5,TABLE1!$D$5=\"کل بخشها\"),F208<>\"\"),1,0)","v":0}]
[null,null,null,null,null,null,null,null,null,null,null,null,null,null,null,null,null,null,null,null,null,null,null,null,null,null,null,null,null,null,null,null,null,null,null,null,null,null,null,null,null,null,null,null,null,null,null,null,null,null,null,null,null,null,null,null,null,null,null,null,null,null,null,null,null,null,null,null,null,null,null,null,null,null,null,null,null,null,null,null,null,null,null,null,null,null,null,null,null,null,null,null,null,null,"",{"$f":"IF(LEFT(C209,2)=TABLE1!$F$1,1,0)","v":0},{"$f":"IF(AND(IF(AND(IF(OR(AND(CQ209=1,TABLE1!$AN$3=TRUE),AND(CQ209=2,TABLE1!$AN$4=TRUE),AND(CQ209=3,TABLE1!$AN$5=TRUE),AND(CQ209=4,TABLE1!$AQ$3=TRUE),AND(CQ209=5,TABLE1!$AQ$4=TRUE),AND(CQ209=6,TABLE1!$AQ$5=TRUE),AND(CQ209=7,TABLE1!$AT$3=TRUE),AND(CQ209=8,TABLE1!$AT$4=TRUE),AND(CQ209=9,TABLE1!$AT$5=TRUE),AND(CQ209=10,TABLE1!$AW$3=TRUE),AND(CQ209=11,TABLE1!$AW$4=TRUE),AND(CQ209=12,TABLE1!$AW$5=TRUE)),1,0)=1),1,0)=1,CR209=1,CT209=1),1,0)","v":0},{"$f":"IF(AND(OR(F209=TABLE1!$D$5,TABLE1!$D$5=\"کل بخشها\"),F209<>\"\"),1,0)","v":0}]
[null,null,null,null,null,null,null,null,null,null,null,null,null,null,null,null,null,null,null,null,null,null,null,null,null,null,null,null,null,null,null,null,null,null,null,null,null,null,null,null,null,null,null,null,null,null,null,null,null,null,null,null,null,null,null,null,null,null,null,null,null,null,null,null,null,null,null,null,null,null,null,null,null,null,null,null,null,null,null,null,null,null,null,null,null,null,null,null,null,null,null,null,null,null,"",{"$f":"IF(LEFT(C210,2)=TABLE1!$F$1,1,0)","v":0},{"$f":"IF(AND(IF(AND(IF(OR(AND(CQ210=1,TABLE1!$AN$3=TRUE),AND(CQ210=2,TABLE1!$AN$4=TRUE),AND(CQ210=3,TABLE1!$AN$5=TRUE),AND(CQ210=4,TABLE1!$AQ$3=TRUE),AND(CQ210=5,TABLE1!$AQ$4=TRUE),AND(CQ210=6,TABLE1!$AQ$5=TRUE),AND(CQ210=7,TABLE1!$AT$3=TRUE),AND(CQ210=8,TABLE1!$AT$4=TRUE),AND(CQ210=9,TABLE1!$AT$5=TRUE),AND(CQ210=10,TABLE1!$AW$3=TRUE),AND(CQ210=11,TABLE1!$AW$4=TRUE),AND(CQ210=12,TABLE1!$AW$5=TRUE)),1,0)=1),1,0)=1,CR210=1,CT210=1),1,0)","v":0},{"$f":"IF(AND(OR(F210=TABLE1!$D$5,TABLE1!$D$5=\"کل بخشها\"),F210<>\"\"),1,0)","v":0}]
[null,null,null,null,null,null,null,null,null,null,null,null,null,null,null,null,null,null,null,null,null,null,null,null,null,null,null,null,null,null,null,null,null,null,null,null,null,null,null,null,null,null,null,null,null,null,null,null,null,null,null,null,null,null,null,null,null,null,null,null,null,null,null,null,null,null,null,null,null,null,null,null,null,null,null,null,null,null,null,null,null,null,null,null,null,null,null,null,null,null,null,null,null,null,"",{"$f":"IF(LEFT(C211,2)=TABLE1!$F$1,1,0)","v":0},{"$f":"IF(AND(IF(AND(IF(OR(AND(CQ211=1,TABLE1!$AN$3=TRUE),AND(CQ211=2,TABLE1!$AN$4=TRUE),AND(CQ211=3,TABLE1!$AN$5=TRUE),AND(CQ211=4,TABLE1!$AQ$3=TRUE),AND(CQ211=5,TABLE1!$AQ$4=TRUE),AND(CQ211=6,TABLE1!$AQ$5=TRUE),AND(CQ211=7,TABLE1!$AT$3=TRUE),AND(CQ211=8,TABLE1!$AT$4=TRUE),AND(CQ211=9,TABLE1!$AT$5=TRUE),AND(CQ211=10,TABLE1!$AW$3=TRUE),AND(CQ211=11,TABLE1!$AW$4=TRUE),AND(CQ211=12,TABLE1!$AW$5=TRUE)),1,0)=1),1,0)=1,CR211=1,CT211=1),1,0)","v":0},{"$f":"IF(AND(OR(F211=TABLE1!$D$5,TABLE1!$D$5=\"کل بخشها\"),F211<>\"\"),1,0)","v":0}]
[null,null,null,null,null,null,null,null,null,null,null,null,null,null,null,null,null,null,null,null,null,null,null,null,null,null,null,null,null,null,null,null,null,null,null,null,null,null,null,null,null,null,null,null,null,null,null,null,null,null,null,null,null,null,null,null,null,null,null,null,null,null,null,null,null,null,null,null,null,null,null,null,null,null,null,null,null,null,null,null,null,null,null,null,null,null,null,null,null,null,null,null,null,null,"",{"$f":"IF(LEFT(C212,2)=TABLE1!$F$1,1,0)","v":0},{"$f":"IF(AND(IF(AND(IF(OR(AND(CQ212=1,TABLE1!$AN$3=TRUE),AND(CQ212=2,TABLE1!$AN$4=TRUE),AND(CQ212=3,TABLE1!$AN$5=TRUE),AND(CQ212=4,TABLE1!$AQ$3=TRUE),AND(CQ212=5,TABLE1!$AQ$4=TRUE),AND(CQ212=6,TABLE1!$AQ$5=TRUE),AND(CQ212=7,TABLE1!$AT$3=TRUE),AND(CQ212=8,TABLE1!$AT$4=TRUE),AND(CQ212=9,TABLE1!$AT$5=TRUE),AND(CQ212=10,TABLE1!$AW$3=TRUE),AND(CQ212=11,TABLE1!$AW$4=TRUE),AND(CQ212=12,TABLE1!$AW$5=TRUE)),1,0)=1),1,0)=1,CR212=1,CT212=1),1,0)","v":0},{"$f":"IF(AND(OR(F212=TABLE1!$D$5,TABLE1!$D$5=\"کل بخشها\"),F212<>\"\"),1,0)","v":0}]
[null,null,null,null,null,null,null,null,null,null,null,null,null,null,null,null,null,null,null,null,null,null,null,null,null,null,null,null,null,null,null,null,null,null,null,null,null,null,null,null,null,null,null,null,null,null,null,null,null,null,null,null,null,null,null,null,null,null,null,null,null,null,null,null,null,null,null,null,null,null,null,null,null,null,null,null,null,null,null,null,null,null,null,null,null,null,null,null,null,null,null,null,null,null,"",{"$f":"IF(LEFT(C213,2)=TABLE1!$F$1,1,0)","v":0},{"$f":"IF(AND(IF(AND(IF(OR(AND(CQ213=1,TABLE1!$AN$3=TRUE),AND(CQ213=2,TABLE1!$AN$4=TRUE),AND(CQ213=3,TABLE1!$AN$5=TRUE),AND(CQ213=4,TABLE1!$AQ$3=TRUE),AND(CQ213=5,TABLE1!$AQ$4=TRUE),AND(CQ213=6,TABLE1!$AQ$5=TRUE),AND(CQ213=7,TABLE1!$AT$3=TRUE),AND(CQ213=8,TABLE1!$AT$4=TRUE),AND(CQ213=9,TABLE1!$AT$5=TRUE),AND(CQ213=10,TABLE1!$AW$3=TRUE),AND(CQ213=11,TABLE1!$AW$4=TRUE),AND(CQ213=12,TABLE1!$AW$5=TRUE)),1,0)=1),1,0)=1,CR213=1,CT213=1),1,0)","v":0},{"$f":"IF(AND(OR(F213=TABLE1!$D$5,TABLE1!$D$5=\"کل بخشها\"),F213<>\"\"),1,0)","v":0}]
[null,null,null,null,null,null,null,null,null,null,null,null,null,null,null,null,null,null,null,null,null,null,null,null,null,null,null,null,null,null,null,null,null,null,null,null,null,null,null,null,null,null,null,null,null,null,null,null,null,null,null,null,null,null,null,null,null,null,null,null,null,null,null,null,null,null,null,null,null,null,null,null,null,null,null,null,null,null,null,null,null,null,null,null,null,null,null,null,null,null,null,null,null,null,"",{"$f":"IF(LEFT(C214,2)=TABLE1!$F$1,1,0)","v":0},{"$f":"IF(AND(IF(AND(IF(OR(AND(CQ214=1,TABLE1!$AN$3=TRUE),AND(CQ214=2,TABLE1!$AN$4=TRUE),AND(CQ214=3,TABLE1!$AN$5=TRUE),AND(CQ214=4,TABLE1!$AQ$3=TRUE),AND(CQ214=5,TABLE1!$AQ$4=TRUE),AND(CQ214=6,TABLE1!$AQ$5=TRUE),AND(CQ214=7,TABLE1!$AT$3=TRUE),AND(CQ214=8,TABLE1!$AT$4=TRUE),AND(CQ214=9,TABLE1!$AT$5=TRUE),AND(CQ214=10,TABLE1!$AW$3=TRUE),AND(CQ214=11,TABLE1!$AW$4=TRUE),AND(CQ214=12,TABLE1!$AW$5=TRUE)),1,0)=1),1,0)=1,CR214=1,CT214=1),1,0)","v":0},{"$f":"IF(AND(OR(F214=TABLE1!$D$5,TABLE1!$D$5=\"کل بخشها\"),F214<>\"\"),1,0)","v":0}]
[null,null,null,null,null,null,null,null,null,null,null,null,null,null,null,null,null,null,null,null,null,null,null,null,null,null,null,null,null,null,null,null,null,null,null,null,null,null,null,null,null,null,null,null,null,null,null,null,null,null,null,null,null,null,null,null,null,null,null,null,null,null,null,null,null,null,null,null,null,null,null,null,null,null,null,null,null,null,null,null,null,null,null,null,null,null,null,null,null,null,null,null,null,null,"",{"$f":"IF(LEFT(C215,2)=TABLE1!$F$1,1,0)","v":0},{"$f":"IF(AND(IF(AND(IF(OR(AND(CQ215=1,TABLE1!$AN$3=TRUE),AND(CQ215=2,TABLE1!$AN$4=TRUE),AND(CQ215=3,TABLE1!$AN$5=TRUE),AND(CQ215=4,TABLE1!$AQ$3=TRUE),AND(CQ215=5,TABLE1!$AQ$4=TRUE),AND(CQ215=6,TABLE1!$AQ$5=TRUE),AND(CQ215=7,TABLE1!$AT$3=TRUE),AND(CQ215=8,TABLE1!$AT$4=TRUE),AND(CQ215=9,TABLE1!$AT$5=TRUE),AND(CQ215=10,TABLE1!$AW$3=TRUE),AND(CQ215=11,TABLE1!$AW$4=TRUE),AND(CQ215=12,TABLE1!$AW$5=TRUE)),1,0)=1),1,0)=1,CR215=1,CT215=1),1,0)","v":0},{"$f":"IF(AND(OR(F215=TABLE1!$D$5,TABLE1!$D$5=\"کل بخشها\"),F215<>\"\"),1,0)","v":0}]
[null,null,null,null,null,null,null,null,null,null,null,null,null,null,null,null,null,null,null,null,null,null,null,null,null,null,null,null,null,null,null,null,null,null,null,null,null,null,null,null,null,null,null,null,null,null,null,null,null,null,null,null,null,null,null,null,null,null,null,null,null,null,null,null,null,null,null,null,null,null,null,null,null,null,null,null,null,null,null,null,null,null,null,null,null,null,null,null,null,null,null,null,null,null,"",{"$f":"IF(LEFT(C216,2)=TABLE1!$F$1,1,0)","v":0},{"$f":"IF(AND(IF(AND(IF(OR(AND(CQ216=1,TABLE1!$AN$3=TRUE),AND(CQ216=2,TABLE1!$AN$4=TRUE),AND(CQ216=3,TABLE1!$AN$5=TRUE),AND(CQ216=4,TABLE1!$AQ$3=TRUE),AND(CQ216=5,TABLE1!$AQ$4=TRUE),AND(CQ216=6,TABLE1!$AQ$5=TRUE),AND(CQ216=7,TABLE1!$AT$3=TRUE),AND(CQ216=8,TABLE1!$AT$4=TRUE),AND(CQ216=9,TABLE1!$AT$5=TRUE),AND(CQ216=10,TABLE1!$AW$3=TRUE),AND(CQ216=11,TABLE1!$AW$4=TRUE),AND(CQ216=12,TABLE1!$AW$5=TRUE)),1,0)=1),1,0)=1,CR216=1,CT216=1),1,0)","v":0},{"$f":"IF(AND(OR(F216=TABLE1!$D$5,TABLE1!$D$5=\"کل بخشها\"),F216<>\"\"),1,0)","v":0}]
[null,null,null,null,null,null,null,null,null,null,null,null,null,null,null,null,null,null,null,null,null,null,null,null,null,null,null,null,null,null,null,null,null,null,null,null,null,null,null,null,null,null,null,null,null,null,null,null,null,null,null,null,null,null,null,null,null,null,null,null,null,null,null,null,null,null,null,null,null,null,null,null,null,null,null,null,null,null,null,null,null,null,null,null,null,null,null,null,null,null,null,null,null,null,"",{"$f":"IF(LEFT(C217,2)=TABLE1!$F$1,1,0)","v":0},{"$f":"IF(AND(IF(AND(IF(OR(AND(CQ217=1,TABLE1!$AN$3=TRUE),AND(CQ217=2,TABLE1!$AN$4=TRUE),AND(CQ217=3,TABLE1!$AN$5=TRUE),AND(CQ217=4,TABLE1!$AQ$3=TRUE),AND(CQ217=5,TABLE1!$AQ$4=TRUE),AND(CQ217=6,TABLE1!$AQ$5=TRUE),AND(CQ217=7,TABLE1!$AT$3=TRUE),AND(CQ217=8,TABLE1!$AT$4=TRUE),AND(CQ217=9,TABLE1!$AT$5=TRUE),AND(CQ217=10,TABLE1!$AW$3=TRUE),AND(CQ217=11,TABLE1!$AW$4=TRUE),AND(CQ217=12,TABLE1!$AW$5=TRUE)),1,0)=1),1,0)=1,CR217=1,CT217=1),1,0)","v":0},{"$f":"IF(AND(OR(F217=TABLE1!$D$5,TABLE1!$D$5=\"کل بخشها\"),F217<>\"\"),1,0)","v":0}]
[null,null,null,null,null,null,null,null,null,null,null,null,null,null,null,null,null,null,null,null,null,null,null,null,null,null,null,null,null,null,null,null,null,null,null,null,null,null,null,null,null,null,null,null,null,null,null,null,null,null,null,null,null,null,null,null,null,null,null,null,null,null,null,null,null,null,null,null,null,null,null,null,null,null,null,null,null,null,null,null,null,null,null,null,null,null,null,null,null,null,null,null,null,null,"",{"$f":"IF(LEFT(C218,2)=TABLE1!$F$1,1,0)","v":0},{"$f":"IF(AND(IF(AND(IF(OR(AND(CQ218=1,TABLE1!$AN$3=TRUE),AND(CQ218=2,TABLE1!$AN$4=TRUE),AND(CQ218=3,TABLE1!$AN$5=TRUE),AND(CQ218=4,TABLE1!$AQ$3=TRUE),AND(CQ218=5,TABLE1!$AQ$4=TRUE),AND(CQ218=6,TABLE1!$AQ$5=TRUE),AND(CQ218=7,TABLE1!$AT$3=TRUE),AND(CQ218=8,TABLE1!$AT$4=TRUE),AND(CQ218=9,TABLE1!$AT$5=TRUE),AND(CQ218=10,TABLE1!$AW$3=TRUE),AND(CQ218=11,TABLE1!$AW$4=TRUE),AND(CQ218=12,TABLE1!$AW$5=TRUE)),1,0)=1),1,0)=1,CR218=1,CT218=1),1,0)","v":0},{"$f":"IF(AND(OR(F218=TABLE1!$D$5,TABLE1!$D$5=\"کل بخشها\"),F218<>\"\"),1,0)","v":0}]
[null,null,null,null,null,null,null,null,null,null,null,null,null,null,null,null,null,null,null,null,null,null,null,null,null,null,null,null,null,null,null,null,null,null,null,null,null,null,null,null,null,null,null,null,null,null,null,null,null,null,null,null,null,null,null,null,null,null,null,null,null,null,null,null,null,null,null,null,null,null,null,null,null,null,null,null,null,null,null,null,null,null,null,null,null,null,null,null,null,null,null,null,null,null,"",{"$f":"IF(LEFT(C219,2)=TABLE1!$F$1,1,0)","v":0},{"$f":"IF(AND(IF(AND(IF(OR(AND(CQ219=1,TABLE1!$AN$3=TRUE),AND(CQ219=2,TABLE1!$AN$4=TRUE),AND(CQ219=3,TABLE1!$AN$5=TRUE),AND(CQ219=4,TABLE1!$AQ$3=TRUE),AND(CQ219=5,TABLE1!$AQ$4=TRUE),AND(CQ219=6,TABLE1!$AQ$5=TRUE),AND(CQ219=7,TABLE1!$AT$3=TRUE),AND(CQ219=8,TABLE1!$AT$4=TRUE),AND(CQ219=9,TABLE1!$AT$5=TRUE),AND(CQ219=10,TABLE1!$AW$3=TRUE),AND(CQ219=11,TABLE1!$AW$4=TRUE),AND(CQ219=12,TABLE1!$AW$5=TRUE)),1,0)=1),1,0)=1,CR219=1,CT219=1),1,0)","v":0},{"$f":"IF(AND(OR(F219=TABLE1!$D$5,TABLE1!$D$5=\"کل بخشها\"),F219<>\"\"),1,0)","v":0}]
[null,null,null,null,null,null,null,null,null,null,null,null,null,null,null,null,null,null,null,null,null,null,null,null,null,null,null,null,null,null,null,null,null,null,null,null,null,null,null,null,null,null,null,null,null,null,null,null,null,null,null,null,null,null,null,null,null,null,null,null,null,null,null,null,null,null,null,null,null,null,null,null,null,null,null,null,null,null,null,null,null,null,null,null,null,null,null,null,null,null,null,null,null,null,"",{"$f":"IF(LEFT(C220,2)=TABLE1!$F$1,1,0)","v":0},{"$f":"IF(AND(IF(AND(IF(OR(AND(CQ220=1,TABLE1!$AN$3=TRUE),AND(CQ220=2,TABLE1!$AN$4=TRUE),AND(CQ220=3,TABLE1!$AN$5=TRUE),AND(CQ220=4,TABLE1!$AQ$3=TRUE),AND(CQ220=5,TABLE1!$AQ$4=TRUE),AND(CQ220=6,TABLE1!$AQ$5=TRUE),AND(CQ220=7,TABLE1!$AT$3=TRUE),AND(CQ220=8,TABLE1!$AT$4=TRUE),AND(CQ220=9,TABLE1!$AT$5=TRUE),AND(CQ220=10,TABLE1!$AW$3=TRUE),AND(CQ220=11,TABLE1!$AW$4=TRUE),AND(CQ220=12,TABLE1!$AW$5=TRUE)),1,0)=1),1,0)=1,CR220=1,CT220=1),1,0)","v":0},{"$f":"IF(AND(OR(F220=TABLE1!$D$5,TABLE1!$D$5=\"کل بخشها\"),F220<>\"\"),1,0)","v":0}]
[null,null,null,null,null,null,null,null,null,null,null,null,null,null,null,null,null,null,null,null,null,null,null,null,null,null,null,null,null,null,null,null,null,null,null,null,null,null,null,null,null,null,null,null,null,null,null,null,null,null,null,null,null,null,null,null,null,null,null,null,null,null,null,null,null,null,null,null,null,null,null,null,null,null,null,null,null,null,null,null,null,null,null,null,null,null,null,null,null,null,null,null,null,null,"",{"$f":"IF(LEFT(C221,2)=TABLE1!$F$1,1,0)","v":0},{"$f":"IF(AND(IF(AND(IF(OR(AND(CQ221=1,TABLE1!$AN$3=TRUE),AND(CQ221=2,TABLE1!$AN$4=TRUE),AND(CQ221=3,TABLE1!$AN$5=TRUE),AND(CQ221=4,TABLE1!$AQ$3=TRUE),AND(CQ221=5,TABLE1!$AQ$4=TRUE),AND(CQ221=6,TABLE1!$AQ$5=TRUE),AND(CQ221=7,TABLE1!$AT$3=TRUE),AND(CQ221=8,TABLE1!$AT$4=TRUE),AND(CQ221=9,TABLE1!$AT$5=TRUE),AND(CQ221=10,TABLE1!$AW$3=TRUE),AND(CQ221=11,TABLE1!$AW$4=TRUE),AND(CQ221=12,TABLE1!$AW$5=TRUE)),1,0)=1),1,0)=1,CR221=1,CT221=1),1,0)","v":0},{"$f":"IF(AND(OR(F221=TABLE1!$D$5,TABLE1!$D$5=\"کل بخشها\"),F221<>\"\"),1,0)","v":0}]
[null,null,null,null,null,null,null,null,null,null,null,null,null,null,null,null,null,null,null,null,null,null,null,null,null,null,null,null,null,null,null,null,null,null,null,null,null,null,null,null,null,null,null,null,null,null,null,null,null,null,null,null,null,null,null,null,null,null,null,null,null,null,null,null,null,null,null,null,null,null,null,null,null,null,null,null,null,null,null,null,null,null,null,null,null,null,null,null,null,null,null,null,null,null,"",{"$f":"IF(LEFT(C222,2)=TABLE1!$F$1,1,0)","v":0},{"$f":"IF(AND(IF(AND(IF(OR(AND(CQ222=1,TABLE1!$AN$3=TRUE),AND(CQ222=2,TABLE1!$AN$4=TRUE),AND(CQ222=3,TABLE1!$AN$5=TRUE),AND(CQ222=4,TABLE1!$AQ$3=TRUE),AND(CQ222=5,TABLE1!$AQ$4=TRUE),AND(CQ222=6,TABLE1!$AQ$5=TRUE),AND(CQ222=7,TABLE1!$AT$3=TRUE),AND(CQ222=8,TABLE1!$AT$4=TRUE),AND(CQ222=9,TABLE1!$AT$5=TRUE),AND(CQ222=10,TABLE1!$AW$3=TRUE),AND(CQ222=11,TABLE1!$AW$4=TRUE),AND(CQ222=12,TABLE1!$AW$5=TRUE)),1,0)=1),1,0)=1,CR222=1,CT222=1),1,0)","v":0},{"$f":"IF(AND(OR(F222=TABLE1!$D$5,TABLE1!$D$5=\"کل بخشها\"),F222<>\"\"),1,0)","v":0}]
[null,null,null,null,null,null,null,null,null,null,null,null,null,null,null,null,null,null,null,null,null,null,null,null,null,null,null,null,null,null,null,null,null,null,null,null,null,null,null,null,null,null,null,null,null,null,null,null,null,null,null,null,null,null,null,null,null,null,null,null,null,null,null,null,null,null,null,null,null,null,null,null,null,null,null,null,null,null,null,null,null,null,null,null,null,null,null,null,null,null,null,null,null,null,"",{"$f":"IF(LEFT(C223,2)=TABLE1!$F$1,1,0)","v":0},{"$f":"IF(AND(IF(AND(IF(OR(AND(CQ223=1,TABLE1!$AN$3=TRUE),AND(CQ223=2,TABLE1!$AN$4=TRUE),AND(CQ223=3,TABLE1!$AN$5=TRUE),AND(CQ223=4,TABLE1!$AQ$3=TRUE),AND(CQ223=5,TABLE1!$AQ$4=TRUE),AND(CQ223=6,TABLE1!$AQ$5=TRUE),AND(CQ223=7,TABLE1!$AT$3=TRUE),AND(CQ223=8,TABLE1!$AT$4=TRUE),AND(CQ223=9,TABLE1!$AT$5=TRUE),AND(CQ223=10,TABLE1!$AW$3=TRUE),AND(CQ223=11,TABLE1!$AW$4=TRUE),AND(CQ223=12,TABLE1!$AW$5=TRUE)),1,0)=1),1,0)=1,CR223=1,CT223=1),1,0)","v":0},{"$f":"IF(AND(OR(F223=TABLE1!$D$5,TABLE1!$D$5=\"کل بخشها\"),F223<>\"\"),1,0)","v":0}]
[null,null,null,null,null,null,null,null,null,null,null,null,null,null,null,null,null,null,null,null,null,null,null,null,null,null,null,null,null,null,null,null,null,null,null,null,null,null,null,null,null,null,null,null,null,null,null,null,null,null,null,null,null,null,null,null,null,null,null,null,null,null,null,null,null,null,null,null,null,null,null,null,null,null,null,null,null,null,null,null,null,null,null,null,null,null,null,null,null,null,null,null,null,null,"",{"$f":"IF(LEFT(C224,2)=TABLE1!$F$1,1,0)","v":0},{"$f":"IF(AND(IF(AND(IF(OR(AND(CQ224=1,TABLE1!$AN$3=TRUE),AND(CQ224=2,TABLE1!$AN$4=TRUE),AND(CQ224=3,TABLE1!$AN$5=TRUE),AND(CQ224=4,TABLE1!$AQ$3=TRUE),AND(CQ224=5,TABLE1!$AQ$4=TRUE),AND(CQ224=6,TABLE1!$AQ$5=TRUE),AND(CQ224=7,TABLE1!$AT$3=TRUE),AND(CQ224=8,TABLE1!$AT$4=TRUE),AND(CQ224=9,TABLE1!$AT$5=TRUE),AND(CQ224=10,TABLE1!$AW$3=TRUE),AND(CQ224=11,TABLE1!$AW$4=TRUE),AND(CQ224=12,TABLE1!$AW$5=TRUE)),1,0)=1),1,0)=1,CR224=1,CT224=1),1,0)","v":0},{"$f":"IF(AND(OR(F224=TABLE1!$D$5,TABLE1!$D$5=\"کل بخشها\"),F224<>\"\"),1,0)","v":0}]
[null,null,null,null,null,null,null,null,null,null,null,null,null,null,null,null,null,null,null,null,null,null,null,null,null,null,null,null,null,null,null,null,null,null,null,null,null,null,null,null,null,null,null,null,null,null,null,null,null,null,null,null,null,null,null,null,null,null,null,null,null,null,null,null,null,null,null,null,null,null,null,null,null,null,null,null,null,null,null,null,null,null,null,null,null,null,null,null,null,null,null,null,null,null,"",{"$f":"IF(LEFT(C225,2)=TABLE1!$F$1,1,0)","v":0},{"$f":"IF(AND(IF(AND(IF(OR(AND(CQ225=1,TABLE1!$AN$3=TRUE),AND(CQ225=2,TABLE1!$AN$4=TRUE),AND(CQ225=3,TABLE1!$AN$5=TRUE),AND(CQ225=4,TABLE1!$AQ$3=TRUE),AND(CQ225=5,TABLE1!$AQ$4=TRUE),AND(CQ225=6,TABLE1!$AQ$5=TRUE),AND(CQ225=7,TABLE1!$AT$3=TRUE),AND(CQ225=8,TABLE1!$AT$4=TRUE),AND(CQ225=9,TABLE1!$AT$5=TRUE),AND(CQ225=10,TABLE1!$AW$3=TRUE),AND(CQ225=11,TABLE1!$AW$4=TRUE),AND(CQ225=12,TABLE1!$AW$5=TRUE)),1,0)=1),1,0)=1,CR225=1,CT225=1),1,0)","v":0},{"$f":"IF(AND(OR(F225=TABLE1!$D$5,TABLE1!$D$5=\"کل بخشها\"),F225<>\"\"),1,0)","v":0}]
[null,null,null,null,null,null,null,null,null,null,null,null,null,null,null,null,null,null,null,null,null,null,null,null,null,null,null,null,null,null,null,null,null,null,null,null,null,null,null,null,null,null,null,null,null,null,null,null,null,null,null,null,null,null,null,null,null,null,null,null,null,null,null,null,null,null,null,null,null,null,null,null,null,null,null,null,null,null,null,null,null,null,null,null,null,null,null,null,null,null,null,null,null,null,"",{"$f":"IF(LEFT(C226,2)=TABLE1!$F$1,1,0)","v":0},{"$f":"IF(AND(IF(AND(IF(OR(AND(CQ226=1,TABLE1!$AN$3=TRUE),AND(CQ226=2,TABLE1!$AN$4=TRUE),AND(CQ226=3,TABLE1!$AN$5=TRUE),AND(CQ226=4,TABLE1!$AQ$3=TRUE),AND(CQ226=5,TABLE1!$AQ$4=TRUE),AND(CQ226=6,TABLE1!$AQ$5=TRUE),AND(CQ226=7,TABLE1!$AT$3=TRUE),AND(CQ226=8,TABLE1!$AT$4=TRUE),AND(CQ226=9,TABLE1!$AT$5=TRUE),AND(CQ226=10,TABLE1!$AW$3=TRUE),AND(CQ226=11,TABLE1!$AW$4=TRUE),AND(CQ226=12,TABLE1!$AW$5=TRUE)),1,0)=1),1,0)=1,CR226=1,CT226=1),1,0)","v":0},{"$f":"IF(AND(OR(F226=TABLE1!$D$5,TABLE1!$D$5=\"کل بخشها\"),F226<>\"\"),1,0)","v":0}]
[null,null,null,null,null,null,null,null,null,null,null,null,null,null,null,null,null,null,null,null,null,null,null,null,null,null,null,null,null,null,null,null,null,null,null,null,null,null,null,null,null,null,null,null,null,null,null,null,null,null,null,null,null,null,null,null,null,null,null,null,null,null,null,null,null,null,null,null,null,null,null,null,null,null,null,null,null,null,null,null,null,null,null,null,null,null,null,null,null,null,null,null,null,null,"",{"$f":"IF(LEFT(C227,2)=TABLE1!$F$1,1,0)","v":0},{"$f":"IF(AND(IF(AND(IF(OR(AND(CQ227=1,TABLE1!$AN$3=TRUE),AND(CQ227=2,TABLE1!$AN$4=TRUE),AND(CQ227=3,TABLE1!$AN$5=TRUE),AND(CQ227=4,TABLE1!$AQ$3=TRUE),AND(CQ227=5,TABLE1!$AQ$4=TRUE),AND(CQ227=6,TABLE1!$AQ$5=TRUE),AND(CQ227=7,TABLE1!$AT$3=TRUE),AND(CQ227=8,TABLE1!$AT$4=TRUE),AND(CQ227=9,TABLE1!$AT$5=TRUE),AND(CQ227=10,TABLE1!$AW$3=TRUE),AND(CQ227=11,TABLE1!$AW$4=TRUE),AND(CQ227=12,TABLE1!$AW$5=TRUE)),1,0)=1),1,0)=1,CR227=1,CT227=1),1,0)","v":0},{"$f":"IF(AND(OR(F227=TABLE1!$D$5,TABLE1!$D$5=\"کل بخشها\"),F227<>\"\"),1,0)","v":0}]
[null,null,null,null,null,null,null,null,null,null,null,null,null,null,null,null,null,null,null,null,null,null,null,null,null,null,null,null,null,null,null,null,null,null,null,null,null,null,null,null,null,null,null,null,null,null,null,null,null,null,null,null,null,null,null,null,null,null,null,null,null,null,null,null,null,null,null,null,null,null,null,null,null,null,null,null,null,null,null,null,null,null,null,null,null,null,null,null,null,null,null,null,null,null,"",{"$f":"IF(LEFT(C228,2)=TABLE1!$F$1,1,0)","v":0},{"$f":"IF(AND(IF(AND(IF(OR(AND(CQ228=1,TABLE1!$AN$3=TRUE),AND(CQ228=2,TABLE1!$AN$4=TRUE),AND(CQ228=3,TABLE1!$AN$5=TRUE),AND(CQ228=4,TABLE1!$AQ$3=TRUE),AND(CQ228=5,TABLE1!$AQ$4=TRUE),AND(CQ228=6,TABLE1!$AQ$5=TRUE),AND(CQ228=7,TABLE1!$AT$3=TRUE),AND(CQ228=8,TABLE1!$AT$4=TRUE),AND(CQ228=9,TABLE1!$AT$5=TRUE),AND(CQ228=10,TABLE1!$AW$3=TRUE),AND(CQ228=11,TABLE1!$AW$4=TRUE),AND(CQ228=12,TABLE1!$AW$5=TRUE)),1,0)=1),1,0)=1,CR228=1,CT228=1),1,0)","v":0},{"$f":"IF(AND(OR(F228=TABLE1!$D$5,TABLE1!$D$5=\"کل بخشها\"),F228<>\"\"),1,0)","v":0}]
[null,null,null,null,null,null,null,null,null,null,null,null,null,null,null,null,null,null,null,null,null,null,null,null,null,null,null,null,null,null,null,null,null,null,null,null,null,null,null,null,null,null,null,null,null,null,null,null,null,null,null,null,null,null,null,null,null,null,null,null,null,null,null,null,null,null,null,null,null,null,null,null,null,null,null,null,null,null,null,null,null,null,null,null,null,null,null,null,null,null,null,null,null,null,"",{"$f":"IF(LEFT(C229,2)=TABLE1!$F$1,1,0)","v":0},{"$f":"IF(AND(IF(AND(IF(OR(AND(CQ229=1,TABLE1!$AN$3=TRUE),AND(CQ229=2,TABLE1!$AN$4=TRUE),AND(CQ229=3,TABLE1!$AN$5=TRUE),AND(CQ229=4,TABLE1!$AQ$3=TRUE),AND(CQ229=5,TABLE1!$AQ$4=TRUE),AND(CQ229=6,TABLE1!$AQ$5=TRUE),AND(CQ229=7,TABLE1!$AT$3=TRUE),AND(CQ229=8,TABLE1!$AT$4=TRUE),AND(CQ229=9,TABLE1!$AT$5=TRUE),AND(CQ229=10,TABLE1!$AW$3=TRUE),AND(CQ229=11,TABLE1!$AW$4=TRUE),AND(CQ229=12,TABLE1!$AW$5=TRUE)),1,0)=1),1,0)=1,CR229=1,CT229=1),1,0)","v":0},{"$f":"IF(AND(OR(F229=TABLE1!$D$5,TABLE1!$D$5=\"کل بخشها\"),F229<>\"\"),1,0)","v":0}]
[null,null,null,null,null,null,null,null,null,null,null,null,null,null,null,null,null,null,null,null,null,null,null,null,null,null,null,null,null,null,null,null,null,null,null,null,null,null,null,null,null,null,null,null,null,null,null,null,null,null,null,null,null,null,null,null,null,null,null,null,null,null,null,null,null,null,null,null,null,null,null,null,null,null,null,null,null,null,null,null,null,null,null,null,null,null,null,null,null,null,null,null,null,null,"",{"$f":"IF(LEFT(C230,2)=TABLE1!$F$1,1,0)","v":0},{"$f":"IF(AND(IF(AND(IF(OR(AND(CQ230=1,TABLE1!$AN$3=TRUE),AND(CQ230=2,TABLE1!$AN$4=TRUE),AND(CQ230=3,TABLE1!$AN$5=TRUE),AND(CQ230=4,TABLE1!$AQ$3=TRUE),AND(CQ230=5,TABLE1!$AQ$4=TRUE),AND(CQ230=6,TABLE1!$AQ$5=TRUE),AND(CQ230=7,TABLE1!$AT$3=TRUE),AND(CQ230=8,TABLE1!$AT$4=TRUE),AND(CQ230=9,TABLE1!$AT$5=TRUE),AND(CQ230=10,TABLE1!$AW$3=TRUE),AND(CQ230=11,TABLE1!$AW$4=TRUE),AND(CQ230=12,TABLE1!$AW$5=TRUE)),1,0)=1),1,0)=1,CR230=1,CT230=1),1,0)","v":0},{"$f":"IF(AND(OR(F230=TABLE1!$D$5,TABLE1!$D$5=\"کل بخشها\"),F230<>\"\"),1,0)","v":0}]
[null,null,null,null,null,null,null,null,null,null,null,null,null,null,null,null,null,null,null,null,null,null,null,null,null,null,null,null,null,null,null,null,null,null,null,null,null,null,null,null,null,null,null,null,null,null,null,null,null,null,null,null,null,null,null,null,null,null,null,null,null,null,null,null,null,null,null,null,null,null,null,null,null,null,null,null,null,null,null,null,null,null,null,null,null,null,null,null,null,null,null,null,null,null,"",{"$f":"IF(LEFT(C231,2)=TABLE1!$F$1,1,0)","v":0},{"$f":"IF(AND(IF(AND(IF(OR(AND(CQ231=1,TABLE1!$AN$3=TRUE),AND(CQ231=2,TABLE1!$AN$4=TRUE),AND(CQ231=3,TABLE1!$AN$5=TRUE),AND(CQ231=4,TABLE1!$AQ$3=TRUE),AND(CQ231=5,TABLE1!$AQ$4=TRUE),AND(CQ231=6,TABLE1!$AQ$5=TRUE),AND(CQ231=7,TABLE1!$AT$3=TRUE),AND(CQ231=8,TABLE1!$AT$4=TRUE),AND(CQ231=9,TABLE1!$AT$5=TRUE),AND(CQ231=10,TABLE1!$AW$3=TRUE),AND(CQ231=11,TABLE1!$AW$4=TRUE),AND(CQ231=12,TABLE1!$AW$5=TRUE)),1,0)=1),1,0)=1,CR231=1,CT231=1),1,0)","v":0},{"$f":"IF(AND(OR(F231=TABLE1!$D$5,TABLE1!$D$5=\"کل بخشها\"),F231<>\"\"),1,0)","v":0}]
[null,null,null,null,null,null,null,null,null,null,null,null,null,null,null,null,null,null,null,null,null,null,null,null,null,null,null,null,null,null,null,null,null,null,null,null,null,null,null,null,null,null,null,null,null,null,null,null,null,null,null,null,null,null,null,null,null,null,null,null,null,null,null,null,null,null,null,null,null,null,null,null,null,null,null,null,null,null,null,null,null,null,null,null,null,null,null,null,null,null,null,null,null,null,"",{"$f":"IF(LEFT(C232,2)=TABLE1!$F$1,1,0)","v":0},{"$f":"IF(AND(IF(AND(IF(OR(AND(CQ232=1,TABLE1!$AN$3=TRUE),AND(CQ232=2,TABLE1!$AN$4=TRUE),AND(CQ232=3,TABLE1!$AN$5=TRUE),AND(CQ232=4,TABLE1!$AQ$3=TRUE),AND(CQ232=5,TABLE1!$AQ$4=TRUE),AND(CQ232=6,TABLE1!$AQ$5=TRUE),AND(CQ232=7,TABLE1!$AT$3=TRUE),AND(CQ232=8,TABLE1!$AT$4=TRUE),AND(CQ232=9,TABLE1!$AT$5=TRUE),AND(CQ232=10,TABLE1!$AW$3=TRUE),AND(CQ232=11,TABLE1!$AW$4=TRUE),AND(CQ232=12,TABLE1!$AW$5=TRUE)),1,0)=1),1,0)=1,CR232=1,CT232=1),1,0)","v":0},{"$f":"IF(AND(OR(F232=TABLE1!$D$5,TABLE1!$D$5=\"کل بخشها\"),F232<>\"\"),1,0)","v":0}]
[null,null,null,null,null,null,null,null,null,null,null,null,null,null,null,null,null,null,null,null,null,null,null,null,null,null,null,null,null,null,null,null,null,null,null,null,null,null,null,null,null,null,null,null,null,null,null,null,null,null,null,null,null,null,null,null,null,null,null,null,null,null,null,null,null,null,null,null,null,null,null,null,null,null,null,null,null,null,null,null,null,null,null,null,null,null,null,null,null,null,null,null,null,null,"",{"$f":"IF(LEFT(C233,2)=TABLE1!$F$1,1,0)","v":0},{"$f":"IF(AND(IF(AND(IF(OR(AND(CQ233=1,TABLE1!$AN$3=TRUE),AND(CQ233=2,TABLE1!$AN$4=TRUE),AND(CQ233=3,TABLE1!$AN$5=TRUE),AND(CQ233=4,TABLE1!$AQ$3=TRUE),AND(CQ233=5,TABLE1!$AQ$4=TRUE),AND(CQ233=6,TABLE1!$AQ$5=TRUE),AND(CQ233=7,TABLE1!$AT$3=TRUE),AND(CQ233=8,TABLE1!$AT$4=TRUE),AND(CQ233=9,TABLE1!$AT$5=TRUE),AND(CQ233=10,TABLE1!$AW$3=TRUE),AND(CQ233=11,TABLE1!$AW$4=TRUE),AND(CQ233=12,TABLE1!$AW$5=TRUE)),1,0)=1),1,0)=1,CR233=1,CT233=1),1,0)","v":0},{"$f":"IF(AND(OR(F233=TABLE1!$D$5,TABLE1!$D$5=\"کل بخشها\"),F233<>\"\"),1,0)","v":0}]
[null,null,null,null,null,null,null,null,null,null,null,null,null,null,null,null,null,null,null,null,null,null,null,null,null,null,null,null,null,null,null,null,null,null,null,null,null,null,null,null,null,null,null,null,null,null,null,null,null,null,null,null,null,null,null,null,null,null,null,null,null,null,null,null,null,null,null,null,null,null,null,null,null,null,null,null,null,null,null,null,null,null,null,null,null,null,null,null,null,null,null,null,null,null,"",{"$f":"IF(LEFT(C234,2)=TABLE1!$F$1,1,0)","v":0},{"$f":"IF(AND(IF(AND(IF(OR(AND(CQ234=1,TABLE1!$AN$3=TRUE),AND(CQ234=2,TABLE1!$AN$4=TRUE),AND(CQ234=3,TABLE1!$AN$5=TRUE),AND(CQ234=4,TABLE1!$AQ$3=TRUE),AND(CQ234=5,TABLE1!$AQ$4=TRUE),AND(CQ234=6,TABLE1!$AQ$5=TRUE),AND(CQ234=7,TABLE1!$AT$3=TRUE),AND(CQ234=8,TABLE1!$AT$4=TRUE),AND(CQ234=9,TABLE1!$AT$5=TRUE),AND(CQ234=10,TABLE1!$AW$3=TRUE),AND(CQ234=11,TABLE1!$AW$4=TRUE),AND(CQ234=12,TABLE1!$AW$5=TRUE)),1,0)=1),1,0)=1,CR234=1,CT234=1),1,0)","v":0},{"$f":"IF(AND(OR(F234=TABLE1!$D$5,TABLE1!$D$5=\"کل بخشها\"),F234<>\"\"),1,0)","v":0}]
[null,null,null,null,null,null,null,null,null,null,null,null,null,null,null,null,null,null,null,null,null,null,null,null,null,null,null,null,null,null,null,null,null,null,null,null,null,null,null,null,null,null,null,null,null,null,null,null,null,null,null,null,null,null,null,null,null,null,null,null,null,null,null,null,null,null,null,null,null,null,null,null,null,null,null,null,null,null,null,null,null,null,null,null,null,null,null,null,null,null,null,null,null,null,"",{"$f":"IF(LEFT(C235,2)=TABLE1!$F$1,1,0)","v":0},{"$f":"IF(AND(IF(AND(IF(OR(AND(CQ235=1,TABLE1!$AN$3=TRUE),AND(CQ235=2,TABLE1!$AN$4=TRUE),AND(CQ235=3,TABLE1!$AN$5=TRUE),AND(CQ235=4,TABLE1!$AQ$3=TRUE),AND(CQ235=5,TABLE1!$AQ$4=TRUE),AND(CQ235=6,TABLE1!$AQ$5=TRUE),AND(CQ235=7,TABLE1!$AT$3=TRUE),AND(CQ235=8,TABLE1!$AT$4=TRUE),AND(CQ235=9,TABLE1!$AT$5=TRUE),AND(CQ235=10,TABLE1!$AW$3=TRUE),AND(CQ235=11,TABLE1!$AW$4=TRUE),AND(CQ235=12,TABLE1!$AW$5=TRUE)),1,0)=1),1,0)=1,CR235=1,CT235=1),1,0)","v":0},{"$f":"IF(AND(OR(F235=TABLE1!$D$5,TABLE1!$D$5=\"کل بخشها\"),F235<>\"\"),1,0)","v":0}]
[null,null,null,null,null,null,null,null,null,null,null,null,null,null,null,null,null,null,null,null,null,null,null,null,null,null,null,null,null,null,null,null,null,null,null,null,null,null,null,null,null,null,null,null,null,null,null,null,null,null,null,null,null,null,null,null,null,null,null,null,null,null,null,null,null,null,null,null,null,null,null,null,null,null,null,null,null,null,null,null,null,null,null,null,null,null,null,null,null,null,null,null,null,null,"",{"$f":"IF(LEFT(C236,2)=TABLE1!$F$1,1,0)","v":0},{"$f":"IF(AND(IF(AND(IF(OR(AND(CQ236=1,TABLE1!$AN$3=TRUE),AND(CQ236=2,TABLE1!$AN$4=TRUE),AND(CQ236=3,TABLE1!$AN$5=TRUE),AND(CQ236=4,TABLE1!$AQ$3=TRUE),AND(CQ236=5,TABLE1!$AQ$4=TRUE),AND(CQ236=6,TABLE1!$AQ$5=TRUE),AND(CQ236=7,TABLE1!$AT$3=TRUE),AND(CQ236=8,TABLE1!$AT$4=TRUE),AND(CQ236=9,TABLE1!$AT$5=TRUE),AND(CQ236=10,TABLE1!$AW$3=TRUE),AND(CQ236=11,TABLE1!$AW$4=TRUE),AND(CQ236=12,TABLE1!$AW$5=TRUE)),1,0)=1),1,0)=1,CR236=1,CT236=1),1,0)","v":0},{"$f":"IF(AND(OR(F236=TABLE1!$D$5,TABLE1!$D$5=\"کل بخشها\"),F236<>\"\"),1,0)","v":0}]
[null,null,null,null,null,null,null,null,null,null,null,null,null,null,null,null,null,null,null,null,null,null,null,null,null,null,null,null,null,null,null,null,null,null,null,null,null,null,null,null,null,null,null,null,null,null,null,null,null,null,null,null,null,null,null,null,null,null,null,null,null,null,null,null,null,null,null,null,null,null,null,null,null,null,null,null,null,null,null,null,null,null,null,null,null,null,null,null,null,null,null,null,null,null,"",{"$f":"IF(LEFT(C237,2)=TABLE1!$F$1,1,0)","v":0},{"$f":"IF(AND(IF(AND(IF(OR(AND(CQ237=1,TABLE1!$AN$3=TRUE),AND(CQ237=2,TABLE1!$AN$4=TRUE),AND(CQ237=3,TABLE1!$AN$5=TRUE),AND(CQ237=4,TABLE1!$AQ$3=TRUE),AND(CQ237=5,TABLE1!$AQ$4=TRUE),AND(CQ237=6,TABLE1!$AQ$5=TRUE),AND(CQ237=7,TABLE1!$AT$3=TRUE),AND(CQ237=8,TABLE1!$AT$4=TRUE),AND(CQ237=9,TABLE1!$AT$5=TRUE),AND(CQ237=10,TABLE1!$AW$3=TRUE),AND(CQ237=11,TABLE1!$AW$4=TRUE),AND(CQ237=12,TABLE1!$AW$5=TRUE)),1,0)=1),1,0)=1,CR237=1,CT237=1),1,0)","v":0},{"$f":"IF(AND(OR(F237=TABLE1!$D$5,TABLE1!$D$5=\"کل بخشها\"),F237<>\"\"),1,0)","v":0}]
[null,null,null,null,null,null,null,null,null,null,null,null,null,null,null,null,null,null,null,null,null,null,null,null,null,null,null,null,null,null,null,null,null,null,null,null,null,null,null,null,null,null,null,null,null,null,null,null,null,null,null,null,null,null,null,null,null,null,null,null,null,null,null,null,null,null,null,null,null,null,null,null,null,null,null,null,null,null,null,null,null,null,null,null,null,null,null,null,null,null,null,null,null,null,"",{"$f":"IF(LEFT(C238,2)=TABLE1!$F$1,1,0)","v":0},{"$f":"IF(AND(IF(AND(IF(OR(AND(CQ238=1,TABLE1!$AN$3=TRUE),AND(CQ238=2,TABLE1!$AN$4=TRUE),AND(CQ238=3,TABLE1!$AN$5=TRUE),AND(CQ238=4,TABLE1!$AQ$3=TRUE),AND(CQ238=5,TABLE1!$AQ$4=TRUE),AND(CQ238=6,TABLE1!$AQ$5=TRUE),AND(CQ238=7,TABLE1!$AT$3=TRUE),AND(CQ238=8,TABLE1!$AT$4=TRUE),AND(CQ238=9,TABLE1!$AT$5=TRUE),AND(CQ238=10,TABLE1!$AW$3=TRUE),AND(CQ238=11,TABLE1!$AW$4=TRUE),AND(CQ238=12,TABLE1!$AW$5=TRUE)),1,0)=1),1,0)=1,CR238=1,CT238=1),1,0)","v":0},{"$f":"IF(AND(OR(F238=TABLE1!$D$5,TABLE1!$D$5=\"کل بخشها\"),F238<>\"\"),1,0)","v":0}]
[null,null,null,null,null,null,null,null,null,null,null,null,null,null,null,null,null,null,null,null,null,null,null,null,null,null,null,null,null,null,null,null,null,null,null,null,null,null,null,null,null,null,null,null,null,null,null,null,null,null,null,null,null,null,null,null,null,null,null,null,null,null,null,null,null,null,null,null,null,null,null,null,null,null,null,null,null,null,null,null,null,null,null,null,null,null,null,null,null,null,null,null,null,null,"",{"$f":"IF(LEFT(C239,2)=TABLE1!$F$1,1,0)","v":0},{"$f":"IF(AND(IF(AND(IF(OR(AND(CQ239=1,TABLE1!$AN$3=TRUE),AND(CQ239=2,TABLE1!$AN$4=TRUE),AND(CQ239=3,TABLE1!$AN$5=TRUE),AND(CQ239=4,TABLE1!$AQ$3=TRUE),AND(CQ239=5,TABLE1!$AQ$4=TRUE),AND(CQ239=6,TABLE1!$AQ$5=TRUE),AND(CQ239=7,TABLE1!$AT$3=TRUE),AND(CQ239=8,TABLE1!$AT$4=TRUE),AND(CQ239=9,TABLE1!$AT$5=TRUE),AND(CQ239=10,TABLE1!$AW$3=TRUE),AND(CQ239=11,TABLE1!$AW$4=TRUE),AND(CQ239=12,TABLE1!$AW$5=TRUE)),1,0)=1),1,0)=1,CR239=1,CT239=1),1,0)","v":0},{"$f":"IF(AND(OR(F239=TABLE1!$D$5,TABLE1!$D$5=\"کل بخشها\"),F239<>\"\"),1,0)","v":0}]
[null,null,null,null,null,null,null,null,null,null,null,null,null,null,null,null,null,null,null,null,null,null,null,null,null,null,null,null,null,null,null,null,null,null,null,null,null,null,null,null,null,null,null,null,null,null,null,null,null,null,null,null,null,null,null,null,null,null,null,null,null,null,null,null,null,null,null,null,null,null,null,null,null,null,null,null,null,null,null,null,null,null,null,null,null,null,null,null,null,null,null,null,null,null,"",{"$f":"IF(LEFT(C240,2)=TABLE1!$F$1,1,0)","v":0},{"$f":"IF(AND(IF(AND(IF(OR(AND(CQ240=1,TABLE1!$AN$3=TRUE),AND(CQ240=2,TABLE1!$AN$4=TRUE),AND(CQ240=3,TABLE1!$AN$5=TRUE),AND(CQ240=4,TABLE1!$AQ$3=TRUE),AND(CQ240=5,TABLE1!$AQ$4=TRUE),AND(CQ240=6,TABLE1!$AQ$5=TRUE),AND(CQ240=7,TABLE1!$AT$3=TRUE),AND(CQ240=8,TABLE1!$AT$4=TRUE),AND(CQ240=9,TABLE1!$AT$5=TRUE),AND(CQ240=10,TABLE1!$AW$3=TRUE),AND(CQ240=11,TABLE1!$AW$4=TRUE),AND(CQ240=12,TABLE1!$AW$5=TRUE)),1,0)=1),1,0)=1,CR240=1,CT240=1),1,0)","v":0},{"$f":"IF(AND(OR(F240=TABLE1!$D$5,TABLE1!$D$5=\"کل بخشها\"),F240<>\"\"),1,0)","v":0}]
[null,null,null,null,null,null,null,null,null,null,null,null,null,null,null,null,null,null,null,null,null,null,null,null,null,null,null,null,null,null,null,null,null,null,null,null,null,null,null,null,null,null,null,null,null,null,null,null,null,null,null,null,null,null,null,null,null,null,null,null,null,null,null,null,null,null,null,null,null,null,null,null,null,null,null,null,null,null,null,null,null,null,null,null,null,null,null,null,null,null,null,null,null,null,"",{"$f":"IF(LEFT(C241,2)=TABLE1!$F$1,1,0)","v":0},{"$f":"IF(AND(IF(AND(IF(OR(AND(CQ241=1,TABLE1!$AN$3=TRUE),AND(CQ241=2,TABLE1!$AN$4=TRUE),AND(CQ241=3,TABLE1!$AN$5=TRUE),AND(CQ241=4,TABLE1!$AQ$3=TRUE),AND(CQ241=5,TABLE1!$AQ$4=TRUE),AND(CQ241=6,TABLE1!$AQ$5=TRUE),AND(CQ241=7,TABLE1!$AT$3=TRUE),AND(CQ241=8,TABLE1!$AT$4=TRUE),AND(CQ241=9,TABLE1!$AT$5=TRUE),AND(CQ241=10,TABLE1!$AW$3=TRUE),AND(CQ241=11,TABLE1!$AW$4=TRUE),AND(CQ241=12,TABLE1!$AW$5=TRUE)),1,0)=1),1,0)=1,CR241=1,CT241=1),1,0)","v":0},{"$f":"IF(AND(OR(F241=TABLE1!$D$5,TABLE1!$D$5=\"کل بخشها\"),F241<>\"\"),1,0)","v":0}]
[null,null,null,null,null,null,null,null,null,null,null,null,null,null,null,null,null,null,null,null,null,null,null,null,null,null,null,null,null,null,null,null,null,null,null,null,null,null,null,null,null,null,null,null,null,null,null,null,null,null,null,null,null,null,null,null,null,null,null,null,null,null,null,null,null,null,null,null,null,null,null,null,null,null,null,null,null,null,null,null,null,null,null,null,null,null,null,null,null,null,null,null,null,null,"",{"$f":"IF(LEFT(C242,2)=TABLE1!$F$1,1,0)","v":0},{"$f":"IF(AND(IF(AND(IF(OR(AND(CQ242=1,TABLE1!$AN$3=TRUE),AND(CQ242=2,TABLE1!$AN$4=TRUE),AND(CQ242=3,TABLE1!$AN$5=TRUE),AND(CQ242=4,TABLE1!$AQ$3=TRUE),AND(CQ242=5,TABLE1!$AQ$4=TRUE),AND(CQ242=6,TABLE1!$AQ$5=TRUE),AND(CQ242=7,TABLE1!$AT$3=TRUE),AND(CQ242=8,TABLE1!$AT$4=TRUE),AND(CQ242=9,TABLE1!$AT$5=TRUE),AND(CQ242=10,TABLE1!$AW$3=TRUE),AND(CQ242=11,TABLE1!$AW$4=TRUE),AND(CQ242=12,TABLE1!$AW$5=TRUE)),1,0)=1),1,0)=1,CR242=1,CT242=1),1,0)","v":0},{"$f":"IF(AND(OR(F242=TABLE1!$D$5,TABLE1!$D$5=\"کل بخشها\"),F242<>\"\"),1,0)","v":0}]
[null,null,null,null,null,null,null,null,null,null,null,null,null,null,null,null,null,null,null,null,null,null,null,null,null,null,null,null,null,null,null,null,null,null,null,null,null,null,null,null,null,null,null,null,null,null,null,null,null,null,null,null,null,null,null,null,null,null,null,null,null,null,null,null,null,null,null,null,null,null,null,null,null,null,null,null,null,null,null,null,null,null,null,null,null,null,null,null,null,null,null,null,null,null,"",{"$f":"IF(LEFT(C243,2)=TABLE1!$F$1,1,0)","v":0},{"$f":"IF(AND(IF(AND(IF(OR(AND(CQ243=1,TABLE1!$AN$3=TRUE),AND(CQ243=2,TABLE1!$AN$4=TRUE),AND(CQ243=3,TABLE1!$AN$5=TRUE),AND(CQ243=4,TABLE1!$AQ$3=TRUE),AND(CQ243=5,TABLE1!$AQ$4=TRUE),AND(CQ243=6,TABLE1!$AQ$5=TRUE),AND(CQ243=7,TABLE1!$AT$3=TRUE),AND(CQ243=8,TABLE1!$AT$4=TRUE),AND(CQ243=9,TABLE1!$AT$5=TRUE),AND(CQ243=10,TABLE1!$AW$3=TRUE),AND(CQ243=11,TABLE1!$AW$4=TRUE),AND(CQ243=12,TABLE1!$AW$5=TRUE)),1,0)=1),1,0)=1,CR243=1,CT243=1),1,0)","v":0},{"$f":"IF(AND(OR(F243=TABLE1!$D$5,TABLE1!$D$5=\"کل بخشها\"),F243<>\"\"),1,0)","v":0}]
[null,null,null,null,null,null,null,null,null,null,null,null,null,null,null,null,null,null,null,null,null,null,null,null,null,null,null,null,null,null,null,null,null,null,null,null,null,null,null,null,null,null,null,null,null,null,null,null,null,null,null,null,null,null,null,null,null,null,null,null,null,null,null,null,null,null,null,null,null,null,null,null,null,null,null,null,null,null,null,null,null,null,null,null,null,null,null,null,null,null,null,null,null,null,"",{"$f":"IF(LEFT(C244,2)=TABLE1!$F$1,1,0)","v":0},{"$f":"IF(AND(IF(AND(IF(OR(AND(CQ244=1,TABLE1!$AN$3=TRUE),AND(CQ244=2,TABLE1!$AN$4=TRUE),AND(CQ244=3,TABLE1!$AN$5=TRUE),AND(CQ244=4,TABLE1!$AQ$3=TRUE),AND(CQ244=5,TABLE1!$AQ$4=TRUE),AND(CQ244=6,TABLE1!$AQ$5=TRUE),AND(CQ244=7,TABLE1!$AT$3=TRUE),AND(CQ244=8,TABLE1!$AT$4=TRUE),AND(CQ244=9,TABLE1!$AT$5=TRUE),AND(CQ244=10,TABLE1!$AW$3=TRUE),AND(CQ244=11,TABLE1!$AW$4=TRUE),AND(CQ244=12,TABLE1!$AW$5=TRUE)),1,0)=1),1,0)=1,CR244=1,CT244=1),1,0)","v":0},{"$f":"IF(AND(OR(F244=TABLE1!$D$5,TABLE1!$D$5=\"کل بخشها\"),F244<>\"\"),1,0)","v":0}]
[null,null,null,null,null,null,null,null,null,null,null,null,null,null,null,null,null,null,null,null,null,null,null,null,null,null,null,null,null,null,null,null,null,null,null,null,null,null,null,null,null,null,null,null,null,null,null,null,null,null,null,null,null,null,null,null,null,null,null,null,null,null,null,null,null,null,null,null,null,null,null,null,null,null,null,null,null,null,null,null,null,null,null,null,null,null,null,null,null,null,null,null,null,null,"",{"$f":"IF(LEFT(C245,2)=TABLE1!$F$1,1,0)","v":0},{"$f":"IF(AND(IF(AND(IF(OR(AND(CQ245=1,TABLE1!$AN$3=TRUE),AND(CQ245=2,TABLE1!$AN$4=TRUE),AND(CQ245=3,TABLE1!$AN$5=TRUE),AND(CQ245=4,TABLE1!$AQ$3=TRUE),AND(CQ245=5,TABLE1!$AQ$4=TRUE),AND(CQ245=6,TABLE1!$AQ$5=TRUE),AND(CQ245=7,TABLE1!$AT$3=TRUE),AND(CQ245=8,TABLE1!$AT$4=TRUE),AND(CQ245=9,TABLE1!$AT$5=TRUE),AND(CQ245=10,TABLE1!$AW$3=TRUE),AND(CQ245=11,TABLE1!$AW$4=TRUE),AND(CQ245=12,TABLE1!$AW$5=TRUE)),1,0)=1),1,0)=1,CR245=1,CT245=1),1,0)","v":0},{"$f":"IF(AND(OR(F245=TABLE1!$D$5,TABLE1!$D$5=\"کل بخشها\"),F245<>\"\"),1,0)","v":0}]
[null,null,null,null,null,null,null,null,null,null,null,null,null,null,null,null,null,null,null,null,null,null,null,null,null,null,null,null,null,null,null,null,null,null,null,null,null,null,null,null,null,null,null,null,null,null,null,null,null,null,null,null,null,null,null,null,null,null,null,null,null,null,null,null,null,null,null,null,null,null,null,null,null,null,null,null,null,null,null,null,null,null,null,null,null,null,null,null,null,null,null,null,null,null,"",{"$f":"IF(LEFT(C246,2)=TABLE1!$F$1,1,0)","v":0},{"$f":"IF(AND(IF(AND(IF(OR(AND(CQ246=1,TABLE1!$AN$3=TRUE),AND(CQ246=2,TABLE1!$AN$4=TRUE),AND(CQ246=3,TABLE1!$AN$5=TRUE),AND(CQ246=4,TABLE1!$AQ$3=TRUE),AND(CQ246=5,TABLE1!$AQ$4=TRUE),AND(CQ246=6,TABLE1!$AQ$5=TRUE),AND(CQ246=7,TABLE1!$AT$3=TRUE),AND(CQ246=8,TABLE1!$AT$4=TRUE),AND(CQ246=9,TABLE1!$AT$5=TRUE),AND(CQ246=10,TABLE1!$AW$3=TRUE),AND(CQ246=11,TABLE1!$AW$4=TRUE),AND(CQ246=12,TABLE1!$AW$5=TRUE)),1,0)=1),1,0)=1,CR246=1,CT246=1),1,0)","v":0},{"$f":"IF(AND(OR(F246=TABLE1!$D$5,TABLE1!$D$5=\"کل بخشها\"),F246<>\"\"),1,0)","v":0}]
[null,null,null,null,null,null,null,null,null,null,null,null,null,null,null,null,null,null,null,null,null,null,null,null,null,null,null,null,null,null,null,null,null,null,null,null,null,null,null,null,null,null,null,null,null,null,null,null,null,null,null,null,null,null,null,null,null,null,null,null,null,null,null,null,null,null,null,null,null,null,null,null,null,null,null,null,null,null,null,null,null,null,null,null,null,null,null,null,null,null,null,null,null,null,"",{"$f":"IF(LEFT(C247,2)=TABLE1!$F$1,1,0)","v":0},{"$f":"IF(AND(IF(AND(IF(OR(AND(CQ247=1,TABLE1!$AN$3=TRUE),AND(CQ247=2,TABLE1!$AN$4=TRUE),AND(CQ247=3,TABLE1!$AN$5=TRUE),AND(CQ247=4,TABLE1!$AQ$3=TRUE),AND(CQ247=5,TABLE1!$AQ$4=TRUE),AND(CQ247=6,TABLE1!$AQ$5=TRUE),AND(CQ247=7,TABLE1!$AT$3=TRUE),AND(CQ247=8,TABLE1!$AT$4=TRUE),AND(CQ247=9,TABLE1!$AT$5=TRUE),AND(CQ247=10,TABLE1!$AW$3=TRUE),AND(CQ247=11,TABLE1!$AW$4=TRUE),AND(CQ247=12,TABLE1!$AW$5=TRUE)),1,0)=1),1,0)=1,CR247=1,CT247=1),1,0)","v":0},{"$f":"IF(AND(OR(F247=TABLE1!$D$5,TABLE1!$D$5=\"کل بخشها\"),F247<>\"\"),1,0)","v":0}]
[null,null,null,null,null,null,null,null,null,null,null,null,null,null,null,null,null,null,null,null,null,null,null,null,null,null,null,null,null,null,null,null,null,null,null,null,null,null,null,null,null,null,null,null,null,null,null,null,null,null,null,null,null,null,null,null,null,null,null,null,null,null,null,null,null,null,null,null,null,null,null,null,null,null,null,null,null,null,null,null,null,null,null,null,null,null,null,null,null,null,null,null,null,null,"",{"$f":"IF(LEFT(C248,2)=TABLE1!$F$1,1,0)","v":0},{"$f":"IF(AND(IF(AND(IF(OR(AND(CQ248=1,TABLE1!$AN$3=TRUE),AND(CQ248=2,TABLE1!$AN$4=TRUE),AND(CQ248=3,TABLE1!$AN$5=TRUE),AND(CQ248=4,TABLE1!$AQ$3=TRUE),AND(CQ248=5,TABLE1!$AQ$4=TRUE),AND(CQ248=6,TABLE1!$AQ$5=TRUE),AND(CQ248=7,TABLE1!$AT$3=TRUE),AND(CQ248=8,TABLE1!$AT$4=TRUE),AND(CQ248=9,TABLE1!$AT$5=TRUE),AND(CQ248=10,TABLE1!$AW$3=TRUE),AND(CQ248=11,TABLE1!$AW$4=TRUE),AND(CQ248=12,TABLE1!$AW$5=TRUE)),1,0)=1),1,0)=1,CR248=1,CT248=1),1,0)","v":0},{"$f":"IF(AND(OR(F248=TABLE1!$D$5,TABLE1!$D$5=\"کل بخشها\"),F248<>\"\"),1,0)","v":0}]
[null,null,null,null,null,null,null,null,null,null,null,null,null,null,null,null,null,null,null,null,null,null,null,null,null,null,null,null,null,null,null,null,null,null,null,null,null,null,null,null,null,null,null,null,null,null,null,null,null,null,null,null,null,null,null,null,null,null,null,null,null,null,null,null,null,null,null,null,null,null,null,null,null,null,null,null,null,null,null,null,null,null,null,null,null,null,null,null,null,null,null,null,null,null,"",{"$f":"IF(LEFT(C249,2)=TABLE1!$F$1,1,0)","v":0},{"$f":"IF(AND(IF(AND(IF(OR(AND(CQ249=1,TABLE1!$AN$3=TRUE),AND(CQ249=2,TABLE1!$AN$4=TRUE),AND(CQ249=3,TABLE1!$AN$5=TRUE),AND(CQ249=4,TABLE1!$AQ$3=TRUE),AND(CQ249=5,TABLE1!$AQ$4=TRUE),AND(CQ249=6,TABLE1!$AQ$5=TRUE),AND(CQ249=7,TABLE1!$AT$3=TRUE),AND(CQ249=8,TABLE1!$AT$4=TRUE),AND(CQ249=9,TABLE1!$AT$5=TRUE),AND(CQ249=10,TABLE1!$AW$3=TRUE),AND(CQ249=11,TABLE1!$AW$4=TRUE),AND(CQ249=12,TABLE1!$AW$5=TRUE)),1,0)=1),1,0)=1,CR249=1,CT249=1),1,0)","v":0},{"$f":"IF(AND(OR(F249=TABLE1!$D$5,TABLE1!$D$5=\"کل بخشها\"),F249<>\"\"),1,0)","v":0}]
[null,null,null,null,null,null,null,null,null,null,null,null,null,null,null,null,null,null,null,null,null,null,null,null,null,null,null,null,null,null,null,null,null,null,null,null,null,null,null,null,null,null,null,null,null,null,null,null,null,null,null,null,null,null,null,null,null,null,null,null,null,null,null,null,null,null,null,null,null,null,null,null,null,null,null,null,null,null,null,null,null,null,null,null,null,null,null,null,null,null,null,null,null,null,"",{"$f":"IF(LEFT(C250,2)=TABLE1!$F$1,1,0)","v":0},{"$f":"IF(AND(IF(AND(IF(OR(AND(CQ250=1,TABLE1!$AN$3=TRUE),AND(CQ250=2,TABLE1!$AN$4=TRUE),AND(CQ250=3,TABLE1!$AN$5=TRUE),AND(CQ250=4,TABLE1!$AQ$3=TRUE),AND(CQ250=5,TABLE1!$AQ$4=TRUE),AND(CQ250=6,TABLE1!$AQ$5=TRUE),AND(CQ250=7,TABLE1!$AT$3=TRUE),AND(CQ250=8,TABLE1!$AT$4=TRUE),AND(CQ250=9,TABLE1!$AT$5=TRUE),AND(CQ250=10,TABLE1!$AW$3=TRUE),AND(CQ250=11,TABLE1!$AW$4=TRUE),AND(CQ250=12,TABLE1!$AW$5=TRUE)),1,0)=1),1,0)=1,CR250=1,CT250=1),1,0)","v":0},{"$f":"IF(AND(OR(F250=TABLE1!$D$5,TABLE1!$D$5=\"کل بخشها\"),F250<>\"\"),1,0)","v":0}]
[null,null,null,null,null,null,null,null,null,null,null,null,null,null,null,null,null,null,null,null,null,null,null,null,null,null,null,null,null,null,null,null,null,null,null,null,null,null,null,null,null,null,null,null,null,null,null,null,null,null,null,null,null,null,null,null,null,null,null,null,null,null,null,null,null,null,null,null,null,null,null,null,null,null,null,null,null,null,null,null,null,null,null,null,null,null,null,null,null,null,null,null,null,null,"",{"$f":"IF(LEFT(C252,2)=TABLE1!$F$1,1,0)","v":0},{"$f":"IF(AND(IF(AND(IF(OR(AND(CQ252=1,TABLE1!$AN$3=TRUE),AND(CQ252=2,TABLE1!$AN$4=TRUE),AND(CQ252=3,TABLE1!$AN$5=TRUE),AND(CQ252=4,TABLE1!$AQ$3=TRUE),AND(CQ252=5,TABLE1!$AQ$4=TRUE),AND(CQ252=6,TABLE1!$AQ$5=TRUE),AND(CQ252=7,TABLE1!$AT$3=TRUE),AND(CQ252=8,TABLE1!$AT$4=TRUE),AND(CQ252=9,TABLE1!$AT$5=TRUE),AND(CQ252=10,TABLE1!$AW$3=TRUE),AND(CQ252=11,TABLE1!$AW$4=TRUE),AND(CQ252=12,TABLE1!$AW$5=TRUE)),1,0)=1),1,0)=1,CR252=1,CT252=1),1,0)","v":0},{"$f":"IF(AND(OR(F252=TABLE1!$D$5,TABLE1!$D$5=\"کل بخشها\"),F252<>\"\"),1,0)","v":0}]
[null,null,null,null,null,null,null,null,null,null,null,null,null,null,null,null,null,null,null,null,null,null,null,null,null,null,null,null,null,null,null,null,null,null,null,null,null,null,null,null,null,null,null,null,null,null,null,null,null,null,null,null,null,null,null,null,null,null,null,null,null,null,null,null,null,null,null,null,null,null,null,null,null,null,null,null,null,null,null,null,null,null,null,null,null,null,null,null,null,null,null,null,null,null,"",{"$f":"IF(LEFT(C256,2)=TABLE1!$F$1,1,0)","v":0},{"$f":"IF(AND(IF(AND(IF(OR(AND(CQ256=1,TABLE1!$AN$3=TRUE),AND(CQ256=2,TABLE1!$AN$4=TRUE),AND(CQ256=3,TABLE1!$AN$5=TRUE),AND(CQ256=4,TABLE1!$AQ$3=TRUE),AND(CQ256=5,TABLE1!$AQ$4=TRUE),AND(CQ256=6,TABLE1!$AQ$5=TRUE),AND(CQ256=7,TABLE1!$AT$3=TRUE),AND(CQ256=8,TABLE1!$AT$4=TRUE),AND(CQ256=9,TABLE1!$AT$5=TRUE),AND(CQ256=10,TABLE1!$AW$3=TRUE),AND(CQ256=11,TABLE1!$AW$4=TRUE),AND(CQ256=12,TABLE1!$AW$5=TRUE)),1,0)=1),1,0)=1,CR256=1,CT256=1),1,0)","v":0},{"$f":"IF(AND(OR(F256=TABLE1!$D$5,TABLE1!$D$5=\"کل بخشها\"),F256<>\"\"),1,0)","v":0}]
[null,null,null,null,null,null,null,null,null,null,null,null,null,null,null,null,null,null,null,null,null,null,null,null,null,null,null,null,null,null,null,null,null,null,null,null,null,null,null,null,null,null,null,null,null,null,null,null,null,null,null,null,null,null,null,null,null,null,null,null,null,null,null,null,null,null,null,null,null,null,null,null,null,null,null,null,null,null,null,null,null,null,null,null,null,null,null,null,null,null,null,null,null,null,"",{"$f":"IF(LEFT(C261,2)=TABLE1!$F$1,1,0)","v":0},{"$f":"IF(AND(IF(AND(IF(OR(AND(CQ261=1,TABLE1!$AN$3=TRUE),AND(CQ261=2,TABLE1!$AN$4=TRUE),AND(CQ261=3,TABLE1!$AN$5=TRUE),AND(CQ261=4,TABLE1!$AQ$3=TRUE),AND(CQ261=5,TABLE1!$AQ$4=TRUE),AND(CQ261=6,TABLE1!$AQ$5=TRUE),AND(CQ261=7,TABLE1!$AT$3=TRUE),AND(CQ261=8,TABLE1!$AT$4=TRUE),AND(CQ261=9,TABLE1!$AT$5=TRUE),AND(CQ261=10,TABLE1!$AW$3=TRUE),AND(CQ261=11,TABLE1!$AW$4=TRUE),AND(CQ261=12,TABLE1!$AW$5=TRUE)),1,0)=1),1,0)=1,CR261=1,CT261=1),1,0)","v":0},{"$f":"IF(AND(OR(F261=TABLE1!$D$5,TABLE1!$D$5=\"کل بخشها\"),F261<>\"\"),1,0)","v":0}]
[null,null,null,null,null,null,null,null,null,null,null,null,null,null,null,null,null,null,null,null,null,null,null,null,null,null,null,null,null,null,null,null,null,null,null,null,null,null,null,null,null,null,null,null,null,null,null,null,null,null,null,null,null,null,null,null,null,null,null,null,null,null,null,null,null,null,null,null,null,null,null,null,null,null,null,null,null,null,null,null,null,null,null,null,null,null,null,null,null,null,null,null,null,null,"",{"$f":"IF(LEFT(C267,2)=TABLE1!$F$1,1,0)","v":0},{"$f":"IF(AND(IF(AND(IF(OR(AND(CQ267=1,TABLE1!$AN$3=TRUE),AND(CQ267=2,TABLE1!$AN$4=TRUE),AND(CQ267=3,TABLE1!$AN$5=TRUE),AND(CQ267=4,TABLE1!$AQ$3=TRUE),AND(CQ267=5,TABLE1!$AQ$4=TRUE),AND(CQ267=6,TABLE1!$AQ$5=TRUE),AND(CQ267=7,TABLE1!$AT$3=TRUE),AND(CQ267=8,TABLE1!$AT$4=TRUE),AND(CQ267=9,TABLE1!$AT$5=TRUE),AND(CQ267=10,TABLE1!$AW$3=TRUE),AND(CQ267=11,TABLE1!$AW$4=TRUE),AND(CQ267=12,TABLE1!$AW$5=TRUE)),1,0)=1),1,0)=1,CR267=1,CT267=1),1,0)","v":0},{"$f":"IF(AND(OR(F267=TABLE1!$D$5,TABLE1!$D$5=\"کل بخشها\"),F267<>\"\"),1,0)","v":0}]
[null,null,null,null,null,null,null,null,null,null,null,null,null,null,null,null,null,null,null,null,null,null,null,null,null,null,null,null,null,null,null,null,null,null,null,null,null,null,null,null,null,null,null,null,null,null,null,null,null,null,null,null,null,null,null,null,null,null,null,null,null,null,null,null,null,null,null,null,null,null,null,null,null,null,null,null,null,null,null,null,null,null,null,null,null,null,null,null,null,null,null,null,null,null,"",{"$f":"IF(LEFT(C271,2)=TABLE1!$F$1,1,0)","v":0},{"$f":"IF(AND(IF(AND(IF(OR(AND(CQ271=1,TABLE1!$AN$3=TRUE),AND(CQ271=2,TABLE1!$AN$4=TRUE),AND(CQ271=3,TABLE1!$AN$5=TRUE),AND(CQ271=4,TABLE1!$AQ$3=TRUE),AND(CQ271=5,TABLE1!$AQ$4=TRUE),AND(CQ271=6,TABLE1!$AQ$5=TRUE),AND(CQ271=7,TABLE1!$AT$3=TRUE),AND(CQ271=8,TABLE1!$AT$4=TRUE),AND(CQ271=9,TABLE1!$AT$5=TRUE),AND(CQ271=10,TABLE1!$AW$3=TRUE),AND(CQ271=11,TABLE1!$AW$4=TRUE),AND(CQ271=12,TABLE1!$AW$5=TRUE)),1,0)=1),1,0)=1,CR271=1,CT271=1),1,0)","v":0},{"$f":"IF(AND(OR(F271=TABLE1!$D$5,TABLE1!$D$5=\"کل بخشها\"),F271<>\"\"),1,0)","v":0}]
[null,null,null,null,null,null,null,null,null,null,null,null,null,null,null,null,null,null,null,null,null,null,null,null,null,null,null,null,null,null,null,null,null,null,null,null,null,null,null,null,null,null,null,null,null,null,null,null,null,null,null,null,null,null,null,null,null,null,null,null,null,null,null,null,null,null,null,null,null,null,null,null,null,null,null,null,null,null,null,null,null,null,null,null,null,null,null,null,null,null,null,null,null,null,"",{"$f":"IF(LEFT(C276,2)=TABLE1!$F$1,1,0)","v":0},{"$f":"IF(AND(IF(AND(IF(OR(AND(CQ276=1,TABLE1!$AN$3=TRUE),AND(CQ276=2,TABLE1!$AN$4=TRUE),AND(CQ276=3,TABLE1!$AN$5=TRUE),AND(CQ276=4,TABLE1!$AQ$3=TRUE),AND(CQ276=5,TABLE1!$AQ$4=TRUE),AND(CQ276=6,TABLE1!$AQ$5=TRUE),AND(CQ276=7,TABLE1!$AT$3=TRUE),AND(CQ276=8,TABLE1!$AT$4=TRUE),AND(CQ276=9,TABLE1!$AT$5=TRUE),AND(CQ276=10,TABLE1!$AW$3=TRUE),AND(CQ276=11,TABLE1!$AW$4=TRUE),AND(CQ276=12,TABLE1!$AW$5=TRUE)),1,0)=1),1,0)=1,CR276=1,CT276=1),1,0)","v":0},{"$f":"IF(AND(OR(F276=TABLE1!$D$5,TABLE1!$D$5=\"کل بخشها\"),F276<>\"\"),1,0)","v":0}]
[null,null,null,null,null,null,null,null,null,null,null,null,null,null,null,null,null,null,null,null,null,null,null,null,null,null,null,null,null,null,null,null,null,null,null,null,null,null,null,null,null,null,null,null,null,null,null,null,null,null,null,null,null,null,null,null,null,null,null,null,null,null,null,null,null,null,null,null,null,null,null,null,null,null,null,null,null,null,null,null,null,null,null,null,null,null,null,null,null,null,null,null,null,null,"",{"$f":"IF(LEFT(C282,2)=TABLE1!$F$1,1,0)","v":0},{"$f":"IF(AND(IF(AND(IF(OR(AND(CQ282=1,TABLE1!$AN$3=TRUE),AND(CQ282=2,TABLE1!$AN$4=TRUE),AND(CQ282=3,TABLE1!$AN$5=TRUE),AND(CQ282=4,TABLE1!$AQ$3=TRUE),AND(CQ282=5,TABLE1!$AQ$4=TRUE),AND(CQ282=6,TABLE1!$AQ$5=TRUE),AND(CQ282=7,TABLE1!$AT$3=TRUE),AND(CQ282=8,TABLE1!$AT$4=TRUE),AND(CQ282=9,TABLE1!$AT$5=TRUE),AND(CQ282=10,TABLE1!$AW$3=TRUE),AND(CQ282=11,TABLE1!$AW$4=TRUE),AND(CQ282=12,TABLE1!$AW$5=TRUE)),1,0)=1),1,0)=1,CR282=1,CT282=1),1,0)","v":0},{"$f":"IF(AND(OR(F282=TABLE1!$D$5,TABLE1!$D$5=\"کل بخشها\"),F282<>\"\"),1,0)","v":0}]
[null,null,null,null,null,null,null,null,null,null,null,null,null,null,null,null,null,null,null,null,null,null,null,null,null,null,null,null,null,null,null,null,null,null,null,null,null,null,null,null,null,null,null,null,null,null,null,null,null,null,null,null,null,null,null,null,null,null,null,null,null,null,null,null,null,null,null,null,null,null,null,null,null,null,null,null,null,null,null,null,null,null,null,null,null,null,null,null,null,null,null,null,null,null,"",{"$f":"IF(LEFT(C287,2)=TABLE1!$F$1,1,0)","v":0},{"$f":"IF(AND(IF(AND(IF(OR(AND(CQ287=1,TABLE1!$AN$3=TRUE),AND(CQ287=2,TABLE1!$AN$4=TRUE),AND(CQ287=3,TABLE1!$AN$5=TRUE),AND(CQ287=4,TABLE1!$AQ$3=TRUE),AND(CQ287=5,TABLE1!$AQ$4=TRUE),AND(CQ287=6,TABLE1!$AQ$5=TRUE),AND(CQ287=7,TABLE1!$AT$3=TRUE),AND(CQ287=8,TABLE1!$AT$4=TRUE),AND(CQ287=9,TABLE1!$AT$5=TRUE),AND(CQ287=10,TABLE1!$AW$3=TRUE),AND(CQ287=11,TABLE1!$AW$4=TRUE),AND(CQ287=12,TABLE1!$AW$5=TRUE)),1,0)=1),1,0)=1,CR287=1,CT287=1),1,0)","v":0},{"$f":"IF(AND(OR(F287=TABLE1!$D$5,TABLE1!$D$5=\"کل بخشها\"),F287<>\"\"),1,0)","v":0}]
[null,null,null,null,null,null,null,null,null,null,null,null,null,null,null,null,null,null,null,null,null,null,null,null,null,null,null,null,null,null,null,null,null,null,null,null,null,null,null,null,null,null,null,null,null,null,null,null,null,null,null,null,null,null,null,null,null,null,null,null,null,null,null,null,null,null,null,null,null,null,null,null,null,null,null,null,null,null,null,null,null,null,null,null,null,null,null,null,null,null,null,null,null,null,"",{"$f":"IF(LEFT(C290,2)=TABLE1!$F$1,1,0)","v":0},{"$f":"IF(AND(IF(AND(IF(OR(AND(CQ290=1,TABLE1!$AN$3=TRUE),AND(CQ290=2,TABLE1!$AN$4=TRUE),AND(CQ290=3,TABLE1!$AN$5=TRUE),AND(CQ290=4,TABLE1!$AQ$3=TRUE),AND(CQ290=5,TABLE1!$AQ$4=TRUE),AND(CQ290=6,TABLE1!$AQ$5=TRUE),AND(CQ290=7,TABLE1!$AT$3=TRUE),AND(CQ290=8,TABLE1!$AT$4=TRUE),AND(CQ290=9,TABLE1!$AT$5=TRUE),AND(CQ290=10,TABLE1!$AW$3=TRUE),AND(CQ290=11,TABLE1!$AW$4=TRUE),AND(CQ290=12,TABLE1!$AW$5=TRUE)),1,0)=1),1,0)=1,CR290=1,CT290=1),1,0)","v":0},{"$f":"IF(AND(OR(F290=TABLE1!$D$5,TABLE1!$D$5=\"کل بخشها\"),F290<>\"\"),1,0)","v":0}]
[null,null,null,null,null,null,null,null,null,null,null,null,null,null,null,null,null,null,null,null,null,null,null,null,null,null,null,null,null,null,null,null,null,null,null,null,null,null,null,null,null,null,null,null,null,null,null,null,null,null,null,null,null,null,null,null,null,null,null,null,null,null,null,null,null,null,null,null,null,null,null,null,null,null,null,null,null,null,null,null,null,null,null,null,null,null,null,null,null,null,null,null,null,null,"",{"$f":"IF(LEFT(C297,2)=TABLE1!$F$1,1,0)","v":0},{"$f":"IF(AND(IF(AND(IF(OR(AND(CQ297=1,TABLE1!$AN$3=TRUE),AND(CQ297=2,TABLE1!$AN$4=TRUE),AND(CQ297=3,TABLE1!$AN$5=TRUE),AND(CQ297=4,TABLE1!$AQ$3=TRUE),AND(CQ297=5,TABLE1!$AQ$4=TRUE),AND(CQ297=6,TABLE1!$AQ$5=TRUE),AND(CQ297=7,TABLE1!$AT$3=TRUE),AND(CQ297=8,TABLE1!$AT$4=TRUE),AND(CQ297=9,TABLE1!$AT$5=TRUE),AND(CQ297=10,TABLE1!$AW$3=TRUE),AND(CQ297=11,TABLE1!$AW$4=TRUE),AND(CQ297=12,TABLE1!$AW$5=TRUE)),1,0)=1),1,0)=1,CR297=1,CT297=1),1,0)","v":0},{"$f":"IF(AND(OR(F297=TABLE1!$D$5,TABLE1!$D$5=\"کل بخشها\"),F297<>\"\"),1,0)","v":0}]
[null,null,null,null,null,null,null,null,null,null,null,null,null,null,null,null,null,null,null,null,null,null,null,null,null,null,null,null,null,null,null,null,null,null,null,null,null,null,null,null,null,null,null,null,null,null,null,null,null,null,null,null,null,null,null,null,null,null,null,null,null,null,null,null,null,null,null,null,null,null,null,null,null,null,null,null,null,null,null,null,null,null,null,null,null,null,null,null,null,null,null,null,null,null,"",{"$f":"IF(LEFT(C302,2)=TABLE1!$F$1,1,0)","v":0},{"$f":"IF(AND(IF(AND(IF(OR(AND(CQ302=1,TABLE1!$AN$3=TRUE),AND(CQ302=2,TABLE1!$AN$4=TRUE),AND(CQ302=3,TABLE1!$AN$5=TRUE),AND(CQ302=4,TABLE1!$AQ$3=TRUE),AND(CQ302=5,TABLE1!$AQ$4=TRUE),AND(CQ302=6,TABLE1!$AQ$5=TRUE),AND(CQ302=7,TABLE1!$AT$3=TRUE),AND(CQ302=8,TABLE1!$AT$4=TRUE),AND(CQ302=9,TABLE1!$AT$5=TRUE),AND(CQ302=10,TABLE1!$AW$3=TRUE),AND(CQ302=11,TABLE1!$AW$4=TRUE),AND(CQ302=12,TABLE1!$AW$5=TRUE)),1,0)=1),1,0)=1,CR302=1,CT302=1),1,0)","v":0},{"$f":"IF(AND(OR(F302=TABLE1!$D$5,TABLE1!$D$5=\"کل بخشها\"),F302<>\"\"),1,0)","v":0}]
[null,null,null,null,null,null,null,null,null,null,null,null,null,null,null,null,null,null,null,null,null,null,null,null,null,null,null,null,null,null,null,null,null,null,null,null,null,null,null,null,null,null,null,null,null,null,null,null,null,null,null,null,null,null,null,null,null,null,null,null,null,null,null,null,null,null,null,null,null,null,null,null,null,null,null,null,null,null,null,null,null,null,null,null,null,null,null,null,null,null,null,null,null,null,"",{"$f":"IF(LEFT(C303,2)=TABLE1!$F$1,1,0)","v":0},{"$f":"IF(AND(IF(AND(IF(OR(AND(CQ303=1,TABLE1!$AN$3=TRUE),AND(CQ303=2,TABLE1!$AN$4=TRUE),AND(CQ303=3,TABLE1!$AN$5=TRUE),AND(CQ303=4,TABLE1!$AQ$3=TRUE),AND(CQ303=5,TABLE1!$AQ$4=TRUE),AND(CQ303=6,TABLE1!$AQ$5=TRUE),AND(CQ303=7,TABLE1!$AT$3=TRUE),AND(CQ303=8,TABLE1!$AT$4=TRUE),AND(CQ303=9,TABLE1!$AT$5=TRUE),AND(CQ303=10,TABLE1!$AW$3=TRUE),AND(CQ303=11,TABLE1!$AW$4=TRUE),AND(CQ303=12,TABLE1!$AW$5=TRUE)),1,0)=1),1,0)=1,CR303=1,CT303=1),1,0)","v":0},{"$f":"IF(AND(OR(F303=TABLE1!$D$5,TABLE1!$D$5=\"کل بخشها\"),F303<>\"\"),1,0)","v":0}]
[null,null,null,null,null,null,null,null,null,null,null,null,null,null,null,null,null,null,null,null,null,null,null,null,null,null,null,null,null,null,null,null,null,null,null,null,null,null,null,null,null,null,null,null,null,null,null,null,null,null,null,null,null,null,null,null,null,null,null,null,null,null,null,null,null,null,null,null,null,null,null,null,null,null,null,null,null,null,null,null,null,null,null,null,null,null,null,null,null,null,null,null,null,null,"",{"$f":"IF(LEFT(C309,2)=TABLE1!$F$1,1,0)","v":0},{"$f":"IF(AND(IF(AND(IF(OR(AND(CQ309=1,TABLE1!$AN$3=TRUE),AND(CQ309=2,TABLE1!$AN$4=TRUE),AND(CQ309=3,TABLE1!$AN$5=TRUE),AND(CQ309=4,TABLE1!$AQ$3=TRUE),AND(CQ309=5,TABLE1!$AQ$4=TRUE),AND(CQ309=6,TABLE1!$AQ$5=TRUE),AND(CQ309=7,TABLE1!$AT$3=TRUE),AND(CQ309=8,TABLE1!$AT$4=TRUE),AND(CQ309=9,TABLE1!$AT$5=TRUE),AND(CQ309=10,TABLE1!$AW$3=TRUE),AND(CQ309=11,TABLE1!$AW$4=TRUE),AND(CQ309=12,TABLE1!$AW$5=TRUE)),1,0)=1),1,0)=1,CR309=1,CT309=1),1,0)","v":0},{"$f":"IF(AND(OR(F309=TABLE1!$D$5,TABLE1!$D$5=\"کل بخشها\"),F309<>\"\"),1,0)","v":0}]
[null,null,null,null,null,null,null,null,null,null,null,null,null,null,null,null,null,null,null,null,null,null,null,null,null,null,null,null,null,null,null,null,null,null,null,null,null,null,null,null,null,null,null,null,null,null,null,null,null,null,null,null,null,null,null,null,null,null,null,null,null,null,null,null,null,null,null,null,null,null,null,null,null,null,null,null,null,null,null,null,null,null,null,null,null,null,null,null,null,null,null,null,null,null,"",{"$f":"IF(LEFT(C312,2)=TABLE1!$F$1,1,0)","v":0},{"$f":"IF(AND(IF(AND(IF(OR(AND(CQ312=1,TABLE1!$AN$3=TRUE),AND(CQ312=2,TABLE1!$AN$4=TRUE),AND(CQ312=3,TABLE1!$AN$5=TRUE),AND(CQ312=4,TABLE1!$AQ$3=TRUE),AND(CQ312=5,TABLE1!$AQ$4=TRUE),AND(CQ312=6,TABLE1!$AQ$5=TRUE),AND(CQ312=7,TABLE1!$AT$3=TRUE),AND(CQ312=8,TABLE1!$AT$4=TRUE),AND(CQ312=9,TABLE1!$AT$5=TRUE),AND(CQ312=10,TABLE1!$AW$3=TRUE),AND(CQ312=11,TABLE1!$AW$4=TRUE),AND(CQ312=12,TABLE1!$AW$5=TRUE)),1,0)=1),1,0)=1,CR312=1,CT312=1),1,0)","v":0},{"$f":"IF(AND(OR(F312=TABLE1!$D$5,TABLE1!$D$5=\"کل بخشها\"),F312<>\"\"),1,0)","v":0}]
[null,null,null,null,null,null,null,null,null,null,null,null,null,null,null,null,null,null,null,null,null,null,null,null,null,null,null,null,null,null,null,null,null,null,null,null,null,null,null,null,null,null,null,null,null,null,null,null,null,null,null,null,null,null,null,null,null,null,null,null,null,null,null,null,null,null,null,null,null,null,null,null,null,null,null,null,null,null,null,null,null,null,null,null,null,null,null,null,null,null,null,null,null,null,"",{"$f":"IF(LEFT(C318,2)=TABLE1!$F$1,1,0)","v":0},{"$f":"IF(AND(IF(AND(IF(OR(AND(CQ318=1,TABLE1!$AN$3=TRUE),AND(CQ318=2,TABLE1!$AN$4=TRUE),AND(CQ318=3,TABLE1!$AN$5=TRUE),AND(CQ318=4,TABLE1!$AQ$3=TRUE),AND(CQ318=5,TABLE1!$AQ$4=TRUE),AND(CQ318=6,TABLE1!$AQ$5=TRUE),AND(CQ318=7,TABLE1!$AT$3=TRUE),AND(CQ318=8,TABLE1!$AT$4=TRUE),AND(CQ318=9,TABLE1!$AT$5=TRUE),AND(CQ318=10,TABLE1!$AW$3=TRUE),AND(CQ318=11,TABLE1!$AW$4=TRUE),AND(CQ318=12,TABLE1!$AW$5=TRUE)),1,0)=1),1,0)=1,CR318=1,CT318=1),1,0)","v":0},{"$f":"IF(AND(OR(F318=TABLE1!$D$5,TABLE1!$D$5=\"کل بخشها\"),F318<>\"\"),1,0)","v":0}]
[null,null,null,null,null,null,null,null,null,null,null,null,null,null,null,null,null,null,null,null,null,null,null,null,null,null,null,null,null,null,null,null,null,null,null,null,null,null,null,null,null,null,null,null,null,null,null,null,null,null,null,null,null,null,null,null,null,null,null,null,null,null,null,null,null,null,null,null,null,null,null,null,null,null,null,null,null,null,null,null,null,null,null,null,null,null,null,null,null,null,null,null,null,null,{"$f":"IFERROR(VALUE(MID(C323,3,2)),\"\")","v":""},{"$f":"IF(LEFT(C323,2)=TABLE1!$F$1,1,0)","v":0},{"$f":"IF(AND(IF(AND(IF(OR(AND(CQ323=1,TABLE1!$AN$3=TRUE),AND(CQ323=2,TABLE1!$AN$4=TRUE),AND(CQ323=3,TABLE1!$AN$5=TRUE),AND(CQ323=4,TABLE1!$AQ$3=TRUE),AND(CQ323=5,TABLE1!$AQ$4=TRUE),AND(CQ323=6,TABLE1!$AQ$5=TRUE),AND(CQ323=7,TABLE1!$AT$3=TRUE),AND(CQ323=8,TABLE1!$AT$4=TRUE),AND(CQ323=9,TABLE1!$AT$5=TRUE),AND(CQ323=10,TABLE1!$AW$3=TRUE),AND(CQ323=11,TABLE1!$AW$4=TRUE),AND(CQ323=12,TABLE1!$AW$5=TRUE)),1,0)=1),1,0)=1,CR323=1,CT323=1),1,0)","v":0},{"$f":"IF(AND(OR(F323=TABLE1!$D$5,TABLE1!$D$5=\"کل بخشها\"),F323<>\"\"),1,0)","v":0}]
[null,null,null,null,null,null,null,null,null,null,null,null,null,null,null,null,null,null,null,null,null,null,null,null,null,null,null,null,null,null,null,null,null,null,null,null,null,null,null,null,null,null,null,null,null,null,null,null,null,null,null,null,null,null,null,null,null,null,null,null,null,null,null,null,null,null,null,null,null,null,null,null,null,null,null,null,null,null,null,null,null,null,null,null,null,null,null,null,null,null,null,null,null,null,"",{"$f":"IF(LEFT(C328,2)=TABLE1!$F$1,1,0)","v":0},{"$f":"IF(AND(IF(AND(IF(OR(AND(CQ328=1,TABLE1!$AN$3=TRUE),AND(CQ328=2,TABLE1!$AN$4=TRUE),AND(CQ328=3,TABLE1!$AN$5=TRUE),AND(CQ328=4,TABLE1!$AQ$3=TRUE),AND(CQ328=5,TABLE1!$AQ$4=TRUE),AND(CQ328=6,TABLE1!$AQ$5=TRUE),AND(CQ328=7,TABLE1!$AT$3=TRUE),AND(CQ328=8,TABLE1!$AT$4=TRUE),AND(CQ328=9,TABLE1!$AT$5=TRUE),AND(CQ328=10,TABLE1!$AW$3=TRUE),AND(CQ328=11,TABLE1!$AW$4=TRUE),AND(CQ328=12,TABLE1!$AW$5=TRUE)),1,0)=1),1,0)=1,CR328=1,CT328=1),1,0)","v":0},{"$f":"IF(AND(OR(F328=TABLE1!$D$5,TABLE1!$D$5=\"کل بخشها\"),F328<>\"\"),1,0)","v":0}]
[null,null,null,null,null,null,null,null,null,null,null,null,null,null,null,null,null,null,null,null,null,null,null,null,null,null,null,null,null,null,null,null,null,null,null,null,null,null,null,null,null,null,null,null,null,null,null,null,null,null,null,null,null,null,null,null,null,null,null,null,null,null,null,null,null,null,null,null,null,null,null,null,null,null,null,null,null,null,null,null,null,null,null,null,null,null,null,null,null,null,null,null,null,null,"",{"$f":"IF(LEFT(C333,2)=TABLE1!$F$1,1,0)","v":0},{"$f":"IF(AND(IF(AND(IF(OR(AND(CQ333=1,TABLE1!$AN$3=TRUE),AND(CQ333=2,TABLE1!$AN$4=TRUE),AND(CQ333=3,TABLE1!$AN$5=TRUE),AND(CQ333=4,TABLE1!$AQ$3=TRUE),AND(CQ333=5,TABLE1!$AQ$4=TRUE),AND(CQ333=6,TABLE1!$AQ$5=TRUE),AND(CQ333=7,TABLE1!$AT$3=TRUE),AND(CQ333=8,TABLE1!$AT$4=TRUE),AND(CQ333=9,TABLE1!$AT$5=TRUE),AND(CQ333=10,TABLE1!$AW$3=TRUE),AND(CQ333=11,TABLE1!$AW$4=TRUE),AND(CQ333=12,TABLE1!$AW$5=TRUE)),1,0)=1),1,0)=1,CR333=1,CT333=1),1,0)","v":0},{"$f":"IF(AND(OR(F333=TABLE1!$D$5,TABLE1!$D$5=\"کل بخشها\"),F333<>\"\"),1,0)","v":0}]
[null,null,null,null,null,null,null,null,null,null,null,null,null,null,null,null,null,null,null,null,null,null,null,null,null,null,null,null,null,null,null,null,null,null,null,null,null,null,null,null,null,null,null,null,null,null,null,null,null,null,null,null,null,null,null,null,null,null,null,null,null,null,null,null,null,null,null,null,null,null,null,null,null,null,null,null,null,null,null,null,null,null,null,null,null,null,null,null,null,null,null,null,null,null,"",{"$f":"IF(LEFT(C338,2)=TABLE1!$F$1,1,0)","v":0},{"$f":"IF(AND(IF(AND(IF(OR(AND(CQ338=1,TABLE1!$AN$3=TRUE),AND(CQ338=2,TABLE1!$AN$4=TRUE),AND(CQ338=3,TABLE1!$AN$5=TRUE),AND(CQ338=4,TABLE1!$AQ$3=TRUE),AND(CQ338=5,TABLE1!$AQ$4=TRUE),AND(CQ338=6,TABLE1!$AQ$5=TRUE),AND(CQ338=7,TABLE1!$AT$3=TRUE),AND(CQ338=8,TABLE1!$AT$4=TRUE),AND(CQ338=9,TABLE1!$AT$5=TRUE),AND(CQ338=10,TABLE1!$AW$3=TRUE),AND(CQ338=11,TABLE1!$AW$4=TRUE),AND(CQ338=12,TABLE1!$AW$5=TRUE)),1,0)=1),1,0)=1,CR338=1,CT338=1),1,0)","v":0},{"$f":"IF(AND(OR(F338=TABLE1!$D$5,TABLE1!$D$5=\"کل بخشها\"),F338<>\"\"),1,0)","v":0}]
[null,null,null,null,null,null,null,null,null,null,null,null,null,null,null,null,null,null,null,null,null,null,null,null,null,null,null,null,null,null,null,null,null,null,null,null,null,null,null,null,null,null,null,null,null,null,null,null,null,null,null,null,null,null,null,null,null,null,null,null,null,null,null,null,null,null,null,null,null,null,null,null,null,null,null,null,null,null,null,null,null,null,null,null,null,null,null,null,null,null,null,null,null,null,"",{"$f":"IF(LEFT(C344,2)=TABLE1!$F$1,1,0)","v":0},{"$f":"IF(AND(IF(AND(IF(OR(AND(CQ344=1,TABLE1!$AN$3=TRUE),AND(CQ344=2,TABLE1!$AN$4=TRUE),AND(CQ344=3,TABLE1!$AN$5=TRUE),AND(CQ344=4,TABLE1!$AQ$3=TRUE),AND(CQ344=5,TABLE1!$AQ$4=TRUE),AND(CQ344=6,TABLE1!$AQ$5=TRUE),AND(CQ344=7,TABLE1!$AT$3=TRUE),AND(CQ344=8,TABLE1!$AT$4=TRUE),AND(CQ344=9,TABLE1!$AT$5=TRUE),AND(CQ344=10,TABLE1!$AW$3=TRUE),AND(CQ344=11,TABLE1!$AW$4=TRUE),AND(CQ344=12,TABLE1!$AW$5=TRUE)),1,0)=1),1,0)=1,CR344=1,CT344=1),1,0)","v":0},{"$f":"IF(AND(OR(F344=TABLE1!$D$5,TABLE1!$D$5=\"کل بخشها\"),F344<>\"\"),1,0)","v":0}]
[null,null,null,null,null,null,null,null,null,null,null,null,null,null,null,null,null,null,null,null,null,null,null,null,null,null,null,null,null,null,null,null,null,null,null,null,null,null,null,null,null,null,null,null,null,null,null,null,null,null,null,null,null,null,null,null,null,null,null,null,null,null,null,null,null,null,null,null,null,null,null,null,null,null,null,null,null,null,null,null,null,null,null,null,null,null,null,null,null,null,null,null,null,null,"",{"$f":"IF(LEFT(C349,2)=TABLE1!$F$1,1,0)","v":0},{"$f":"IF(AND(IF(AND(IF(OR(AND(CQ349=1,TABLE1!$AN$3=TRUE),AND(CQ349=2,TABLE1!$AN$4=TRUE),AND(CQ349=3,TABLE1!$AN$5=TRUE),AND(CQ349=4,TABLE1!$AQ$3=TRUE),AND(CQ349=5,TABLE1!$AQ$4=TRUE),AND(CQ349=6,TABLE1!$AQ$5=TRUE),AND(CQ349=7,TABLE1!$AT$3=TRUE),AND(CQ349=8,TABLE1!$AT$4=TRUE),AND(CQ349=9,TABLE1!$AT$5=TRUE),AND(CQ349=10,TABLE1!$AW$3=TRUE),AND(CQ349=11,TABLE1!$AW$4=TRUE),AND(CQ349=12,TABLE1!$AW$5=TRUE)),1,0)=1),1,0)=1,CR349=1,CT349=1),1,0)","v":0},{"$f":"IF(AND(OR(F349=TABLE1!$D$5,TABLE1!$D$5=\"کل بخشها\"),F349<>\"\"),1,0)","v":0}]
[null,null,null,null,null,null,null,null,null,null,null,null,null,null,null,null,null,null,null,null,null,null,null,null,null,null,null,null,null,null,null,null,null,null,null,null,null,null,null,null,null,null,null,null,null,null,null,null,null,null,null,null,null,null,null,null,null,null,null,null,null,null,null,null,null,null,null,null,null,null,null,null,null,null,null,null,null,null,null,null,null,null,null,null,null,null,null,null,null,null,null,null,null,null,"",{"$f":"IF(LEFT(C353,2)=TABLE1!$F$1,1,0)","v":0},{"$f":"IF(AND(IF(AND(IF(OR(AND(CQ353=1,TABLE1!$AN$3=TRUE),AND(CQ353=2,TABLE1!$AN$4=TRUE),AND(CQ353=3,TABLE1!$AN$5=TRUE),AND(CQ353=4,TABLE1!$AQ$3=TRUE),AND(CQ353=5,TABLE1!$AQ$4=TRUE),AND(CQ353=6,TABLE1!$AQ$5=TRUE),AND(CQ353=7,TABLE1!$AT$3=TRUE),AND(CQ353=8,TABLE1!$AT$4=TRUE),AND(CQ353=9,TABLE1!$AT$5=TRUE),AND(CQ353=10,TABLE1!$AW$3=TRUE),AND(CQ353=11,TABLE1!$AW$4=TRUE),AND(CQ353=12,TABLE1!$AW$5=TRUE)),1,0)=1),1,0)=1,CR353=1,CT353=1),1,0)","v":0},{"$f":"IF(AND(OR(F353=TABLE1!$D$5,TABLE1!$D$5=\"کل بخشها\"),F353<>\"\"),1,0)","v":0}]
[null,null,null,null,null,null,null,null,null,null,null,null,null,null,null,null,null,null,null,null,null,null,null,null,null,null,null,null,null,null,null,null,null,null,null,null,null,null,null,null,null,null,null,null,null,null,null,null,null,null,null,null,null,null,null,null,null,null,null,null,null,null,null,null,null,null,null,null,null,null,null,null,null,null,null,null,null,null,null,null,null,null,null,null,null,null,null,null,null,null,null,null,null,null,"",{"$f":"IF(LEFT(C359,2)=TABLE1!$F$1,1,0)","v":0},{"$f":"IF(AND(IF(AND(IF(OR(AND(CQ359=1,TABLE1!$AN$3=TRUE),AND(CQ359=2,TABLE1!$AN$4=TRUE),AND(CQ359=3,TABLE1!$AN$5=TRUE),AND(CQ359=4,TABLE1!$AQ$3=TRUE),AND(CQ359=5,TABLE1!$AQ$4=TRUE),AND(CQ359=6,TABLE1!$AQ$5=TRUE),AND(CQ359=7,TABLE1!$AT$3=TRUE),AND(CQ359=8,TABLE1!$AT$4=TRUE),AND(CQ359=9,TABLE1!$AT$5=TRUE),AND(CQ359=10,TABLE1!$AW$3=TRUE),AND(CQ359=11,TABLE1!$AW$4=TRUE),AND(CQ359=12,TABLE1!$AW$5=TRUE)),1,0)=1),1,0)=1,CR359=1,CT359=1),1,0)","v":0},{"$f":"IF(AND(OR(F359=TABLE1!$D$5,TABLE1!$D$5=\"کل بخشها\"),F359<>\"\"),1,0)","v":0}]
[null,null,null,null,null,null,null,null,null,null,null,null,null,null,null,null,null,null,null,null,null,null,null,null,null,null,null,null,null,null,null,null,null,null,null,null,null,null,null,null,null,null,null,null,null,null,null,null,null,null,null,null,null,null,null,null,null,null,null,null,null,null,null,null,null,null,null,null,null,null,null,null,null,null,null,null,null,null,null,null,null,null,null,null,null,null,null,null,null,null,null,null,null,null,"",{"$f":"IF(LEFT(C364,2)=TABLE1!$F$1,1,0)","v":0},{"$f":"IF(AND(IF(AND(IF(OR(AND(CQ364=1,TABLE1!$AN$3=TRUE),AND(CQ364=2,TABLE1!$AN$4=TRUE),AND(CQ364=3,TABLE1!$AN$5=TRUE),AND(CQ364=4,TABLE1!$AQ$3=TRUE),AND(CQ364=5,TABLE1!$AQ$4=TRUE),AND(CQ364=6,TABLE1!$AQ$5=TRUE),AND(CQ364=7,TABLE1!$AT$3=TRUE),AND(CQ364=8,TABLE1!$AT$4=TRUE),AND(CQ364=9,TABLE1!$AT$5=TRUE),AND(CQ364=10,TABLE1!$AW$3=TRUE),AND(CQ364=11,TABLE1!$AW$4=TRUE),AND(CQ364=12,TABLE1!$AW$5=TRUE)),1,0)=1),1,0)=1,CR364=1,CT364=1),1,0)","v":0},{"$f":"IF(AND(OR(F364=TABLE1!$D$5,TABLE1!$D$5=\"کل بخشها\"),F364<>\"\"),1,0)","v":0}]
[null,null,null,null,null,null,null,null,null,null,null,null,null,null,null,null,null,null,null,null,null,null,null,null,null,null,null,null,null,null,null,null,null,null,null,null,null,null,null,null,null,null,null,null,null,null,null,null,null,null,null,null,null,null,null,null,null,null,null,null,null,null,null,null,null,null,null,null,null,null,null,null,null,null,null,null,null,null,null,null,null,null,null,null,null,null,null,null,null,null,null,null,null,null,"",{"$f":"IF(LEFT(C365,2)=TABLE1!$F$1,1,0)","v":0},{"$f":"IF(AND(IF(AND(IF(OR(AND(CQ365=1,TABLE1!$AN$3=TRUE),AND(CQ365=2,TABLE1!$AN$4=TRUE),AND(CQ365=3,TABLE1!$AN$5=TRUE),AND(CQ365=4,TABLE1!$AQ$3=TRUE),AND(CQ365=5,TABLE1!$AQ$4=TRUE),AND(CQ365=6,TABLE1!$AQ$5=TRUE),AND(CQ365=7,TABLE1!$AT$3=TRUE),AND(CQ365=8,TABLE1!$AT$4=TRUE),AND(CQ365=9,TABLE1!$AT$5=TRUE),AND(CQ365=10,TABLE1!$AW$3=TRUE),AND(CQ365=11,TABLE1!$AW$4=TRUE),AND(CQ365=12,TABLE1!$AW$5=TRUE)),1,0)=1),1,0)=1,CR365=1,CT365=1),1,0)","v":0},{"$f":"IF(AND(OR(F365=TABLE1!$D$5,TABLE1!$D$5=\"کل بخشها\"),F365<>\"\"),1,0)","v":0}]
[null,null,null,null,null,null,null,null,null,null,null,null,null,null,null,null,null,null,null,null,null,null,null,null,null,null,null,null,null,null,null,null,null,null,null,null,null,null,null,null,null,null,null,null,null,null,null,null,null,null,null,null,null,null,null,null,null,null,null,null,null,null,null,null,null,null,null,null,null,null,null,null,null,null,null,null,null,null,null,null,null,null,null,null,null,null,null,null,null,null,null,null,null,null,"",{"$f":"IF(LEFT(C372,2)=TABLE1!$F$1,1,0)","v":0},{"$f":"IF(AND(IF(AND(IF(OR(AND(CQ372=1,TABLE1!$AN$3=TRUE),AND(CQ372=2,TABLE1!$AN$4=TRUE),AND(CQ372=3,TABLE1!$AN$5=TRUE),AND(CQ372=4,TABLE1!$AQ$3=TRUE),AND(CQ372=5,TABLE1!$AQ$4=TRUE),AND(CQ372=6,TABLE1!$AQ$5=TRUE),AND(CQ372=7,TABLE1!$AT$3=TRUE),AND(CQ372=8,TABLE1!$AT$4=TRUE),AND(CQ372=9,TABLE1!$AT$5=TRUE),AND(CQ372=10,TABLE1!$AW$3=TRUE),AND(CQ372=11,TABLE1!$AW$4=TRUE),AND(CQ372=12,TABLE1!$AW$5=TRUE)),1,0)=1),1,0)=1,CR372=1,CT372=1),1,0)","v":0},{"$f":"IF(AND(OR(F372=TABLE1!$D$5,TABLE1!$D$5=\"کل بخشها\"),F372<>\"\"),1,0)","v":0}]
[null,null,null,null,null,null,null,null,null,null,null,null,null,null,null,null,null,null,null,null,null,null,null,null,null,null,null,null,null,null,null,null,null,null,null,null,null,null,null,null,null,null,null,null,null,null,null,null,null,null,null,null,null,null,null,null,null,null,null,null,null,null,null,null,null,null,null,null,null,null,null,null,null,null,null,null,null,null,null,null,null,null,null,null,null,null,null,null,null,null,null,null,null,null,"",{"$f":"IF(LEFT(C374,2)=TABLE1!$F$1,1,0)","v":0},{"$f":"IF(AND(IF(AND(IF(OR(AND(CQ374=1,TABLE1!$AN$3=TRUE),AND(CQ374=2,TABLE1!$AN$4=TRUE),AND(CQ374=3,TABLE1!$AN$5=TRUE),AND(CQ374=4,TABLE1!$AQ$3=TRUE),AND(CQ374=5,TABLE1!$AQ$4=TRUE),AND(CQ374=6,TABLE1!$AQ$5=TRUE),AND(CQ374=7,TABLE1!$AT$3=TRUE),AND(CQ374=8,TABLE1!$AT$4=TRUE),AND(CQ374=9,TABLE1!$AT$5=TRUE),AND(CQ374=10,TABLE1!$AW$3=TRUE),AND(CQ374=11,TABLE1!$AW$4=TRUE),AND(CQ374=12,TABLE1!$AW$5=TRUE)),1,0)=1),1,0)=1,CR374=1,CT374=1),1,0)","v":0},{"$f":"IF(AND(OR(F374=TABLE1!$D$5,TABLE1!$D$5=\"کل بخشها\"),F374<>\"\"),1,0)","v":0}]
[null,null,null,null,null,null,null,null,null,null,null,null,null,null,null,null,null,null,null,null,null,null,null,null,null,null,null,null,null,null,null,null,null,null,null,null,null,null,null,null,null,null,null,null,null,null,null,null,null,null,null,null,null,null,null,null,null,null,null,null,null,null,null,null,null,null,null,null,null,null,null,null,null,null,null,null,null,null,null,null,null,null,null,null,null,null,null,null,null,null,null,null,null,null,"",{"$f":"IF(LEFT(C380,2)=TABLE1!$F$1,1,0)","v":0},{"$f":"IF(AND(IF(AND(IF(OR(AND(CQ380=1,TABLE1!$AN$3=TRUE),AND(CQ380=2,TABLE1!$AN$4=TRUE),AND(CQ380=3,TABLE1!$AN$5=TRUE),AND(CQ380=4,TABLE1!$AQ$3=TRUE),AND(CQ380=5,TABLE1!$AQ$4=TRUE),AND(CQ380=6,TABLE1!$AQ$5=TRUE),AND(CQ380=7,TABLE1!$AT$3=TRUE),AND(CQ380=8,TABLE1!$AT$4=TRUE),AND(CQ380=9,TABLE1!$AT$5=TRUE),AND(CQ380=10,TABLE1!$AW$3=TRUE),AND(CQ380=11,TABLE1!$AW$4=TRUE),AND(CQ380=12,TABLE1!$AW$5=TRUE)),1,0)=1),1,0)=1,CR380=1,CT380=1),1,0)","v":0},{"$f":"IF(AND(OR(F380=TABLE1!$D$5,TABLE1!$D$5=\"کل بخشها\"),F380<>\"\"),1,0)","v":0}]
[null,null,null,null,null,null,null,null,null,null,null,null,null,null,null,null,null,null,null,null,null,null,null,null,null,null,null,null,null,null,null,null,null,null,null,null,null,null,null,null,null,null,null,null,null,null,null,null,null,null,null,null,null,null,null,null,null,null,null,null,null,null,null,null,null,null,null,null,null,null,null,null,null,null,null,null,null,null,null,null,null,null,null,null,null,null,null,null,null,null,null,null,null,null,"",{"$f":"IF(LEFT(C385,2)=TABLE1!$F$1,1,0)","v":0},{"$f":"IF(AND(IF(AND(IF(OR(AND(CQ385=1,TABLE1!$AN$3=TRUE),AND(CQ385=2,TABLE1!$AN$4=TRUE),AND(CQ385=3,TABLE1!$AN$5=TRUE),AND(CQ385=4,TABLE1!$AQ$3=TRUE),AND(CQ385=5,TABLE1!$AQ$4=TRUE),AND(CQ385=6,TABLE1!$AQ$5=TRUE),AND(CQ385=7,TABLE1!$AT$3=TRUE),AND(CQ385=8,TABLE1!$AT$4=TRUE),AND(CQ385=9,TABLE1!$AT$5=TRUE),AND(CQ385=10,TABLE1!$AW$3=TRUE),AND(CQ385=11,TABLE1!$AW$4=TRUE),AND(CQ385=12,TABLE1!$AW$5=TRUE)),1,0)=1),1,0)=1,CR385=1,CT385=1),1,0)","v":0},{"$f":"IF(AND(OR(F385=TABLE1!$D$5,TABLE1!$D$5=\"کل بخشها\"),F385<>\"\"),1,0)","v":0}]
[null,null,null,null,null,null,null,null,null,null,null,null,null,null,null,null,null,null,null,null,null,null,null,null,null,null,null,null,null,null,null,null,null,null,null,null,null,null,null,null,null,null,null,null,null,null,null,null,null,null,null,null,null,null,null,null,null,null,null,null,null,null,null,null,null,null,null,null,null,null,null,null,null,null,null,null,null,null,null,null,null,null,null,null,null,null,null,null,null,null,null,null,null,null,"",{"$f":"IF(LEFT(C391,2)=TABLE1!$F$1,1,0)","v":0},{"$f":"IF(AND(IF(AND(IF(OR(AND(CQ391=1,TABLE1!$AN$3=TRUE),AND(CQ391=2,TABLE1!$AN$4=TRUE),AND(CQ391=3,TABLE1!$AN$5=TRUE),AND(CQ391=4,TABLE1!$AQ$3=TRUE),AND(CQ391=5,TABLE1!$AQ$4=TRUE),AND(CQ391=6,TABLE1!$AQ$5=TRUE),AND(CQ391=7,TABLE1!$AT$3=TRUE),AND(CQ391=8,TABLE1!$AT$4=TRUE),AND(CQ391=9,TABLE1!$AT$5=TRUE),AND(CQ391=10,TABLE1!$AW$3=TRUE),AND(CQ391=11,TABLE1!$AW$4=TRUE),AND(CQ391=12,TABLE1!$AW$5=TRUE)),1,0)=1),1,0)=1,CR391=1,CT391=1),1,0)","v":0},{"$f":"IF(AND(OR(F391=TABLE1!$D$5,TABLE1!$D$5=\"کل بخشها\"),F391<>\"\"),1,0)","v":0}]
[null,null,null,null,null,null,null,null,null,null,null,null,null,null,null,null,null,null,null,null,null,null,null,null,null,null,null,null,null,null,null,null,null,null,null,null,null,null,null,null,null,null,null,null,null,null,null,null,null,null,null,null,null,null,null,null,null,null,null,null,null,null,null,null,null,null,null,null,null,null,null,null,null,null,null,null,null,null,null,null,null,null,null,null,null,null,null,null,null,null,null,null,null,null,"",{"$f":"IF(LEFT(C395,2)=TABLE1!$F$1,1,0)","v":0},{"$f":"IF(AND(IF(AND(IF(OR(AND(CQ395=1,TABLE1!$AN$3=TRUE),AND(CQ395=2,TABLE1!$AN$4=TRUE),AND(CQ395=3,TABLE1!$AN$5=TRUE),AND(CQ395=4,TABLE1!$AQ$3=TRUE),AND(CQ395=5,TABLE1!$AQ$4=TRUE),AND(CQ395=6,TABLE1!$AQ$5=TRUE),AND(CQ395=7,TABLE1!$AT$3=TRUE),AND(CQ395=8,TABLE1!$AT$4=TRUE),AND(CQ395=9,TABLE1!$AT$5=TRUE),AND(CQ395=10,TABLE1!$AW$3=TRUE),AND(CQ395=11,TABLE1!$AW$4=TRUE),AND(CQ395=12,TABLE1!$AW$5=TRUE)),1,0)=1),1,0)=1,CR395=1,CT395=1),1,0)","v":0},{"$f":"IF(AND(OR(F395=TABLE1!$D$5,TABLE1!$D$5=\"کل بخشها\"),F395<>\"\"),1,0)","v":0}]
[null,null,null,null,null,null,null,null,null,null,null,null,null,null,null,null,null,null,null,null,null,null,null,null,null,null,null,null,null,null,null,null,null,null,null,null,null,null,null,null,null,null,null,null,null,null,null,null,null,null,null,null,null,null,null,null,null,null,null,null,null,null,null,null,null,null,null,null,null,null,null,null,null,null,null,null,null,null,null,null,null,null,null,null,null,null,null,null,null,null,null,null,null,null,"",{"$f":"IF(LEFT(C400,2)=TABLE1!$F$1,1,0)","v":0},{"$f":"IF(AND(IF(AND(IF(OR(AND(CQ400=1,TABLE1!$AN$3=TRUE),AND(CQ400=2,TABLE1!$AN$4=TRUE),AND(CQ400=3,TABLE1!$AN$5=TRUE),AND(CQ400=4,TABLE1!$AQ$3=TRUE),AND(CQ400=5,TABLE1!$AQ$4=TRUE),AND(CQ400=6,TABLE1!$AQ$5=TRUE),AND(CQ400=7,TABLE1!$AT$3=TRUE),AND(CQ400=8,TABLE1!$AT$4=TRUE),AND(CQ400=9,TABLE1!$AT$5=TRUE),AND(CQ400=10,TABLE1!$AW$3=TRUE),AND(CQ400=11,TABLE1!$AW$4=TRUE),AND(CQ400=12,TABLE1!$AW$5=TRUE)),1,0)=1),1,0)=1,CR400=1,CT400=1),1,0)","v":0},{"$f":"IF(AND(OR(F400=TABLE1!$D$5,TABLE1!$D$5=\"کل بخشها\"),F400<>\"\"),1,0)","v":0}]
[null,null,null,null,null,null,null,null,null,null,null,null,null,null,null,null,null,null,null,null,null,null,null,null,null,null,null,null,null,null,null,null,null,null,null,null,null,null,null,null,null,null,null,null,null,null,null,null,null,null,null,null,null,null,null,null,null,null,null,null,null,null,null,null,null,null,null,null,null,null,null,null,null,null,null,null,null,null,null,null,null,null,null,null,null,null,null,null,null,null,null,null,null,null,"",{"$f":"IF(LEFT(C406,2)=TABLE1!$F$1,1,0)","v":0},{"$f":"IF(AND(IF(AND(IF(OR(AND(CQ406=1,TABLE1!$AN$3=TRUE),AND(CQ406=2,TABLE1!$AN$4=TRUE),AND(CQ406=3,TABLE1!$AN$5=TRUE),AND(CQ406=4,TABLE1!$AQ$3=TRUE),AND(CQ406=5,TABLE1!$AQ$4=TRUE),AND(CQ406=6,TABLE1!$AQ$5=TRUE),AND(CQ406=7,TABLE1!$AT$3=TRUE),AND(CQ406=8,TABLE1!$AT$4=TRUE),AND(CQ406=9,TABLE1!$AT$5=TRUE),AND(CQ406=10,TABLE1!$AW$3=TRUE),AND(CQ406=11,TABLE1!$AW$4=TRUE),AND(CQ406=12,TABLE1!$AW$5=TRUE)),1,0)=1),1,0)=1,CR406=1,CT406=1),1,0)","v":0},{"$f":"IF(AND(OR(F406=TABLE1!$D$5,TABLE1!$D$5=\"کل بخشها\"),F406<>\"\"),1,0)","v":0}]
[null,null,null,null,null,null,null,null,null,null,null,null,null,null,null,null,null,null,null,null,null,null,null,null,null,null,null,null,null,null,null,null,null,null,null,null,null,null,null,null,null,null,null,null,null,null,null,null,null,null,null,null,null,null,null,null,null,null,null,null,null,null,null,null,null,null,null,null,null,null,null,null,null,null,null,null,null,null,null,null,null,null,null,null,null,null,null,null,null,null,null,null,null,null,"",{"$f":"IF(LEFT(C410,2)=TABLE1!$F$1,1,0)","v":0},{"$f":"IF(AND(IF(AND(IF(OR(AND(CQ410=1,TABLE1!$AN$3=TRUE),AND(CQ410=2,TABLE1!$AN$4=TRUE),AND(CQ410=3,TABLE1!$AN$5=TRUE),AND(CQ410=4,TABLE1!$AQ$3=TRUE),AND(CQ410=5,TABLE1!$AQ$4=TRUE),AND(CQ410=6,TABLE1!$AQ$5=TRUE),AND(CQ410=7,TABLE1!$AT$3=TRUE),AND(CQ410=8,TABLE1!$AT$4=TRUE),AND(CQ410=9,TABLE1!$AT$5=TRUE),AND(CQ410=10,TABLE1!$AW$3=TRUE),AND(CQ410=11,TABLE1!$AW$4=TRUE),AND(CQ410=12,TABLE1!$AW$5=TRUE)),1,0)=1),1,0)=1,CR410=1,CT410=1),1,0)","v":0},{"$f":"IF(AND(OR(F410=TABLE1!$D$5,TABLE1!$D$5=\"کل بخشها\"),F410<>\"\"),1,0)","v":0}]
[null,null,null,null,null,null,null,null,null,null,null,null,null,null,null,null,null,null,null,null,null,null,null,null,null,null,null,null,null,null,null,null,null,null,null,null,null,null,null,null,null,null,null,null,null,null,null,null,null,null,null,null,null,null,null,null,null,null,null,null,null,null,null,null,null,null,null,null,null,null,null,null,null,null,null,null,null,null,null,null,null,null,null,null,null,null,null,null,null,null,null,null,null,null,"",{"$f":"IF(LEFT(C415,2)=TABLE1!$F$1,1,0)","v":0},{"$f":"IF(AND(IF(AND(IF(OR(AND(CQ415=1,TABLE1!$AN$3=TRUE),AND(CQ415=2,TABLE1!$AN$4=TRUE),AND(CQ415=3,TABLE1!$AN$5=TRUE),AND(CQ415=4,TABLE1!$AQ$3=TRUE),AND(CQ415=5,TABLE1!$AQ$4=TRUE),AND(CQ415=6,TABLE1!$AQ$5=TRUE),AND(CQ415=7,TABLE1!$AT$3=TRUE),AND(CQ415=8,TABLE1!$AT$4=TRUE),AND(CQ415=9,TABLE1!$AT$5=TRUE),AND(CQ415=10,TABLE1!$AW$3=TRUE),AND(CQ415=11,TABLE1!$AW$4=TRUE),AND(CQ415=12,TABLE1!$AW$5=TRUE)),1,0)=1),1,0)=1,CR415=1,CT415=1),1,0)","v":0},{"$f":"IF(AND(OR(F415=TABLE1!$D$5,TABLE1!$D$5=\"کل بخشها\"),F415<>\"\"),1,0)","v":0}]
[null,null,null,null,null,null,null,null,null,null,null,null,null,null,null,null,null,null,null,null,null,null,null,null,null,null,null,null,null,null,null,null,null,null,null,null,null,null,null,null,null,null,null,null,null,null,null,null,null,null,null,null,null,null,null,null,null,null,null,null,null,null,null,null,null,null,null,null,null,null,null,null,null,null,null,null,null,null,null,null,null,null,null,null,null,null,null,null,null,null,null,null,null,null,"",{"$f":"IF(LEFT(C421,2)=TABLE1!$F$1,1,0)","v":0},{"$f":"IF(AND(IF(AND(IF(OR(AND(CQ421=1,TABLE1!$AN$3=TRUE),AND(CQ421=2,TABLE1!$AN$4=TRUE),AND(CQ421=3,TABLE1!$AN$5=TRUE),AND(CQ421=4,TABLE1!$AQ$3=TRUE),AND(CQ421=5,TABLE1!$AQ$4=TRUE),AND(CQ421=6,TABLE1!$AQ$5=TRUE),AND(CQ421=7,TABLE1!$AT$3=TRUE),AND(CQ421=8,TABLE1!$AT$4=TRUE),AND(CQ421=9,TABLE1!$AT$5=TRUE),AND(CQ421=10,TABLE1!$AW$3=TRUE),AND(CQ421=11,TABLE1!$AW$4=TRUE),AND(CQ421=12,TABLE1!$AW$5=TRUE)),1,0)=1),1,0)=1,CR421=1,CT421=1),1,0)","v":0},{"$f":"IF(AND(OR(F421=TABLE1!$D$5,TABLE1!$D$5=\"کل بخشها\"),F421<>\"\"),1,0)","v":0}]
[null,null,null,null,null,null,null,null,null,null,null,null,null,null,null,null,null,null,null,null,null,null,null,null,null,null,null,null,null,null,null,null,null,null,null,null,null,null,null,null,null,null,null,null,null,null,null,null,null,null,null,null,null,null,null,null,null,null,null,null,null,null,null,null,null,null,null,null,null,null,null,null,null,null,null,null,null,null,null,null,null,null,null,null,null,null,null,null,null,null,null,null,null,null,"",{"$f":"IF(LEFT(C426,2)=TABLE1!$F$1,1,0)","v":0},{"$f":"IF(AND(IF(AND(IF(OR(AND(CQ426=1,TABLE1!$AN$3=TRUE),AND(CQ426=2,TABLE1!$AN$4=TRUE),AND(CQ426=3,TABLE1!$AN$5=TRUE),AND(CQ426=4,TABLE1!$AQ$3=TRUE),AND(CQ426=5,TABLE1!$AQ$4=TRUE),AND(CQ426=6,TABLE1!$AQ$5=TRUE),AND(CQ426=7,TABLE1!$AT$3=TRUE),AND(CQ426=8,TABLE1!$AT$4=TRUE),AND(CQ426=9,TABLE1!$AT$5=TRUE),AND(CQ426=10,TABLE1!$AW$3=TRUE),AND(CQ426=11,TABLE1!$AW$4=TRUE),AND(CQ426=12,TABLE1!$AW$5=TRUE)),1,0)=1),1,0)=1,CR426=1,CT426=1),1,0)","v":0},{"$f":"IF(AND(OR(F426=TABLE1!$D$5,TABLE1!$D$5=\"کل بخشها\"),F426<>\"\"),1,0)","v":0}]
[null,null,null,null,null,null,null,null,null,null,null,null,null,null,null,null,null,null,null,null,null,null,null,null,null,null,null,null,null,null,null,null,null,null,null,null,null,null,null,null,null,null,null,null,null,null,null,null,null,null,null,null,null,null,null,null,null,null,null,null,null,null,null,null,null,null,null,null,null,null,null,null,null,null,null,null,null,null,null,null,null,null,null,null,null,null,null,null,null,null,null,null,null,null,"",{"$f":"IF(LEFT(C427,2)=TABLE1!$F$1,1,0)","v":0},{"$f":"IF(AND(IF(AND(IF(OR(AND(CQ427=1,TABLE1!$AN$3=TRUE),AND(CQ427=2,TABLE1!$AN$4=TRUE),AND(CQ427=3,TABLE1!$AN$5=TRUE),AND(CQ427=4,TABLE1!$AQ$3=TRUE),AND(CQ427=5,TABLE1!$AQ$4=TRUE),AND(CQ427=6,TABLE1!$AQ$5=TRUE),AND(CQ427=7,TABLE1!$AT$3=TRUE),AND(CQ427=8,TABLE1!$AT$4=TRUE),AND(CQ427=9,TABLE1!$AT$5=TRUE),AND(CQ427=10,TABLE1!$AW$3=TRUE),AND(CQ427=11,TABLE1!$AW$4=TRUE),AND(CQ427=12,TABLE1!$AW$5=TRUE)),1,0)=1),1,0)=1,CR427=1,CT427=1),1,0)","v":0},{"$f":"IF(AND(OR(F427=TABLE1!$D$5,TABLE1!$D$5=\"کل بخشها\"),F427<>\"\"),1,0)","v":0}]
[null,null,null,null,null,null,null,null,null,null,null,null,null,null,null,null,null,null,null,null,null,null,null,null,null,null,null,null,null,null,null,null,null,null,null,null,null,null,null,null,null,null,null,null,null,null,null,null,null,null,null,null,null,null,null,null,null,null,null,null,null,null,null,null,null,null,null,null,null,null,null,null,null,null,null,null,null,null,null,null,null,null,null,null,null,null,null,null,null,null,null,null,null,null,"",{"$f":"IF(LEFT(C435,2)=TABLE1!$F$1,1,0)","v":0},{"$f":"IF(AND(IF(AND(IF(OR(AND(CQ435=1,TABLE1!$AN$3=TRUE),AND(CQ435=2,TABLE1!$AN$4=TRUE),AND(CQ435=3,TABLE1!$AN$5=TRUE),AND(CQ435=4,TABLE1!$AQ$3=TRUE),AND(CQ435=5,TABLE1!$AQ$4=TRUE),AND(CQ435=6,TABLE1!$AQ$5=TRUE),AND(CQ435=7,TABLE1!$AT$3=TRUE),AND(CQ435=8,TABLE1!$AT$4=TRUE),AND(CQ435=9,TABLE1!$AT$5=TRUE),AND(CQ435=10,TABLE1!$AW$3=TRUE),AND(CQ435=11,TABLE1!$AW$4=TRUE),AND(CQ435=12,TABLE1!$AW$5=TRUE)),1,0)=1),1,0)=1,CR435=1,CT435=1),1,0)","v":0},{"$f":"IF(AND(OR(F435=TABLE1!$D$5,TABLE1!$D$5=\"کل بخشها\"),F435<>\"\"),1,0)","v":0}]
[null,null,null,null,null,null,null,null,null,null,null,null,null,null,null,null,null,null,null,null,null,null,null,null,null,null,null,null,null,null,null,null,null,null,null,null,null,null,null,null,null,null,null,null,null,null,null,null,null,null,null,null,null,null,null,null,null,null,null,null,null,null,null,null,null,null,null,null,null,null,null,null,null,null,null,null,null,null,null,null,null,null,null,null,null,null,null,null,null,null,null,null,null,null,"",{"$f":"IF(LEFT(C436,2)=TABLE1!$F$1,1,0)","v":0},{"$f":"IF(AND(IF(AND(IF(OR(AND(CQ436=1,TABLE1!$AN$3=TRUE),AND(CQ436=2,TABLE1!$AN$4=TRUE),AND(CQ436=3,TABLE1!$AN$5=TRUE),AND(CQ436=4,TABLE1!$AQ$3=TRUE),AND(CQ436=5,TABLE1!$AQ$4=TRUE),AND(CQ436=6,TABLE1!$AQ$5=TRUE),AND(CQ436=7,TABLE1!$AT$3=TRUE),AND(CQ436=8,TABLE1!$AT$4=TRUE),AND(CQ436=9,TABLE1!$AT$5=TRUE),AND(CQ436=10,TABLE1!$AW$3=TRUE),AND(CQ436=11,TABLE1!$AW$4=TRUE),AND(CQ436=12,TABLE1!$AW$5=TRUE)),1,0)=1),1,0)=1,CR436=1,CT436=1),1,0)","v":0},{"$f":"IF(AND(OR(F436=TABLE1!$D$5,TABLE1!$D$5=\"کل بخشها\"),F436<>\"\"),1,0)","v":0}]
[null,null,null,null,null,null,null,null,null,null,null,null,null,null,null,null,null,null,null,null,null,null,null,null,null,null,null,null,null,null,null,null,null,null,null,null,null,null,null,null,null,null,null,null,null,null,null,null,null,null,null,null,null,null,null,null,null,null,null,null,null,null,null,null,null,null,null,null,null,null,null,null,null,null,null,null,null,null,null,null,null,null,null,null,null,null,null,null,null,null,null,null,null,null,"",{"$f":"IF(LEFT(C442,2)=TABLE1!$F$1,1,0)","v":0},{"$f":"IF(AND(IF(AND(IF(OR(AND(CQ442=1,TABLE1!$AN$3=TRUE),AND(CQ442=2,TABLE1!$AN$4=TRUE),AND(CQ442=3,TABLE1!$AN$5=TRUE),AND(CQ442=4,TABLE1!$AQ$3=TRUE),AND(CQ442=5,TABLE1!$AQ$4=TRUE),AND(CQ442=6,TABLE1!$AQ$5=TRUE),AND(CQ442=7,TABLE1!$AT$3=TRUE),AND(CQ442=8,TABLE1!$AT$4=TRUE),AND(CQ442=9,TABLE1!$AT$5=TRUE),AND(CQ442=10,TABLE1!$AW$3=TRUE),AND(CQ442=11,TABLE1!$AW$4=TRUE),AND(CQ442=12,TABLE1!$AW$5=TRUE)),1,0)=1),1,0)=1,CR442=1,CT442=1),1,0)","v":0},{"$f":"IF(AND(OR(F442=TABLE1!$D$5,TABLE1!$D$5=\"کل بخشها\"),F442<>\"\"),1,0)","v":0}]
[null,null,null,null,null,null,null,null,null,null,null,null,null,null,null,null,null,null,null,null,null,null,null,null,null,null,null,null,null,null,null,null,null,null,null,null,null,null,null,null,null,null,null,null,null,null,null,null,null,null,null,null,null,null,null,null,null,null,null,null,null,null,null,null,null,null,null,null,null,null,null,null,null,null,null,null,null,null,null,null,null,null,null,null,null,null,null,null,null,null,null,null,null,null,"",{"$f":"IF(LEFT(C447,2)=TABLE1!$F$1,1,0)","v":0},{"$f":"IF(AND(IF(AND(IF(OR(AND(CQ447=1,TABLE1!$AN$3=TRUE),AND(CQ447=2,TABLE1!$AN$4=TRUE),AND(CQ447=3,TABLE1!$AN$5=TRUE),AND(CQ447=4,TABLE1!$AQ$3=TRUE),AND(CQ447=5,TABLE1!$AQ$4=TRUE),AND(CQ447=6,TABLE1!$AQ$5=TRUE),AND(CQ447=7,TABLE1!$AT$3=TRUE),AND(CQ447=8,TABLE1!$AT$4=TRUE),AND(CQ447=9,TABLE1!$AT$5=TRUE),AND(CQ447=10,TABLE1!$AW$3=TRUE),AND(CQ447=11,TABLE1!$AW$4=TRUE),AND(CQ447=12,TABLE1!$AW$5=TRUE)),1,0)=1),1,0)=1,CR447=1,CT447=1),1,0)","v":0},{"$f":"IF(AND(OR(F447=TABLE1!$D$5,TABLE1!$D$5=\"کل بخشها\"),F447<>\"\"),1,0)","v":0}]
[null,null,null,null,null,null,null,null,null,null,null,null,null,null,null,null,null,null,null,null,null,null,null,null,null,null,null,null,null,null,null,null,null,null,null,null,null,null,null,null,null,null,null,null,null,null,null,null,null,null,null,null,null,null,null,null,null,null,null,null,null,null,null,null,null,null,null,null,null,null,null,null,null,null,null,null,null,null,null,null,null,null,null,null,null,null,null,null,null,null,null,null,null,null,"",{"$f":"IF(LEFT(C454,2)=TABLE1!$F$1,1,0)","v":0},{"$f":"IF(AND(IF(AND(IF(OR(AND(CQ454=1,TABLE1!$AN$3=TRUE),AND(CQ454=2,TABLE1!$AN$4=TRUE),AND(CQ454=3,TABLE1!$AN$5=TRUE),AND(CQ454=4,TABLE1!$AQ$3=TRUE),AND(CQ454=5,TABLE1!$AQ$4=TRUE),AND(CQ454=6,TABLE1!$AQ$5=TRUE),AND(CQ454=7,TABLE1!$AT$3=TRUE),AND(CQ454=8,TABLE1!$AT$4=TRUE),AND(CQ454=9,TABLE1!$AT$5=TRUE),AND(CQ454=10,TABLE1!$AW$3=TRUE),AND(CQ454=11,TABLE1!$AW$4=TRUE),AND(CQ454=12,TABLE1!$AW$5=TRUE)),1,0)=1),1,0)=1,CR454=1,CT454=1),1,0)","v":0},{"$f":"IF(AND(OR(F454=TABLE1!$D$5,TABLE1!$D$5=\"کل بخشها\"),F454<>\"\"),1,0)","v":0}]
[null,null,null,null,null,null,null,null,null,null,null,null,null,null,null,null,null,null,null,null,null,null,null,null,null,null,null,null,null,null,null,null,null,null,null,null,null,null,null,null,null,null,null,null,null,null,null,null,null,null,null,null,null,null,null,null,null,null,null,null,null,null,null,null,null,null,null,null,null,null,null,null,null,null,null,null,null,null,null,null,null,null,null,null,null,null,null,null,null,null,null,null,null,null,"",{"$f":"IF(LEFT(C457,2)=TABLE1!$F$1,1,0)","v":0},{"$f":"IF(AND(IF(AND(IF(OR(AND(CQ457=1,TABLE1!$AN$3=TRUE),AND(CQ457=2,TABLE1!$AN$4=TRUE),AND(CQ457=3,TABLE1!$AN$5=TRUE),AND(CQ457=4,TABLE1!$AQ$3=TRUE),AND(CQ457=5,TABLE1!$AQ$4=TRUE),AND(CQ457=6,TABLE1!$AQ$5=TRUE),AND(CQ457=7,TABLE1!$AT$3=TRUE),AND(CQ457=8,TABLE1!$AT$4=TRUE),AND(CQ457=9,TABLE1!$AT$5=TRUE),AND(CQ457=10,TABLE1!$AW$3=TRUE),AND(CQ457=11,TABLE1!$AW$4=TRUE),AND(CQ457=12,TABLE1!$AW$5=TRUE)),1,0)=1),1,0)=1,CR457=1,CT457=1),1,0)","v":0},{"$f":"IF(AND(OR(F457=TABLE1!$D$5,TABLE1!$D$5=\"کل بخشها\"),F457<>\"\"),1,0)","v":0}]
[null,null,null,null,null,null,null,null,null,null,null,null,null,null,null,null,null,null,null,null,null,null,null,null,null,null,null,null,null,null,null,null,null,null,null,null,null,null,null,null,null,null,null,null,null,null,null,null,null,null,null,null,null,null,null,null,null,null,null,null,null,null,null,null,null,null,null,null,null,null,null,null,null,null,null,null,null,null,null,null,null,null,null,null,null,null,null,null,null,null,null,null,null,null,"",{"$f":"IF(LEFT(C462,2)=TABLE1!$F$1,1,0)","v":0},{"$f":"IF(AND(IF(AND(IF(OR(AND(CQ462=1,TABLE1!$AN$3=TRUE),AND(CQ462=2,TABLE1!$AN$4=TRUE),AND(CQ462=3,TABLE1!$AN$5=TRUE),AND(CQ462=4,TABLE1!$AQ$3=TRUE),AND(CQ462=5,TABLE1!$AQ$4=TRUE),AND(CQ462=6,TABLE1!$AQ$5=TRUE),AND(CQ462=7,TABLE1!$AT$3=TRUE),AND(CQ462=8,TABLE1!$AT$4=TRUE),AND(CQ462=9,TABLE1!$AT$5=TRUE),AND(CQ462=10,TABLE1!$AW$3=TRUE),AND(CQ462=11,TABLE1!$AW$4=TRUE),AND(CQ462=12,TABLE1!$AW$5=TRUE)),1,0)=1),1,0)=1,CR462=1,CT462=1),1,0)","v":0},{"$f":"IF(AND(OR(F462=TABLE1!$D$5,TABLE1!$D$5=\"کل بخشها\"),F462<>\"\"),1,0)","v":0}]
[null,null,null,null,null,null,null,null,null,null,null,null,null,null,null,null,null,null,null,null,null,null,null,null,null,null,null,null,null,null,null,null,null,null,null,null,null,null,null,null,null,null,null,null,null,null,null,null,null,null,null,null,null,null,null,null,null,null,null,null,null,null,null,null,null,null,null,null,null,null,null,null,null,null,null,null,null,null,null,null,null,null,null,null,null,null,null,null,null,null,null,null,null,null,"",{"$f":"IF(LEFT(C468,2)=TABLE1!$F$1,1,0)","v":0},{"$f":"IF(AND(IF(AND(IF(OR(AND(CQ468=1,TABLE1!$AN$3=TRUE),AND(CQ468=2,TABLE1!$AN$4=TRUE),AND(CQ468=3,TABLE1!$AN$5=TRUE),AND(CQ468=4,TABLE1!$AQ$3=TRUE),AND(CQ468=5,TABLE1!$AQ$4=TRUE),AND(CQ468=6,TABLE1!$AQ$5=TRUE),AND(CQ468=7,TABLE1!$AT$3=TRUE),AND(CQ468=8,TABLE1!$AT$4=TRUE),AND(CQ468=9,TABLE1!$AT$5=TRUE),AND(CQ468=10,TABLE1!$AW$3=TRUE),AND(CQ468=11,TABLE1!$AW$4=TRUE),AND(CQ468=12,TABLE1!$AW$5=TRUE)),1,0)=1),1,0)=1,CR468=1,CT468=1),1,0)","v":0},{"$f":"IF(AND(OR(F468=TABLE1!$D$5,TABLE1!$D$5=\"کل بخشها\"),F468<>\"\"),1,0)","v":0}]
[null,null,null,null,null,null,null,null,null,null,null,null,null,null,null,null,null,null,null,null,null,null,null,null,null,null,null,null,null,null,null,null,null,null,null,null,null,null,null,null,null,null,null,null,null,null,null,null,null,null,null,null,null,null,null,null,null,null,null,null,null,null,null,null,null,null,null,null,null,null,null,null,null,null,null,null,null,null,null,null,null,null,null,null,null,null,null,null,null,null,null,null,null,null,"",{"$f":"IF(LEFT(C473,2)=TABLE1!$F$1,1,0)","v":0},{"$f":"IF(AND(IF(AND(IF(OR(AND(CQ473=1,TABLE1!$AN$3=TRUE),AND(CQ473=2,TABLE1!$AN$4=TRUE),AND(CQ473=3,TABLE1!$AN$5=TRUE),AND(CQ473=4,TABLE1!$AQ$3=TRUE),AND(CQ473=5,TABLE1!$AQ$4=TRUE),AND(CQ473=6,TABLE1!$AQ$5=TRUE),AND(CQ473=7,TABLE1!$AT$3=TRUE),AND(CQ473=8,TABLE1!$AT$4=TRUE),AND(CQ473=9,TABLE1!$AT$5=TRUE),AND(CQ473=10,TABLE1!$AW$3=TRUE),AND(CQ473=11,TABLE1!$AW$4=TRUE),AND(CQ473=12,TABLE1!$AW$5=TRUE)),1,0)=1),1,0)=1,CR473=1,CT473=1),1,0)","v":0},{"$f":"IF(AND(OR(F473=TABLE1!$D$5,TABLE1!$D$5=\"کل بخشها\"),F473<>\"\"),1,0)","v":0}]
[null,null,null,null,null,null,null,null,null,null,null,null,null,null,null,null,null,null,null,null,null,null,null,null,null,null,null,null,null,null,null,null,null,null,null,null,null,null,null,null,null,null,null,null,null,null,null,null,null,null,null,null,null,null,null,null,null,null,null,null,null,null,null,null,null,null,null,null,null,null,null,null,null,null,null,null,null,null,null,null,null,null,null,null,null,null,null,null,null,null,null,null,null,null,"",{"$f":"IF(LEFT(C477,2)=TABLE1!$F$1,1,0)","v":0},{"$f":"IF(AND(IF(AND(IF(OR(AND(CQ477=1,TABLE1!$AN$3=TRUE),AND(CQ477=2,TABLE1!$AN$4=TRUE),AND(CQ477=3,TABLE1!$AN$5=TRUE),AND(CQ477=4,TABLE1!$AQ$3=TRUE),AND(CQ477=5,TABLE1!$AQ$4=TRUE),AND(CQ477=6,TABLE1!$AQ$5=TRUE),AND(CQ477=7,TABLE1!$AT$3=TRUE),AND(CQ477=8,TABLE1!$AT$4=TRUE),AND(CQ477=9,TABLE1!$AT$5=TRUE),AND(CQ477=10,TABLE1!$AW$3=TRUE),AND(CQ477=11,TABLE1!$AW$4=TRUE),AND(CQ477=12,TABLE1!$AW$5=TRUE)),1,0)=1),1,0)=1,CR477=1,CT477=1),1,0)","v":0},{"$f":"IF(AND(OR(F477=TABLE1!$D$5,TABLE1!$D$5=\"کل بخشها\"),F477<>\"\"),1,0)","v":0}]
[null,null,null,null,null,null,null,null,null,null,null,null,null,null,null,null,null,null,null,null,null,null,null,null,null,null,null,null,null,null,null,null,null,null,null,null,null,null,null,null,null,null,null,null,null,null,null,null,null,null,null,null,null,null,null,null,null,null,null,null,null,null,null,null,null,null,null,null,null,null,null,null,null,null,null,null,null,null,null,null,null,null,null,null,null,null,null,null,null,null,null,null,null,null,"",{"$f":"IF(LEFT(C483,2)=TABLE1!$F$1,1,0)","v":0},{"$f":"IF(AND(IF(AND(IF(OR(AND(CQ483=1,TABLE1!$AN$3=TRUE),AND(CQ483=2,TABLE1!$AN$4=TRUE),AND(CQ483=3,TABLE1!$AN$5=TRUE),AND(CQ483=4,TABLE1!$AQ$3=TRUE),AND(CQ483=5,TABLE1!$AQ$4=TRUE),AND(CQ483=6,TABLE1!$AQ$5=TRUE),AND(CQ483=7,TABLE1!$AT$3=TRUE),AND(CQ483=8,TABLE1!$AT$4=TRUE),AND(CQ483=9,TABLE1!$AT$5=TRUE),AND(CQ483=10,TABLE1!$AW$3=TRUE),AND(CQ483=11,TABLE1!$AW$4=TRUE),AND(CQ483=12,TABLE1!$AW$5=TRUE)),1,0)=1),1,0)=1,CR483=1,CT483=1),1,0)","v":0},{"$f":"IF(AND(OR(F483=TABLE1!$D$5,TABLE1!$D$5=\"کل بخشها\"),F483<>\"\"),1,0)","v":0}]
[null,null,null,null,null,null,null,null,null,null,null,null,null,null,null,null,null,null,null,null,null,null,null,null,null,null,null,null,null,null,null,null,null,null,null,null,null,null,null,null,null,null,null,null,null,null,null,null,null,null,null,null,null,null,null,null,null,null,null,null,null,null,null,null,null,null,null,null,null,null,null,null,null,null,null,null,null,null,null,null,null,null,null,null,null,null,null,null,null,null,null,null,null,null,"",{"$f":"IF(LEFT(C488,2)=TABLE1!$F$1,1,0)","v":0},{"$f":"IF(AND(IF(AND(IF(OR(AND(CQ488=1,TABLE1!$AN$3=TRUE),AND(CQ488=2,TABLE1!$AN$4=TRUE),AND(CQ488=3,TABLE1!$AN$5=TRUE),AND(CQ488=4,TABLE1!$AQ$3=TRUE),AND(CQ488=5,TABLE1!$AQ$4=TRUE),AND(CQ488=6,TABLE1!$AQ$5=TRUE),AND(CQ488=7,TABLE1!$AT$3=TRUE),AND(CQ488=8,TABLE1!$AT$4=TRUE),AND(CQ488=9,TABLE1!$AT$5=TRUE),AND(CQ488=10,TABLE1!$AW$3=TRUE),AND(CQ488=11,TABLE1!$AW$4=TRUE),AND(CQ488=12,TABLE1!$AW$5=TRUE)),1,0)=1),1,0)=1,CR488=1,CT488=1),1,0)","v":0},{"$f":"IF(AND(OR(F488=TABLE1!$D$5,TABLE1!$D$5=\"کل بخشها\"),F488<>\"\"),1,0)","v":0}]
[null,null,null,null,null,null,null,null,null,null,null,null,null,null,null,null,null,null,null,null,null,null,null,null,null,null,null,null,null,null,null,null,null,null,null,null,null,null,null,null,null,null,null,null,null,null,null,null,null,null,null,null,null,null,null,null,null,null,null,null,null,null,null,null,null,null,null,null,null,null,null,null,null,null,null,null,null,null,null,null,null,null,null,null,null,null,null,null,null,null,null,null,null,null,"",{"$f":"IF(LEFT(C492,2)=TABLE1!$F$1,1,0)","v":0},{"$f":"IF(AND(IF(AND(IF(OR(AND(CQ492=1,TABLE1!$AN$3=TRUE),AND(CQ492=2,TABLE1!$AN$4=TRUE),AND(CQ492=3,TABLE1!$AN$5=TRUE),AND(CQ492=4,TABLE1!$AQ$3=TRUE),AND(CQ492=5,TABLE1!$AQ$4=TRUE),AND(CQ492=6,TABLE1!$AQ$5=TRUE),AND(CQ492=7,TABLE1!$AT$3=TRUE),AND(CQ492=8,TABLE1!$AT$4=TRUE),AND(CQ492=9,TABLE1!$AT$5=TRUE),AND(CQ492=10,TABLE1!$AW$3=TRUE),AND(CQ492=11,TABLE1!$AW$4=TRUE),AND(CQ492=12,TABLE1!$AW$5=TRUE)),1,0)=1),1,0)=1,CR492=1,CT492=1),1,0)","v":0},{"$f":"IF(AND(OR(F492=TABLE1!$D$5,TABLE1!$D$5=\"کل بخشها\"),F492<>\"\"),1,0)","v":0}]
[null,null,null,null,null,null,null,null,null,null,null,null,null,null,null,null,null,null,null,null,null,null,null,null,null,null,null,null,null,null,null,null,null,null,null,null,null,null,null,null,null,null,null,null,null,null,null,null,null,null,null,null,null,null,null,null,null,null,null,null,null,null,null,null,null,null,null,null,null,null,null,null,null,null,null,null,null,null,null,null,null,null,null,null,null,null,null,null,null,null,null,null,null,null,"",{"$f":"IF(LEFT(C493,2)=TABLE1!$F$1,1,0)","v":0},{"$f":"IF(AND(IF(AND(IF(OR(AND(CQ493=1,TABLE1!$AN$3=TRUE),AND(CQ493=2,TABLE1!$AN$4=TRUE),AND(CQ493=3,TABLE1!$AN$5=TRUE),AND(CQ493=4,TABLE1!$AQ$3=TRUE),AND(CQ493=5,TABLE1!$AQ$4=TRUE),AND(CQ493=6,TABLE1!$AQ$5=TRUE),AND(CQ493=7,TABLE1!$AT$3=TRUE),AND(CQ493=8,TABLE1!$AT$4=TRUE),AND(CQ493=9,TABLE1!$AT$5=TRUE),AND(CQ493=10,TABLE1!$AW$3=TRUE),AND(CQ493=11,TABLE1!$AW$4=TRUE),AND(CQ493=12,TABLE1!$AW$5=TRUE)),1,0)=1),1,0)=1,CR493=1,CT493=1),1,0)","v":0},{"$f":"IF(AND(OR(F493=TABLE1!$D$5,TABLE1!$D$5=\"کل بخشها\"),F493<>\"\"),1,0)","v":0}]
[null,null,null,null,null,null,null,null,null,null,null,null,null,null,null,null,null,null,null,null,null,null,null,null,null,null,null,null,null,null,null,null,null,null,null,null,null,null,null,null,null,null,null,null,null,null,null,null,null,null,null,null,null,null,null,null,null,null,null,null,null,null,null,null,null,null,null,null,null,null,null,null,null,null,null,null,null,null,null,null,null,null,null,null,null,null,null,null,null,null,null,null,null,null,"",{"$f":"IF(LEFT(C498,2)=TABLE1!$F$1,1,0)","v":0},{"$f":"IF(AND(IF(AND(IF(OR(AND(CQ498=1,TABLE1!$AN$3=TRUE),AND(CQ498=2,TABLE1!$AN$4=TRUE),AND(CQ498=3,TABLE1!$AN$5=TRUE),AND(CQ498=4,TABLE1!$AQ$3=TRUE),AND(CQ498=5,TABLE1!$AQ$4=TRUE),AND(CQ498=6,TABLE1!$AQ$5=TRUE),AND(CQ498=7,TABLE1!$AT$3=TRUE),AND(CQ498=8,TABLE1!$AT$4=TRUE),AND(CQ498=9,TABLE1!$AT$5=TRUE),AND(CQ498=10,TABLE1!$AW$3=TRUE),AND(CQ498=11,TABLE1!$AW$4=TRUE),AND(CQ498=12,TABLE1!$AW$5=TRUE)),1,0)=1),1,0)=1,CR498=1,CT498=1),1,0)","v":0},{"$f":"IF(AND(OR(F498=TABLE1!$D$5,TABLE1!$D$5=\"کل بخشها\"),F498<>\"\"),1,0)","v":0}]
[null,null,null,null,null,null,null,null,null,null,null,null,null,null,null,null,null,null,null,null,null,null,null,null,null,null,null,null,null,null,null,null,null,null,null,null,null,null,null,null,null,null,null,null,null,null,null,null,null,null,null,null,null,null,null,null,null,null,null,null,null,null,null,null,null,null,null,null,null,null,null,null,null,null,null,null,null,null,null,null,null,null,null,null,null,null,null,null,null,null,null,null,null,null,"",{"$f":"IF(LEFT(C504,2)=TABLE1!$F$1,1,0)","v":0},{"$f":"IF(AND(IF(AND(IF(OR(AND(CQ504=1,TABLE1!$AN$3=TRUE),AND(CQ504=2,TABLE1!$AN$4=TRUE),AND(CQ504=3,TABLE1!$AN$5=TRUE),AND(CQ504=4,TABLE1!$AQ$3=TRUE),AND(CQ504=5,TABLE1!$AQ$4=TRUE),AND(CQ504=6,TABLE1!$AQ$5=TRUE),AND(CQ504=7,TABLE1!$AT$3=TRUE),AND(CQ504=8,TABLE1!$AT$4=TRUE),AND(CQ504=9,TABLE1!$AT$5=TRUE),AND(CQ504=10,TABLE1!$AW$3=TRUE),AND(CQ504=11,TABLE1!$AW$4=TRUE),AND(CQ504=12,TABLE1!$AW$5=TRUE)),1,0)=1),1,0)=1,CR504=1,CT504=1),1,0)","v":0},{"$f":"IF(AND(OR(F504=TABLE1!$D$5,TABLE1!$D$5=\"کل بخشها\"),F504<>\"\"),1,0)","v":0}]
[null,null,null,null,null,null,null,null,null,null,null,null,null,null,null,null,null,null,null,null,null,null,null,null,null,null,null,null,null,null,null,null,null,null,null,null,null,null,null,null,null,null,null,null,null,null,null,null,null,null,null,null,null,null,null,null,null,null,null,null,null,null,null,null,null,null,null,null,null,null,null,null,null,null,null,null,null,null,null,null,null,null,null,null,null,null,null,null,null,null,null,null,null,null,"",{"$f":"IF(LEFT(C509,2)=TABLE1!$F$1,1,0)","v":0},{"$f":"IF(AND(IF(AND(IF(OR(AND(CQ509=1,TABLE1!$AN$3=TRUE),AND(CQ509=2,TABLE1!$AN$4=TRUE),AND(CQ509=3,TABLE1!$AN$5=TRUE),AND(CQ509=4,TABLE1!$AQ$3=TRUE),AND(CQ509=5,TABLE1!$AQ$4=TRUE),AND(CQ509=6,TABLE1!$AQ$5=TRUE),AND(CQ509=7,TABLE1!$AT$3=TRUE),AND(CQ509=8,TABLE1!$AT$4=TRUE),AND(CQ509=9,TABLE1!$AT$5=TRUE),AND(CQ509=10,TABLE1!$AW$3=TRUE),AND(CQ509=11,TABLE1!$AW$4=TRUE),AND(CQ509=12,TABLE1!$AW$5=TRUE)),1,0)=1),1,0)=1,CR509=1,CT509=1),1,0)","v":0},{"$f":"IF(AND(OR(F509=TABLE1!$D$5,TABLE1!$D$5=\"کل بخشها\"),F509<>\"\"),1,0)","v":0}]
[null,null,null,null,null,null,null,null,null,null,null,null,null,null,null,null,null,null,null,null,null,null,null,null,null,null,null,null,null,null,null,null,null,null,null,null,null,null,null,null,null,null,null,null,null,null,null,null,null,null,null,null,null,null,null,null,null,null,null,null,null,null,null,null,null,null,null,null,null,null,null,null,null,null,null,null,null,null,null,null,null,null,null,null,null,null,null,null,null,null,null,null,null,null,"",{"$f":"IF(LEFT(C513,2)=TABLE1!$F$1,1,0)","v":0},{"$f":"IF(AND(IF(AND(IF(OR(AND(CQ513=1,TABLE1!$AN$3=TRUE),AND(CQ513=2,TABLE1!$AN$4=TRUE),AND(CQ513=3,TABLE1!$AN$5=TRUE),AND(CQ513=4,TABLE1!$AQ$3=TRUE),AND(CQ513=5,TABLE1!$AQ$4=TRUE),AND(CQ513=6,TABLE1!$AQ$5=TRUE),AND(CQ513=7,TABLE1!$AT$3=TRUE),AND(CQ513=8,TABLE1!$AT$4=TRUE),AND(CQ513=9,TABLE1!$AT$5=TRUE),AND(CQ513=10,TABLE1!$AW$3=TRUE),AND(CQ513=11,TABLE1!$AW$4=TRUE),AND(CQ513=12,TABLE1!$AW$5=TRUE)),1,0)=1),1,0)=1,CR513=1,CT513=1),1,0)","v":0},{"$f":"IF(AND(OR(F513=TABLE1!$D$5,TABLE1!$D$5=\"کل بخشها\"),F513<>\"\"),1,0)","v":0}]
[null,null,null,null,null,null,null,null,null,null,null,null,null,null,null,null,null,null,null,null,null,null,null,null,null,null,null,null,null,null,null,null,null,null,null,null,null,null,null,null,null,null,null,null,null,null,null,null,null,null,null,null,null,null,null,null,null,null,null,null,null,null,null,null,null,null,null,null,null,null,null,null,null,null,null,null,null,null,null,null,null,null,null,null,null,null,null,null,null,null,null,null,null,null,"",{"$f":"IF(LEFT(C519,2)=TABLE1!$F$1,1,0)","v":0},{"$f":"IF(AND(IF(AND(IF(OR(AND(CQ519=1,TABLE1!$AN$3=TRUE),AND(CQ519=2,TABLE1!$AN$4=TRUE),AND(CQ519=3,TABLE1!$AN$5=TRUE),AND(CQ519=4,TABLE1!$AQ$3=TRUE),AND(CQ519=5,TABLE1!$AQ$4=TRUE),AND(CQ519=6,TABLE1!$AQ$5=TRUE),AND(CQ519=7,TABLE1!$AT$3=TRUE),AND(CQ519=8,TABLE1!$AT$4=TRUE),AND(CQ519=9,TABLE1!$AT$5=TRUE),AND(CQ519=10,TABLE1!$AW$3=TRUE),AND(CQ519=11,TABLE1!$AW$4=TRUE),AND(CQ519=12,TABLE1!$AW$5=TRUE)),1,0)=1),1,0)=1,CR519=1,CT519=1),1,0)","v":0},{"$f":"IF(AND(OR(F519=TABLE1!$D$5,TABLE1!$D$5=\"کل بخشها\"),F519<>\"\"),1,0)","v":0}]
[null,null,null,null,null,null,null,null,null,null,null,null,null,null,null,null,null,null,null,null,null,null,null,null,null,null,null,null,null,null,null,null,null,null,null,null,null,null,null,null,null,null,null,null,null,null,null,null,null,null,null,null,null,null,null,null,null,null,null,null,null,null,null,null,null,null,null,null,null,null,null,null,null,null,null,null,null,null,null,null,null,null,null,null,null,null,null,null,null,null,null,null,null,null,"",{"$f":"IF(LEFT(C524,2)=TABLE1!$F$1,1,0)","v":0},{"$f":"IF(AND(IF(AND(IF(OR(AND(CQ524=1,TABLE1!$AN$3=TRUE),AND(CQ524=2,TABLE1!$AN$4=TRUE),AND(CQ524=3,TABLE1!$AN$5=TRUE),AND(CQ524=4,TABLE1!$AQ$3=TRUE),AND(CQ524=5,TABLE1!$AQ$4=TRUE),AND(CQ524=6,TABLE1!$AQ$5=TRUE),AND(CQ524=7,TABLE1!$AT$3=TRUE),AND(CQ524=8,TABLE1!$AT$4=TRUE),AND(CQ524=9,TABLE1!$AT$5=TRUE),AND(CQ524=10,TABLE1!$AW$3=TRUE),AND(CQ524=11,TABLE1!$AW$4=TRUE),AND(CQ524=12,TABLE1!$AW$5=TRUE)),1,0)=1),1,0)=1,CR524=1,CT524=1),1,0)","v":0},{"$f":"IF(AND(OR(F524=TABLE1!$D$5,TABLE1!$D$5=\"کل بخشها\"),F524<>\"\"),1,0)","v":0}]
[null,null,null,null,null,null,null,null,null,null,null,null,null,null,null,null,null,null,null,null,null,null,null,null,null,null,null,null,null,null,null,null,null,null,null,null,null,null,null,null,null,null,null,null,null,null,null,null,null,null,null,null,null,null,null,null,null,null,null,null,null,null,null,null,null,null,null,null,null,null,null,null,null,null,null,null,null,null,null,null,null,null,null,null,null,null,null,null,null,null,null,null,null,null,"",{"$f":"IF(LEFT(C530,2)=TABLE1!$F$1,1,0)","v":0},{"$f":"IF(AND(IF(AND(IF(OR(AND(CQ530=1,TABLE1!$AN$3=TRUE),AND(CQ530=2,TABLE1!$AN$4=TRUE),AND(CQ530=3,TABLE1!$AN$5=TRUE),AND(CQ530=4,TABLE1!$AQ$3=TRUE),AND(CQ530=5,TABLE1!$AQ$4=TRUE),AND(CQ530=6,TABLE1!$AQ$5=TRUE),AND(CQ530=7,TABLE1!$AT$3=TRUE),AND(CQ530=8,TABLE1!$AT$4=TRUE),AND(CQ530=9,TABLE1!$AT$5=TRUE),AND(CQ530=10,TABLE1!$AW$3=TRUE),AND(CQ530=11,TABLE1!$AW$4=TRUE),AND(CQ530=12,TABLE1!$AW$5=TRUE)),1,0)=1),1,0)=1,CR530=1,CT530=1),1,0)","v":0},{"$f":"IF(AND(OR(F530=TABLE1!$D$5,TABLE1!$D$5=\"کل بخشها\"),F530<>\"\"),1,0)","v":0}]
[null,null,null,null,null,null,null,null,null,null,null,null,null,null,null,null,null,null,null,null,null,null,null,null,null,null,null,null,null,null,null,null,null,null,null,null,null,null,null,null,null,null,null,null,null,null,null,null,null,null,null,null,null,null,null,null,null,null,null,null,null,null,null,null,null,null,null,null,null,null,null,null,null,null,null,null,null,null,null,null,null,null,null,null,null,null,null,null,null,null,null,null,null,null,"",{"$f":"IF(LEFT(C532,2)=TABLE1!$F$1,1,0)","v":0},{"$f":"IF(AND(IF(AND(IF(OR(AND(CQ532=1,TABLE1!$AN$3=TRUE),AND(CQ532=2,TABLE1!$AN$4=TRUE),AND(CQ532=3,TABLE1!$AN$5=TRUE),AND(CQ532=4,TABLE1!$AQ$3=TRUE),AND(CQ532=5,TABLE1!$AQ$4=TRUE),AND(CQ532=6,TABLE1!$AQ$5=TRUE),AND(CQ532=7,TABLE1!$AT$3=TRUE),AND(CQ532=8,TABLE1!$AT$4=TRUE),AND(CQ532=9,TABLE1!$AT$5=TRUE),AND(CQ532=10,TABLE1!$AW$3=TRUE),AND(CQ532=11,TABLE1!$AW$4=TRUE),AND(CQ532=12,TABLE1!$AW$5=TRUE)),1,0)=1),1,0)=1,CR532=1,CT532=1),1,0)","v":0},{"$f":"IF(AND(OR(F532=TABLE1!$D$5,TABLE1!$D$5=\"کل بخشها\"),F532<>\"\"),1,0)","v":0}]
[null,null,null,null,null,null,null,null,null,null,null,null,null,null,null,null,null,null,null,null,null,null,null,null,null,null,null,null,null,null,null,null,null,null,null,null,null,null,null,null,null,null,null,null,null,null,null,null,null,null,null,null,null,null,null,null,null,null,null,null,null,null,null,null,null,null,null,null,null,null,null,null,null,null,null,null,null,null,null,null,null,null,null,null,null,null,null,null,null,null,null,null,null,null,"",{"$f":"IF(LEFT(C539,2)=TABLE1!$F$1,1,0)","v":0},{"$f":"IF(AND(IF(AND(IF(OR(AND(CQ539=1,TABLE1!$AN$3=TRUE),AND(CQ539=2,TABLE1!$AN$4=TRUE),AND(CQ539=3,TABLE1!$AN$5=TRUE),AND(CQ539=4,TABLE1!$AQ$3=TRUE),AND(CQ539=5,TABLE1!$AQ$4=TRUE),AND(CQ539=6,TABLE1!$AQ$5=TRUE),AND(CQ539=7,TABLE1!$AT$3=TRUE),AND(CQ539=8,TABLE1!$AT$4=TRUE),AND(CQ539=9,TABLE1!$AT$5=TRUE),AND(CQ539=10,TABLE1!$AW$3=TRUE),AND(CQ539=11,TABLE1!$AW$4=TRUE),AND(CQ539=12,TABLE1!$AW$5=TRUE)),1,0)=1),1,0)=1,CR539=1,CT539=1),1,0)","v":0},{"$f":"IF(AND(OR(F539=TABLE1!$D$5,TABLE1!$D$5=\"کل بخشها\"),F539<>\"\"),1,0)","v":0}]
[null,null,null,null,null,null,null,null,null,null,null,null,null,null,null,null,null,null,null,null,null,null,null,null,null,null,null,null,null,null,null,null,null,null,null,null,null,null,null,null,null,null,null,null,null,null,null,null,null,null,null,null,null,null,null,null,null,null,null,null,null,null,null,null,null,null,null,null,null,null,null,null,null,null,null,null,null,null,null,null,null,null,null,null,null,null,null,null,null,null,null,null,null,null,"",{"$f":"IF(LEFT(C545,2)=TABLE1!$F$1,1,0)","v":0},{"$f":"IF(AND(IF(AND(IF(OR(AND(CQ545=1,TABLE1!$AN$3=TRUE),AND(CQ545=2,TABLE1!$AN$4=TRUE),AND(CQ545=3,TABLE1!$AN$5=TRUE),AND(CQ545=4,TABLE1!$AQ$3=TRUE),AND(CQ545=5,TABLE1!$AQ$4=TRUE),AND(CQ545=6,TABLE1!$AQ$5=TRUE),AND(CQ545=7,TABLE1!$AT$3=TRUE),AND(CQ545=8,TABLE1!$AT$4=TRUE),AND(CQ545=9,TABLE1!$AT$5=TRUE),AND(CQ545=10,TABLE1!$AW$3=TRUE),AND(CQ545=11,TABLE1!$AW$4=TRUE),AND(CQ545=12,TABLE1!$AW$5=TRUE)),1,0)=1),1,0)=1,CR545=1,CT545=1),1,0)","v":0},{"$f":"IF(AND(OR(F545=TABLE1!$D$5,TABLE1!$D$5=\"کل بخشها\"),F545<>\"\"),1,0)","v":0}]
[null,null,null,null,null,null,null,null,null,null,null,null,null,null,null,null,null,null,null,null,null,null,null,null,null,null,null,null,null,null,null,null,null,null,null,null,null,null,null,null,null,null,null,null,null,null,null,null,null,null,null,null,null,null,null,null,null,null,null,null,null,null,null,null,null,null,null,null,null,null,null,null,null,null,null,null,null,null,null,null,null,null,null,null,null,null,null,null,null,null,null,null,null,null,"",{"$f":"IF(LEFT(C550,2)=TABLE1!$F$1,1,0)","v":0},{"$f":"IF(AND(IF(AND(IF(OR(AND(CQ550=1,TABLE1!$AN$3=TRUE),AND(CQ550=2,TABLE1!$AN$4=TRUE),AND(CQ550=3,TABLE1!$AN$5=TRUE),AND(CQ550=4,TABLE1!$AQ$3=TRUE),AND(CQ550=5,TABLE1!$AQ$4=TRUE),AND(CQ550=6,TABLE1!$AQ$5=TRUE),AND(CQ550=7,TABLE1!$AT$3=TRUE),AND(CQ550=8,TABLE1!$AT$4=TRUE),AND(CQ550=9,TABLE1!$AT$5=TRUE),AND(CQ550=10,TABLE1!$AW$3=TRUE),AND(CQ550=11,TABLE1!$AW$4=TRUE),AND(CQ550=12,TABLE1!$AW$5=TRUE)),1,0)=1),1,0)=1,CR550=1,CT550=1),1,0)","v":0},{"$f":"IF(AND(OR(F550=TABLE1!$D$5,TABLE1!$D$5=\"کل بخشها\"),F550<>\"\"),1,0)","v":0}]
[null,null,null,null,null,null,null,null,null,null,null,null,null,null,null,null,null,null,null,null,null,null,null,null,null,null,null,null,null,null,null,null,null,null,null,null,null,null,null,null,null,null,null,null,null,null,null,null,null,null,null,null,null,null,null,null,null,null,null,null,null,null,null,null,null,null,null,null,null,null,null,null,null,null,null,null,null,null,null,null,null,null,null,null,null,null,null,null,null,null,null,null,null,null,"",{"$f":"IF(LEFT(C551,2)=TABLE1!$F$1,1,0)","v":0},{"$f":"IF(AND(IF(AND(IF(OR(AND(CQ551=1,TABLE1!$AN$3=TRUE),AND(CQ551=2,TABLE1!$AN$4=TRUE),AND(CQ551=3,TABLE1!$AN$5=TRUE),AND(CQ551=4,TABLE1!$AQ$3=TRUE),AND(CQ551=5,TABLE1!$AQ$4=TRUE),AND(CQ551=6,TABLE1!$AQ$5=TRUE),AND(CQ551=7,TABLE1!$AT$3=TRUE),AND(CQ551=8,TABLE1!$AT$4=TRUE),AND(CQ551=9,TABLE1!$AT$5=TRUE),AND(CQ551=10,TABLE1!$AW$3=TRUE),AND(CQ551=11,TABLE1!$AW$4=TRUE),AND(CQ551=12,TABLE1!$AW$5=TRUE)),1,0)=1),1,0)=1,CR551=1,CT551=1),1,0)","v":0},{"$f":"IF(AND(OR(F551=TABLE1!$D$5,TABLE1!$D$5=\"کل بخشها\"),F551<>\"\"),1,0)","v":0}]
[null,null,null,null,null,null,null,null,null,null,null,null,null,null,null,null,null,null,null,null,null,null,null,null,null,null,null,null,null,null,null,null,null,null,null,null,null,null,null,null,null,null,null,null,null,null,null,null,null,null,null,null,null,null,null,null,null,null,null,null,null,null,null,null,null,null,null,null,null,null,null,null,null,null,null,null,null,null,null,null,null,null,null,null,null,null,null,null,null,null,null,null,null,null,"",{"$f":"IF(LEFT(C555,2)=TABLE1!$F$1,1,0)","v":0},{"$f":"IF(AND(IF(AND(IF(OR(AND(CQ555=1,TABLE1!$AN$3=TRUE),AND(CQ555=2,TABLE1!$AN$4=TRUE),AND(CQ555=3,TABLE1!$AN$5=TRUE),AND(CQ555=4,TABLE1!$AQ$3=TRUE),AND(CQ555=5,TABLE1!$AQ$4=TRUE),AND(CQ555=6,TABLE1!$AQ$5=TRUE),AND(CQ555=7,TABLE1!$AT$3=TRUE),AND(CQ555=8,TABLE1!$AT$4=TRUE),AND(CQ555=9,TABLE1!$AT$5=TRUE),AND(CQ555=10,TABLE1!$AW$3=TRUE),AND(CQ555=11,TABLE1!$AW$4=TRUE),AND(CQ555=12,TABLE1!$AW$5=TRUE)),1,0)=1),1,0)=1,CR555=1,CT555=1),1,0)","v":0},{"$f":"IF(AND(OR(F555=TABLE1!$D$5,TABLE1!$D$5=\"کل بخشها\"),F555<>\"\"),1,0)","v":0}]
[null,null,null,null,null,null,null,null,null,null,null,null,null,null,null,null,null,null,null,null,null,null,null,null,null,null,null,null,null,null,null,null,null,null,null,null,null,null,null,null,null,null,null,null,null,null,null,null,null,null,null,null,null,null,null,null,null,null,null,null,null,null,null,null,null,null,null,null,null,null,null,null,null,null,null,null,null,null,null,null,null,null,null,null,null,null,null,null,null,null,null,null,null,null,"",{"$f":"IF(LEFT(C560,2)=TABLE1!$F$1,1,0)","v":0},{"$f":"IF(AND(IF(AND(IF(OR(AND(CQ560=1,TABLE1!$AN$3=TRUE),AND(CQ560=2,TABLE1!$AN$4=TRUE),AND(CQ560=3,TABLE1!$AN$5=TRUE),AND(CQ560=4,TABLE1!$AQ$3=TRUE),AND(CQ560=5,TABLE1!$AQ$4=TRUE),AND(CQ560=6,TABLE1!$AQ$5=TRUE),AND(CQ560=7,TABLE1!$AT$3=TRUE),AND(CQ560=8,TABLE1!$AT$4=TRUE),AND(CQ560=9,TABLE1!$AT$5=TRUE),AND(CQ560=10,TABLE1!$AW$3=TRUE),AND(CQ560=11,TABLE1!$AW$4=TRUE),AND(CQ560=12,TABLE1!$AW$5=TRUE)),1,0)=1),1,0)=1,CR560=1,CT560=1),1,0)","v":0},{"$f":"IF(AND(OR(F560=TABLE1!$D$5,TABLE1!$D$5=\"کل بخشها\"),F560<>\"\"),1,0)","v":0}]
[null,null,null,null,null,null,null,null,null,null,null,null,null,null,null,null,null,null,null,null,null,null,null,null,null,null,null,null,null,null,null,null,null,null,null,null,null,null,null,null,null,null,null,null,null,null,null,null,null,null,null,null,null,null,null,null,null,null,null,null,null,null,null,null,null,null,null,null,null,null,null,null,null,null,null,null,null,null,null,null,null,null,null,null,null,null,null,null,null,null,null,null,null,null,"",{"$f":"IF(LEFT(C566,2)=TABLE1!$F$1,1,0)","v":0},{"$f":"IF(AND(IF(AND(IF(OR(AND(CQ566=1,TABLE1!$AN$3=TRUE),AND(CQ566=2,TABLE1!$AN$4=TRUE),AND(CQ566=3,TABLE1!$AN$5=TRUE),AND(CQ566=4,TABLE1!$AQ$3=TRUE),AND(CQ566=5,TABLE1!$AQ$4=TRUE),AND(CQ566=6,TABLE1!$AQ$5=TRUE),AND(CQ566=7,TABLE1!$AT$3=TRUE),AND(CQ566=8,TABLE1!$AT$4=TRUE),AND(CQ566=9,TABLE1!$AT$5=TRUE),AND(CQ566=10,TABLE1!$AW$3=TRUE),AND(CQ566=11,TABLE1!$AW$4=TRUE),AND(CQ566=12,TABLE1!$AW$5=TRUE)),1,0)=1),1,0)=1,CR566=1,CT566=1),1,0)","v":0},{"$f":"IF(AND(OR(F566=TABLE1!$D$5,TABLE1!$D$5=\"کل بخشها\"),F566<>\"\"),1,0)","v":0}]
[null,null,null,null,null,null,null,null,null,null,null,null,null,null,null,null,null,null,null,null,null,null,null,null,null,null,null,null,null,null,null,null,null,null,null,null,null,null,null,null,null,null,null,null,null,null,null,null,null,null,null,null,null,null,null,null,null,null,null,null,null,null,null,null,null,null,null,null,null,null,null,null,null,null,null,null,null,null,null,null,null,null,null,null,null,null,null,null,null,null,null,null,null,null,"",{"$f":"IF(LEFT(C570,2)=TABLE1!$F$1,1,0)","v":0},{"$f":"IF(AND(IF(AND(IF(OR(AND(CQ570=1,TABLE1!$AN$3=TRUE),AND(CQ570=2,TABLE1!$AN$4=TRUE),AND(CQ570=3,TABLE1!$AN$5=TRUE),AND(CQ570=4,TABLE1!$AQ$3=TRUE),AND(CQ570=5,TABLE1!$AQ$4=TRUE),AND(CQ570=6,TABLE1!$AQ$5=TRUE),AND(CQ570=7,TABLE1!$AT$3=TRUE),AND(CQ570=8,TABLE1!$AT$4=TRUE),AND(CQ570=9,TABLE1!$AT$5=TRUE),AND(CQ570=10,TABLE1!$AW$3=TRUE),AND(CQ570=11,TABLE1!$AW$4=TRUE),AND(CQ570=12,TABLE1!$AW$5=TRUE)),1,0)=1),1,0)=1,CR570=1,CT570=1),1,0)","v":0},{"$f":"IF(AND(OR(F570=TABLE1!$D$5,TABLE1!$D$5=\"کل بخشها\"),F570<>\"\"),1,0)","v":0}]
[null,null,null,null,null,null,null,null,null,null,null,null,null,null,null,null,null,null,null,null,null,null,null,null,null,null,null,null,null,null,null,null,null,null,null,null,null,null,null,null,null,null,null,null,null,null,null,null,null,null,null,null,null,null,null,null,null,null,null,null,null,null,null,null,null,null,null,null,null,null,null,null,null,null,null,null,null,null,null,null,null,null,null,null,null,null,null,null,null,null,null,null,null,null,"",{"$f":"IF(LEFT(C575,2)=TABLE1!$F$1,1,0)","v":0},{"$f":"IF(AND(IF(AND(IF(OR(AND(CQ575=1,TABLE1!$AN$3=TRUE),AND(CQ575=2,TABLE1!$AN$4=TRUE),AND(CQ575=3,TABLE1!$AN$5=TRUE),AND(CQ575=4,TABLE1!$AQ$3=TRUE),AND(CQ575=5,TABLE1!$AQ$4=TRUE),AND(CQ575=6,TABLE1!$AQ$5=TRUE),AND(CQ575=7,TABLE1!$AT$3=TRUE),AND(CQ575=8,TABLE1!$AT$4=TRUE),AND(CQ575=9,TABLE1!$AT$5=TRUE),AND(CQ575=10,TABLE1!$AW$3=TRUE),AND(CQ575=11,TABLE1!$AW$4=TRUE),AND(CQ575=12,TABLE1!$AW$5=TRUE)),1,0)=1),1,0)=1,CR575=1,CT575=1),1,0)","v":0},{"$f":"IF(AND(OR(F575=TABLE1!$D$5,TABLE1!$D$5=\"کل بخشها\"),F575<>\"\"),1,0)","v":0}]
[null,null,null,null,null,null,null,null,null,null,null,null,null,null,null,null,null,null,null,null,null,null,null,null,null,null,null,null,null,null,null,null,null,null,null,null,null,null,null,null,null,null,null,null,null,null,null,null,null,null,null,null,null,null,null,null,null,null,null,null,null,null,null,null,null,null,null,null,null,null,null,null,null,null,null,null,null,null,null,null,null,null,null,null,null,null,null,null,null,null,null,null,null,null,"",{"$f":"IF(LEFT(C581,2)=TABLE1!$F$1,1,0)","v":0},{"$f":"IF(AND(IF(AND(IF(OR(AND(CQ581=1,TABLE1!$AN$3=TRUE),AND(CQ581=2,TABLE1!$AN$4=TRUE),AND(CQ581=3,TABLE1!$AN$5=TRUE),AND(CQ581=4,TABLE1!$AQ$3=TRUE),AND(CQ581=5,TABLE1!$AQ$4=TRUE),AND(CQ581=6,TABLE1!$AQ$5=TRUE),AND(CQ581=7,TABLE1!$AT$3=TRUE),AND(CQ581=8,TABLE1!$AT$4=TRUE),AND(CQ581=9,TABLE1!$AT$5=TRUE),AND(CQ581=10,TABLE1!$AW$3=TRUE),AND(CQ581=11,TABLE1!$AW$4=TRUE),AND(CQ581=12,TABLE1!$AW$5=TRUE)),1,0)=1),1,0)=1,CR581=1,CT581=1),1,0)","v":0},{"$f":"IF(AND(OR(F581=TABLE1!$D$5,TABLE1!$D$5=\"کل بخشها\"),F581<>\"\"),1,0)","v":0}]
[null,null,null,null,null,null,null,null,null,null,null,null,null,null,null,null,null,null,null,null,null,null,null,null,null,null,null,null,null,null,null,null,null,null,null,null,null,null,null,null,null,null,null,null,null,null,null,null,null,null,null,null,null,null,null,null,null,null,null,null,null,null,null,null,null,null,null,null,null,null,null,null,null,null,null,null,null,null,null,null,null,null,null,null,null,null,null,null,null,null,null,null,null,null,"",{"$f":"IF(LEFT(C586,2)=TABLE1!$F$1,1,0)","v":0},{"$f":"IF(AND(IF(AND(IF(OR(AND(CQ586=1,TABLE1!$AN$3=TRUE),AND(CQ586=2,TABLE1!$AN$4=TRUE),AND(CQ586=3,TABLE1!$AN$5=TRUE),AND(CQ586=4,TABLE1!$AQ$3=TRUE),AND(CQ586=5,TABLE1!$AQ$4=TRUE),AND(CQ586=6,TABLE1!$AQ$5=TRUE),AND(CQ586=7,TABLE1!$AT$3=TRUE),AND(CQ586=8,TABLE1!$AT$4=TRUE),AND(CQ586=9,TABLE1!$AT$5=TRUE),AND(CQ586=10,TABLE1!$AW$3=TRUE),AND(CQ586=11,TABLE1!$AW$4=TRUE),AND(CQ586=12,TABLE1!$AW$5=TRUE)),1,0)=1),1,0)=1,CR586=1,CT586=1),1,0)","v":0},{"$f":"IF(AND(OR(F586=TABLE1!$D$5,TABLE1!$D$5=\"کل بخشها\"),F586<>\"\"),1,0)","v":0}]
[null,null,null,null,null,null,null,null,null,null,null,null,null,null,null,null,null,null,null,null,null,null,null,null,null,null,null,null,null,null,null,null,null,null,null,null,null,null,null,null,null,null,null,null,null,null,null,null,null,null,null,null,null,null,null,null,null,null,null,null,null,null,null,null,null,null,null,null,null,null,null,null,null,null,null,null,null,null,null,null,null,null,null,null,null,null,null,null,null,null,null,null,null,null,"",{"$f":"IF(LEFT(C592,2)=TABLE1!$F$1,1,0)","v":0},{"$f":"IF(AND(IF(AND(IF(OR(AND(CQ592=1,TABLE1!$AN$3=TRUE),AND(CQ592=2,TABLE1!$AN$4=TRUE),AND(CQ592=3,TABLE1!$AN$5=TRUE),AND(CQ592=4,TABLE1!$AQ$3=TRUE),AND(CQ592=5,TABLE1!$AQ$4=TRUE),AND(CQ592=6,TABLE1!$AQ$5=TRUE),AND(CQ592=7,TABLE1!$AT$3=TRUE),AND(CQ592=8,TABLE1!$AT$4=TRUE),AND(CQ592=9,TABLE1!$AT$5=TRUE),AND(CQ592=10,TABLE1!$AW$3=TRUE),AND(CQ592=11,TABLE1!$AW$4=TRUE),AND(CQ592=12,TABLE1!$AW$5=TRUE)),1,0)=1),1,0)=1,CR592=1,CT592=1),1,0)","v":0},{"$f":"IF(AND(OR(F592=TABLE1!$D$5,TABLE1!$D$5=\"کل بخشها\"),F592<>\"\"),1,0)","v":0}]
[null,null,null,null,null,null,null,null,null,null,null,null,null,null,null,null,null,null,null,null,null,null,null,null,null,null,null,null,null,null,null,null,null,null,null,null,null,null,null,null,null,null,null,null,null,null,null,null,null,null,null,null,null,null,null,null,null,null,null,null,null,null,null,null,null,null,null,null,null,null,null,null,null,null,null,null,null,null,null,null,null,null,null,null,null,null,null,null,null,null,null,null,null,null,"",{"$f":"IF(LEFT(C595,2)=TABLE1!$F$1,1,0)","v":0},{"$f":"IF(AND(IF(AND(IF(OR(AND(CQ595=1,TABLE1!$AN$3=TRUE),AND(CQ595=2,TABLE1!$AN$4=TRUE),AND(CQ595=3,TABLE1!$AN$5=TRUE),AND(CQ595=4,TABLE1!$AQ$3=TRUE),AND(CQ595=5,TABLE1!$AQ$4=TRUE),AND(CQ595=6,TABLE1!$AQ$5=TRUE),AND(CQ595=7,TABLE1!$AT$3=TRUE),AND(CQ595=8,TABLE1!$AT$4=TRUE),AND(CQ595=9,TABLE1!$AT$5=TRUE),AND(CQ595=10,TABLE1!$AW$3=TRUE),AND(CQ595=11,TABLE1!$AW$4=TRUE),AND(CQ595=12,TABLE1!$AW$5=TRUE)),1,0)=1),1,0)=1,CR595=1,CT595=1),1,0)","v":0},{"$f":"IF(AND(OR(F595=TABLE1!$D$5,TABLE1!$D$5=\"کل بخشها\"),F595<>\"\"),1,0)","v":0}]
[null,null,null,null,null,null,null,null,null,null,null,null,null,null,null,null,null,null,null,null,null,null,null,null,null,null,null,null,null,null,null,null,null,null,null,null,null,null,null,null,null,null,null,null,null,null,null,null,null,null,null,null,null,null,null,null,null,null,null,null,null,null,null,null,null,null,null,null,null,null,null,null,null,null,null,null,null,null,null,null,null,null,null,null,null,null,null,null,null,null,null,null,null,null,"",{"$f":"IF(LEFT(C601,2)=TABLE1!$F$1,1,0)","v":0},{"$f":"IF(AND(IF(AND(IF(OR(AND(CQ601=1,TABLE1!$AN$3=TRUE),AND(CQ601=2,TABLE1!$AN$4=TRUE),AND(CQ601=3,TABLE1!$AN$5=TRUE),AND(CQ601=4,TABLE1!$AQ$3=TRUE),AND(CQ601=5,TABLE1!$AQ$4=TRUE),AND(CQ601=6,TABLE1!$AQ$5=TRUE),AND(CQ601=7,TABLE1!$AT$3=TRUE),AND(CQ601=8,TABLE1!$AT$4=TRUE),AND(CQ601=9,TABLE1!$AT$5=TRUE),AND(CQ601=10,TABLE1!$AW$3=TRUE),AND(CQ601=11,TABLE1!$AW$4=TRUE),AND(CQ601=12,TABLE1!$AW$5=TRUE)),1,0)=1),1,0)=1,CR601=1,CT601=1),1,0)","v":0},{"$f":"IF(AND(OR(F601=TABLE1!$D$5,TABLE1!$D$5=\"کل بخشها\"),F601<>\"\"),1,0)","v":0}]
[null,null,null,null,null,null,null,null,null,null,null,null,null,null,null,null,null,null,null,null,null,null,null,null,null,null,null,null,null,null,null,null,null,null,null,null,null,null,null,null,null,null,null,null,null,null,null,null,null,null,null,null,null,null,null,null,null,null,null,null,null,null,null,null,null,null,null,null,null,null,null,null,null,null,null,null,null,null,null,null,null,null,null,null,null,null,null,null,null,null,null,null,null,null,"",{"$f":"IF(LEFT(C607,2)=TABLE1!$F$1,1,0)","v":0},{"$f":"IF(AND(IF(AND(IF(OR(AND(CQ607=1,TABLE1!$AN$3=TRUE),AND(CQ607=2,TABLE1!$AN$4=TRUE),AND(CQ607=3,TABLE1!$AN$5=TRUE),AND(CQ607=4,TABLE1!$AQ$3=TRUE),AND(CQ607=5,TABLE1!$AQ$4=TRUE),AND(CQ607=6,TABLE1!$AQ$5=TRUE),AND(CQ607=7,TABLE1!$AT$3=TRUE),AND(CQ607=8,TABLE1!$AT$4=TRUE),AND(CQ607=9,TABLE1!$AT$5=TRUE),AND(CQ607=10,TABLE1!$AW$3=TRUE),AND(CQ607=11,TABLE1!$AW$4=TRUE),AND(CQ607=12,TABLE1!$AW$5=TRUE)),1,0)=1),1,0)=1,CR607=1,CT607=1),1,0)","v":0},{"$f":"IF(AND(OR(F607=TABLE1!$D$5,TABLE1!$D$5=\"کل بخشها\"),F607<>\"\"),1,0)","v":0}]
[null,null,null,null,null,null,null,null,null,null,null,null,null,null,null,null,null,null,null,null,null,null,null,null,null,null,null,null,null,null,null,null,null,null,null,null,null,null,null,null,null,null,null,null,null,null,null,null,null,null,null,null,null,null,null,null,null,null,null,null,null,null,null,null,null,null,null,null,null,null,null,null,null,null,null,null,null,null,null,null,null,null,null,null,null,null,null,null,null,null,null,null,null,null,"",{"$f":"IF(LEFT(C612,2)=TABLE1!$F$1,1,0)","v":0},{"$f":"IF(AND(IF(AND(IF(OR(AND(CQ612=1,TABLE1!$AN$3=TRUE),AND(CQ612=2,TABLE1!$AN$4=TRUE),AND(CQ612=3,TABLE1!$AN$5=TRUE),AND(CQ612=4,TABLE1!$AQ$3=TRUE),AND(CQ612=5,TABLE1!$AQ$4=TRUE),AND(CQ612=6,TABLE1!$AQ$5=TRUE),AND(CQ612=7,TABLE1!$AT$3=TRUE),AND(CQ612=8,TABLE1!$AT$4=TRUE),AND(CQ612=9,TABLE1!$AT$5=TRUE),AND(CQ612=10,TABLE1!$AW$3=TRUE),AND(CQ612=11,TABLE1!$AW$4=TRUE),AND(CQ612=12,TABLE1!$AW$5=TRUE)),1,0)=1),1,0)=1,CR612=1,CT612=1),1,0)","v":0},{"$f":"IF(AND(OR(F612=TABLE1!$D$5,TABLE1!$D$5=\"کل بخشها\"),F612<>\"\"),1,0)","v":0}]
[null,null,null,null,null,null,null,null,null,null,null,null,null,null,null,null,null,null,null,null,null,null,null,null,null,null,null,null,null,null,null,null,null,null,null,null,null,null,null,null,null,null,null,null,null,null,null,null,null,null,null,null,null,null,null,null,null,null,null,null,null,null,null,null,null,null,null,null,null,null,null,null,null,null,null,null,null,null,null,null,null,null,null,null,null,null,null,null,null,null,null,null,null,null,"",{"$f":"IF(LEFT(C614,2)=TABLE1!$F$1,1,0)","v":0},{"$f":"IF(AND(IF(AND(IF(OR(AND(CQ614=1,TABLE1!$AN$3=TRUE),AND(CQ614=2,TABLE1!$AN$4=TRUE),AND(CQ614=3,TABLE1!$AN$5=TRUE),AND(CQ614=4,TABLE1!$AQ$3=TRUE),AND(CQ614=5,TABLE1!$AQ$4=TRUE),AND(CQ614=6,TABLE1!$AQ$5=TRUE),AND(CQ614=7,TABLE1!$AT$3=TRUE),AND(CQ614=8,TABLE1!$AT$4=TRUE),AND(CQ614=9,TABLE1!$AT$5=TRUE),AND(CQ614=10,TABLE1!$AW$3=TRUE),AND(CQ614=11,TABLE1!$AW$4=TRUE),AND(CQ614=12,TABLE1!$AW$5=TRUE)),1,0)=1),1,0)=1,CR614=1,CT614=1),1,0)","v":0},{"$f":"IF(AND(OR(F614=TABLE1!$D$5,TABLE1!$D$5=\"کل بخشها\"),F614<>\"\"),1,0)","v":0}]
[null,null,null,null,null,null,null,null,null,null,null,null,null,null,null,null,null,null,null,null,null,null,null,null,null,null,null,null,null,null,null,null,null,null,null,null,null,null,null,null,null,null,null,null,null,null,null,null,null,null,null,null,null,null,null,null,null,null,null,null,null,null,null,null,null,null,null,null,null,null,null,null,null,null,null,null,null,null,null,null,null,null,null,null,null,null,null,null,null,null,null,null,null,null,"",{"$f":"IF(LEFT(C617,2)=TABLE1!$F$1,1,0)","v":0},{"$f":"IF(AND(IF(AND(IF(OR(AND(CQ617=1,TABLE1!$AN$3=TRUE),AND(CQ617=2,TABLE1!$AN$4=TRUE),AND(CQ617=3,TABLE1!$AN$5=TRUE),AND(CQ617=4,TABLE1!$AQ$3=TRUE),AND(CQ617=5,TABLE1!$AQ$4=TRUE),AND(CQ617=6,TABLE1!$AQ$5=TRUE),AND(CQ617=7,TABLE1!$AT$3=TRUE),AND(CQ617=8,TABLE1!$AT$4=TRUE),AND(CQ617=9,TABLE1!$AT$5=TRUE),AND(CQ617=10,TABLE1!$AW$3=TRUE),AND(CQ617=11,TABLE1!$AW$4=TRUE),AND(CQ617=12,TABLE1!$AW$5=TRUE)),1,0)=1),1,0)=1,CR617=1,CT617=1),1,0)","v":0},{"$f":"IF(AND(OR(F617=TABLE1!$D$5,TABLE1!$D$5=\"کل بخشها\"),F617<>\"\"),1,0)","v":0}]
[null,null,null,null,null,null,null,null,null,null,null,null,null,null,null,null,null,null,null,null,null,null,null,null,null,null,null,null,null,null,null,null,null,null,null,null,null,null,null,null,null,null,null,null,null,null,null,null,null,null,null,null,null,null,null,null,null,null,null,null,null,null,null,null,null,null,null,null,null,null,null,null,null,null,null,null,null,null,null,null,null,null,null,null,null,null,null,null,null,null,null,null,null,null,"",{"$f":"IF(LEFT(C622,2)=TABLE1!$F$1,1,0)","v":0},{"$f":"IF(AND(IF(AND(IF(OR(AND(CQ622=1,TABLE1!$AN$3=TRUE),AND(CQ622=2,TABLE1!$AN$4=TRUE),AND(CQ622=3,TABLE1!$AN$5=TRUE),AND(CQ622=4,TABLE1!$AQ$3=TRUE),AND(CQ622=5,TABLE1!$AQ$4=TRUE),AND(CQ622=6,TABLE1!$AQ$5=TRUE),AND(CQ622=7,TABLE1!$AT$3=TRUE),AND(CQ622=8,TABLE1!$AT$4=TRUE),AND(CQ622=9,TABLE1!$AT$5=TRUE),AND(CQ622=10,TABLE1!$AW$3=TRUE),AND(CQ622=11,TABLE1!$AW$4=TRUE),AND(CQ622=12,TABLE1!$AW$5=TRUE)),1,0)=1),1,0)=1,CR622=1,CT622=1),1,0)","v":0},{"$f":"IF(AND(OR(F622=TABLE1!$D$5,TABLE1!$D$5=\"کل بخشها\"),F622<>\"\"),1,0)","v":0}]
[null,null,null,null,null,null,null,null,null,null,null,null,null,null,null,null,null,null,null,null,null,null,null,null,null,null,null,null,null,null,null,null,null,null,null,null,null,null,null,null,null,null,null,null,null,null,null,null,null,null,null,null,null,null,null,null,null,null,null,null,null,null,null,null,null,null,null,null,null,null,null,null,null,null,null,null,null,null,null,null,null,null,null,null,null,null,null,null,null,null,null,null,null,null,"",{"$f":"IF(LEFT(C628,2)=TABLE1!$F$1,1,0)","v":0},{"$f":"IF(AND(IF(AND(IF(OR(AND(CQ628=1,TABLE1!$AN$3=TRUE),AND(CQ628=2,TABLE1!$AN$4=TRUE),AND(CQ628=3,TABLE1!$AN$5=TRUE),AND(CQ628=4,TABLE1!$AQ$3=TRUE),AND(CQ628=5,TABLE1!$AQ$4=TRUE),AND(CQ628=6,TABLE1!$AQ$5=TRUE),AND(CQ628=7,TABLE1!$AT$3=TRUE),AND(CQ628=8,TABLE1!$AT$4=TRUE),AND(CQ628=9,TABLE1!$AT$5=TRUE),AND(CQ628=10,TABLE1!$AW$3=TRUE),AND(CQ628=11,TABLE1!$AW$4=TRUE),AND(CQ628=12,TABLE1!$AW$5=TRUE)),1,0)=1),1,0)=1,CR628=1,CT628=1),1,0)","v":0},{"$f":"IF(AND(OR(F628=TABLE1!$D$5,TABLE1!$D$5=\"کل بخشها\"),F628<>\"\"),1,0)","v":0}]
[null,null,null,null,null,null,null,null,null,null,null,null,null,null,null,null,null,null,null,null,null,null,null,null,null,null,null,null,null,null,null,null,null,null,null,null,null,null,null,null,null,null,null,null,null,null,null,null,null,null,null,null,null,null,null,null,null,null,null,null,null,null,null,null,null,null,null,null,null,null,null,null,null,null,null,null,null,null,null,null,null,null,null,null,null,null,null,null,null,null,null,null,null,null,"",{"$f":"IF(LEFT(C633,2)=TABLE1!$F$1,1,0)","v":0},{"$f":"IF(AND(IF(AND(IF(OR(AND(CQ633=1,TABLE1!$AN$3=TRUE),AND(CQ633=2,TABLE1!$AN$4=TRUE),AND(CQ633=3,TABLE1!$AN$5=TRUE),AND(CQ633=4,TABLE1!$AQ$3=TRUE),AND(CQ633=5,TABLE1!$AQ$4=TRUE),AND(CQ633=6,TABLE1!$AQ$5=TRUE),AND(CQ633=7,TABLE1!$AT$3=TRUE),AND(CQ633=8,TABLE1!$AT$4=TRUE),AND(CQ633=9,TABLE1!$AT$5=TRUE),AND(CQ633=10,TABLE1!$AW$3=TRUE),AND(CQ633=11,TABLE1!$AW$4=TRUE),AND(CQ633=12,TABLE1!$AW$5=TRUE)),1,0)=1),1,0)=1,CR633=1,CT633=1),1,0)","v":0},{"$f":"IF(AND(OR(F633=TABLE1!$D$5,TABLE1!$D$5=\"کل بخشها\"),F633<>\"\"),1,0)","v":0}]
[null,null,null,null,null,null,null,null,null,null,null,null,null,null,null,null,null,null,null,null,null,null,null,null,null,null,null,null,null,null,null,null,null,null,null,null,null,null,null,null,null,null,null,null,null,null,null,null,null,null,null,null,null,null,null,null,null,null,null,null,null,null,null,null,null,null,null,null,null,null,null,null,null,null,null,null,null,null,null,null,null,null,null,null,null,null,null,null,null,null,null,null,null,null,"",{"$f":"IF(LEFT(C637,2)=TABLE1!$F$1,1,0)","v":0},{"$f":"IF(AND(IF(AND(IF(OR(AND(CQ637=1,TABLE1!$AN$3=TRUE),AND(CQ637=2,TABLE1!$AN$4=TRUE),AND(CQ637=3,TABLE1!$AN$5=TRUE),AND(CQ637=4,TABLE1!$AQ$3=TRUE),AND(CQ637=5,TABLE1!$AQ$4=TRUE),AND(CQ637=6,TABLE1!$AQ$5=TRUE),AND(CQ637=7,TABLE1!$AT$3=TRUE),AND(CQ637=8,TABLE1!$AT$4=TRUE),AND(CQ637=9,TABLE1!$AT$5=TRUE),AND(CQ637=10,TABLE1!$AW$3=TRUE),AND(CQ637=11,TABLE1!$AW$4=TRUE),AND(CQ637=12,TABLE1!$AW$5=TRUE)),1,0)=1),1,0)=1,CR637=1,CT637=1),1,0)","v":0},{"$f":"IF(AND(OR(F637=TABLE1!$D$5,TABLE1!$D$5=\"کل بخشها\"),F637<>\"\"),1,0)","v":0}]
[null,null,null,null,null,null,null,null,null,null,null,null,null,null,null,null,null,null,null,null,null,null,null,null,null,null,null,null,null,null,null,null,null,null,null,null,null,null,null,null,null,null,null,null,null,null,null,null,null,null,null,null,null,null,null,null,null,null,null,null,null,null,null,null,null,null,null,null,null,null,null,null,null,null,null,null,null,null,null,null,null,null,null,null,null,null,null,null,null,null,null,null,null,null,{"$f":"IFERROR(VALUE(MID(C643,3,2)),\"\")","v":""},{"$f":"IF(LEFT(C643,2)=TABLE1!$F$1,1,0)","v":0},{"$f":"IF(AND(IF(AND(IF(OR(AND(CQ643=1,TABLE1!$AN$3=TRUE),AND(CQ643=2,TABLE1!$AN$4=TRUE),AND(CQ643=3,TABLE1!$AN$5=TRUE),AND(CQ643=4,TABLE1!$AQ$3=TRUE),AND(CQ643=5,TABLE1!$AQ$4=TRUE),AND(CQ643=6,TABLE1!$AQ$5=TRUE),AND(CQ643=7,TABLE1!$AT$3=TRUE),AND(CQ643=8,TABLE1!$AT$4=TRUE),AND(CQ643=9,TABLE1!$AT$5=TRUE),AND(CQ643=10,TABLE1!$AW$3=TRUE),AND(CQ643=11,TABLE1!$AW$4=TRUE),AND(CQ643=12,TABLE1!$AW$5=TRUE)),1,0)=1),1,0)=1,CR643=1,CT643=1),1,0)","v":0},{"$f":"IF(AND(OR(F643=TABLE1!$D$5,TABLE1!$D$5=\"کل بخشها\"),F643<>\"\"),1,0)","v":0}]
[null,null,null,null,null,null,null,null,null,null,null,null,null,null,null,null,null,null,null,null,null,null,null,null,null,null,null,null,null,null,null,null,null,null,null,null,null,null,null,null,null,null,null,null,null,null,null,null,null,null,null,null,null,null,null,null,null,null,null,null,null,null,null,null,null,null,null,null,null,null,null,null,null,null,null,null,null,null,null,null,null,null,null,null,null,null,null,null,null,null,null,null,null,null,"",{"$f":"IF(LEFT(C648,2)=TABLE1!$F$1,1,0)","v":0},{"$f":"IF(AND(IF(AND(IF(OR(AND(CQ648=1,TABLE1!$AN$3=TRUE),AND(CQ648=2,TABLE1!$AN$4=TRUE),AND(CQ648=3,TABLE1!$AN$5=TRUE),AND(CQ648=4,TABLE1!$AQ$3=TRUE),AND(CQ648=5,TABLE1!$AQ$4=TRUE),AND(CQ648=6,TABLE1!$AQ$5=TRUE),AND(CQ648=7,TABLE1!$AT$3=TRUE),AND(CQ648=8,TABLE1!$AT$4=TRUE),AND(CQ648=9,TABLE1!$AT$5=TRUE),AND(CQ648=10,TABLE1!$AW$3=TRUE),AND(CQ648=11,TABLE1!$AW$4=TRUE),AND(CQ648=12,TABLE1!$AW$5=TRUE)),1,0)=1),1,0)=1,CR648=1,CT648=1),1,0)","v":0},{"$f":"IF(AND(OR(F648=TABLE1!$D$5,TABLE1!$D$5=\"کل بخشها\"),F648<>\"\"),1,0)","v":0}]
[null,null,null,null,null,null,null,null,null,null,null,null,null,null,null,null,null,null,null,null,null,null,null,null,null,null,null,null,null,null,null,null,null,null,null,null,null,null,null,null,null,null,null,null,null,null,null,null,null,null,null,null,null,null,null,null,null,null,null,null,null,null,null,null,null,null,null,null,null,null,null,null,null,null,null,null,null,null,null,null,null,null,null,null,null,null,null,null,null,null,null,null,null,null,"",{"$f":"IF(LEFT(C652,2)=TABLE1!$F$1,1,0)","v":0},{"$f":"IF(AND(IF(AND(IF(OR(AND(CQ652=1,TABLE1!$AN$3=TRUE),AND(CQ652=2,TABLE1!$AN$4=TRUE),AND(CQ652=3,TABLE1!$AN$5=TRUE),AND(CQ652=4,TABLE1!$AQ$3=TRUE),AND(CQ652=5,TABLE1!$AQ$4=TRUE),AND(CQ652=6,TABLE1!$AQ$5=TRUE),AND(CQ652=7,TABLE1!$AT$3=TRUE),AND(CQ652=8,TABLE1!$AT$4=TRUE),AND(CQ652=9,TABLE1!$AT$5=TRUE),AND(CQ652=10,TABLE1!$AW$3=TRUE),AND(CQ652=11,TABLE1!$AW$4=TRUE),AND(CQ652=12,TABLE1!$AW$5=TRUE)),1,0)=1),1,0)=1,CR652=1,CT652=1),1,0)","v":0},{"$f":"IF(AND(OR(F652=TABLE1!$D$5,TABLE1!$D$5=\"کل بخشها\"),F652<>\"\"),1,0)","v":0}]
[null,null,null,null,null,null,null,null,null,null,null,null,null,null,null,null,null,null,null,null,null,null,null,null,null,null,null,null,null,null,null,null,null,null,null,null,null,null,null,null,null,null,null,null,null,null,null,null,null,null,null,null,null,null,null,null,null,null,null,null,null,null,null,null,null,null,null,null,null,null,null,null,null,null,null,null,null,null,null,null,null,null,null,null,null,null,null,null,null,null,null,null,null,null,"",{"$f":"IF(LEFT(C658,2)=TABLE1!$F$1,1,0)","v":0},{"$f":"IF(AND(IF(AND(IF(OR(AND(CQ658=1,TABLE1!$AN$3=TRUE),AND(CQ658=2,TABLE1!$AN$4=TRUE),AND(CQ658=3,TABLE1!$AN$5=TRUE),AND(CQ658=4,TABLE1!$AQ$3=TRUE),AND(CQ658=5,TABLE1!$AQ$4=TRUE),AND(CQ658=6,TABLE1!$AQ$5=TRUE),AND(CQ658=7,TABLE1!$AT$3=TRUE),AND(CQ658=8,TABLE1!$AT$4=TRUE),AND(CQ658=9,TABLE1!$AT$5=TRUE),AND(CQ658=10,TABLE1!$AW$3=TRUE),AND(CQ658=11,TABLE1!$AW$4=TRUE),AND(CQ658=12,TABLE1!$AW$5=TRUE)),1,0)=1),1,0)=1,CR658=1,CT658=1),1,0)","v":0},{"$f":"IF(AND(OR(F658=TABLE1!$D$5,TABLE1!$D$5=\"کل بخشها\"),F658<>\"\"),1,0)","v":0}]
[null,null,null,null,null,null,null,null,null,null,null,null,null,null,null,null,null,null,null,null,null,null,null,null,null,null,null,null,null,null,null,null,null,null,null,null,null,null,null,null,null,null,null,null,null,null,null,null,null,null,null,null,null,null,null,null,null,null,null,null,null,null,null,null,null,null,null,null,null,null,null,null,null,null,null,null,null,null,null,null,null,null,null,null,null,null,null,null,null,null,null,null,null,null,"",{"$f":"IF(LEFT(C663,2)=TABLE1!$F$1,1,0)","v":0},{"$f":"IF(AND(IF(AND(IF(OR(AND(CQ663=1,TABLE1!$AN$3=TRUE),AND(CQ663=2,TABLE1!$AN$4=TRUE),AND(CQ663=3,TABLE1!$AN$5=TRUE),AND(CQ663=4,TABLE1!$AQ$3=TRUE),AND(CQ663=5,TABLE1!$AQ$4=TRUE),AND(CQ663=6,TABLE1!$AQ$5=TRUE),AND(CQ663=7,TABLE1!$AT$3=TRUE),AND(CQ663=8,TABLE1!$AT$4=TRUE),AND(CQ663=9,TABLE1!$AT$5=TRUE),AND(CQ663=10,TABLE1!$AW$3=TRUE),AND(CQ663=11,TABLE1!$AW$4=TRUE),AND(CQ663=12,TABLE1!$AW$5=TRUE)),1,0)=1),1,0)=1,CR663=1,CT663=1),1,0)","v":0},{"$f":"IF(AND(OR(F663=TABLE1!$D$5,TABLE1!$D$5=\"کل بخشها\"),F663<>\"\"),1,0)","v":0}]
[null,null,null,null,null,null,null,null,null,null,null,null,null,null,null,null,null,null,null,null,null,null,null,null,null,null,null,null,null,null,null,null,null,null,null,null,null,null,null,null,null,null,null,null,null,null,null,null,null,null,null,null,null,null,null,null,null,null,null,null,null,null,null,null,null,null,null,null,null,null,null,null,null,null,null,null,null,null,null,null,null,null,null,null,null,null,null,null,null,null,null,null,null,null,"",{"$f":"IF(LEFT(C669,2)=TABLE1!$F$1,1,0)","v":0},{"$f":"IF(AND(IF(AND(IF(OR(AND(CQ669=1,TABLE1!$AN$3=TRUE),AND(CQ669=2,TABLE1!$AN$4=TRUE),AND(CQ669=3,TABLE1!$AN$5=TRUE),AND(CQ669=4,TABLE1!$AQ$3=TRUE),AND(CQ669=5,TABLE1!$AQ$4=TRUE),AND(CQ669=6,TABLE1!$AQ$5=TRUE),AND(CQ669=7,TABLE1!$AT$3=TRUE),AND(CQ669=8,TABLE1!$AT$4=TRUE),AND(CQ669=9,TABLE1!$AT$5=TRUE),AND(CQ669=10,TABLE1!$AW$3=TRUE),AND(CQ669=11,TABLE1!$AW$4=TRUE),AND(CQ669=12,TABLE1!$AW$5=TRUE)),1,0)=1),1,0)=1,CR669=1,CT669=1),1,0)","v":0},{"$f":"IF(AND(OR(F669=TABLE1!$D$5,TABLE1!$D$5=\"کل بخشها\"),F669<>\"\"),1,0)","v":0}]
[null,null,null,null,null,null,null,null,null,null,null,null,null,null,null,null,null,null,null,null,null,null,null,null,null,null,null,null,null,null,null,null,null,null,null,null,null,null,null,null,null,null,null,null,null,null,null,null,null,null,null,null,null,null,null,null,null,null,null,null,null,null,null,null,null,null,null,null,null,null,null,null,null,null,null,null,null,null,null,null,null,null,null,null,null,null,null,null,null,null,null,null,null,null,"",{"$f":"IF(LEFT(C671,2)=TABLE1!$F$1,1,0)","v":0},{"$f":"IF(AND(IF(AND(IF(OR(AND(CQ671=1,TABLE1!$AN$3=TRUE),AND(CQ671=2,TABLE1!$AN$4=TRUE),AND(CQ671=3,TABLE1!$AN$5=TRUE),AND(CQ671=4,TABLE1!$AQ$3=TRUE),AND(CQ671=5,TABLE1!$AQ$4=TRUE),AND(CQ671=6,TABLE1!$AQ$5=TRUE),AND(CQ671=7,TABLE1!$AT$3=TRUE),AND(CQ671=8,TABLE1!$AT$4=TRUE),AND(CQ671=9,TABLE1!$AT$5=TRUE),AND(CQ671=10,TABLE1!$AW$3=TRUE),AND(CQ671=11,TABLE1!$AW$4=TRUE),AND(CQ671=12,TABLE1!$AW$5=TRUE)),1,0)=1),1,0)=1,CR671=1,CT671=1),1,0)","v":0},{"$f":"IF(AND(OR(F671=TABLE1!$D$5,TABLE1!$D$5=\"کل بخشها\"),F671<>\"\"),1,0)","v":0}]
[null,null,null,null,null,null,null,null,null,null,null,null,null,null,null,null,null,null,null,null,null,null,null,null,null,null,null,null,null,null,null,null,null,null,null,null,null,null,null,null,null,null,null,null,null,null,null,null,null,null,null,null,null,null,null,null,null,null,null,null,null,null,null,null,null,null,null,null,null,null,null,null,null,null,null,null,null,null,null,null,null,null,null,null,null,null,null,null,null,null,null,null,null,null,"",{"$f":"IF(LEFT(C678,2)=TABLE1!$F$1,1,0)","v":0},{"$f":"IF(AND(IF(AND(IF(OR(AND(CQ678=1,TABLE1!$AN$3=TRUE),AND(CQ678=2,TABLE1!$AN$4=TRUE),AND(CQ678=3,TABLE1!$AN$5=TRUE),AND(CQ678=4,TABLE1!$AQ$3=TRUE),AND(CQ678=5,TABLE1!$AQ$4=TRUE),AND(CQ678=6,TABLE1!$AQ$5=TRUE),AND(CQ678=7,TABLE1!$AT$3=TRUE),AND(CQ678=8,TABLE1!$AT$4=TRUE),AND(CQ678=9,TABLE1!$AT$5=TRUE),AND(CQ678=10,TABLE1!$AW$3=TRUE),AND(CQ678=11,TABLE1!$AW$4=TRUE),AND(CQ678=12,TABLE1!$AW$5=TRUE)),1,0)=1),1,0)=1,CR678=1,CT678=1),1,0)","v":0},{"$f":"IF(AND(OR(F678=TABLE1!$D$5,TABLE1!$D$5=\"کل بخشها\"),F678<>\"\"),1,0)","v":0}]
[null,null,null,null,null,null,null,null,null,null,null,null,null,null,null,null,null,null,null,null,null,null,null,null,null,null,null,null,null,null,null,null,null,null,null,null,null,null,null,null,null,null,null,null,null,null,null,null,null,null,null,null,null,null,null,null,null,null,null,null,null,null,null,null,null,null,null,null,null,null,null,null,null,null,null,null,null,null,null,null,null,null,null,null,null,null,null,null,null,null,null,null,null,null,"",{"$f":"IF(LEFT(C679,2)=TABLE1!$F$1,1,0)","v":0},{"$f":"IF(AND(IF(AND(IF(OR(AND(CQ679=1,TABLE1!$AN$3=TRUE),AND(CQ679=2,TABLE1!$AN$4=TRUE),AND(CQ679=3,TABLE1!$AN$5=TRUE),AND(CQ679=4,TABLE1!$AQ$3=TRUE),AND(CQ679=5,TABLE1!$AQ$4=TRUE),AND(CQ679=6,TABLE1!$AQ$5=TRUE),AND(CQ679=7,TABLE1!$AT$3=TRUE),AND(CQ679=8,TABLE1!$AT$4=TRUE),AND(CQ679=9,TABLE1!$AT$5=TRUE),AND(CQ679=10,TABLE1!$AW$3=TRUE),AND(CQ679=11,TABLE1!$AW$4=TRUE),AND(CQ679=12,TABLE1!$AW$5=TRUE)),1,0)=1),1,0)=1,CR679=1,CT679=1),1,0)","v":0},{"$f":"IF(AND(OR(F679=TABLE1!$D$5,TABLE1!$D$5=\"کل بخشها\"),F679<>\"\"),1,0)","v":0}]
[null,null,null,null,null,null,null,null,null,null,null,null,null,null,null,null,null,null,null,null,null,null,null,null,null,null,null,null,null,null,null,null,null,null,null,null,null,null,null,null,null,null,null,null,null,null,null,null,null,null,null,null,null,null,null,null,null,null,null,null,null,null,null,null,null,null,null,null,null,null,null,null,null,null,null,null,null,null,null,null,null,null,null,null,null,null,null,null,null,null,null,null,null,null,"",{"$f":"IF(LEFT(C684,2)=TABLE1!$F$1,1,0)","v":0},{"$f":"IF(AND(IF(AND(IF(OR(AND(CQ684=1,TABLE1!$AN$3=TRUE),AND(CQ684=2,TABLE1!$AN$4=TRUE),AND(CQ684=3,TABLE1!$AN$5=TRUE),AND(CQ684=4,TABLE1!$AQ$3=TRUE),AND(CQ684=5,TABLE1!$AQ$4=TRUE),AND(CQ684=6,TABLE1!$AQ$5=TRUE),AND(CQ684=7,TABLE1!$AT$3=TRUE),AND(CQ684=8,TABLE1!$AT$4=TRUE),AND(CQ684=9,TABLE1!$AT$5=TRUE),AND(CQ684=10,TABLE1!$AW$3=TRUE),AND(CQ684=11,TABLE1!$AW$4=TRUE),AND(CQ684=12,TABLE1!$AW$5=TRUE)),1,0)=1),1,0)=1,CR684=1,CT684=1),1,0)","v":0},{"$f":"IF(AND(OR(F684=TABLE1!$D$5,TABLE1!$D$5=\"کل بخشها\"),F684<>\"\"),1,0)","v":0}]
[null,null,null,null,null,null,null,null,null,null,null,null,null,null,null,null,null,null,null,null,null,null,null,null,null,null,null,null,null,null,null,null,null,null,null,null,null,null,null,null,null,null,null,null,null,null,null,null,null,null,null,null,null,null,null,null,null,null,null,null,null,null,null,null,null,null,null,null,null,null,null,null,null,null,null,null,null,null,null,null,null,null,null,null,null,null,null,null,null,null,null,null,null,null,"",{"$f":"IF(LEFT(C690,2)=TABLE1!$F$1,1,0)","v":0},{"$f":"IF(AND(IF(AND(IF(OR(AND(CQ690=1,TABLE1!$AN$3=TRUE),AND(CQ690=2,TABLE1!$AN$4=TRUE),AND(CQ690=3,TABLE1!$AN$5=TRUE),AND(CQ690=4,TABLE1!$AQ$3=TRUE),AND(CQ690=5,TABLE1!$AQ$4=TRUE),AND(CQ690=6,TABLE1!$AQ$5=TRUE),AND(CQ690=7,TABLE1!$AT$3=TRUE),AND(CQ690=8,TABLE1!$AT$4=TRUE),AND(CQ690=9,TABLE1!$AT$5=TRUE),AND(CQ690=10,TABLE1!$AW$3=TRUE),AND(CQ690=11,TABLE1!$AW$4=TRUE),AND(CQ690=12,TABLE1!$AW$5=TRUE)),1,0)=1),1,0)=1,CR690=1,CT690=1),1,0)","v":0},{"$f":"IF(AND(OR(F690=TABLE1!$D$5,TABLE1!$D$5=\"کل بخشها\"),F690<>\"\"),1,0)","v":0}]
[null,null,null,null,null,null,null,null,null,null,null,null,null,null,null,null,null,null,null,null,null,null,null,null,null,null,null,null,null,null,null,null,null,null,null,null,null,null,null,null,null,null,null,null,null,null,null,null,null,null,null,null,null,null,null,null,null,null,null,null,null,null,null,null,null,null,null,null,null,null,null,null,null,null,null,null,null,null,null,null,null,null,null,null,null,null,null,null,null,null,null,null,null,null,"",{"$f":"IF(LEFT(C696,2)=TABLE1!$F$1,1,0)","v":0},{"$f":"IF(AND(IF(AND(IF(OR(AND(CQ696=1,TABLE1!$AN$3=TRUE),AND(CQ696=2,TABLE1!$AN$4=TRUE),AND(CQ696=3,TABLE1!$AN$5=TRUE),AND(CQ696=4,TABLE1!$AQ$3=TRUE),AND(CQ696=5,TABLE1!$AQ$4=TRUE),AND(CQ696=6,TABLE1!$AQ$5=TRUE),AND(CQ696=7,TABLE1!$AT$3=TRUE),AND(CQ696=8,TABLE1!$AT$4=TRUE),AND(CQ696=9,TABLE1!$AT$5=TRUE),AND(CQ696=10,TABLE1!$AW$3=TRUE),AND(CQ696=11,TABLE1!$AW$4=TRUE),AND(CQ696=12,TABLE1!$AW$5=TRUE)),1,0)=1),1,0)=1,CR696=1,CT696=1),1,0)","v":0},{"$f":"IF(AND(OR(F696=TABLE1!$D$5,TABLE1!$D$5=\"کل بخشها\"),F696<>\"\"),1,0)","v":0}]
[null,null,null,null,null,null,null,null,null,null,null,null,null,null,null,null,null,null,null,null,null,null,null,null,null,null,null,null,null,null,null,null,null,null,null,null,null,null,null,null,null,null,null,null,null,null,null,null,null,null,null,null,null,null,null,null,null,null,null,null,null,null,null,null,null,null,null,null,null,null,null,null,null,null,null,null,null,null,null,null,null,null,null,null,null,null,null,null,null,null,null,null,null,null,"",{"$f":"IF(LEFT(C699,2)=TABLE1!$F$1,1,0)","v":0},{"$f":"IF(AND(IF(AND(IF(OR(AND(CQ699=1,TABLE1!$AN$3=TRUE),AND(CQ699=2,TABLE1!$AN$4=TRUE),AND(CQ699=3,TABLE1!$AN$5=TRUE),AND(CQ699=4,TABLE1!$AQ$3=TRUE),AND(CQ699=5,TABLE1!$AQ$4=TRUE),AND(CQ699=6,TABLE1!$AQ$5=TRUE),AND(CQ699=7,TABLE1!$AT$3=TRUE),AND(CQ699=8,TABLE1!$AT$4=TRUE),AND(CQ699=9,TABLE1!$AT$5=TRUE),AND(CQ699=10,TABLE1!$AW$3=TRUE),AND(CQ699=11,TABLE1!$AW$4=TRUE),AND(CQ699=12,TABLE1!$AW$5=TRUE)),1,0)=1),1,0)=1,CR699=1,CT699=1),1,0)","v":0},{"$f":"IF(AND(OR(F699=TABLE1!$D$5,TABLE1!$D$5=\"کل بخشها\"),F699<>\"\"),1,0)","v":0}]
[null,null,null,null,null,null,null,null,null,null,null,null,null,null,null,null,null,null,null,null,null,null,null,null,null,null,null,null,null,null,null,null,null,null,null,null,null,null,null,null,null,null,null,null,null,null,null,null,null,null,null,null,null,null,null,null,null,null,null,null,null,null,null,null,null,null,null,null,null,null,null,null,null,null,null,null,null,null,null,null,null,null,null,null,null,null,null,null,null,null,null,null,null,null,"",{"$f":"IF(LEFT(C705,2)=TABLE1!$F$1,1,0)","v":0},{"$f":"IF(AND(IF(AND(IF(OR(AND(CQ705=1,TABLE1!$AN$3=TRUE),AND(CQ705=2,TABLE1!$AN$4=TRUE),AND(CQ705=3,TABLE1!$AN$5=TRUE),AND(CQ705=4,TABLE1!$AQ$3=TRUE),AND(CQ705=5,TABLE1!$AQ$4=TRUE),AND(CQ705=6,TABLE1!$AQ$5=TRUE),AND(CQ705=7,TABLE1!$AT$3=TRUE),AND(CQ705=8,TABLE1!$AT$4=TRUE),AND(CQ705=9,TABLE1!$AT$5=TRUE),AND(CQ705=10,TABLE1!$AW$3=TRUE),AND(CQ705=11,TABLE1!$AW$4=TRUE),AND(CQ705=12,TABLE1!$AW$5=TRUE)),1,0)=1),1,0)=1,CR705=1,CT705=1),1,0)","v":0},{"$f":"IF(AND(OR(F705=TABLE1!$D$5,TABLE1!$D$5=\"کل بخشها\"),F705<>\"\"),1,0)","v":0}]
[null,null,null,null,null,null,null,null,null,null,null,null,null,null,null,null,null,null,null,null,null,null,null,null,null,null,null,null,null,null,null,null,null,null,null,null,null,null,null,null,null,null,null,null,null,null,null,null,null,null,null,null,null,null,null,null,null,null,null,null,null,null,null,null,null,null,null,null,null,null,null,null,null,null,null,null,null,null,null,null,null,null,null,null,null,null,null,null,null,null,null,null,null,null,"",{"$f":"IF(LEFT(C710,2)=TABLE1!$F$1,1,0)","v":0},{"$f":"IF(AND(IF(AND(IF(OR(AND(CQ710=1,TABLE1!$AN$3=TRUE),AND(CQ710=2,TABLE1!$AN$4=TRUE),AND(CQ710=3,TABLE1!$AN$5=TRUE),AND(CQ710=4,TABLE1!$AQ$3=TRUE),AND(CQ710=5,TABLE1!$AQ$4=TRUE),AND(CQ710=6,TABLE1!$AQ$5=TRUE),AND(CQ710=7,TABLE1!$AT$3=TRUE),AND(CQ710=8,TABLE1!$AT$4=TRUE),AND(CQ710=9,TABLE1!$AT$5=TRUE),AND(CQ710=10,TABLE1!$AW$3=TRUE),AND(CQ710=11,TABLE1!$AW$4=TRUE),AND(CQ710=12,TABLE1!$AW$5=TRUE)),1,0)=1),1,0)=1,CR710=1,CT710=1),1,0)","v":0},{"$f":"IF(AND(OR(F710=TABLE1!$D$5,TABLE1!$D$5=\"کل بخشها\"),F710<>\"\"),1,0)","v":0}]
[null,null,null,null,null,null,null,null,null,null,null,null,null,null,null,null,null,null,null,null,null,null,null,null,null,null,null,null,null,null,null,null,null,null,null,null,null,null,null,null,null,null,null,null,null,null,null,null,null,null,null,null,null,null,null,null,null,null,null,null,null,null,null,null,null,null,null,null,null,null,null,null,null,null,null,null,null,null,null,null,null,null,null,null,null,null,null,null,null,null,null,null,null,null,"",{"$f":"IF(LEFT(C715,2)=TABLE1!$F$1,1,0)","v":0},{"$f":"IF(AND(IF(AND(IF(OR(AND(CQ715=1,TABLE1!$AN$3=TRUE),AND(CQ715=2,TABLE1!$AN$4=TRUE),AND(CQ715=3,TABLE1!$AN$5=TRUE),AND(CQ715=4,TABLE1!$AQ$3=TRUE),AND(CQ715=5,TABLE1!$AQ$4=TRUE),AND(CQ715=6,TABLE1!$AQ$5=TRUE),AND(CQ715=7,TABLE1!$AT$3=TRUE),AND(CQ715=8,TABLE1!$AT$4=TRUE),AND(CQ715=9,TABLE1!$AT$5=TRUE),AND(CQ715=10,TABLE1!$AW$3=TRUE),AND(CQ715=11,TABLE1!$AW$4=TRUE),AND(CQ715=12,TABLE1!$AW$5=TRUE)),1,0)=1),1,0)=1,CR715=1,CT715=1),1,0)","v":0},{"$f":"IF(AND(OR(F715=TABLE1!$D$5,TABLE1!$D$5=\"کل بخشها\"),F715<>\"\"),1,0)","v":0}]
[null,null,null,null,null,null,null,null,null,null,null,null,null,null,null,null,null,null,null,null,null,null,null,null,null,null,null,null,null,null,null,null,null,null,null,null,null,null,null,null,null,null,null,null,null,null,null,null,null,null,null,null,null,null,null,null,null,null,null,null,null,null,null,null,null,null,null,null,null,null,null,null,null,null,null,null,null,null,null,null,null,null,null,null,null,null,null,null,null,null,null,null,null,null,"",{"$f":"IF(LEFT(C720,2)=TABLE1!$F$1,1,0)","v":0},{"$f":"IF(AND(IF(AND(IF(OR(AND(CQ720=1,TABLE1!$AN$3=TRUE),AND(CQ720=2,TABLE1!$AN$4=TRUE),AND(CQ720=3,TABLE1!$AN$5=TRUE),AND(CQ720=4,TABLE1!$AQ$3=TRUE),AND(CQ720=5,TABLE1!$AQ$4=TRUE),AND(CQ720=6,TABLE1!$AQ$5=TRUE),AND(CQ720=7,TABLE1!$AT$3=TRUE),AND(CQ720=8,TABLE1!$AT$4=TRUE),AND(CQ720=9,TABLE1!$AT$5=TRUE),AND(CQ720=10,TABLE1!$AW$3=TRUE),AND(CQ720=11,TABLE1!$AW$4=TRUE),AND(CQ720=12,TABLE1!$AW$5=TRUE)),1,0)=1),1,0)=1,CR720=1,CT720=1),1,0)","v":0},{"$f":"IF(AND(OR(F720=TABLE1!$D$5,TABLE1!$D$5=\"کل بخشها\"),F720<>\"\"),1,0)","v":0}]
[null,null,null,null,null,null,null,null,null,null,null,null,null,null,null,null,null,null,null,null,null,null,null,null,null,null,null,null,null,null,null,null,null,null,null,null,null,null,null,null,null,null,null,null,null,null,null,null,null,null,null,null,null,null,null,null,null,null,null,null,null,null,null,null,null,null,null,null,null,null,null,null,null,null,null,null,null,null,null,null,null,null,null,null,null,null,null,null,null,null,null,null,null,null,"",{"$f":"IF(LEFT(C725,2)=TABLE1!$F$1,1,0)","v":0},{"$f":"IF(AND(IF(AND(IF(OR(AND(CQ725=1,TABLE1!$AN$3=TRUE),AND(CQ725=2,TABLE1!$AN$4=TRUE),AND(CQ725=3,TABLE1!$AN$5=TRUE),AND(CQ725=4,TABLE1!$AQ$3=TRUE),AND(CQ725=5,TABLE1!$AQ$4=TRUE),AND(CQ725=6,TABLE1!$AQ$5=TRUE),AND(CQ725=7,TABLE1!$AT$3=TRUE),AND(CQ725=8,TABLE1!$AT$4=TRUE),AND(CQ725=9,TABLE1!$AT$5=TRUE),AND(CQ725=10,TABLE1!$AW$3=TRUE),AND(CQ725=11,TABLE1!$AW$4=TRUE),AND(CQ725=12,TABLE1!$AW$5=TRUE)),1,0)=1),1,0)=1,CR725=1,CT725=1),1,0)","v":0},{"$f":"IF(AND(OR(F725=TABLE1!$D$5,TABLE1!$D$5=\"کل بخشها\"),F725<>\"\"),1,0)","v":0}]
[null,null,null,null,null,null,null,null,null,null,null,null,null,null,null,null,null,null,null,null,null,null,null,null,null,null,null,null,null,null,null,null,null,null,null,null,null,null,null,null,null,null,null,null,null,null,null,null,null,null,null,null,null,null,null,null,null,null,null,null,null,null,null,null,null,null,null,null,null,null,null,null,null,null,null,null,null,null,null,null,null,null,null,null,null,null,null,null,null,null,null,null,null,null,"",{"$f":"IF(LEFT(C731,2)=TABLE1!$F$1,1,0)","v":0},{"$f":"IF(AND(IF(AND(IF(OR(AND(CQ731=1,TABLE1!$AN$3=TRUE),AND(CQ731=2,TABLE1!$AN$4=TRUE),AND(CQ731=3,TABLE1!$AN$5=TRUE),AND(CQ731=4,TABLE1!$AQ$3=TRUE),AND(CQ731=5,TABLE1!$AQ$4=TRUE),AND(CQ731=6,TABLE1!$AQ$5=TRUE),AND(CQ731=7,TABLE1!$AT$3=TRUE),AND(CQ731=8,TABLE1!$AT$4=TRUE),AND(CQ731=9,TABLE1!$AT$5=TRUE),AND(CQ731=10,TABLE1!$AW$3=TRUE),AND(CQ731=11,TABLE1!$AW$4=TRUE),AND(CQ731=12,TABLE1!$AW$5=TRUE)),1,0)=1),1,0)=1,CR731=1,CT731=1),1,0)","v":0},{"$f":"IF(AND(OR(F731=TABLE1!$D$5,TABLE1!$D$5=\"کل بخشها\"),F731<>\"\"),1,0)","v":0}]
[null,null,null,null,null,null,null,null,null,null,null,null,null,null,null,null,null,null,null,null,null,null,null,null,null,null,null,null,null,null,null,null,null,null,null,null,null,null,null,null,null,null,null,null,null,null,null,null,null,null,null,null,null,null,null,null,null,null,null,null,null,null,null,null,null,null,null,null,null,null,null,null,null,null,null,null,null,null,null,null,null,null,null,null,null,null,null,null,null,null,null,null,null,null,"",{"$f":"IF(LEFT(C734,2)=TABLE1!$F$1,1,0)","v":0},{"$f":"IF(AND(IF(AND(IF(OR(AND(CQ734=1,TABLE1!$AN$3=TRUE),AND(CQ734=2,TABLE1!$AN$4=TRUE),AND(CQ734=3,TABLE1!$AN$5=TRUE),AND(CQ734=4,TABLE1!$AQ$3=TRUE),AND(CQ734=5,TABLE1!$AQ$4=TRUE),AND(CQ734=6,TABLE1!$AQ$5=TRUE),AND(CQ734=7,TABLE1!$AT$3=TRUE),AND(CQ734=8,TABLE1!$AT$4=TRUE),AND(CQ734=9,TABLE1!$AT$5=TRUE),AND(CQ734=10,TABLE1!$AW$3=TRUE),AND(CQ734=11,TABLE1!$AW$4=TRUE),AND(CQ734=12,TABLE1!$AW$5=TRUE)),1,0)=1),1,0)=1,CR734=1,CT734=1),1,0)","v":0},{"$f":"IF(AND(OR(F734=TABLE1!$D$5,TABLE1!$D$5=\"کل بخشها\"),F734<>\"\"),1,0)","v":0}]
[null,null,null,null,null,null,null,null,null,null,null,null,null,null,null,null,null,null,null,null,null,null,null,null,null,null,null,null,null,null,null,null,null,null,null,null,null,null,null,null,null,null,null,null,null,null,null,null,null,null,null,null,null,null,null,null,null,null,null,null,null,null,null,null,null,null,null,null,null,null,null,null,null,null,null,null,null,null,null,null,null,null,null,null,null,null,null,null,null,null,null,null,null,null,"",{"$f":"IF(LEFT(C740,2)=TABLE1!$F$1,1,0)","v":0},{"$f":"IF(AND(IF(AND(IF(OR(AND(CQ740=1,TABLE1!$AN$3=TRUE),AND(CQ740=2,TABLE1!$AN$4=TRUE),AND(CQ740=3,TABLE1!$AN$5=TRUE),AND(CQ740=4,TABLE1!$AQ$3=TRUE),AND(CQ740=5,TABLE1!$AQ$4=TRUE),AND(CQ740=6,TABLE1!$AQ$5=TRUE),AND(CQ740=7,TABLE1!$AT$3=TRUE),AND(CQ740=8,TABLE1!$AT$4=TRUE),AND(CQ740=9,TABLE1!$AT$5=TRUE),AND(CQ740=10,TABLE1!$AW$3=TRUE),AND(CQ740=11,TABLE1!$AW$4=TRUE),AND(CQ740=12,TABLE1!$AW$5=TRUE)),1,0)=1),1,0)=1,CR740=1,CT740=1),1,0)","v":0},{"$f":"IF(AND(OR(F740=TABLE1!$D$5,TABLE1!$D$5=\"کل بخشها\"),F740<>\"\"),1,0)","v":0}]
[null,null,null,null,null,null,null,null,null,null,null,null,null,null,null,null,null,null,null,null,null,null,null,null,null,null,null,null,null,null,null,null,null,null,null,null,null,null,null,null,null,null,null,null,null,null,null,null,null,null,null,null,null,null,null,null,null,null,null,null,null,null,null,null,null,null,null,null,null,null,null,null,null,null,null,null,null,null,null,null,null,null,null,null,null,null,null,null,null,null,null,null,null,null,"",{"$f":"IF(LEFT(C741,2)=TABLE1!$F$1,1,0)","v":0},{"$f":"IF(AND(IF(AND(IF(OR(AND(CQ741=1,TABLE1!$AN$3=TRUE),AND(CQ741=2,TABLE1!$AN$4=TRUE),AND(CQ741=3,TABLE1!$AN$5=TRUE),AND(CQ741=4,TABLE1!$AQ$3=TRUE),AND(CQ741=5,TABLE1!$AQ$4=TRUE),AND(CQ741=6,TABLE1!$AQ$5=TRUE),AND(CQ741=7,TABLE1!$AT$3=TRUE),AND(CQ741=8,TABLE1!$AT$4=TRUE),AND(CQ741=9,TABLE1!$AT$5=TRUE),AND(CQ741=10,TABLE1!$AW$3=TRUE),AND(CQ741=11,TABLE1!$AW$4=TRUE),AND(CQ741=12,TABLE1!$AW$5=TRUE)),1,0)=1),1,0)=1,CR741=1,CT741=1),1,0)","v":0},{"$f":"IF(AND(OR(F741=TABLE1!$D$5,TABLE1!$D$5=\"کل بخشها\"),F741<>\"\"),1,0)","v":0}]
[null,null,null,null,null,null,null,null,null,null,null,null,null,null,null,null,null,null,null,null,null,null,null,null,null,null,null,null,null,null,null,null,null,null,null,null,null,null,null,null,null,null,null,null,null,null,null,null,null,null,null,null,null,null,null,null,null,null,null,null,null,null,null,null,null,null,null,null,null,null,null,null,null,null,null,null,null,null,null,null,null,null,null,null,null,null,null,null,null,null,null,null,null,null,"",{"$f":"IF(LEFT(C746,2)=TABLE1!$F$1,1,0)","v":0},{"$f":"IF(AND(IF(AND(IF(OR(AND(CQ746=1,TABLE1!$AN$3=TRUE),AND(CQ746=2,TABLE1!$AN$4=TRUE),AND(CQ746=3,TABLE1!$AN$5=TRUE),AND(CQ746=4,TABLE1!$AQ$3=TRUE),AND(CQ746=5,TABLE1!$AQ$4=TRUE),AND(CQ746=6,TABLE1!$AQ$5=TRUE),AND(CQ746=7,TABLE1!$AT$3=TRUE),AND(CQ746=8,TABLE1!$AT$4=TRUE),AND(CQ746=9,TABLE1!$AT$5=TRUE),AND(CQ746=10,TABLE1!$AW$3=TRUE),AND(CQ746=11,TABLE1!$AW$4=TRUE),AND(CQ746=12,TABLE1!$AW$5=TRUE)),1,0)=1),1,0)=1,CR746=1,CT746=1),1,0)","v":0},{"$f":"IF(AND(OR(F746=TABLE1!$D$5,TABLE1!$D$5=\"کل بخشها\"),F746<>\"\"),1,0)","v":0}]
[null,null,null,null,null,null,null,null,null,null,null,null,null,null,null,null,null,null,null,null,null,null,null,null,null,null,null,null,null,null,null,null,null,null,null,null,null,null,null,null,null,null,null,null,null,null,null,null,null,null,null,null,null,null,null,null,null,null,null,null,null,null,null,null,null,null,null,null,null,null,null,null,null,null,null,null,null,null,null,null,null,null,null,null,null,null,null,null,null,null,null,null,null,null,"",{"$f":"IF(LEFT(C753,2)=TABLE1!$F$1,1,0)","v":0},{"$f":"IF(AND(IF(AND(IF(OR(AND(CQ753=1,TABLE1!$AN$3=TRUE),AND(CQ753=2,TABLE1!$AN$4=TRUE),AND(CQ753=3,TABLE1!$AN$5=TRUE),AND(CQ753=4,TABLE1!$AQ$3=TRUE),AND(CQ753=5,TABLE1!$AQ$4=TRUE),AND(CQ753=6,TABLE1!$AQ$5=TRUE),AND(CQ753=7,TABLE1!$AT$3=TRUE),AND(CQ753=8,TABLE1!$AT$4=TRUE),AND(CQ753=9,TABLE1!$AT$5=TRUE),AND(CQ753=10,TABLE1!$AW$3=TRUE),AND(CQ753=11,TABLE1!$AW$4=TRUE),AND(CQ753=12,TABLE1!$AW$5=TRUE)),1,0)=1),1,0)=1,CR753=1,CT753=1),1,0)","v":0},{"$f":"IF(AND(OR(F753=TABLE1!$D$5,TABLE1!$D$5=\"کل بخشها\"),F753<>\"\"),1,0)","v":0}]
[null,null,null,null,null,null,null,null,null,null,null,null,null,null,null,null,null,null,null,null,null,null,null,null,null,null,null,null,null,null,null,null,null,null,null,null,null,null,null,null,null,null,null,null,null,null,null,null,null,null,null,null,null,null,null,null,null,null,null,null,null,null,null,null,null,null,null,null,null,null,null,null,null,null,null,null,null,null,null,null,null,null,null,null,null,null,null,null,null,null,null,null,null,null,"",{"$f":"IF(LEFT(C756,2)=TABLE1!$F$1,1,0)","v":0},{"$f":"IF(AND(IF(AND(IF(OR(AND(CQ756=1,TABLE1!$AN$3=TRUE),AND(CQ756=2,TABLE1!$AN$4=TRUE),AND(CQ756=3,TABLE1!$AN$5=TRUE),AND(CQ756=4,TABLE1!$AQ$3=TRUE),AND(CQ756=5,TABLE1!$AQ$4=TRUE),AND(CQ756=6,TABLE1!$AQ$5=TRUE),AND(CQ756=7,TABLE1!$AT$3=TRUE),AND(CQ756=8,TABLE1!$AT$4=TRUE),AND(CQ756=9,TABLE1!$AT$5=TRUE),AND(CQ756=10,TABLE1!$AW$3=TRUE),AND(CQ756=11,TABLE1!$AW$4=TRUE),AND(CQ756=12,TABLE1!$AW$5=TRUE)),1,0)=1),1,0)=1,CR756=1,CT756=1),1,0)","v":0},{"$f":"IF(AND(OR(F756=TABLE1!$D$5,TABLE1!$D$5=\"کل بخشها\"),F756<>\"\"),1,0)","v":0}]
[null,null,null,null,null,null,null,null,null,null,null,null,null,null,null,null,null,null,null,null,null,null,null,null,null,null,null,null,null,null,null,null,null,null,null,null,null,null,null,null,null,null,null,null,null,null,null,null,null,null,null,null,null,null,null,null,null,null,null,null,null,null,null,null,null,null,null,null,null,null,null,null,null,null,null,null,null,null,null,null,null,null,null,null,null,null,null,null,null,null,null,null,null,null,"",{"$f":"IF(LEFT(C761,2)=TABLE1!$F$1,1,0)","v":0},{"$f":"IF(AND(IF(AND(IF(OR(AND(CQ761=1,TABLE1!$AN$3=TRUE),AND(CQ761=2,TABLE1!$AN$4=TRUE),AND(CQ761=3,TABLE1!$AN$5=TRUE),AND(CQ761=4,TABLE1!$AQ$3=TRUE),AND(CQ761=5,TABLE1!$AQ$4=TRUE),AND(CQ761=6,TABLE1!$AQ$5=TRUE),AND(CQ761=7,TABLE1!$AT$3=TRUE),AND(CQ761=8,TABLE1!$AT$4=TRUE),AND(CQ761=9,TABLE1!$AT$5=TRUE),AND(CQ761=10,TABLE1!$AW$3=TRUE),AND(CQ761=11,TABLE1!$AW$4=TRUE),AND(CQ761=12,TABLE1!$AW$5=TRUE)),1,0)=1),1,0)=1,CR761=1,CT761=1),1,0)","v":0},{"$f":"IF(AND(OR(F761=TABLE1!$D$5,TABLE1!$D$5=\"کل بخشها\"),F761<>\"\"),1,0)","v":0}]
[null,null,null,null,null,null,null,null,null,null,null,null,null,null,null,null,null,null,null,null,null,null,null,null,null,null,null,null,null,null,null,null,null,null,null,null,null,null,null,null,null,null,null,null,null,null,null,null,null,null,null,null,null,null,null,null,null,null,null,null,null,null,null,null,null,null,null,null,null,null,null,null,null,null,null,null,null,null,null,null,null,null,null,null,null,null,null,null,null,null,null,null,null,null,"",{"$f":"IF(LEFT(C767,2)=TABLE1!$F$1,1,0)","v":0},{"$f":"IF(AND(IF(AND(IF(OR(AND(CQ767=1,TABLE1!$AN$3=TRUE),AND(CQ767=2,TABLE1!$AN$4=TRUE),AND(CQ767=3,TABLE1!$AN$5=TRUE),AND(CQ767=4,TABLE1!$AQ$3=TRUE),AND(CQ767=5,TABLE1!$AQ$4=TRUE),AND(CQ767=6,TABLE1!$AQ$5=TRUE),AND(CQ767=7,TABLE1!$AT$3=TRUE),AND(CQ767=8,TABLE1!$AT$4=TRUE),AND(CQ767=9,TABLE1!$AT$5=TRUE),AND(CQ767=10,TABLE1!$AW$3=TRUE),AND(CQ767=11,TABLE1!$AW$4=TRUE),AND(CQ767=12,TABLE1!$AW$5=TRUE)),1,0)=1),1,0)=1,CR767=1,CT767=1),1,0)","v":0},{"$f":"IF(AND(OR(F767=TABLE1!$D$5,TABLE1!$D$5=\"کل بخشها\"),F767<>\"\"),1,0)","v":0}]
[null,null,null,null,null,null,null,null,null,null,null,null,null,null,null,null,null,null,null,null,null,null,null,null,null,null,null,null,null,null,null,null,null,null,null,null,null,null,null,null,null,null,null,null,null,null,null,null,null,null,null,null,null,null,null,null,null,null,null,null,null,null,null,null,null,null,null,null,null,null,null,null,null,null,null,null,null,null,null,null,null,null,null,null,null,null,null,null,null,null,null,null,null,null,"",{"$f":"IF(LEFT(C772,2)=TABLE1!$F$1,1,0)","v":0},{"$f":"IF(AND(IF(AND(IF(OR(AND(CQ772=1,TABLE1!$AN$3=TRUE),AND(CQ772=2,TABLE1!$AN$4=TRUE),AND(CQ772=3,TABLE1!$AN$5=TRUE),AND(CQ772=4,TABLE1!$AQ$3=TRUE),AND(CQ772=5,TABLE1!$AQ$4=TRUE),AND(CQ772=6,TABLE1!$AQ$5=TRUE),AND(CQ772=7,TABLE1!$AT$3=TRUE),AND(CQ772=8,TABLE1!$AT$4=TRUE),AND(CQ772=9,TABLE1!$AT$5=TRUE),AND(CQ772=10,TABLE1!$AW$3=TRUE),AND(CQ772=11,TABLE1!$AW$4=TRUE),AND(CQ772=12,TABLE1!$AW$5=TRUE)),1,0)=1),1,0)=1,CR772=1,CT772=1),1,0)","v":0},{"$f":"IF(AND(OR(F772=TABLE1!$D$5,TABLE1!$D$5=\"کل بخشها\"),F772<>\"\"),1,0)","v":0}]
[null,null,null,null,null,null,null,null,null,null,null,null,null,null,null,null,null,null,null,null,null,null,null,null,null,null,null,null,null,null,null,null,null,null,null,null,null,null,null,null,null,null,null,null,null,null,null,null,null,null,null,null,null,null,null,null,null,null,null,null,null,null,null,null,null,null,null,null,null,null,null,null,null,null,null,null,null,null,null,null,null,null,null,null,null,null,null,null,null,null,null,null,null,null,"",{"$f":"IF(LEFT(C778,2)=TABLE1!$F$1,1,0)","v":0},{"$f":"IF(AND(IF(AND(IF(OR(AND(CQ778=1,TABLE1!$AN$3=TRUE),AND(CQ778=2,TABLE1!$AN$4=TRUE),AND(CQ778=3,TABLE1!$AN$5=TRUE),AND(CQ778=4,TABLE1!$AQ$3=TRUE),AND(CQ778=5,TABLE1!$AQ$4=TRUE),AND(CQ778=6,TABLE1!$AQ$5=TRUE),AND(CQ778=7,TABLE1!$AT$3=TRUE),AND(CQ778=8,TABLE1!$AT$4=TRUE),AND(CQ778=9,TABLE1!$AT$5=TRUE),AND(CQ778=10,TABLE1!$AW$3=TRUE),AND(CQ778=11,TABLE1!$AW$4=TRUE),AND(CQ778=12,TABLE1!$AW$5=TRUE)),1,0)=1),1,0)=1,CR778=1,CT778=1),1,0)","v":0},{"$f":"IF(AND(OR(F778=TABLE1!$D$5,TABLE1!$D$5=\"کل بخشها\"),F778<>\"\"),1,0)","v":0}]
[null,null,null,null,null,null,null,null,null,null,null,null,null,null,null,null,null,null,null,null,null,null,null,null,null,null,null,null,null,null,null,null,null,null,null,null,null,null,null,null,null,null,null,null,null,null,null,null,null,null,null,null,null,null,null,null,null,null,null,null,null,null,null,null,null,null,null,null,null,null,null,null,null,null,null,null,null,null,null,null,null,null,null,null,null,null,null,null,null,null,null,null,null,null,"",{"$f":"IF(LEFT(C782,2)=TABLE1!$F$1,1,0)","v":0},{"$f":"IF(AND(IF(AND(IF(OR(AND(CQ782=1,TABLE1!$AN$3=TRUE),AND(CQ782=2,TABLE1!$AN$4=TRUE),AND(CQ782=3,TABLE1!$AN$5=TRUE),AND(CQ782=4,TABLE1!$AQ$3=TRUE),AND(CQ782=5,TABLE1!$AQ$4=TRUE),AND(CQ782=6,TABLE1!$AQ$5=TRUE),AND(CQ782=7,TABLE1!$AT$3=TRUE),AND(CQ782=8,TABLE1!$AT$4=TRUE),AND(CQ782=9,TABLE1!$AT$5=TRUE),AND(CQ782=10,TABLE1!$AW$3=TRUE),AND(CQ782=11,TABLE1!$AW$4=TRUE),AND(CQ782=12,TABLE1!$AW$5=TRUE)),1,0)=1),1,0)=1,CR782=1,CT782=1),1,0)","v":0},{"$f":"IF(AND(OR(F782=TABLE1!$D$5,TABLE1!$D$5=\"کل بخشها\"),F782<>\"\"),1,0)","v":0}]
[null,null,null,null,null,null,null,null,null,null,null,null,null,null,null,null,null,null,null,null,null,null,null,null,null,null,null,null,null,null,null,null,null,null,null,null,null,null,null,null,null,null,null,null,null,null,null,null,null,null,null,null,null,null,null,null,null,null,null,null,null,null,null,null,null,null,null,null,null,null,null,null,null,null,null,null,null,null,null,null,null,null,null,null,null,null,null,null,null,null,null,null,null,null,"",{"$f":"IF(LEFT(C787,2)=TABLE1!$F$1,1,0)","v":0},{"$f":"IF(AND(IF(AND(IF(OR(AND(CQ787=1,TABLE1!$AN$3=TRUE),AND(CQ787=2,TABLE1!$AN$4=TRUE),AND(CQ787=3,TABLE1!$AN$5=TRUE),AND(CQ787=4,TABLE1!$AQ$3=TRUE),AND(CQ787=5,TABLE1!$AQ$4=TRUE),AND(CQ787=6,TABLE1!$AQ$5=TRUE),AND(CQ787=7,TABLE1!$AT$3=TRUE),AND(CQ787=8,TABLE1!$AT$4=TRUE),AND(CQ787=9,TABLE1!$AT$5=TRUE),AND(CQ787=10,TABLE1!$AW$3=TRUE),AND(CQ787=11,TABLE1!$AW$4=TRUE),AND(CQ787=12,TABLE1!$AW$5=TRUE)),1,0)=1),1,0)=1,CR787=1,CT787=1),1,0)","v":0},{"$f":"IF(AND(OR(F787=TABLE1!$D$5,TABLE1!$D$5=\"کل بخشها\"),F787<>\"\"),1,0)","v":0}]
[null,null,null,null,null,null,null,null,null,null,null,null,null,null,null,null,null,null,null,null,null,null,null,null,null,null,null,null,null,null,null,null,null,null,null,null,null,null,null,null,null,null,null,null,null,null,null,null,null,null,null,null,null,null,null,null,null,null,null,null,null,null,null,null,null,null,null,null,null,null,null,null,null,null,null,null,null,null,null,null,null,null,null,null,null,null,null,null,null,null,null,null,null,null,"",{"$f":"IF(LEFT(C793,2)=TABLE1!$F$1,1,0)","v":0},{"$f":"IF(AND(IF(AND(IF(OR(AND(CQ793=1,TABLE1!$AN$3=TRUE),AND(CQ793=2,TABLE1!$AN$4=TRUE),AND(CQ793=3,TABLE1!$AN$5=TRUE),AND(CQ793=4,TABLE1!$AQ$3=TRUE),AND(CQ793=5,TABLE1!$AQ$4=TRUE),AND(CQ793=6,TABLE1!$AQ$5=TRUE),AND(CQ793=7,TABLE1!$AT$3=TRUE),AND(CQ793=8,TABLE1!$AT$4=TRUE),AND(CQ793=9,TABLE1!$AT$5=TRUE),AND(CQ793=10,TABLE1!$AW$3=TRUE),AND(CQ793=11,TABLE1!$AW$4=TRUE),AND(CQ793=12,TABLE1!$AW$5=TRUE)),1,0)=1),1,0)=1,CR793=1,CT793=1),1,0)","v":0},{"$f":"IF(AND(OR(F793=TABLE1!$D$5,TABLE1!$D$5=\"کل بخشها\"),F793<>\"\"),1,0)","v":0}]
[null,null,null,null,null,null,null,null,null,null,null,null,null,null,null,null,null,null,null,null,null,null,null,null,null,null,null,null,null,null,null,null,null,null,null,null,null,null,null,null,null,null,null,null,null,null,null,null,null,null,null,null,null,null,null,null,null,null,null,null,null,null,null,null,null,null,null,null,null,null,null,null,null,null,null,null,null,null,null,null,null,null,null,null,null,null,null,null,null,null,null,null,null,null,"",{"$f":"IF(LEFT(C797,2)=TABLE1!$F$1,1,0)","v":0},{"$f":"IF(AND(IF(AND(IF(OR(AND(CQ797=1,TABLE1!$AN$3=TRUE),AND(CQ797=2,TABLE1!$AN$4=TRUE),AND(CQ797=3,TABLE1!$AN$5=TRUE),AND(CQ797=4,TABLE1!$AQ$3=TRUE),AND(CQ797=5,TABLE1!$AQ$4=TRUE),AND(CQ797=6,TABLE1!$AQ$5=TRUE),AND(CQ797=7,TABLE1!$AT$3=TRUE),AND(CQ797=8,TABLE1!$AT$4=TRUE),AND(CQ797=9,TABLE1!$AT$5=TRUE),AND(CQ797=10,TABLE1!$AW$3=TRUE),AND(CQ797=11,TABLE1!$AW$4=TRUE),AND(CQ797=12,TABLE1!$AW$5=TRUE)),1,0)=1),1,0)=1,CR797=1,CT797=1),1,0)","v":0},{"$f":"IF(AND(OR(F797=TABLE1!$D$5,TABLE1!$D$5=\"کل بخشها\"),F797<>\"\"),1,0)","v":0}]
[null,null,null,null,null,null,null,null,null,null,null,null,null,null,null,null,null,null,null,null,null,null,null,null,null,null,null,null,null,null,null,null,null,null,null,null,null,null,null,null,null,null,null,null,null,null,null,null,null,null,null,null,null,null,null,null,null,null,null,null,null,null,null,null,null,null,null,null,null,null,null,null,null,null,null,null,null,null,null,null,null,null,null,null,null,null,null,null,null,null,null,null,null,null,"",{"$f":"IF(LEFT(C802,2)=TABLE1!$F$1,1,0)","v":0},{"$f":"IF(AND(IF(AND(IF(OR(AND(CQ802=1,TABLE1!$AN$3=TRUE),AND(CQ802=2,TABLE1!$AN$4=TRUE),AND(CQ802=3,TABLE1!$AN$5=TRUE),AND(CQ802=4,TABLE1!$AQ$3=TRUE),AND(CQ802=5,TABLE1!$AQ$4=TRUE),AND(CQ802=6,TABLE1!$AQ$5=TRUE),AND(CQ802=7,TABLE1!$AT$3=TRUE),AND(CQ802=8,TABLE1!$AT$4=TRUE),AND(CQ802=9,TABLE1!$AT$5=TRUE),AND(CQ802=10,TABLE1!$AW$3=TRUE),AND(CQ802=11,TABLE1!$AW$4=TRUE),AND(CQ802=12,TABLE1!$AW$5=TRUE)),1,0)=1),1,0)=1,CR802=1,CT802=1),1,0)","v":0},{"$f":"IF(AND(OR(F802=TABLE1!$D$5,TABLE1!$D$5=\"کل بخشها\"),F802<>\"\"),1,0)","v":0}]
[null,null,null,null,null,null,null,null,null,null,null,null,null,null,null,null,null,null,null,null,null,null,null,null,null,null,null,null,null,null,null,null,null,null,null,null,null,null,null,null,null,null,null,null,null,null,null,null,null,null,null,null,null,null,null,null,null,null,null,null,null,null,null,null,null,null,null,null,null,null,null,null,null,null,null,null,null,null,null,null,null,null,null,null,null,null,null,null,null,null,null,null,null,null,"",{"$f":"IF(LEFT(C803,2)=TABLE1!$F$1,1,0)","v":0},{"$f":"IF(AND(IF(AND(IF(OR(AND(CQ803=1,TABLE1!$AN$3=TRUE),AND(CQ803=2,TABLE1!$AN$4=TRUE),AND(CQ803=3,TABLE1!$AN$5=TRUE),AND(CQ803=4,TABLE1!$AQ$3=TRUE),AND(CQ803=5,TABLE1!$AQ$4=TRUE),AND(CQ803=6,TABLE1!$AQ$5=TRUE),AND(CQ803=7,TABLE1!$AT$3=TRUE),AND(CQ803=8,TABLE1!$AT$4=TRUE),AND(CQ803=9,TABLE1!$AT$5=TRUE),AND(CQ803=10,TABLE1!$AW$3=TRUE),AND(CQ803=11,TABLE1!$AW$4=TRUE),AND(CQ803=12,TABLE1!$AW$5=TRUE)),1,0)=1),1,0)=1,CR803=1,CT803=1),1,0)","v":0},{"$f":"IF(AND(OR(F803=TABLE1!$D$5,TABLE1!$D$5=\"کل بخشها\"),F803<>\"\"),1,0)","v":0}]
[null,null,null,null,null,null,null,null,null,null,null,null,null,null,null,null,null,null,null,null,null,null,null,null,null,null,null,null,null,null,null,null,null,null,null,null,null,null,null,null,null,null,null,null,null,null,null,null,null,null,null,null,null,null,null,null,null,null,null,null,null,null,null,null,null,null,null,null,null,null,null,null,null,null,null,null,null,null,null,null,null,null,null,null,null,null,null,null,null,null,null,null,null,null,"",{"$f":"IF(LEFT(C808,2)=TABLE1!$F$1,1,0)","v":0},{"$f":"IF(AND(IF(AND(IF(OR(AND(CQ808=1,TABLE1!$AN$3=TRUE),AND(CQ808=2,TABLE1!$AN$4=TRUE),AND(CQ808=3,TABLE1!$AN$5=TRUE),AND(CQ808=4,TABLE1!$AQ$3=TRUE),AND(CQ808=5,TABLE1!$AQ$4=TRUE),AND(CQ808=6,TABLE1!$AQ$5=TRUE),AND(CQ808=7,TABLE1!$AT$3=TRUE),AND(CQ808=8,TABLE1!$AT$4=TRUE),AND(CQ808=9,TABLE1!$AT$5=TRUE),AND(CQ808=10,TABLE1!$AW$3=TRUE),AND(CQ808=11,TABLE1!$AW$4=TRUE),AND(CQ808=12,TABLE1!$AW$5=TRUE)),1,0)=1),1,0)=1,CR808=1,CT808=1),1,0)","v":0},{"$f":"IF(AND(OR(F808=TABLE1!$D$5,TABLE1!$D$5=\"کل بخشها\"),F808<>\"\"),1,0)","v":0}]
[null,null,null,null,null,null,null,null,null,null,null,null,null,null,null,null,null,null,null,null,null,null,null,null,null,null,null,null,null,null,null,null,null,null,null,null,null,null,null,null,null,null,null,null,null,null,null,null,null,null,null,null,null,null,null,null,null,null,null,null,null,null,null,null,null,null,null,null,null,null,null,null,null,null,null,null,null,null,null,null,null,null,null,null,null,null,null,null,null,null,null,null,null,null,"",{"$f":"IF(LEFT(C816,2)=TABLE1!$F$1,1,0)","v":0},{"$f":"IF(AND(IF(AND(IF(OR(AND(CQ816=1,TABLE1!$AN$3=TRUE),AND(CQ816=2,TABLE1!$AN$4=TRUE),AND(CQ816=3,TABLE1!$AN$5=TRUE),AND(CQ816=4,TABLE1!$AQ$3=TRUE),AND(CQ816=5,TABLE1!$AQ$4=TRUE),AND(CQ816=6,TABLE1!$AQ$5=TRUE),AND(CQ816=7,TABLE1!$AT$3=TRUE),AND(CQ816=8,TABLE1!$AT$4=TRUE),AND(CQ816=9,TABLE1!$AT$5=TRUE),AND(CQ816=10,TABLE1!$AW$3=TRUE),AND(CQ816=11,TABLE1!$AW$4=TRUE),AND(CQ816=12,TABLE1!$AW$5=TRUE)),1,0)=1),1,0)=1,CR816=1,CT816=1),1,0)","v":0},{"$f":"IF(AND(OR(F816=TABLE1!$D$5,TABLE1!$D$5=\"کل بخشها\"),F816<>\"\"),1,0)","v":0}]
[null,null,null,null,null,null,null,null,null,null,null,null,null,null,null,null,null,null,null,null,null,null,null,null,null,null,null,null,null,null,null,null,null,null,null,null,null,null,null,null,null,null,null,null,null,null,null,null,null,null,null,null,null,null,null,null,null,null,null,null,null,null,null,null,null,null,null,null,null,null,null,null,null,null,null,null,null,null,null,null,null,null,null,null,null,null,null,null,null,null,null,null,null,null,"",{"$f":"IF(LEFT(C818,2)=TABLE1!$F$1,1,0)","v":0},{"$f":"IF(AND(IF(AND(IF(OR(AND(CQ818=1,TABLE1!$AN$3=TRUE),AND(CQ818=2,TABLE1!$AN$4=TRUE),AND(CQ818=3,TABLE1!$AN$5=TRUE),AND(CQ818=4,TABLE1!$AQ$3=TRUE),AND(CQ818=5,TABLE1!$AQ$4=TRUE),AND(CQ818=6,TABLE1!$AQ$5=TRUE),AND(CQ818=7,TABLE1!$AT$3=TRUE),AND(CQ818=8,TABLE1!$AT$4=TRUE),AND(CQ818=9,TABLE1!$AT$5=TRUE),AND(CQ818=10,TABLE1!$AW$3=TRUE),AND(CQ818=11,TABLE1!$AW$4=TRUE),AND(CQ818=12,TABLE1!$AW$5=TRUE)),1,0)=1),1,0)=1,CR818=1,CT818=1),1,0)","v":0},{"$f":"IF(AND(OR(F818=TABLE1!$D$5,TABLE1!$D$5=\"کل بخشها\"),F818<>\"\"),1,0)","v":0}]
[null,null,null,null,null,null,null,null,null,null,null,null,null,null,null,null,null,null,null,null,null,null,null,null,null,null,null,null,null,null,null,null,null,null,null,null,null,null,null,null,null,null,null,null,null,null,null,null,null,null,null,null,null,null,null,null,null,null,null,null,null,null,null,null,null,null,null,null,null,null,null,null,null,null,null,null,null,null,null,null,null,null,null,null,null,null,null,null,null,null,null,null,null,null,"",{"$f":"IF(LEFT(C823,2)=TABLE1!$F$1,1,0)","v":0},{"$f":"IF(AND(IF(AND(IF(OR(AND(CQ823=1,TABLE1!$AN$3=TRUE),AND(CQ823=2,TABLE1!$AN$4=TRUE),AND(CQ823=3,TABLE1!$AN$5=TRUE),AND(CQ823=4,TABLE1!$AQ$3=TRUE),AND(CQ823=5,TABLE1!$AQ$4=TRUE),AND(CQ823=6,TABLE1!$AQ$5=TRUE),AND(CQ823=7,TABLE1!$AT$3=TRUE),AND(CQ823=8,TABLE1!$AT$4=TRUE),AND(CQ823=9,TABLE1!$AT$5=TRUE),AND(CQ823=10,TABLE1!$AW$3=TRUE),AND(CQ823=11,TABLE1!$AW$4=TRUE),AND(CQ823=12,TABLE1!$AW$5=TRUE)),1,0)=1),1,0)=1,CR823=1,CT823=1),1,0)","v":0},{"$f":"IF(AND(OR(F823=TABLE1!$D$5,TABLE1!$D$5=\"کل بخشها\"),F823<>\"\"),1,0)","v":0}]
[null,null,null,null,null,null,null,null,null,null,null,null,null,null,null,null,null,null,null,null,null,null,null,null,null,null,null,null,null,null,null,null,null,null,null,null,null,null,null,null,null,null,null,null,null,null,null,null,null,null,null,null,null,null,null,null,null,null,null,null,null,null,null,null,null,null,null,null,null,null,null,null,null,null,null,null,null,null,null,null,null,null,null,null,null,null,null,null,null,null,null,null,null,null,"",{"$f":"IF(LEFT(C829,2)=TABLE1!$F$1,1,0)","v":0},{"$f":"IF(AND(IF(AND(IF(OR(AND(CQ829=1,TABLE1!$AN$3=TRUE),AND(CQ829=2,TABLE1!$AN$4=TRUE),AND(CQ829=3,TABLE1!$AN$5=TRUE),AND(CQ829=4,TABLE1!$AQ$3=TRUE),AND(CQ829=5,TABLE1!$AQ$4=TRUE),AND(CQ829=6,TABLE1!$AQ$5=TRUE),AND(CQ829=7,TABLE1!$AT$3=TRUE),AND(CQ829=8,TABLE1!$AT$4=TRUE),AND(CQ829=9,TABLE1!$AT$5=TRUE),AND(CQ829=10,TABLE1!$AW$3=TRUE),AND(CQ829=11,TABLE1!$AW$4=TRUE),AND(CQ829=12,TABLE1!$AW$5=TRUE)),1,0)=1),1,0)=1,CR829=1,CT829=1),1,0)","v":0},{"$f":"IF(AND(OR(F829=TABLE1!$D$5,TABLE1!$D$5=\"کل بخشها\"),F829<>\"\"),1,0)","v":0}]
[null,null,null,null,null,null,null,null,null,null,null,null,null,null,null,null,null,null,null,null,null,null,null,null,null,null,null,null,null,null,null,null,null,null,null,null,null,null,null,null,null,null,null,null,null,null,null,null,null,null,null,null,null,null,null,null,null,null,null,null,null,null,null,null,null,null,null,null,null,null,null,null,null,null,null,null,null,null,null,null,null,null,null,null,null,null,null,null,null,null,null,null,null,null,{"$f":"IFERROR(VALUE(MID(C835,3,2)),\"\")","v":""},{"$f":"IF(LEFT(C835,2)=TABLE1!$F$1,1,0)","v":0},{"$f":"IF(AND(IF(AND(IF(OR(AND(CQ835=1,TABLE1!$AN$3=TRUE),AND(CQ835=2,TABLE1!$AN$4=TRUE),AND(CQ835=3,TABLE1!$AN$5=TRUE),AND(CQ835=4,TABLE1!$AQ$3=TRUE),AND(CQ835=5,TABLE1!$AQ$4=TRUE),AND(CQ835=6,TABLE1!$AQ$5=TRUE),AND(CQ835=7,TABLE1!$AT$3=TRUE),AND(CQ835=8,TABLE1!$AT$4=TRUE),AND(CQ835=9,TABLE1!$AT$5=TRUE),AND(CQ835=10,TABLE1!$AW$3=TRUE),AND(CQ835=11,TABLE1!$AW$4=TRUE),AND(CQ835=12,TABLE1!$AW$5=TRUE)),1,0)=1),1,0)=1,CR835=1,CT835=1),1,0)","v":0},{"$f":"IF(AND(OR(F835=TABLE1!$D$5,TABLE1!$D$5=\"کل بخشها\"),F835<>\"\"),1,0)","v":0}]
[null,null,null,null,null,null,null,null,null,null,null,null,null,null,null,null,null,null,null,null,null,null,null,null,null,null,null,null,null,null,null,null,null,null,null,null,null,null,null,null,null,null,null,null,null,null,null,null,null,null,null,null,null,null,null,null,null,null,null,null,null,null,null,null,null,null,null,null,null,null,null,null,null,null,null,null,null,null,null,null,null,null,null,null,null,null,null,null,null,null,null,null,null,null,"",{"$f":"IF(LEFT(C838,2)=TABLE1!$F$1,1,0)","v":0},{"$f":"IF(AND(IF(AND(IF(OR(AND(CQ838=1,TABLE1!$AN$3=TRUE),AND(CQ838=2,TABLE1!$AN$4=TRUE),AND(CQ838=3,TABLE1!$AN$5=TRUE),AND(CQ838=4,TABLE1!$AQ$3=TRUE),AND(CQ838=5,TABLE1!$AQ$4=TRUE),AND(CQ838=6,TABLE1!$AQ$5=TRUE),AND(CQ838=7,TABLE1!$AT$3=TRUE),AND(CQ838=8,TABLE1!$AT$4=TRUE),AND(CQ838=9,TABLE1!$AT$5=TRUE),AND(CQ838=10,TABLE1!$AW$3=TRUE),AND(CQ838=11,TABLE1!$AW$4=TRUE),AND(CQ838=12,TABLE1!$AW$5=TRUE)),1,0)=1),1,0)=1,CR838=1,CT838=1),1,0)","v":0},{"$f":"IF(AND(OR(F838=TABLE1!$D$5,TABLE1!$D$5=\"کل بخشها\"),F838<>\"\"),1,0)","v":0}]
[null,null,null,null,null,null,null,null,null,null,null,null,null,null,null,null,null,null,null,null,null,null,null,null,null,null,null,null,null,null,null,null,null,null,null,null,null,null,null,null,null,null,null,null,null,null,null,null,null,null,null,null,null,null,null,null,null,null,null,null,null,null,null,null,null,null,null,null,null,null,null,null,null,null,null,null,null,null,null,null,null,null,null,null,null,null,null,null,null,null,null,null,null,null,"",{"$f":"IF(LEFT(C844,2)=TABLE1!$F$1,1,0)","v":0},{"$f":"IF(AND(IF(AND(IF(OR(AND(CQ844=1,TABLE1!$AN$3=TRUE),AND(CQ844=2,TABLE1!$AN$4=TRUE),AND(CQ844=3,TABLE1!$AN$5=TRUE),AND(CQ844=4,TABLE1!$AQ$3=TRUE),AND(CQ844=5,TABLE1!$AQ$4=TRUE),AND(CQ844=6,TABLE1!$AQ$5=TRUE),AND(CQ844=7,TABLE1!$AT$3=TRUE),AND(CQ844=8,TABLE1!$AT$4=TRUE),AND(CQ844=9,TABLE1!$AT$5=TRUE),AND(CQ844=10,TABLE1!$AW$3=TRUE),AND(CQ844=11,TABLE1!$AW$4=TRUE),AND(CQ844=12,TABLE1!$AW$5=TRUE)),1,0)=1),1,0)=1,CR844=1,CT844=1),1,0)","v":0},{"$f":"IF(AND(OR(F844=TABLE1!$D$5,TABLE1!$D$5=\"کل بخشها\"),F844<>\"\"),1,0)","v":0}]
[null,null,null,null,null,null,null,null,null,null,null,null,null,null,null,null,null,null,null,null,null,null,null,null,null,null,null,null,null,null,null,null,null,null,null,null,null,null,null,null,null,null,null,null,null,null,null,null,null,null,null,null,null,null,null,null,null,null,null,null,null,null,null,null,null,null,null,null,null,null,null,null,null,null,null,null,null,null,null,null,null,null,null,null,null,null,null,null,null,null,null,null,null,null,"",{"$f":"IF(LEFT(C849,2)=TABLE1!$F$1,1,0)","v":0},{"$f":"IF(AND(IF(AND(IF(OR(AND(CQ849=1,TABLE1!$AN$3=TRUE),AND(CQ849=2,TABLE1!$AN$4=TRUE),AND(CQ849=3,TABLE1!$AN$5=TRUE),AND(CQ849=4,TABLE1!$AQ$3=TRUE),AND(CQ849=5,TABLE1!$AQ$4=TRUE),AND(CQ849=6,TABLE1!$AQ$5=TRUE),AND(CQ849=7,TABLE1!$AT$3=TRUE),AND(CQ849=8,TABLE1!$AT$4=TRUE),AND(CQ849=9,TABLE1!$AT$5=TRUE),AND(CQ849=10,TABLE1!$AW$3=TRUE),AND(CQ849=11,TABLE1!$AW$4=TRUE),AND(CQ849=12,TABLE1!$AW$5=TRUE)),1,0)=1),1,0)=1,CR849=1,CT849=1),1,0)","v":0},{"$f":"IF(AND(OR(F849=TABLE1!$D$5,TABLE1!$D$5=\"کل بخشها\"),F849<>\"\"),1,0)","v":0}]
[null,null,null,null,null,null,null,null,null,null,null,null,null,null,null,null,null,null,null,null,null,null,null,null,null,null,null,null,null,null,null,null,null,null,null,null,null,null,null,null,null,null,null,null,null,null,null,null,null,null,null,null,null,null,null,null,null,null,null,null,null,null,null,null,null,null,null,null,null,null,null,null,null,null,null,null,null,null,null,null,null,null,null,null,null,null,null,null,null,null,null,null,null,null,"",{"$f":"IF(LEFT(C855,2)=TABLE1!$F$1,1,0)","v":0},{"$f":"IF(AND(IF(AND(IF(OR(AND(CQ855=1,TABLE1!$AN$3=TRUE),AND(CQ855=2,TABLE1!$AN$4=TRUE),AND(CQ855=3,TABLE1!$AN$5=TRUE),AND(CQ855=4,TABLE1!$AQ$3=TRUE),AND(CQ855=5,TABLE1!$AQ$4=TRUE),AND(CQ855=6,TABLE1!$AQ$5=TRUE),AND(CQ855=7,TABLE1!$AT$3=TRUE),AND(CQ855=8,TABLE1!$AT$4=TRUE),AND(CQ855=9,TABLE1!$AT$5=TRUE),AND(CQ855=10,TABLE1!$AW$3=TRUE),AND(CQ855=11,TABLE1!$AW$4=TRUE),AND(CQ855=12,TABLE1!$AW$5=TRUE)),1,0)=1),1,0)=1,CR855=1,CT855=1),1,0)","v":0},{"$f":"IF(AND(OR(F855=TABLE1!$D$5,TABLE1!$D$5=\"کل بخشها\"),F855<>\"\"),1,0)","v":0}]
[null,null,null,null,null,null,null,null,null,null,null,null,null,null,null,null,null,null,null,null,null,null,null,null,null,null,null,null,null,null,null,null,null,null,null,null,null,null,null,null,null,null,null,null,null,null,null,null,null,null,null,null,null,null,null,null,null,null,null,null,null,null,null,null,null,null,null,null,null,null,null,null,null,null,null,null,null,null,null,null,null,null,null,null,null,null,null,null,null,null,null,null,null,null,"",{"$f":"IF(LEFT(C856,2)=TABLE1!$F$1,1,0)","v":0},{"$f":"IF(AND(IF(AND(IF(OR(AND(CQ856=1,TABLE1!$AN$3=TRUE),AND(CQ856=2,TABLE1!$AN$4=TRUE),AND(CQ856=3,TABLE1!$AN$5=TRUE),AND(CQ856=4,TABLE1!$AQ$3=TRUE),AND(CQ856=5,TABLE1!$AQ$4=TRUE),AND(CQ856=6,TABLE1!$AQ$5=TRUE),AND(CQ856=7,TABLE1!$AT$3=TRUE),AND(CQ856=8,TABLE1!$AT$4=TRUE),AND(CQ856=9,TABLE1!$AT$5=TRUE),AND(CQ856=10,TABLE1!$AW$3=TRUE),AND(CQ856=11,TABLE1!$AW$4=TRUE),AND(CQ856=12,TABLE1!$AW$5=TRUE)),1,0)=1),1,0)=1,CR856=1,CT856=1),1,0)","v":0},{"$f":"IF(AND(OR(F856=TABLE1!$D$5,TABLE1!$D$5=\"کل بخشها\"),F856<>\"\"),1,0)","v":0}]
[null,null,null,null,null,null,null,null,null,null,null,null,null,null,null,null,null,null,null,null,null,null,null,null,null,null,null,null,null,null,null,null,null,null,null,null,null,null,null,null,null,null,null,null,null,null,null,null,null,null,null,null,null,null,null,null,null,null,null,null,null,null,null,null,null,null,null,null,null,null,null,null,null,null,null,null,null,null,null,null,null,null,null,null,null,null,null,null,null,null,null,null,null,null,"",{"$f":"IF(LEFT(C864,2)=TABLE1!$F$1,1,0)","v":0},{"$f":"IF(AND(IF(AND(IF(OR(AND(CQ864=1,TABLE1!$AN$3=TRUE),AND(CQ864=2,TABLE1!$AN$4=TRUE),AND(CQ864=3,TABLE1!$AN$5=TRUE),AND(CQ864=4,TABLE1!$AQ$3=TRUE),AND(CQ864=5,TABLE1!$AQ$4=TRUE),AND(CQ864=6,TABLE1!$AQ$5=TRUE),AND(CQ864=7,TABLE1!$AT$3=TRUE),AND(CQ864=8,TABLE1!$AT$4=TRUE),AND(CQ864=9,TABLE1!$AT$5=TRUE),AND(CQ864=10,TABLE1!$AW$3=TRUE),AND(CQ864=11,TABLE1!$AW$4=TRUE),AND(CQ864=12,TABLE1!$AW$5=TRUE)),1,0)=1),1,0)=1,CR864=1,CT864=1),1,0)","v":0},{"$f":"IF(AND(OR(F864=TABLE1!$D$5,TABLE1!$D$5=\"کل بخشها\"),F864<>\"\"),1,0)","v":0}]
[null,null,null,null,null,null,null,null,null,null,null,null,null,null,null,null,null,null,null,null,null,null,null,null,null,null,null,null,null,null,null,null,null,null,null,null,null,null,null,null,null,null,null,null,null,null,null,null,null,null,null,null,null,null,null,null,null,null,null,null,null,null,null,null,null,null,null,null,null,null,null,null,null,null,null,null,null,null,null,null,null,null,null,null,null,null,null,null,null,null,null,null,null,null,"",{"$f":"IF(LEFT(C865,2)=TABLE1!$F$1,1,0)","v":0},{"$f":"IF(AND(IF(AND(IF(OR(AND(CQ865=1,TABLE1!$AN$3=TRUE),AND(CQ865=2,TABLE1!$AN$4=TRUE),AND(CQ865=3,TABLE1!$AN$5=TRUE),AND(CQ865=4,TABLE1!$AQ$3=TRUE),AND(CQ865=5,TABLE1!$AQ$4=TRUE),AND(CQ865=6,TABLE1!$AQ$5=TRUE),AND(CQ865=7,TABLE1!$AT$3=TRUE),AND(CQ865=8,TABLE1!$AT$4=TRUE),AND(CQ865=9,TABLE1!$AT$5=TRUE),AND(CQ865=10,TABLE1!$AW$3=TRUE),AND(CQ865=11,TABLE1!$AW$4=TRUE),AND(CQ865=12,TABLE1!$AW$5=TRUE)),1,0)=1),1,0)=1,CR865=1,CT865=1),1,0)","v":0},{"$f":"IF(AND(OR(F865=TABLE1!$D$5,TABLE1!$D$5=\"کل بخشها\"),F865<>\"\"),1,0)","v":0}]
[null,null,null,null,null,null,null,null,null,null,null,null,null,null,null,null,null,null,null,null,null,null,null,null,null,null,null,null,null,null,null,null,null,null,null,null,null,null,null,null,null,null,null,null,null,null,null,null,null,null,null,null,null,null,null,null,null,null,null,null,null,null,null,null,null,null,null,null,null,null,null,null,null,null,null,null,null,null,null,null,null,null,null,null,null,null,null,null,null,null,null,null,null,null,"",{"$f":"IF(LEFT(C870,2)=TABLE1!$F$1,1,0)","v":0},{"$f":"IF(AND(IF(AND(IF(OR(AND(CQ870=1,TABLE1!$AN$3=TRUE),AND(CQ870=2,TABLE1!$AN$4=TRUE),AND(CQ870=3,TABLE1!$AN$5=TRUE),AND(CQ870=4,TABLE1!$AQ$3=TRUE),AND(CQ870=5,TABLE1!$AQ$4=TRUE),AND(CQ870=6,TABLE1!$AQ$5=TRUE),AND(CQ870=7,TABLE1!$AT$3=TRUE),AND(CQ870=8,TABLE1!$AT$4=TRUE),AND(CQ870=9,TABLE1!$AT$5=TRUE),AND(CQ870=10,TABLE1!$AW$3=TRUE),AND(CQ870=11,TABLE1!$AW$4=TRUE),AND(CQ870=12,TABLE1!$AW$5=TRUE)),1,0)=1),1,0)=1,CR870=1,CT870=1),1,0)","v":0},{"$f":"IF(AND(OR(F870=TABLE1!$D$5,TABLE1!$D$5=\"کل بخشها\"),F870<>\"\"),1,0)","v":0}]
[null,null,null,null,null,null,null,null,null,null,null,null,null,null,null,null,null,null,null,null,null,null,null,null,null,null,null,null,null,null,null,null,null,null,null,null,null,null,null,null,null,null,null,null,null,null,null,null,null,null,null,null,null,null,null,null,null,null,null,null,null,null,null,null,null,null,null,null,null,null,null,null,null,null,null,null,null,null,null,null,null,null,null,null,null,null,null,null,null,null,null,null,null,null,"",{"$f":"IF(LEFT(C875,2)=TABLE1!$F$1,1,0)","v":0},{"$f":"IF(AND(IF(AND(IF(OR(AND(CQ875=1,TABLE1!$AN$3=TRUE),AND(CQ875=2,TABLE1!$AN$4=TRUE),AND(CQ875=3,TABLE1!$AN$5=TRUE),AND(CQ875=4,TABLE1!$AQ$3=TRUE),AND(CQ875=5,TABLE1!$AQ$4=TRUE),AND(CQ875=6,TABLE1!$AQ$5=TRUE),AND(CQ875=7,TABLE1!$AT$3=TRUE),AND(CQ875=8,TABLE1!$AT$4=TRUE),AND(CQ875=9,TABLE1!$AT$5=TRUE),AND(CQ875=10,TABLE1!$AW$3=TRUE),AND(CQ875=11,TABLE1!$AW$4=TRUE),AND(CQ875=12,TABLE1!$AW$5=TRUE)),1,0)=1),1,0)=1,CR875=1,CT875=1),1,0)","v":0},{"$f":"IF(AND(OR(F875=TABLE1!$D$5,TABLE1!$D$5=\"کل بخشها\"),F875<>\"\"),1,0)","v":0}]
[null,null,null,null,null,null,null,null,null,null,null,null,null,null,null,null,null,null,null,null,null,null,null,null,null,null,null,null,null,null,null,null,null,null,null,null,null,null,null,null,null,null,null,null,null,null,null,null,null,null,null,null,null,null,null,null,null,null,null,null,null,null,null,null,null,null,null,null,null,null,null,null,null,null,null,null,null,null,null,null,null,null,null,null,null,null,null,null,null,null,null,null,null,null,"",{"$f":"IF(LEFT(C880,2)=TABLE1!$F$1,1,0)","v":0},{"$f":"IF(AND(IF(AND(IF(OR(AND(CQ880=1,TABLE1!$AN$3=TRUE),AND(CQ880=2,TABLE1!$AN$4=TRUE),AND(CQ880=3,TABLE1!$AN$5=TRUE),AND(CQ880=4,TABLE1!$AQ$3=TRUE),AND(CQ880=5,TABLE1!$AQ$4=TRUE),AND(CQ880=6,TABLE1!$AQ$5=TRUE),AND(CQ880=7,TABLE1!$AT$3=TRUE),AND(CQ880=8,TABLE1!$AT$4=TRUE),AND(CQ880=9,TABLE1!$AT$5=TRUE),AND(CQ880=10,TABLE1!$AW$3=TRUE),AND(CQ880=11,TABLE1!$AW$4=TRUE),AND(CQ880=12,TABLE1!$AW$5=TRUE)),1,0)=1),1,0)=1,CR880=1,CT880=1),1,0)","v":0},{"$f":"IF(AND(OR(F880=TABLE1!$D$5,TABLE1!$D$5=\"کل بخشها\"),F880<>\"\"),1,0)","v":0}]
[null,null,null,null,null,null,null,null,null,null,null,null,null,null,null,null,null,null,null,null,null,null,null,null,null,null,null,null,null,null,null,null,null,null,null,null,null,null,null,null,null,null,null,null,null,null,null,null,null,null,null,null,null,null,null,null,null,null,null,null,null,null,null,null,null,null,null,null,null,null,null,null,null,null,null,null,null,null,null,null,null,null,null,null,null,null,null,null,null,null,null,null,null,null,"",{"$f":"IF(LEFT(C885,2)=TABLE1!$F$1,1,0)","v":0},{"$f":"IF(AND(IF(AND(IF(OR(AND(CQ885=1,TABLE1!$AN$3=TRUE),AND(CQ885=2,TABLE1!$AN$4=TRUE),AND(CQ885=3,TABLE1!$AN$5=TRUE),AND(CQ885=4,TABLE1!$AQ$3=TRUE),AND(CQ885=5,TABLE1!$AQ$4=TRUE),AND(CQ885=6,TABLE1!$AQ$5=TRUE),AND(CQ885=7,TABLE1!$AT$3=TRUE),AND(CQ885=8,TABLE1!$AT$4=TRUE),AND(CQ885=9,TABLE1!$AT$5=TRUE),AND(CQ885=10,TABLE1!$AW$3=TRUE),AND(CQ885=11,TABLE1!$AW$4=TRUE),AND(CQ885=12,TABLE1!$AW$5=TRUE)),1,0)=1),1,0)=1,CR885=1,CT885=1),1,0)","v":0},{"$f":"IF(AND(OR(F885=TABLE1!$D$5,TABLE1!$D$5=\"کل بخشها\"),F885<>\"\"),1,0)","v":0}]
[null,null,null,null,null,null,null,null,null,null,null,null,null,null,null,null,null,null,null,null,null,null,null,null,null,null,null,null,null,null,null,null,null,null,null,null,null,null,null,null,null,null,null,null,null,null,null,null,null,null,null,null,null,null,null,null,null,null,null,null,null,null,null,null,null,null,null,null,null,null,null,null,null,null,null,null,null,null,null,null,null,null,null,null,null,null,null,null,null,null,null,null,null,null,"",{"$f":"IF(LEFT(C891,2)=TABLE1!$F$1,1,0)","v":0},{"$f":"IF(AND(IF(AND(IF(OR(AND(CQ891=1,TABLE1!$AN$3=TRUE),AND(CQ891=2,TABLE1!$AN$4=TRUE),AND(CQ891=3,TABLE1!$AN$5=TRUE),AND(CQ891=4,TABLE1!$AQ$3=TRUE),AND(CQ891=5,TABLE1!$AQ$4=TRUE),AND(CQ891=6,TABLE1!$AQ$5=TRUE),AND(CQ891=7,TABLE1!$AT$3=TRUE),AND(CQ891=8,TABLE1!$AT$4=TRUE),AND(CQ891=9,TABLE1!$AT$5=TRUE),AND(CQ891=10,TABLE1!$AW$3=TRUE),AND(CQ891=11,TABLE1!$AW$4=TRUE),AND(CQ891=12,TABLE1!$AW$5=TRUE)),1,0)=1),1,0)=1,CR891=1,CT891=1),1,0)","v":0},{"$f":"IF(AND(OR(F891=TABLE1!$D$5,TABLE1!$D$5=\"کل بخشها\"),F891<>\"\"),1,0)","v":0}]
[null,null,null,null,null,null,null,null,null,null,null,null,null,null,null,null,null,null,null,null,null,null,null,null,null,null,null,null,null,null,null,null,null,null,null,null,null,null,null,null,null,null,null,null,null,null,null,null,null,null,null,null,null,null,null,null,null,null,null,null,null,null,null,null,null,null,null,null,null,null,null,null,null,null,null,null,null,null,null,null,null,null,null,null,null,null,null,null,null,null,null,null,null,null,"",{"$f":"IF(LEFT(C894,2)=TABLE1!$F$1,1,0)","v":0},{"$f":"IF(AND(IF(AND(IF(OR(AND(CQ894=1,TABLE1!$AN$3=TRUE),AND(CQ894=2,TABLE1!$AN$4=TRUE),AND(CQ894=3,TABLE1!$AN$5=TRUE),AND(CQ894=4,TABLE1!$AQ$3=TRUE),AND(CQ894=5,TABLE1!$AQ$4=TRUE),AND(CQ894=6,TABLE1!$AQ$5=TRUE),AND(CQ894=7,TABLE1!$AT$3=TRUE),AND(CQ894=8,TABLE1!$AT$4=TRUE),AND(CQ894=9,TABLE1!$AT$5=TRUE),AND(CQ894=10,TABLE1!$AW$3=TRUE),AND(CQ894=11,TABLE1!$AW$4=TRUE),AND(CQ894=12,TABLE1!$AW$5=TRUE)),1,0)=1),1,0)=1,CR894=1,CT894=1),1,0)","v":0},{"$f":"IF(AND(OR(F894=TABLE1!$D$5,TABLE1!$D$5=\"کل بخشها\"),F894<>\"\"),1,0)","v":0}]
[null,null,null,null,null,null,null,null,null,null,null,null,null,null,null,null,null,null,null,null,null,null,null,null,null,null,null,null,null,null,null,null,null,null,null,null,null,null,null,null,null,null,null,null,null,null,null,null,null,null,null,null,null,null,null,null,null,null,null,null,null,null,null,null,null,null,null,null,null,null,null,null,null,null,null,null,null,null,null,null,null,null,null,null,null,null,null,null,null,null,null,null,null,null,"",{"$f":"IF(LEFT(C900,2)=TABLE1!$F$1,1,0)","v":0},{"$f":"IF(AND(IF(AND(IF(OR(AND(CQ900=1,TABLE1!$AN$3=TRUE),AND(CQ900=2,TABLE1!$AN$4=TRUE),AND(CQ900=3,TABLE1!$AN$5=TRUE),AND(CQ900=4,TABLE1!$AQ$3=TRUE),AND(CQ900=5,TABLE1!$AQ$4=TRUE),AND(CQ900=6,TABLE1!$AQ$5=TRUE),AND(CQ900=7,TABLE1!$AT$3=TRUE),AND(CQ900=8,TABLE1!$AT$4=TRUE),AND(CQ900=9,TABLE1!$AT$5=TRUE),AND(CQ900=10,TABLE1!$AW$3=TRUE),AND(CQ900=11,TABLE1!$AW$4=TRUE),AND(CQ900=12,TABLE1!$AW$5=TRUE)),1,0)=1),1,0)=1,CR900=1,CT900=1),1,0)","v":0},{"$f":"IF(AND(OR(F900=TABLE1!$D$5,TABLE1!$D$5=\"کل بخشها\"),F900<>\"\"),1,0)","v":0}]
[null,null,null,null,null,null,null,null,null,null,null,null,null,null,null,null,null,null,null,null,null,null,null,null,null,null,null,null,null,null,null,null,null,null,null,null,null,null,null,null,null,null,null,null,null,null,null,null,null,null,null,null,null,null,null,null,null,null,null,null,null,null,null,null,null,null,null,null,null,null,null,null,null,null,null,null,null,null,null,null,null,null,null,null,null,null,null,null,null,null,null,null,null,null,"",{"$f":"IF(LEFT(C906,2)=TABLE1!$F$1,1,0)","v":0},{"$f":"IF(AND(IF(AND(IF(OR(AND(CQ906=1,TABLE1!$AN$3=TRUE),AND(CQ906=2,TABLE1!$AN$4=TRUE),AND(CQ906=3,TABLE1!$AN$5=TRUE),AND(CQ906=4,TABLE1!$AQ$3=TRUE),AND(CQ906=5,TABLE1!$AQ$4=TRUE),AND(CQ906=6,TABLE1!$AQ$5=TRUE),AND(CQ906=7,TABLE1!$AT$3=TRUE),AND(CQ906=8,TABLE1!$AT$4=TRUE),AND(CQ906=9,TABLE1!$AT$5=TRUE),AND(CQ906=10,TABLE1!$AW$3=TRUE),AND(CQ906=11,TABLE1!$AW$4=TRUE),AND(CQ906=12,TABLE1!$AW$5=TRUE)),1,0)=1),1,0)=1,CR906=1,CT906=1),1,0)","v":0},{"$f":"IF(AND(OR(F906=TABLE1!$D$5,TABLE1!$D$5=\"کل بخشها\"),F906<>\"\"),1,0)","v":0}]
[null,null,null,null,null,null,null,null,null,null,null,null,null,null,null,null,null,null,null,null,null,null,null,null,null,null,null,null,null,null,null,null,null,null,null,null,null,null,null,null,null,null,null,null,null,null,null,null,null,null,null,null,null,null,null,null,null,null,null,null,null,null,null,null,null,null,null,null,null,null,null,null,null,null,null,null,null,null,null,null,null,null,null,null,null,null,null,null,null,null,null,null,null,null,"",{"$f":"IF(LEFT(C911,2)=TABLE1!$F$1,1,0)","v":0},{"$f":"IF(AND(IF(AND(IF(OR(AND(CQ911=1,TABLE1!$AN$3=TRUE),AND(CQ911=2,TABLE1!$AN$4=TRUE),AND(CQ911=3,TABLE1!$AN$5=TRUE),AND(CQ911=4,TABLE1!$AQ$3=TRUE),AND(CQ911=5,TABLE1!$AQ$4=TRUE),AND(CQ911=6,TABLE1!$AQ$5=TRUE),AND(CQ911=7,TABLE1!$AT$3=TRUE),AND(CQ911=8,TABLE1!$AT$4=TRUE),AND(CQ911=9,TABLE1!$AT$5=TRUE),AND(CQ911=10,TABLE1!$AW$3=TRUE),AND(CQ911=11,TABLE1!$AW$4=TRUE),AND(CQ911=12,TABLE1!$AW$5=TRUE)),1,0)=1),1,0)=1,CR911=1,CT911=1),1,0)","v":0},{"$f":"IF(AND(OR(F911=TABLE1!$D$5,TABLE1!$D$5=\"کل بخشها\"),F911<>\"\"),1,0)","v":0}]
[null,null,null,null,null,null,null,null,null,null,null,null,null,null,null,null,null,null,null,null,null,null,null,null,null,null,null,null,null,null,null,null,null,null,null,null,null,null,null,null,null,null,null,null,null,null,null,null,null,null,null,null,null,null,null,null,null,null,null,null,null,null,null,null,null,null,null,null,null,null,null,null,null,null,null,null,null,null,null,null,null,null,null,null,null,null,null,null,null,null,null,null,null,null,"",{"$f":"IF(LEFT(C913,2)=TABLE1!$F$1,1,0)","v":0},{"$f":"IF(AND(IF(AND(IF(OR(AND(CQ913=1,TABLE1!$AN$3=TRUE),AND(CQ913=2,TABLE1!$AN$4=TRUE),AND(CQ913=3,TABLE1!$AN$5=TRUE),AND(CQ913=4,TABLE1!$AQ$3=TRUE),AND(CQ913=5,TABLE1!$AQ$4=TRUE),AND(CQ913=6,TABLE1!$AQ$5=TRUE),AND(CQ913=7,TABLE1!$AT$3=TRUE),AND(CQ913=8,TABLE1!$AT$4=TRUE),AND(CQ913=9,TABLE1!$AT$5=TRUE),AND(CQ913=10,TABLE1!$AW$3=TRUE),AND(CQ913=11,TABLE1!$AW$4=TRUE),AND(CQ913=12,TABLE1!$AW$5=TRUE)),1,0)=1),1,0)=1,CR913=1,CT913=1),1,0)","v":0},{"$f":"IF(AND(OR(F913=TABLE1!$D$5,TABLE1!$D$5=\"کل بخشها\"),F913<>\"\"),1,0)","v":0}]
[null,null,null,null,null,null,null,null,null,null,null,null,null,null,null,null,null,null,null,null,null,null,null,null,null,null,null,null,null,null,null,null,null,null,null,null,null,null,null,null,null,null,null,null,null,null,null,null,null,null,null,null,null,null,null,null,null,null,null,null,null,null,null,null,null,null,null,null,null,null,null,null,null,null,null,null,null,null,null,null,null,null,null,null,null,null,null,null,null,null,null,null,null,null,"",{"$f":"IF(LEFT(C921,2)=TABLE1!$F$1,1,0)","v":0},{"$f":"IF(AND(IF(AND(IF(OR(AND(CQ921=1,TABLE1!$AN$3=TRUE),AND(CQ921=2,TABLE1!$AN$4=TRUE),AND(CQ921=3,TABLE1!$AN$5=TRUE),AND(CQ921=4,TABLE1!$AQ$3=TRUE),AND(CQ921=5,TABLE1!$AQ$4=TRUE),AND(CQ921=6,TABLE1!$AQ$5=TRUE),AND(CQ921=7,TABLE1!$AT$3=TRUE),AND(CQ921=8,TABLE1!$AT$4=TRUE),AND(CQ921=9,TABLE1!$AT$5=TRUE),AND(CQ921=10,TABLE1!$AW$3=TRUE),AND(CQ921=11,TABLE1!$AW$4=TRUE),AND(CQ921=12,TABLE1!$AW$5=TRUE)),1,0)=1),1,0)=1,CR921=1,CT921=1),1,0)","v":0},{"$f":"IF(AND(OR(F921=TABLE1!$D$5,TABLE1!$D$5=\"کل بخشها\"),F921<>\"\"),1,0)","v":0}]
[null,null,null,null,null,null,null,null,null,null,null,null,null,null,null,null,null,null,null,null,null,null,null,null,null,null,null,null,null,null,null,null,null,null,null,null,null,null,null,null,null,null,null,null,null,null,null,null,null,null,null,null,null,null,null,null,null,null,null,null,null,null,null,null,null,null,null,null,null,null,null,null,null,null,null,null,null,null,null,null,null,null,null,null,null,null,null,null,null,null,null,null,null,null,"",{"$f":"IF(LEFT(C926,2)=TABLE1!$F$1,1,0)","v":0},{"$f":"IF(AND(IF(AND(IF(OR(AND(CQ926=1,TABLE1!$AN$3=TRUE),AND(CQ926=2,TABLE1!$AN$4=TRUE),AND(CQ926=3,TABLE1!$AN$5=TRUE),AND(CQ926=4,TABLE1!$AQ$3=TRUE),AND(CQ926=5,TABLE1!$AQ$4=TRUE),AND(CQ926=6,TABLE1!$AQ$5=TRUE),AND(CQ926=7,TABLE1!$AT$3=TRUE),AND(CQ926=8,TABLE1!$AT$4=TRUE),AND(CQ926=9,TABLE1!$AT$5=TRUE),AND(CQ926=10,TABLE1!$AW$3=TRUE),AND(CQ926=11,TABLE1!$AW$4=TRUE),AND(CQ926=12,TABLE1!$AW$5=TRUE)),1,0)=1),1,0)=1,CR926=1,CT926=1),1,0)","v":0},{"$f":"IF(AND(OR(F926=TABLE1!$D$5,TABLE1!$D$5=\"کل بخشها\"),F926<>\"\"),1,0)","v":0}]
[null,null,null,null,null,null,null,null,null,null,null,null,null,null,null,null,null,null,null,null,null,null,null,null,null,null,null,null,null,null,null,null,null,null,null,null,null,null,null,null,null,null,null,null,null,null,null,null,null,null,null,null,null,null,null,null,null,null,null,null,null,null,null,null,null,null,null,null,null,null,null,null,null,null,null,null,null,null,null,null,null,null,null,null,null,null,null,null,null,null,null,null,null,null,"",{"$f":"IF(LEFT(C927,2)=TABLE1!$F$1,1,0)","v":0},{"$f":"IF(AND(IF(AND(IF(OR(AND(CQ927=1,TABLE1!$AN$3=TRUE),AND(CQ927=2,TABLE1!$AN$4=TRUE),AND(CQ927=3,TABLE1!$AN$5=TRUE),AND(CQ927=4,TABLE1!$AQ$3=TRUE),AND(CQ927=5,TABLE1!$AQ$4=TRUE),AND(CQ927=6,TABLE1!$AQ$5=TRUE),AND(CQ927=7,TABLE1!$AT$3=TRUE),AND(CQ927=8,TABLE1!$AT$4=TRUE),AND(CQ927=9,TABLE1!$AT$5=TRUE),AND(CQ927=10,TABLE1!$AW$3=TRUE),AND(CQ927=11,TABLE1!$AW$4=TRUE),AND(CQ927=12,TABLE1!$AW$5=TRUE)),1,0)=1),1,0)=1,CR927=1,CT927=1),1,0)","v":0},{"$f":"IF(AND(OR(F927=TABLE1!$D$5,TABLE1!$D$5=\"کل بخشها\"),F927<>\"\"),1,0)","v":0}]
[null,null,null,null,null,null,null,null,null,null,null,null,null,null,null,null,null,null,null,null,null,null,null,null,null,null,null,null,null,null,null,null,null,null,null,null,null,null,null,null,null,null,null,null,null,null,null,null,null,null,null,null,null,null,null,null,null,null,null,null,null,null,null,null,null,null,null,null,null,null,null,null,null,null,null,null,null,null,null,null,null,null,null,null,null,null,null,null,null,null,null,null,null,null,"",{"$f":"IF(LEFT(C932,2)=TABLE1!$F$1,1,0)","v":0},{"$f":"IF(AND(IF(AND(IF(OR(AND(CQ932=1,TABLE1!$AN$3=TRUE),AND(CQ932=2,TABLE1!$AN$4=TRUE),AND(CQ932=3,TABLE1!$AN$5=TRUE),AND(CQ932=4,TABLE1!$AQ$3=TRUE),AND(CQ932=5,TABLE1!$AQ$4=TRUE),AND(CQ932=6,TABLE1!$AQ$5=TRUE),AND(CQ932=7,TABLE1!$AT$3=TRUE),AND(CQ932=8,TABLE1!$AT$4=TRUE),AND(CQ932=9,TABLE1!$AT$5=TRUE),AND(CQ932=10,TABLE1!$AW$3=TRUE),AND(CQ932=11,TABLE1!$AW$4=TRUE),AND(CQ932=12,TABLE1!$AW$5=TRUE)),1,0)=1),1,0)=1,CR932=1,CT932=1),1,0)","v":0},{"$f":"IF(AND(OR(F932=TABLE1!$D$5,TABLE1!$D$5=\"کل بخشها\"),F932<>\"\"),1,0)","v":0}]
[null,null,null,null,null,null,null,null,null,null,null,null,null,null,null,null,null,null,null,null,null,null,null,null,null,null,null,null,null,null,null,null,null,null,null,null,null,null,null,null,null,null,null,null,null,null,null,null,null,null,null,null,null,null,null,null,null,null,null,null,null,null,null,null,null,null,null,null,null,null,null,null,null,null,null,null,null,null,null,null,null,null,null,null,null,null,null,null,null,null,null,null,null,null,"",{"$f":"IF(LEFT(C938,2)=TABLE1!$F$1,1,0)","v":0},{"$f":"IF(AND(IF(AND(IF(OR(AND(CQ938=1,TABLE1!$AN$3=TRUE),AND(CQ938=2,TABLE1!$AN$4=TRUE),AND(CQ938=3,TABLE1!$AN$5=TRUE),AND(CQ938=4,TABLE1!$AQ$3=TRUE),AND(CQ938=5,TABLE1!$AQ$4=TRUE),AND(CQ938=6,TABLE1!$AQ$5=TRUE),AND(CQ938=7,TABLE1!$AT$3=TRUE),AND(CQ938=8,TABLE1!$AT$4=TRUE),AND(CQ938=9,TABLE1!$AT$5=TRUE),AND(CQ938=10,TABLE1!$AW$3=TRUE),AND(CQ938=11,TABLE1!$AW$4=TRUE),AND(CQ938=12,TABLE1!$AW$5=TRUE)),1,0)=1),1,0)=1,CR938=1,CT938=1),1,0)","v":0},{"$f":"IF(AND(OR(F938=TABLE1!$D$5,TABLE1!$D$5=\"کل بخشها\"),F938<>\"\"),1,0)","v":0}]
[null,null,null,null,null,null,null,null,null,null,null,null,null,null,null,null,null,null,null,null,null,null,null,null,null,null,null,null,null,null,null,null,null,null,null,null,null,null,null,null,null,null,null,null,null,null,null,null,null,null,null,null,null,null,null,null,null,null,null,null,null,null,null,null,null,null,null,null,null,null,null,null,null,null,null,null,null,null,null,null,null,null,null,null,null,null,null,null,null,null,null,null,null,null,"",{"$f":"IF(LEFT(C942,2)=TABLE1!$F$1,1,0)","v":0},{"$f":"IF(AND(IF(AND(IF(OR(AND(CQ942=1,TABLE1!$AN$3=TRUE),AND(CQ942=2,TABLE1!$AN$4=TRUE),AND(CQ942=3,TABLE1!$AN$5=TRUE),AND(CQ942=4,TABLE1!$AQ$3=TRUE),AND(CQ942=5,TABLE1!$AQ$4=TRUE),AND(CQ942=6,TABLE1!$AQ$5=TRUE),AND(CQ942=7,TABLE1!$AT$3=TRUE),AND(CQ942=8,TABLE1!$AT$4=TRUE),AND(CQ942=9,TABLE1!$AT$5=TRUE),AND(CQ942=10,TABLE1!$AW$3=TRUE),AND(CQ942=11,TABLE1!$AW$4=TRUE),AND(CQ942=12,TABLE1!$AW$5=TRUE)),1,0)=1),1,0)=1,CR942=1,CT942=1),1,0)","v":0},{"$f":"IF(AND(OR(F942=TABLE1!$D$5,TABLE1!$D$5=\"کل بخشها\"),F942<>\"\"),1,0)","v":0}]
[null,null,null,null,null,null,null,null,null,null,null,null,null,null,null,null,null,null,null,null,null,null,null,null,null,null,null,null,null,null,null,null,null,null,null,null,null,null,null,null,null,null,null,null,null,null,null,null,null,null,null,null,null,null,null,null,null,null,null,null,null,null,null,null,null,null,null,null,null,null,null,null,null,null,null,null,null,null,null,null,null,null,null,null,null,null,null,null,null,null,null,null,null,null,"",{"$f":"IF(LEFT(C947,2)=TABLE1!$F$1,1,0)","v":0},{"$f":"IF(AND(IF(AND(IF(OR(AND(CQ947=1,TABLE1!$AN$3=TRUE),AND(CQ947=2,TABLE1!$AN$4=TRUE),AND(CQ947=3,TABLE1!$AN$5=TRUE),AND(CQ947=4,TABLE1!$AQ$3=TRUE),AND(CQ947=5,TABLE1!$AQ$4=TRUE),AND(CQ947=6,TABLE1!$AQ$5=TRUE),AND(CQ947=7,TABLE1!$AT$3=TRUE),AND(CQ947=8,TABLE1!$AT$4=TRUE),AND(CQ947=9,TABLE1!$AT$5=TRUE),AND(CQ947=10,TABLE1!$AW$3=TRUE),AND(CQ947=11,TABLE1!$AW$4=TRUE),AND(CQ947=12,TABLE1!$AW$5=TRUE)),1,0)=1),1,0)=1,CR947=1,CT947=1),1,0)","v":0},{"$f":"IF(AND(OR(F947=TABLE1!$D$5,TABLE1!$D$5=\"کل بخشها\"),F947<>\"\"),1,0)","v":0}]
[null,null,null,null,null,null,null,null,null,null,null,null,null,null,null,null,null,null,null,null,null,null,null,null,null,null,null,null,null,null,null,null,null,null,null,null,null,null,null,null,null,null,null,null,null,null,null,null,null,null,null,null,null,null,null,null,null,null,null,null,null,null,null,null,null,null,null,null,null,null,null,null,null,null,null,null,null,null,null,null,null,null,null,null,null,null,null,null,null,null,null,null,null,null,"",{"$f":"IF(LEFT(C953,2)=TABLE1!$F$1,1,0)","v":0},{"$f":"IF(AND(IF(AND(IF(OR(AND(CQ953=1,TABLE1!$AN$3=TRUE),AND(CQ953=2,TABLE1!$AN$4=TRUE),AND(CQ953=3,TABLE1!$AN$5=TRUE),AND(CQ953=4,TABLE1!$AQ$3=TRUE),AND(CQ953=5,TABLE1!$AQ$4=TRUE),AND(CQ953=6,TABLE1!$AQ$5=TRUE),AND(CQ953=7,TABLE1!$AT$3=TRUE),AND(CQ953=8,TABLE1!$AT$4=TRUE),AND(CQ953=9,TABLE1!$AT$5=TRUE),AND(CQ953=10,TABLE1!$AW$3=TRUE),AND(CQ953=11,TABLE1!$AW$4=TRUE),AND(CQ953=12,TABLE1!$AW$5=TRUE)),1,0)=1),1,0)=1,CR953=1,CT953=1),1,0)","v":0},{"$f":"IF(AND(OR(F953=TABLE1!$D$5,TABLE1!$D$5=\"کل بخشها\"),F953<>\"\"),1,0)","v":0}]
[null,null,null,null,null,null,null,null,null,null,null,null,null,null,null,null,null,null,null,null,null,null,null,null,null,null,null,null,null,null,null,null,null,null,null,null,null,null,null,null,null,null,null,null,null,null,null,null,null,null,null,null,null,null,null,null,null,null,null,null,null,null,null,null,null,null,null,null,null,null,null,null,null,null,null,null,null,null,null,null,null,null,null,null,null,null,null,null,null,null,null,null,null,null,"",{"$f":"IF(LEFT(C957,2)=TABLE1!$F$1,1,0)","v":0},{"$f":"IF(AND(IF(AND(IF(OR(AND(CQ957=1,TABLE1!$AN$3=TRUE),AND(CQ957=2,TABLE1!$AN$4=TRUE),AND(CQ957=3,TABLE1!$AN$5=TRUE),AND(CQ957=4,TABLE1!$AQ$3=TRUE),AND(CQ957=5,TABLE1!$AQ$4=TRUE),AND(CQ957=6,TABLE1!$AQ$5=TRUE),AND(CQ957=7,TABLE1!$AT$3=TRUE),AND(CQ957=8,TABLE1!$AT$4=TRUE),AND(CQ957=9,TABLE1!$AT$5=TRUE),AND(CQ957=10,TABLE1!$AW$3=TRUE),AND(CQ957=11,TABLE1!$AW$4=TRUE),AND(CQ957=12,TABLE1!$AW$5=TRUE)),1,0)=1),1,0)=1,CR957=1,CT957=1),1,0)","v":0},{"$f":"IF(AND(OR(F957=TABLE1!$D$5,TABLE1!$D$5=\"کل بخشها\"),F957<>\"\"),1,0)","v":0}]
[null,null,null,null,null,null,null,null,null,null,null,null,null,null,null,null,null,null,null,null,null,null,null,null,null,null,null,null,null,null,null,null,null,null,null,null,null,null,null,null,null,null,null,null,null,null,null,null,null,null,null,null,null,null,null,null,null,null,null,null,null,null,null,null,null,null,null,null,null,null,null,null,null,null,null,null,null,null,null,null,null,null,null,null,null,null,null,null,null,null,null,null,null,null,"",{"$f":"IF(LEFT(C962,2)=TABLE1!$F$1,1,0)","v":0},{"$f":"IF(AND(IF(AND(IF(OR(AND(CQ962=1,TABLE1!$AN$3=TRUE),AND(CQ962=2,TABLE1!$AN$4=TRUE),AND(CQ962=3,TABLE1!$AN$5=TRUE),AND(CQ962=4,TABLE1!$AQ$3=TRUE),AND(CQ962=5,TABLE1!$AQ$4=TRUE),AND(CQ962=6,TABLE1!$AQ$5=TRUE),AND(CQ962=7,TABLE1!$AT$3=TRUE),AND(CQ962=8,TABLE1!$AT$4=TRUE),AND(CQ962=9,TABLE1!$AT$5=TRUE),AND(CQ962=10,TABLE1!$AW$3=TRUE),AND(CQ962=11,TABLE1!$AW$4=TRUE),AND(CQ962=12,TABLE1!$AW$5=TRUE)),1,0)=1),1,0)=1,CR962=1,CT962=1),1,0)","v":0},{"$f":"IF(AND(OR(F962=TABLE1!$D$5,TABLE1!$D$5=\"کل بخشها\"),F962<>\"\"),1,0)","v":0}]
[null,null,null,null,null,null,null,null,null,null,null,null,null,null,null,null,null,null,null,null,null,null,null,null,null,null,null,null,null,null,null,null,null,null,null,null,null,null,null,null,null,null,null,null,null,null,null,null,null,null,null,null,null,null,null,null,null,null,null,null,null,null,null,null,null,null,null,null,null,null,null,null,null,null,null,null,null,null,null,null,null,null,null,null,null,null,null,null,null,null,null,null,null,null,"",{"$f":"IF(LEFT(C968,2)=TABLE1!$F$1,1,0)","v":0},{"$f":"IF(AND(IF(AND(IF(OR(AND(CQ968=1,TABLE1!$AN$3=TRUE),AND(CQ968=2,TABLE1!$AN$4=TRUE),AND(CQ968=3,TABLE1!$AN$5=TRUE),AND(CQ968=4,TABLE1!$AQ$3=TRUE),AND(CQ968=5,TABLE1!$AQ$4=TRUE),AND(CQ968=6,TABLE1!$AQ$5=TRUE),AND(CQ968=7,TABLE1!$AT$3=TRUE),AND(CQ968=8,TABLE1!$AT$4=TRUE),AND(CQ968=9,TABLE1!$AT$5=TRUE),AND(CQ968=10,TABLE1!$AW$3=TRUE),AND(CQ968=11,TABLE1!$AW$4=TRUE),AND(CQ968=12,TABLE1!$AW$5=TRUE)),1,0)=1),1,0)=1,CR968=1,CT968=1),1,0)","v":0},{"$f":"IF(AND(OR(F968=TABLE1!$D$5,TABLE1!$D$5=\"کل بخشها\"),F968<>\"\"),1,0)","v":0}]
[null,null,null,null,null,null,null,null,null,null,null,null,null,null,null,null,null,null,null,null,null,null,null,null,null,null,null,null,null,null,null,null,null,null,null,null,null,null,null,null,null,null,null,null,null,null,null,null,null,null,null,null,null,null,null,null,null,null,null,null,null,null,null,null,null,null,null,null,null,null,null,null,null,null,null,null,null,null,null,null,null,null,null,null,null,null,null,null,null,null,null,null,null,null,"",{"$f":"IF(LEFT(C973,2)=TABLE1!$F$1,1,0)","v":0},{"$f":"IF(AND(IF(AND(IF(OR(AND(CQ973=1,TABLE1!$AN$3=TRUE),AND(CQ973=2,TABLE1!$AN$4=TRUE),AND(CQ973=3,TABLE1!$AN$5=TRUE),AND(CQ973=4,TABLE1!$AQ$3=TRUE),AND(CQ973=5,TABLE1!$AQ$4=TRUE),AND(CQ973=6,TABLE1!$AQ$5=TRUE),AND(CQ973=7,TABLE1!$AT$3=TRUE),AND(CQ973=8,TABLE1!$AT$4=TRUE),AND(CQ973=9,TABLE1!$AT$5=TRUE),AND(CQ973=10,TABLE1!$AW$3=TRUE),AND(CQ973=11,TABLE1!$AW$4=TRUE),AND(CQ973=12,TABLE1!$AW$5=TRUE)),1,0)=1),1,0)=1,CR973=1,CT973=1),1,0)","v":0},{"$f":"IF(AND(OR(F973=TABLE1!$D$5,TABLE1!$D$5=\"کل بخشها\"),F973<>\"\"),1,0)","v":0}]
[null,null,null,null,null,null,null,null,null,null,null,null,null,null,null,null,null,null,null,null,null,null,null,null,null,null,null,null,null,null,null,null,null,null,null,null,null,null,null,null,null,null,null,null,null,null,null,null,null,null,null,null,null,null,null,null,null,null,null,null,null,null,null,null,null,null,null,null,null,null,null,null,null,null,null,null,null,null,null,null,null,null,null,null,null,null,null,null,null,null,null,null,null,null,"",{"$f":"IF(LEFT(C976,2)=TABLE1!$F$1,1,0)","v":0},{"$f":"IF(AND(IF(AND(IF(OR(AND(CQ976=1,TABLE1!$AN$3=TRUE),AND(CQ976=2,TABLE1!$AN$4=TRUE),AND(CQ976=3,TABLE1!$AN$5=TRUE),AND(CQ976=4,TABLE1!$AQ$3=TRUE),AND(CQ976=5,TABLE1!$AQ$4=TRUE),AND(CQ976=6,TABLE1!$AQ$5=TRUE),AND(CQ976=7,TABLE1!$AT$3=TRUE),AND(CQ976=8,TABLE1!$AT$4=TRUE),AND(CQ976=9,TABLE1!$AT$5=TRUE),AND(CQ976=10,TABLE1!$AW$3=TRUE),AND(CQ976=11,TABLE1!$AW$4=TRUE),AND(CQ976=12,TABLE1!$AW$5=TRUE)),1,0)=1),1,0)=1,CR976=1,CT976=1),1,0)","v":0},{"$f":"IF(AND(OR(F976=TABLE1!$D$5,TABLE1!$D$5=\"کل بخشها\"),F976<>\"\"),1,0)","v":0}]
[null,null,null,null,null,null,null,null,null,null,null,null,null,null,null,null,null,null,null,null,null,null,null,null,null,null,null,null,null,null,null,null,null,null,null,null,null,null,null,null,null,null,null,null,null,null,null,null,null,null,null,null,null,null,null,null,null,null,null,null,null,null,null,null,null,null,null,null,null,null,null,null,null,null,null,null,null,null,null,null,null,null,null,null,null,null,null,null,null,null,null,null,null,null,"",{"$f":"IF(LEFT(C983,2)=TABLE1!$F$1,1,0)","v":0},{"$f":"IF(AND(IF(AND(IF(OR(AND(CQ983=1,TABLE1!$AN$3=TRUE),AND(CQ983=2,TABLE1!$AN$4=TRUE),AND(CQ983=3,TABLE1!$AN$5=TRUE),AND(CQ983=4,TABLE1!$AQ$3=TRUE),AND(CQ983=5,TABLE1!$AQ$4=TRUE),AND(CQ983=6,TABLE1!$AQ$5=TRUE),AND(CQ983=7,TABLE1!$AT$3=TRUE),AND(CQ983=8,TABLE1!$AT$4=TRUE),AND(CQ983=9,TABLE1!$AT$5=TRUE),AND(CQ983=10,TABLE1!$AW$3=TRUE),AND(CQ983=11,TABLE1!$AW$4=TRUE),AND(CQ983=12,TABLE1!$AW$5=TRUE)),1,0)=1),1,0)=1,CR983=1,CT983=1),1,0)","v":0},{"$f":"IF(AND(OR(F983=TABLE1!$D$5,TABLE1!$D$5=\"کل بخشها\"),F983<>\"\"),1,0)","v":0}]
[null,null,null,null,null,null,null,null,null,null,null,null,null,null,null,null,null,null,null,null,null,null,null,null,null,null,null,null,null,null,null,null,null,null,null,null,null,null,null,null,null,null,null,null,null,null,null,null,null,null,null,null,null,null,null,null,null,null,null,null,null,null,null,null,null,null,null,null,null,null,null,null,null,null,null,null,null,null,null,null,null,null,null,null,null,null,null,null,null,null,null,null,null,null,"",{"$f":"IF(LEFT(C988,2)=TABLE1!$F$1,1,0)","v":0},{"$f":"IF(AND(IF(AND(IF(OR(AND(CQ988=1,TABLE1!$AN$3=TRUE),AND(CQ988=2,TABLE1!$AN$4=TRUE),AND(CQ988=3,TABLE1!$AN$5=TRUE),AND(CQ988=4,TABLE1!$AQ$3=TRUE),AND(CQ988=5,TABLE1!$AQ$4=TRUE),AND(CQ988=6,TABLE1!$AQ$5=TRUE),AND(CQ988=7,TABLE1!$AT$3=TRUE),AND(CQ988=8,TABLE1!$AT$4=TRUE),AND(CQ988=9,TABLE1!$AT$5=TRUE),AND(CQ988=10,TABLE1!$AW$3=TRUE),AND(CQ988=11,TABLE1!$AW$4=TRUE),AND(CQ988=12,TABLE1!$AW$5=TRUE)),1,0)=1),1,0)=1,CR988=1,CT988=1),1,0)","v":0},{"$f":"IF(AND(OR(F988=TABLE1!$D$5,TABLE1!$D$5=\"کل بخشها\"),F988<>\"\"),1,0)","v":0}]
[null,null,null,null,null,null,null,null,null,null,null,null,null,null,null,null,null,null,null,null,null,null,null,null,null,null,null,null,null,null,null,null,null,null,null,null,null,null,null,null,null,null,null,null,null,null,null,null,null,null,null,null,null,null,null,null,null,null,null,null,null,null,null,null,null,null,null,null,null,null,null,null,null,null,null,null,null,null,null,null,null,null,null,null,null,null,null,null,null,null,null,null,null,null,"",{"$f":"IF(LEFT(C989,2)=TABLE1!$F$1,1,0)","v":0},{"$f":"IF(AND(IF(AND(IF(OR(AND(CQ989=1,TABLE1!$AN$3=TRUE),AND(CQ989=2,TABLE1!$AN$4=TRUE),AND(CQ989=3,TABLE1!$AN$5=TRUE),AND(CQ989=4,TABLE1!$AQ$3=TRUE),AND(CQ989=5,TABLE1!$AQ$4=TRUE),AND(CQ989=6,TABLE1!$AQ$5=TRUE),AND(CQ989=7,TABLE1!$AT$3=TRUE),AND(CQ989=8,TABLE1!$AT$4=TRUE),AND(CQ989=9,TABLE1!$AT$5=TRUE),AND(CQ989=10,TABLE1!$AW$3=TRUE),AND(CQ989=11,TABLE1!$AW$4=TRUE),AND(CQ989=12,TABLE1!$AW$5=TRUE)),1,0)=1),1,0)=1,CR989=1,CT989=1),1,0)","v":0},{"$f":"IF(AND(OR(F989=TABLE1!$D$5,TABLE1!$D$5=\"کل بخشها\"),F989<>\"\"),1,0)","v":0}]
[null,null,null,null,null,null,null,null,null,null,null,null,null,null,null,null,null,null,null,null,null,null,null,null,null,null,null,null,null,null,null,null,null,null,null,null,null,null,null,null,null,null,null,null,null,null,null,null,null,null,null,null,null,null,null,null,null,null,null,null,null,null,null,null,null,null,null,null,null,null,null,null,null,null,null,null,null,null,null,null,null,null,null,null,null,null,null,null,null,null,null,null,null,null,"",{"$f":"IF(LEFT(C995,2)=TABLE1!$F$1,1,0)","v":0},{"$f":"IF(AND(IF(AND(IF(OR(AND(CQ995=1,TABLE1!$AN$3=TRUE),AND(CQ995=2,TABLE1!$AN$4=TRUE),AND(CQ995=3,TABLE1!$AN$5=TRUE),AND(CQ995=4,TABLE1!$AQ$3=TRUE),AND(CQ995=5,TABLE1!$AQ$4=TRUE),AND(CQ995=6,TABLE1!$AQ$5=TRUE),AND(CQ995=7,TABLE1!$AT$3=TRUE),AND(CQ995=8,TABLE1!$AT$4=TRUE),AND(CQ995=9,TABLE1!$AT$5=TRUE),AND(CQ995=10,TABLE1!$AW$3=TRUE),AND(CQ995=11,TABLE1!$AW$4=TRUE),AND(CQ995=12,TABLE1!$AW$5=TRUE)),1,0)=1),1,0)=1,CR995=1,CT995=1),1,0)","v":0},{"$f":"IF(AND(OR(F995=TABLE1!$D$5,TABLE1!$D$5=\"کل بخشها\"),F995<>\"\"),1,0)","v":0}]
[null,null,null,null,null,null,null,null,null,null,null,null,null,null,null,null,null,null,null,null,null,null,null,null,null,null,null,null,null,null,null,null,null,null,null,null,null,null,null,null,null,null,null,null,null,null,null,null,null,null,null,null,null,null,null,null,null,null,null,null,null,null,null,null,null,null,null,null,null,null,null,null,null,null,null,null,null,null,null,null,null,null,null,null,null,null,null,null,null,null,null,null,null,null,"",{"$f":"IF(LEFT(C998,2)=TABLE1!$F$1,1,0)","v":0},{"$f":"IF(AND(IF(AND(IF(OR(AND(CQ998=1,TABLE1!$AN$3=TRUE),AND(CQ998=2,TABLE1!$AN$4=TRUE),AND(CQ998=3,TABLE1!$AN$5=TRUE),AND(CQ998=4,TABLE1!$AQ$3=TRUE),AND(CQ998=5,TABLE1!$AQ$4=TRUE),AND(CQ998=6,TABLE1!$AQ$5=TRUE),AND(CQ998=7,TABLE1!$AT$3=TRUE),AND(CQ998=8,TABLE1!$AT$4=TRUE),AND(CQ998=9,TABLE1!$AT$5=TRUE),AND(CQ998=10,TABLE1!$AW$3=TRUE),AND(CQ998=11,TABLE1!$AW$4=TRUE),AND(CQ998=12,TABLE1!$AW$5=TRUE)),1,0)=1),1,0)=1,CR998=1,CT998=1),1,0)","v":0},{"$f":"IF(AND(OR(F998=TABLE1!$D$5,TABLE1!$D$5=\"کل بخشها\"),F998<>\"\"),1,0)","v":0}]
[null,null,null,null,null,null,null,null,null,null,null,null,null,null,null,null,null,null,null,null,null,null,null,null,null,null,null,null,null,null,null,null,null,null,null,null,null,null,null,null,null,null,null,null,null,null,null,null,null,null,null,null,null,null,null,null,null,null,null,null,null,null,null,null,null,null,null,null,null,null,null,null,null,null,null,null,null,null,null,null,null,null,null,null,null,null,null,null,null,null,null,null,null,null,"",{"$f":"IF(LEFT(C1004,2)=TABLE1!$F$1,1,0)","v":0},{"$f":"IF(AND(IF(AND(IF(OR(AND(CQ1004=1,TABLE1!$AN$3=TRUE),AND(CQ1004=2,TABLE1!$AN$4=TRUE),AND(CQ1004=3,TABLE1!$AN$5=TRUE),AND(CQ1004=4,TABLE1!$AQ$3=TRUE),AND(CQ1004=5,TABLE1!$AQ$4=TRUE),AND(CQ1004=6,TABLE1!$AQ$5=TRUE),AND(CQ1004=7,TABLE1!$AT$3=TRUE),AND(CQ1004=8,TABLE1!$AT$4=TRUE),AND(CQ1004=9,TABLE1!$AT$5=TRUE),AND(CQ1004=10,TABLE1!$AW$3=TRUE),AND(CQ1004=11,TABLE1!$AW$4=TRUE),AND(CQ1004=12,TABLE1!$AW$5=TRUE)),1,0)=1),1,0)=1,CR1004=1,CT1004=1),1,0)","v":0},{"$f":"IF(AND(OR(F1004=TABLE1!$D$5,TABLE1!$D$5=\"کل بخشها\"),F1004<>\"\"),1,0)","v":0}]
[null,null,null,null,null,null,null,null,null,null,null,null,null,null,null,null,null,null,null,null,null,null,null,null,null,null,null,null,null,null,null,null,null,null,null,null,null,null,null,null,null,null,null,null,null,null,null,null,null,null,null,null,null,null,null,null,null,null,null,null,null,null,null,null,null,null,null,null,null,null,null,null,null,null,null,null,null,null,null,null,null,null,null,null,null,null,null,null,null,null,null,null,null,null,"",{"$f":"IF(LEFT(C1009,2)=TABLE1!$F$1,1,0)","v":0},{"$f":"IF(AND(IF(AND(IF(OR(AND(CQ1009=1,TABLE1!$AN$3=TRUE),AND(CQ1009=2,TABLE1!$AN$4=TRUE),AND(CQ1009=3,TABLE1!$AN$5=TRUE),AND(CQ1009=4,TABLE1!$AQ$3=TRUE),AND(CQ1009=5,TABLE1!$AQ$4=TRUE),AND(CQ1009=6,TABLE1!$AQ$5=TRUE),AND(CQ1009=7,TABLE1!$AT$3=TRUE),AND(CQ1009=8,TABLE1!$AT$4=TRUE),AND(CQ1009=9,TABLE1!$AT$5=TRUE),AND(CQ1009=10,TABLE1!$AW$3=TRUE),AND(CQ1009=11,TABLE1!$AW$4=TRUE),AND(CQ1009=12,TABLE1!$AW$5=TRUE)),1,0)=1),1,0)=1,CR1009=1,CT1009=1),1,0)","v":0},{"$f":"IF(AND(OR(F1009=TABLE1!$D$5,TABLE1!$D$5=\"کل بخشها\"),F1009<>\"\"),1,0)","v":0}]
[null,null,null,null,null,null,null,null,null,null,null,null,null,null,null,null,null,null,null,null,null,null,null,null,null,null,null,null,null,null,null,null,null,null,null,null,null,null,null,null,null,null,null,null,null,null,null,null,null,null,null,null,null,null,null,null,null,null,null,null,null,null,null,null,null,null,null,null,null,null,null,null,null,null,null,null,null,null,null,null,null,null,null,null,null,null,null,null,null,null,null,null,null,null,"",{"$f":"IF(LEFT(C1015,2)=TABLE1!$F$1,1,0)","v":0},{"$f":"IF(AND(IF(AND(IF(OR(AND(CQ1015=1,TABLE1!$AN$3=TRUE),AND(CQ1015=2,TABLE1!$AN$4=TRUE),AND(CQ1015=3,TABLE1!$AN$5=TRUE),AND(CQ1015=4,TABLE1!$AQ$3=TRUE),AND(CQ1015=5,TABLE1!$AQ$4=TRUE),AND(CQ1015=6,TABLE1!$AQ$5=TRUE),AND(CQ1015=7,TABLE1!$AT$3=TRUE),AND(CQ1015=8,TABLE1!$AT$4=TRUE),AND(CQ1015=9,TABLE1!$AT$5=TRUE),AND(CQ1015=10,TABLE1!$AW$3=TRUE),AND(CQ1015=11,TABLE1!$AW$4=TRUE),AND(CQ1015=12,TABLE1!$AW$5=TRUE)),1,0)=1),1,0)=1,CR1015=1,CT1015=1),1,0)","v":0},{"$f":"IF(AND(OR(F1015=TABLE1!$D$5,TABLE1!$D$5=\"کل بخشها\"),F1015<>\"\"),1,0)","v":0}]
[null,null,null,null,null,null,null,null,null,null,null,null,null,null,null,null,null,null,null,null,null,null,null,null,null,null,null,null,null,null,null,null,null,null,null,null,null,null,null,null,null,null,null,null,null,null,null,null,null,null,null,null,null,null,null,null,null,null,null,null,null,null,null,null,null,null,null,null,null,null,null,null,null,null,null,null,null,null,null,null,null,null,null,null,null,null,null,null,null,null,null,null,null,null,"",{"$f":"IF(LEFT(C1020,2)=TABLE1!$F$1,1,0)","v":0},{"$f":"IF(AND(IF(AND(IF(OR(AND(CQ1020=1,TABLE1!$AN$3=TRUE),AND(CQ1020=2,TABLE1!$AN$4=TRUE),AND(CQ1020=3,TABLE1!$AN$5=TRUE),AND(CQ1020=4,TABLE1!$AQ$3=TRUE),AND(CQ1020=5,TABLE1!$AQ$4=TRUE),AND(CQ1020=6,TABLE1!$AQ$5=TRUE),AND(CQ1020=7,TABLE1!$AT$3=TRUE),AND(CQ1020=8,TABLE1!$AT$4=TRUE),AND(CQ1020=9,TABLE1!$AT$5=TRUE),AND(CQ1020=10,TABLE1!$AW$3=TRUE),AND(CQ1020=11,TABLE1!$AW$4=TRUE),AND(CQ1020=12,TABLE1!$AW$5=TRUE)),1,0)=1),1,0)=1,CR1020=1,CT1020=1),1,0)","v":0},{"$f":"IF(AND(OR(F1020=TABLE1!$D$5,TABLE1!$D$5=\"کل بخشها\"),F1020<>\"\"),1,0)","v":0}]
[null,null,null,null,null,null,null,null,null,null,null,null,null,null,null,null,null,null,null,null,null,null,null,null,null,null,null,null,null,null,null,null,null,null,null,null,null,null,null,null,null,null,null,null,null,null,null,null,null,null,null,null,null,null,null,null,null,null,null,null,null,null,null,null,null,null,null,null,null,null,null,null,null,null,null,null,null,null,null,null,null,null,null,null,null,null,null,null,null,null,null,null,null,null,"",{"$f":"IF(LEFT(C1024,2)=TABLE1!$F$1,1,0)","v":0},{"$f":"IF(AND(IF(AND(IF(OR(AND(CQ1024=1,TABLE1!$AN$3=TRUE),AND(CQ1024=2,TABLE1!$AN$4=TRUE),AND(CQ1024=3,TABLE1!$AN$5=TRUE),AND(CQ1024=4,TABLE1!$AQ$3=TRUE),AND(CQ1024=5,TABLE1!$AQ$4=TRUE),AND(CQ1024=6,TABLE1!$AQ$5=TRUE),AND(CQ1024=7,TABLE1!$AT$3=TRUE),AND(CQ1024=8,TABLE1!$AT$4=TRUE),AND(CQ1024=9,TABLE1!$AT$5=TRUE),AND(CQ1024=10,TABLE1!$AW$3=TRUE),AND(CQ1024=11,TABLE1!$AW$4=TRUE),AND(CQ1024=12,TABLE1!$AW$5=TRUE)),1,0)=1),1,0)=1,CR1024=1,CT1024=1),1,0)","v":0},{"$f":"IF(AND(OR(F1024=TABLE1!$D$5,TABLE1!$D$5=\"کل بخشها\"),F1024<>\"\"),1,0)","v":0}]
[null,null,null,null,null,null,null,null,null,null,null,null,null,null,null,null,null,null,null,null,null,null,null,null,null,null,null,null,null,null,null,null,null,null,null,null,null,null,null,null,null,null,null,null,null,null,null,null,null,null,null,null,null,null,null,null,null,null,null,null,null,null,null,null,null,null,null,null,null,null,null,null,null,null,null,null,null,null,null,null,null,null,null,null,null,null,null,null,null,null,null,null,null,null,"",{"$f":"IF(LEFT(C1030,2)=TABLE1!$F$1,1,0)","v":0},{"$f":"IF(AND(IF(AND(IF(OR(AND(CQ1030=1,TABLE1!$AN$3=TRUE),AND(CQ1030=2,TABLE1!$AN$4=TRUE),AND(CQ1030=3,TABLE1!$AN$5=TRUE),AND(CQ1030=4,TABLE1!$AQ$3=TRUE),AND(CQ1030=5,TABLE1!$AQ$4=TRUE),AND(CQ1030=6,TABLE1!$AQ$5=TRUE),AND(CQ1030=7,TABLE1!$AT$3=TRUE),AND(CQ1030=8,TABLE1!$AT$4=TRUE),AND(CQ1030=9,TABLE1!$AT$5=TRUE),AND(CQ1030=10,TABLE1!$AW$3=TRUE),AND(CQ1030=11,TABLE1!$AW$4=TRUE),AND(CQ1030=12,TABLE1!$AW$5=TRUE)),1,0)=1),1,0)=1,CR1030=1,CT1030=1),1,0)","v":0},{"$f":"IF(AND(OR(F1030=TABLE1!$D$5,TABLE1!$D$5=\"کل بخشها\"),F1030<>\"\"),1,0)","v":0}]
[null,null,null,null,null,null,null,null,null,null,null,null,null,null,null,null,null,null,null,null,null,null,null,null,null,null,null,null,null,null,null,null,null,null,null,null,null,null,null,null,null,null,null,null,null,null,null,null,null,null,null,null,null,null,null,null,null,null,null,null,null,null,null,null,null,null,null,null,null,null,null,null,null,null,null,null,null,null,null,null,null,null,null,null,null,null,null,null,null,null,null,null,null,null,"",{"$f":"IF(LEFT(C1035,2)=TABLE1!$F$1,1,0)","v":0},{"$f":"IF(AND(IF(AND(IF(OR(AND(CQ1035=1,TABLE1!$AN$3=TRUE),AND(CQ1035=2,TABLE1!$AN$4=TRUE),AND(CQ1035=3,TABLE1!$AN$5=TRUE),AND(CQ1035=4,TABLE1!$AQ$3=TRUE),AND(CQ1035=5,TABLE1!$AQ$4=TRUE),AND(CQ1035=6,TABLE1!$AQ$5=TRUE),AND(CQ1035=7,TABLE1!$AT$3=TRUE),AND(CQ1035=8,TABLE1!$AT$4=TRUE),AND(CQ1035=9,TABLE1!$AT$5=TRUE),AND(CQ1035=10,TABLE1!$AW$3=TRUE),AND(CQ1035=11,TABLE1!$AW$4=TRUE),AND(CQ1035=12,TABLE1!$AW$5=TRUE)),1,0)=1),1,0)=1,CR1035=1,CT1035=1),1,0)","v":0},{"$f":"IF(AND(OR(F1035=TABLE1!$D$5,TABLE1!$D$5=\"کل بخشها\"),F1035<>\"\"),1,0)","v":0}]
[null,null,null,null,null,null,null,null,null,null,null,null,null,null,null,null,null,null,null,null,null,null,null,null,null,null,null,null,null,null,null,null,null,null,null,null,null,null,null,null,null,null,null,null,null,null,null,null,null,null,null,null,null,null,null,null,null,null,null,null,null,null,null,null,null,null,null,null,null,null,null,null,null,null,null,null,null,null,null,null,null,null,null,null,null,null,null,null,null,null,null,null,null,null,"",{"$f":"IF(LEFT(C1039,2)=TABLE1!$F$1,1,0)","v":0},{"$f":"IF(AND(IF(AND(IF(OR(AND(CQ1039=1,TABLE1!$AN$3=TRUE),AND(CQ1039=2,TABLE1!$AN$4=TRUE),AND(CQ1039=3,TABLE1!$AN$5=TRUE),AND(CQ1039=4,TABLE1!$AQ$3=TRUE),AND(CQ1039=5,TABLE1!$AQ$4=TRUE),AND(CQ1039=6,TABLE1!$AQ$5=TRUE),AND(CQ1039=7,TABLE1!$AT$3=TRUE),AND(CQ1039=8,TABLE1!$AT$4=TRUE),AND(CQ1039=9,TABLE1!$AT$5=TRUE),AND(CQ1039=10,TABLE1!$AW$3=TRUE),AND(CQ1039=11,TABLE1!$AW$4=TRUE),AND(CQ1039=12,TABLE1!$AW$5=TRUE)),1,0)=1),1,0)=1,CR1039=1,CT1039=1),1,0)","v":0},{"$f":"IF(AND(OR(F1039=TABLE1!$D$5,TABLE1!$D$5=\"کل بخشها\"),F1039<>\"\"),1,0)","v":0}]
[null,null,null,null,null,null,null,null,null,null,null,null,null,null,null,null,null,null,null,null,null,null,null,null,null,null,null,null,null,null,null,null,null,null,null,null,null,null,null,null,null,null,null,null,null,null,null,null,null,null,null,null,null,null,null,null,null,null,null,null,null,null,null,null,null,null,null,null,null,null,null,null,null,null,null,null,null,null,null,null,null,null,null,null,null,null,null,null,null,null,null,null,null,null,"",{"$f":"IF(LEFT(C1045,2)=TABLE1!$F$1,1,0)","v":0},{"$f":"IF(AND(IF(AND(IF(OR(AND(CQ1045=1,TABLE1!$AN$3=TRUE),AND(CQ1045=2,TABLE1!$AN$4=TRUE),AND(CQ1045=3,TABLE1!$AN$5=TRUE),AND(CQ1045=4,TABLE1!$AQ$3=TRUE),AND(CQ1045=5,TABLE1!$AQ$4=TRUE),AND(CQ1045=6,TABLE1!$AQ$5=TRUE),AND(CQ1045=7,TABLE1!$AT$3=TRUE),AND(CQ1045=8,TABLE1!$AT$4=TRUE),AND(CQ1045=9,TABLE1!$AT$5=TRUE),AND(CQ1045=10,TABLE1!$AW$3=TRUE),AND(CQ1045=11,TABLE1!$AW$4=TRUE),AND(CQ1045=12,TABLE1!$AW$5=TRUE)),1,0)=1),1,0)=1,CR1045=1,CT1045=1),1,0)","v":0},{"$f":"IF(AND(OR(F1045=TABLE1!$D$5,TABLE1!$D$5=\"کل بخشها\"),F1045<>\"\"),1,0)","v":0}]
[null,null,null,null,null,null,null,null,null,null,null,null,null,null,null,null,null,null,null,null,null,null,null,null,null,null,null,null,null,null,null,null,null,null,null,null,null,null,null,null,null,null,null,null,null,null,null,null,null,null,null,null,null,null,null,null,null,null,null,null,null,null,null,null,null,null,null,null,null,null,null,null,null,null,null,null,null,null,null,null,null,null,null,null,null,null,null,null,null,null,null,null,null,null,"",{"$f":"IF(LEFT(C1050,2)=TABLE1!$F$1,1,0)","v":0},{"$f":"IF(AND(IF(AND(IF(OR(AND(CQ1050=1,TABLE1!$AN$3=TRUE),AND(CQ1050=2,TABLE1!$AN$4=TRUE),AND(CQ1050=3,TABLE1!$AN$5=TRUE),AND(CQ1050=4,TABLE1!$AQ$3=TRUE),AND(CQ1050=5,TABLE1!$AQ$4=TRUE),AND(CQ1050=6,TABLE1!$AQ$5=TRUE),AND(CQ1050=7,TABLE1!$AT$3=TRUE),AND(CQ1050=8,TABLE1!$AT$4=TRUE),AND(CQ1050=9,TABLE1!$AT$5=TRUE),AND(CQ1050=10,TABLE1!$AW$3=TRUE),AND(CQ1050=11,TABLE1!$AW$4=TRUE),AND(CQ1050=12,TABLE1!$AW$5=TRUE)),1,0)=1),1,0)=1,CR1050=1,CT1050=1),1,0)","v":0},{"$f":"IF(AND(OR(F1050=TABLE1!$D$5,TABLE1!$D$5=\"کل بخشها\"),F1050<>\"\"),1,0)","v":0}]
[null,null,null,null,null,null,null,null,null,null,null,null,null,null,null,null,null,null,null,null,null,null,null,null,null,null,null,null,null,null,null,null,null,null,null,null,null,null,null,null,null,null,null,null,null,null,null,null,null,null,null,null,null,null,null,null,null,null,null,null,null,null,null,null,null,null,null,null,null,null,null,null,null,null,null,null,null,null,null,null,null,null,null,null,null,null,null,null,null,null,null,null,null,null,"",{"$f":"IF(LEFT(C1051,2)=TABLE1!$F$1,1,0)","v":0},{"$f":"IF(AND(IF(AND(IF(OR(AND(CQ1051=1,TABLE1!$AN$3=TRUE),AND(CQ1051=2,TABLE1!$AN$4=TRUE),AND(CQ1051=3,TABLE1!$AN$5=TRUE),AND(CQ1051=4,TABLE1!$AQ$3=TRUE),AND(CQ1051=5,TABLE1!$AQ$4=TRUE),AND(CQ1051=6,TABLE1!$AQ$5=TRUE),AND(CQ1051=7,TABLE1!$AT$3=TRUE),AND(CQ1051=8,TABLE1!$AT$4=TRUE),AND(CQ1051=9,TABLE1!$AT$5=TRUE),AND(CQ1051=10,TABLE1!$AW$3=TRUE),AND(CQ1051=11,TABLE1!$AW$4=TRUE),AND(CQ1051=12,TABLE1!$AW$5=TRUE)),1,0)=1),1,0)=1,CR1051=1,CT1051=1),1,0)","v":0},{"$f":"IF(AND(OR(F1051=TABLE1!$D$5,TABLE1!$D$5=\"کل بخشها\"),F1051<>\"\"),1,0)","v":0}]
[null,null,null,null,null,null,null,null,null,null,null,null,null,null,null,null,null,null,null,null,null,null,null,null,null,null,null,null,null,null,null,null,null,null,null,null,null,null,null,null,null,null,null,null,null,null,null,null,null,null,null,null,null,null,null,null,null,null,null,null,null,null,null,null,null,null,null,null,null,null,null,null,null,null,null,null,null,null,null,null,null,null,null,null,null,null,null,null,null,null,null,null,null,null,"",{"$f":"IF(LEFT(C1058,2)=TABLE1!$F$1,1,0)","v":0},{"$f":"IF(AND(IF(AND(IF(OR(AND(CQ1058=1,TABLE1!$AN$3=TRUE),AND(CQ1058=2,TABLE1!$AN$4=TRUE),AND(CQ1058=3,TABLE1!$AN$5=TRUE),AND(CQ1058=4,TABLE1!$AQ$3=TRUE),AND(CQ1058=5,TABLE1!$AQ$4=TRUE),AND(CQ1058=6,TABLE1!$AQ$5=TRUE),AND(CQ1058=7,TABLE1!$AT$3=TRUE),AND(CQ1058=8,TABLE1!$AT$4=TRUE),AND(CQ1058=9,TABLE1!$AT$5=TRUE),AND(CQ1058=10,TABLE1!$AW$3=TRUE),AND(CQ1058=11,TABLE1!$AW$4=TRUE),AND(CQ1058=12,TABLE1!$AW$5=TRUE)),1,0)=1),1,0)=1,CR1058=1,CT1058=1),1,0)","v":0},{"$f":"IF(AND(OR(F1058=TABLE1!$D$5,TABLE1!$D$5=\"کل بخشها\"),F1058<>\"\"),1,0)","v":0}]
[null,null,null,null,null,null,null,null,null,null,null,null,null,null,null,null,null,null,null,null,null,null,null,null,null,null,null,null,null,null,null,null,null,null,null,null,null,null,null,null,null,null,null,null,null,null,null,null,null,null,null,null,null,null,null,null,null,null,null,null,null,null,null,null,null,null,null,null,null,null,null,null,null,null,null,null,null,null,null,null,null,null,null,null,null,null,null,null,null,null,null,null,null,null,"",{"$f":"IF(LEFT(C1060,2)=TABLE1!$F$1,1,0)","v":0},{"$f":"IF(AND(IF(AND(IF(OR(AND(CQ1060=1,TABLE1!$AN$3=TRUE),AND(CQ1060=2,TABLE1!$AN$4=TRUE),AND(CQ1060=3,TABLE1!$AN$5=TRUE),AND(CQ1060=4,TABLE1!$AQ$3=TRUE),AND(CQ1060=5,TABLE1!$AQ$4=TRUE),AND(CQ1060=6,TABLE1!$AQ$5=TRUE),AND(CQ1060=7,TABLE1!$AT$3=TRUE),AND(CQ1060=8,TABLE1!$AT$4=TRUE),AND(CQ1060=9,TABLE1!$AT$5=TRUE),AND(CQ1060=10,TABLE1!$AW$3=TRUE),AND(CQ1060=11,TABLE1!$AW$4=TRUE),AND(CQ1060=12,TABLE1!$AW$5=TRUE)),1,0)=1),1,0)=1,CR1060=1,CT1060=1),1,0)","v":0},{"$f":"IF(AND(OR(F1060=TABLE1!$D$5,TABLE1!$D$5=\"کل بخشها\"),F1060<>\"\"),1,0)","v":0}]
[null,null,null,null,null,null,null,null,null,null,null,null,null,null,null,null,null,null,null,null,null,null,null,null,null,null,null,null,null,null,null,null,null,null,null,null,null,null,null,null,null,null,null,null,null,null,null,null,null,null,null,null,null,null,null,null,null,null,null,null,null,null,null,null,null,null,null,null,null,null,null,null,null,null,null,null,null,null,null,null,null,null,null,null,null,null,null,null,null,null,null,null,null,null,"",{"$f":"IF(LEFT(C1066,2)=TABLE1!$F$1,1,0)","v":0},{"$f":"IF(AND(IF(AND(IF(OR(AND(CQ1066=1,TABLE1!$AN$3=TRUE),AND(CQ1066=2,TABLE1!$AN$4=TRUE),AND(CQ1066=3,TABLE1!$AN$5=TRUE),AND(CQ1066=4,TABLE1!$AQ$3=TRUE),AND(CQ1066=5,TABLE1!$AQ$4=TRUE),AND(CQ1066=6,TABLE1!$AQ$5=TRUE),AND(CQ1066=7,TABLE1!$AT$3=TRUE),AND(CQ1066=8,TABLE1!$AT$4=TRUE),AND(CQ1066=9,TABLE1!$AT$5=TRUE),AND(CQ1066=10,TABLE1!$AW$3=TRUE),AND(CQ1066=11,TABLE1!$AW$4=TRUE),AND(CQ1066=12,TABLE1!$AW$5=TRUE)),1,0)=1),1,0)=1,CR1066=1,CT1066=1),1,0)","v":0},{"$f":"IF(AND(OR(F1066=TABLE1!$D$5,TABLE1!$D$5=\"کل بخشها\"),F1066<>\"\"),1,0)","v":0}]
[null,null,null,null,null,null,null,null,null,null,null,null,null,null,null,null,null,null,null,null,null,null,null,null,null,null,null,null,null,null,null,null,null,null,null,null,null,null,null,null,null,null,null,null,null,null,null,null,null,null,null,null,null,null,null,null,null,null,null,null,null,null,null,null,null,null,null,null,null,null,null,null,null,null,null,null,null,null,null,null,null,null,null,null,null,null,null,null,null,null,null,null,null,null,"",{"$f":"IF(LEFT(C1071,2)=TABLE1!$F$1,1,0)","v":0},{"$f":"IF(AND(IF(AND(IF(OR(AND(CQ1071=1,TABLE1!$AN$3=TRUE),AND(CQ1071=2,TABLE1!$AN$4=TRUE),AND(CQ1071=3,TABLE1!$AN$5=TRUE),AND(CQ1071=4,TABLE1!$AQ$3=TRUE),AND(CQ1071=5,TABLE1!$AQ$4=TRUE),AND(CQ1071=6,TABLE1!$AQ$5=TRUE),AND(CQ1071=7,TABLE1!$AT$3=TRUE),AND(CQ1071=8,TABLE1!$AT$4=TRUE),AND(CQ1071=9,TABLE1!$AT$5=TRUE),AND(CQ1071=10,TABLE1!$AW$3=TRUE),AND(CQ1071=11,TABLE1!$AW$4=TRUE),AND(CQ1071=12,TABLE1!$AW$5=TRUE)),1,0)=1),1,0)=1,CR1071=1,CT1071=1),1,0)","v":0},{"$f":"IF(AND(OR(F1071=TABLE1!$D$5,TABLE1!$D$5=\"کل بخشها\"),F1071<>\"\"),1,0)","v":0}]
[null,null,null,null,null,null,null,null,null,null,null,null,null,null,null,null,null,null,null,null,null,null,null,null,null,null,null,null,null,null,null,null,null,null,null,null,null,null,null,null,null,null,null,null,null,null,null,null,null,null,null,null,null,null,null,null,null,null,null,null,null,null,null,null,null,null,null,null,null,null,null,null,null,null,null,null,null,null,null,null,null,null,null,null,null,null,null,null,null,null,null,null,null,null,"",{"$f":"IF(LEFT(C1077,2)=TABLE1!$F$1,1,0)","v":0},{"$f":"IF(AND(IF(AND(IF(OR(AND(CQ1077=1,TABLE1!$AN$3=TRUE),AND(CQ1077=2,TABLE1!$AN$4=TRUE),AND(CQ1077=3,TABLE1!$AN$5=TRUE),AND(CQ1077=4,TABLE1!$AQ$3=TRUE),AND(CQ1077=5,TABLE1!$AQ$4=TRUE),AND(CQ1077=6,TABLE1!$AQ$5=TRUE),AND(CQ1077=7,TABLE1!$AT$3=TRUE),AND(CQ1077=8,TABLE1!$AT$4=TRUE),AND(CQ1077=9,TABLE1!$AT$5=TRUE),AND(CQ1077=10,TABLE1!$AW$3=TRUE),AND(CQ1077=11,TABLE1!$AW$4=TRUE),AND(CQ1077=12,TABLE1!$AW$5=TRUE)),1,0)=1),1,0)=1,CR1077=1,CT1077=1),1,0)","v":0},{"$f":"IF(AND(OR(F1077=TABLE1!$D$5,TABLE1!$D$5=\"کل بخشها\"),F1077<>\"\"),1,0)","v":0}]
[null,null,null,null,null,null,null,null,null,null,null,null,null,null,null,null,null,null,null,null,null,null,null,null,null,null,null,null,null,null,null,null,null,null,null,null,null,null,null,null,null,null,null,null,null,null,null,null,null,null,null,null,null,null,null,null,null,null,null,null,null,null,null,null,null,null,null,null,null,null,null,null,null,null,null,null,null,null,null,null,null,null,null,null,null,null,null,null,null,null,null,null,null,null,"",{"$f":"IF(LEFT(C1081,2)=TABLE1!$F$1,1,0)","v":0},{"$f":"IF(AND(IF(AND(IF(OR(AND(CQ1081=1,TABLE1!$AN$3=TRUE),AND(CQ1081=2,TABLE1!$AN$4=TRUE),AND(CQ1081=3,TABLE1!$AN$5=TRUE),AND(CQ1081=4,TABLE1!$AQ$3=TRUE),AND(CQ1081=5,TABLE1!$AQ$4=TRUE),AND(CQ1081=6,TABLE1!$AQ$5=TRUE),AND(CQ1081=7,TABLE1!$AT$3=TRUE),AND(CQ1081=8,TABLE1!$AT$4=TRUE),AND(CQ1081=9,TABLE1!$AT$5=TRUE),AND(CQ1081=10,TABLE1!$AW$3=TRUE),AND(CQ1081=11,TABLE1!$AW$4=TRUE),AND(CQ1081=12,TABLE1!$AW$5=TRUE)),1,0)=1),1,0)=1,CR1081=1,CT1081=1),1,0)","v":0},{"$f":"IF(AND(OR(F1081=TABLE1!$D$5,TABLE1!$D$5=\"کل بخشها\"),F1081<>\"\"),1,0)","v":0}]
[null,null,null,null,null,null,null,null,null,null,null,null,null,null,null,null,null,null,null,null,null,null,null,null,null,null,null,null,null,null,null,null,null,null,null,null,null,null,null,null,null,null,null,null,null,null,null,null,null,null,null,null,null,null,null,null,null,null,null,null,null,null,null,null,null,null,null,null,null,null,null,null,null,null,null,null,null,null,null,null,null,null,null,null,null,null,null,null,null,null,null,null,null,null,"",{"$f":"IF(LEFT(C1086,2)=TABLE1!$F$1,1,0)","v":0},{"$f":"IF(AND(IF(AND(IF(OR(AND(CQ1086=1,TABLE1!$AN$3=TRUE),AND(CQ1086=2,TABLE1!$AN$4=TRUE),AND(CQ1086=3,TABLE1!$AN$5=TRUE),AND(CQ1086=4,TABLE1!$AQ$3=TRUE),AND(CQ1086=5,TABLE1!$AQ$4=TRUE),AND(CQ1086=6,TABLE1!$AQ$5=TRUE),AND(CQ1086=7,TABLE1!$AT$3=TRUE),AND(CQ1086=8,TABLE1!$AT$4=TRUE),AND(CQ1086=9,TABLE1!$AT$5=TRUE),AND(CQ1086=10,TABLE1!$AW$3=TRUE),AND(CQ1086=11,TABLE1!$AW$4=TRUE),AND(CQ1086=12,TABLE1!$AW$5=TRUE)),1,0)=1),1,0)=1,CR1086=1,CT1086=1),1,0)","v":0},{"$f":"IF(AND(OR(F1086=TABLE1!$D$5,TABLE1!$D$5=\"کل بخشها\"),F1086<>\"\"),1,0)","v":0}]
[null,null,null,null,null,null,null,null,null,null,null,null,null,null,null,null,null,null,null,null,null,null,null,null,null,null,null,null,null,null,null,null,null,null,null,null,null,null,null,null,null,null,null,null,null,null,null,null,null,null,null,null,null,null,null,null,null,null,null,null,null,null,null,null,null,null,null,null,null,null,null,null,null,null,null,null,null,null,null,null,null,null,null,null,null,null,null,null,null,null,null,null,null,null,"",{"$f":"IF(LEFT(C1092,2)=TABLE1!$F$1,1,0)","v":0},{"$f":"IF(AND(IF(AND(IF(OR(AND(CQ1092=1,TABLE1!$AN$3=TRUE),AND(CQ1092=2,TABLE1!$AN$4=TRUE),AND(CQ1092=3,TABLE1!$AN$5=TRUE),AND(CQ1092=4,TABLE1!$AQ$3=TRUE),AND(CQ1092=5,TABLE1!$AQ$4=TRUE),AND(CQ1092=6,TABLE1!$AQ$5=TRUE),AND(CQ1092=7,TABLE1!$AT$3=TRUE),AND(CQ1092=8,TABLE1!$AT$4=TRUE),AND(CQ1092=9,TABLE1!$AT$5=TRUE),AND(CQ1092=10,TABLE1!$AW$3=TRUE),AND(CQ1092=11,TABLE1!$AW$4=TRUE),AND(CQ1092=12,TABLE1!$AW$5=TRUE)),1,0)=1),1,0)=1,CR1092=1,CT1092=1),1,0)","v":0},{"$f":"IF(AND(OR(F1092=TABLE1!$D$5,TABLE1!$D$5=\"کل بخشها\"),F1092<>\"\"),1,0)","v":0}]
[null,null,null,null,null,null,null,null,null,null,null,null,null,null,null,null,null,null,null,null,null,null,null,null,null,null,null,null,null,null,null,null,null,null,null,null,null,null,null,null,null,null,null,null,null,null,null,null,null,null,null,null,null,null,null,null,null,null,null,null,null,null,null,null,null,null,null,null,null,null,null,null,null,null,null,null,null,null,null,null,null,null,null,null,null,null,null,null,null,null,null,null,null,null,"",{"$f":"IF(LEFT(C1096,2)=TABLE1!$F$1,1,0)","v":0},{"$f":"IF(AND(IF(AND(IF(OR(AND(CQ1096=1,TABLE1!$AN$3=TRUE),AND(CQ1096=2,TABLE1!$AN$4=TRUE),AND(CQ1096=3,TABLE1!$AN$5=TRUE),AND(CQ1096=4,TABLE1!$AQ$3=TRUE),AND(CQ1096=5,TABLE1!$AQ$4=TRUE),AND(CQ1096=6,TABLE1!$AQ$5=TRUE),AND(CQ1096=7,TABLE1!$AT$3=TRUE),AND(CQ1096=8,TABLE1!$AT$4=TRUE),AND(CQ1096=9,TABLE1!$AT$5=TRUE),AND(CQ1096=10,TABLE1!$AW$3=TRUE),AND(CQ1096=11,TABLE1!$AW$4=TRUE),AND(CQ1096=12,TABLE1!$AW$5=TRUE)),1,0)=1),1,0)=1,CR1096=1,CT1096=1),1,0)","v":0},{"$f":"IF(AND(OR(F1096=TABLE1!$D$5,TABLE1!$D$5=\"کل بخشها\"),F1096<>\"\"),1,0)","v":0}]
[null,null,null,null,null,null,null,null,null,null,null,null,null,null,null,null,null,null,null,null,null,null,null,null,null,null,null,null,null,null,null,null,null,null,null,null,null,null,null,null,null,null,null,null,null,null,null,null,null,null,null,null,null,null,null,null,null,null,null,null,null,null,null,null,null,null,null,null,null,null,null,null,null,null,null,null,null,null,null,null,null,null,null,null,null,null,null,null,null,null,null,null,null,null,"",{"$f":"IF(LEFT(C1101,2)=TABLE1!$F$1,1,0)","v":0},{"$f":"IF(AND(IF(AND(IF(OR(AND(CQ1101=1,TABLE1!$AN$3=TRUE),AND(CQ1101=2,TABLE1!$AN$4=TRUE),AND(CQ1101=3,TABLE1!$AN$5=TRUE),AND(CQ1101=4,TABLE1!$AQ$3=TRUE),AND(CQ1101=5,TABLE1!$AQ$4=TRUE),AND(CQ1101=6,TABLE1!$AQ$5=TRUE),AND(CQ1101=7,TABLE1!$AT$3=TRUE),AND(CQ1101=8,TABLE1!$AT$4=TRUE),AND(CQ1101=9,TABLE1!$AT$5=TRUE),AND(CQ1101=10,TABLE1!$AW$3=TRUE),AND(CQ1101=11,TABLE1!$AW$4=TRUE),AND(CQ1101=12,TABLE1!$AW$5=TRUE)),1,0)=1),1,0)=1,CR1101=1,CT1101=1),1,0)","v":0},{"$f":"IF(AND(OR(F1101=TABLE1!$D$5,TABLE1!$D$5=\"کل بخشها\"),F1101<>\"\"),1,0)","v":0}]
[null,null,null,null,null,null,null,null,null,null,null,null,null,null,null,null,null,null,null,null,null,null,null,null,null,null,null,null,null,null,null,null,null,null,null,null,null,null,null,null,null,null,null,null,null,null,null,null,null,null,null,null,null,null,null,null,null,null,null,null,null,null,null,null,null,null,null,null,null,null,null,null,null,null,null,null,null,null,null,null,null,null,null,null,null,null,null,null,null,null,null,null,null,null,"",{"$f":"IF(LEFT(C1107,2)=TABLE1!$F$1,1,0)","v":0},{"$f":"IF(AND(IF(AND(IF(OR(AND(CQ1107=1,TABLE1!$AN$3=TRUE),AND(CQ1107=2,TABLE1!$AN$4=TRUE),AND(CQ1107=3,TABLE1!$AN$5=TRUE),AND(CQ1107=4,TABLE1!$AQ$3=TRUE),AND(CQ1107=5,TABLE1!$AQ$4=TRUE),AND(CQ1107=6,TABLE1!$AQ$5=TRUE),AND(CQ1107=7,TABLE1!$AT$3=TRUE),AND(CQ1107=8,TABLE1!$AT$4=TRUE),AND(CQ1107=9,TABLE1!$AT$5=TRUE),AND(CQ1107=10,TABLE1!$AW$3=TRUE),AND(CQ1107=11,TABLE1!$AW$4=TRUE),AND(CQ1107=12,TABLE1!$AW$5=TRUE)),1,0)=1),1,0)=1,CR1107=1,CT1107=1),1,0)","v":0},{"$f":"IF(AND(OR(F1107=TABLE1!$D$5,TABLE1!$D$5=\"کل بخشها\"),F1107<>\"\"),1,0)","v":0}]
[null,null,null,null,null,null,null,null,null,null,null,null,null,null,null,null,null,null,null,null,null,null,null,null,null,null,null,null,null,null,null,null,null,null,null,null,null,null,null,null,null,null,null,null,null,null,null,null,null,null,null,null,null,null,null,null,null,null,null,null,null,null,null,null,null,null,null,null,null,null,null,null,null,null,null,null,null,null,null,null,null,null,null,null,null,null,null,null,null,null,null,null,null,null,"",{"$f":"IF(LEFT(C1112,2)=TABLE1!$F$1,1,0)","v":0},{"$f":"IF(AND(IF(AND(IF(OR(AND(CQ1112=1,TABLE1!$AN$3=TRUE),AND(CQ1112=2,TABLE1!$AN$4=TRUE),AND(CQ1112=3,TABLE1!$AN$5=TRUE),AND(CQ1112=4,TABLE1!$AQ$3=TRUE),AND(CQ1112=5,TABLE1!$AQ$4=TRUE),AND(CQ1112=6,TABLE1!$AQ$5=TRUE),AND(CQ1112=7,TABLE1!$AT$3=TRUE),AND(CQ1112=8,TABLE1!$AT$4=TRUE),AND(CQ1112=9,TABLE1!$AT$5=TRUE),AND(CQ1112=10,TABLE1!$AW$3=TRUE),AND(CQ1112=11,TABLE1!$AW$4=TRUE),AND(CQ1112=12,TABLE1!$AW$5=TRUE)),1,0)=1),1,0)=1,CR1112=1,CT1112=1),1,0)","v":0},{"$f":"IF(AND(OR(F1112=TABLE1!$D$5,TABLE1!$D$5=\"کل بخشها\"),F1112<>\"\"),1,0)","v":0}]
[null,null,null,null,null,null,null,null,null,null,null,null,null,null,null,null,null,null,null,null,null,null,null,null,null,null,null,null,null,null,null,null,null,null,null,null,null,null,null,null,null,null,null,null,null,null,null,null,null,null,null,null,null,null,null,null,null,null,null,null,null,null,null,null,null,null,null,null,null,null,null,null,null,null,null,null,null,null,null,null,null,null,null,null,null,null,null,null,null,null,null,null,null,null,"",{"$f":"IF(LEFT(C1113,2)=TABLE1!$F$1,1,0)","v":0},{"$f":"IF(AND(IF(AND(IF(OR(AND(CQ1113=1,TABLE1!$AN$3=TRUE),AND(CQ1113=2,TABLE1!$AN$4=TRUE),AND(CQ1113=3,TABLE1!$AN$5=TRUE),AND(CQ1113=4,TABLE1!$AQ$3=TRUE),AND(CQ1113=5,TABLE1!$AQ$4=TRUE),AND(CQ1113=6,TABLE1!$AQ$5=TRUE),AND(CQ1113=7,TABLE1!$AT$3=TRUE),AND(CQ1113=8,TABLE1!$AT$4=TRUE),AND(CQ1113=9,TABLE1!$AT$5=TRUE),AND(CQ1113=10,TABLE1!$AW$3=TRUE),AND(CQ1113=11,TABLE1!$AW$4=TRUE),AND(CQ1113=12,TABLE1!$AW$5=TRUE)),1,0)=1),1,0)=1,CR1113=1,CT1113=1),1,0)","v":0},{"$f":"IF(AND(OR(F1113=TABLE1!$D$5,TABLE1!$D$5=\"کل بخشها\"),F1113<>\"\"),1,0)","v":0}]
[null,null,null,null,null,null,null,null,null,null,null,null,null,null,null,null,null,null,null,null,null,null,null,null,null,null,null,null,null,null,null,null,null,null,null,null,null,null,null,null,null,null,null,null,null,null,null,null,null,null,null,null,null,null,null,null,null,null,null,null,null,null,null,null,null,null,null,null,null,null,null,null,null,null,null,null,null,null,null,null,null,null,null,null,null,null,null,null,null,null,null,null,null,null,"",{"$f":"IF(LEFT(C1121,2)=TABLE1!$F$1,1,0)","v":0},{"$f":"IF(AND(IF(AND(IF(OR(AND(CQ1121=1,TABLE1!$AN$3=TRUE),AND(CQ1121=2,TABLE1!$AN$4=TRUE),AND(CQ1121=3,TABLE1!$AN$5=TRUE),AND(CQ1121=4,TABLE1!$AQ$3=TRUE),AND(CQ1121=5,TABLE1!$AQ$4=TRUE),AND(CQ1121=6,TABLE1!$AQ$5=TRUE),AND(CQ1121=7,TABLE1!$AT$3=TRUE),AND(CQ1121=8,TABLE1!$AT$4=TRUE),AND(CQ1121=9,TABLE1!$AT$5=TRUE),AND(CQ1121=10,TABLE1!$AW$3=TRUE),AND(CQ1121=11,TABLE1!$AW$4=TRUE),AND(CQ1121=12,TABLE1!$AW$5=TRUE)),1,0)=1),1,0)=1,CR1121=1,CT1121=1),1,0)","v":0},{"$f":"IF(AND(OR(F1121=TABLE1!$D$5,TABLE1!$D$5=\"کل بخشها\"),F1121<>\"\"),1,0)","v":0}]
[null,null,null,null,null,null,null,null,null,null,null,null,null,null,null,null,null,null,null,null,null,null,null,null,null,null,null,null,null,null,null,null,null,null,null,null,null,null,null,null,null,null,null,null,null,null,null,null,null,null,null,null,null,null,null,null,null,null,null,null,null,null,null,null,null,null,null,null,null,null,null,null,null,null,null,null,null,null,null,null,null,null,null,null,null,null,null,null,null,null,null,null,null,null,"",{"$f":"IF(LEFT(C1122,2)=TABLE1!$F$1,1,0)","v":0},{"$f":"IF(AND(IF(AND(IF(OR(AND(CQ1122=1,TABLE1!$AN$3=TRUE),AND(CQ1122=2,TABLE1!$AN$4=TRUE),AND(CQ1122=3,TABLE1!$AN$5=TRUE),AND(CQ1122=4,TABLE1!$AQ$3=TRUE),AND(CQ1122=5,TABLE1!$AQ$4=TRUE),AND(CQ1122=6,TABLE1!$AQ$5=TRUE),AND(CQ1122=7,TABLE1!$AT$3=TRUE),AND(CQ1122=8,TABLE1!$AT$4=TRUE),AND(CQ1122=9,TABLE1!$AT$5=TRUE),AND(CQ1122=10,TABLE1!$AW$3=TRUE),AND(CQ1122=11,TABLE1!$AW$4=TRUE),AND(CQ1122=12,TABLE1!$AW$5=TRUE)),1,0)=1),1,0)=1,CR1122=1,CT1122=1),1,0)","v":0},{"$f":"IF(AND(OR(F1122=TABLE1!$D$5,TABLE1!$D$5=\"کل بخشها\"),F1122<>\"\"),1,0)","v":0}]
[null,null,null,null,null,null,null,null,null,null,null,null,null,null,null,null,null,null,null,null,null,null,null,null,null,null,null,null,null,null,null,null,null,null,null,null,null,null,null,null,null,null,null,null,null,null,null,null,null,null,null,null,null,null,null,null,null,null,null,null,null,null,null,null,null,null,null,null,null,null,null,null,null,null,null,null,null,null,null,null,null,null,null,null,null,null,null,null,null,null,null,null,null,null,"",{"$f":"IF(LEFT(C1128,2)=TABLE1!$F$1,1,0)","v":0},{"$f":"IF(AND(IF(AND(IF(OR(AND(CQ1128=1,TABLE1!$AN$3=TRUE),AND(CQ1128=2,TABLE1!$AN$4=TRUE),AND(CQ1128=3,TABLE1!$AN$5=TRUE),AND(CQ1128=4,TABLE1!$AQ$3=TRUE),AND(CQ1128=5,TABLE1!$AQ$4=TRUE),AND(CQ1128=6,TABLE1!$AQ$5=TRUE),AND(CQ1128=7,TABLE1!$AT$3=TRUE),AND(CQ1128=8,TABLE1!$AT$4=TRUE),AND(CQ1128=9,TABLE1!$AT$5=TRUE),AND(CQ1128=10,TABLE1!$AW$3=TRUE),AND(CQ1128=11,TABLE1!$AW$4=TRUE),AND(CQ1128=12,TABLE1!$AW$5=TRUE)),1,0)=1),1,0)=1,CR1128=1,CT1128=1),1,0)","v":0},{"$f":"IF(AND(OR(F1128=TABLE1!$D$5,TABLE1!$D$5=\"کل بخشها\"),F1128<>\"\"),1,0)","v":0}]
[null,null,null,null,null,null,null,null,null,null,null,null,null,null,null,null,null,null,null,null,null,null,null,null,null,null,null,null,null,null,null,null,null,null,null,null,null,null,null,null,null,null,null,null,null,null,null,null,null,null,null,null,null,null,null,null,null,null,null,null,null,null,null,null,null,null,null,null,null,null,null,null,null,null,null,null,null,null,null,null,null,null,null,null,null,null,null,null,null,null,null,null,null,null,"",{"$f":"IF(LEFT(C1133,2)=TABLE1!$F$1,1,0)","v":0},{"$f":"IF(AND(IF(AND(IF(OR(AND(CQ1133=1,TABLE1!$AN$3=TRUE),AND(CQ1133=2,TABLE1!$AN$4=TRUE),AND(CQ1133=3,TABLE1!$AN$5=TRUE),AND(CQ1133=4,TABLE1!$AQ$3=TRUE),AND(CQ1133=5,TABLE1!$AQ$4=TRUE),AND(CQ1133=6,TABLE1!$AQ$5=TRUE),AND(CQ1133=7,TABLE1!$AT$3=TRUE),AND(CQ1133=8,TABLE1!$AT$4=TRUE),AND(CQ1133=9,TABLE1!$AT$5=TRUE),AND(CQ1133=10,TABLE1!$AW$3=TRUE),AND(CQ1133=11,TABLE1!$AW$4=TRUE),AND(CQ1133=12,TABLE1!$AW$5=TRUE)),1,0)=1),1,0)=1,CR1133=1,CT1133=1),1,0)","v":0},{"$f":"IF(AND(OR(F1133=TABLE1!$D$5,TABLE1!$D$5=\"کل بخشها\"),F1133<>\"\"),1,0)","v":0}]
[null,null,null,null,null,null,null,null,null,null,null,null,null,null,null,null,null,null,null,null,null,null,null,null,null,null,null,null,null,null,null,null,null,null,null,null,null,null,null,null,null,null,null,null,null,null,null,null,null,null,null,null,null,null,null,null,null,null,null,null,null,null,null,null,null,null,null,null,null,null,null,null,null,null,null,null,null,null,null,null,null,null,null,null,null,null,null,null,null,null,null,null,null,null,"",{"$f":"IF(LEFT(C1140,2)=TABLE1!$F$1,1,0)","v":0},{"$f":"IF(AND(IF(AND(IF(OR(AND(CQ1140=1,TABLE1!$AN$3=TRUE),AND(CQ1140=2,TABLE1!$AN$4=TRUE),AND(CQ1140=3,TABLE1!$AN$5=TRUE),AND(CQ1140=4,TABLE1!$AQ$3=TRUE),AND(CQ1140=5,TABLE1!$AQ$4=TRUE),AND(CQ1140=6,TABLE1!$AQ$5=TRUE),AND(CQ1140=7,TABLE1!$AT$3=TRUE),AND(CQ1140=8,TABLE1!$AT$4=TRUE),AND(CQ1140=9,TABLE1!$AT$5=TRUE),AND(CQ1140=10,TABLE1!$AW$3=TRUE),AND(CQ1140=11,TABLE1!$AW$4=TRUE),AND(CQ1140=12,TABLE1!$AW$5=TRUE)),1,0)=1),1,0)=1,CR1140=1,CT1140=1),1,0)","v":0},{"$f":"IF(AND(OR(F1140=TABLE1!$D$5,TABLE1!$D$5=\"کل بخشها\"),F1140<>\"\"),1,0)","v":0}]
[null,null,null,null,null,null,null,null,null,null,null,null,null,null,null,null,null,null,null,null,null,null,null,null,null,null,null,null,null,null,null,null,null,null,null,null,null,null,null,null,null,null,null,null,null,null,null,null,null,null,null,null,null,null,null,null,null,null,null,null,null,null,null,null,null,null,null,null,null,null,null,null,null,null,null,null,null,null,null,null,null,null,null,null,null,null,null,null,null,null,null,null,null,null,"",{"$f":"IF(LEFT(C1143,2)=TABLE1!$F$1,1,0)","v":0},{"$f":"IF(AND(IF(AND(IF(OR(AND(CQ1143=1,TABLE1!$AN$3=TRUE),AND(CQ1143=2,TABLE1!$AN$4=TRUE),AND(CQ1143=3,TABLE1!$AN$5=TRUE),AND(CQ1143=4,TABLE1!$AQ$3=TRUE),AND(CQ1143=5,TABLE1!$AQ$4=TRUE),AND(CQ1143=6,TABLE1!$AQ$5=TRUE),AND(CQ1143=7,TABLE1!$AT$3=TRUE),AND(CQ1143=8,TABLE1!$AT$4=TRUE),AND(CQ1143=9,TABLE1!$AT$5=TRUE),AND(CQ1143=10,TABLE1!$AW$3=TRUE),AND(CQ1143=11,TABLE1!$AW$4=TRUE),AND(CQ1143=12,TABLE1!$AW$5=TRUE)),1,0)=1),1,0)=1,CR1143=1,CT1143=1),1,0)","v":0},{"$f":"IF(AND(OR(F1143=TABLE1!$D$5,TABLE1!$D$5=\"کل بخشها\"),F1143<>\"\"),1,0)","v":0}]
[null,null,null,null,null,null,null,null,null,null,null,null,null,null,null,null,null,null,null,null,null,null,null,null,null,null,null,null,null,null,null,null,null,null,null,null,null,null,null,null,null,null,null,null,null,null,null,null,null,null,null,null,null,null,null,null,null,null,null,null,null,null,null,null,null,null,null,null,null,null,null,null,null,null,null,null,null,null,null,null,null,null,null,null,null,null,null,null,null,null,null,null,null,null,"",{"$f":"IF(LEFT(C1148,2)=TABLE1!$F$1,1,0)","v":0},{"$f":"IF(AND(IF(AND(IF(OR(AND(CQ1148=1,TABLE1!$AN$3=TRUE),AND(CQ1148=2,TABLE1!$AN$4=TRUE),AND(CQ1148=3,TABLE1!$AN$5=TRUE),AND(CQ1148=4,TABLE1!$AQ$3=TRUE),AND(CQ1148=5,TABLE1!$AQ$4=TRUE),AND(CQ1148=6,TABLE1!$AQ$5=TRUE),AND(CQ1148=7,TABLE1!$AT$3=TRUE),AND(CQ1148=8,TABLE1!$AT$4=TRUE),AND(CQ1148=9,TABLE1!$AT$5=TRUE),AND(CQ1148=10,TABLE1!$AW$3=TRUE),AND(CQ1148=11,TABLE1!$AW$4=TRUE),AND(CQ1148=12,TABLE1!$AW$5=TRUE)),1,0)=1),1,0)=1,CR1148=1,CT1148=1),1,0)","v":0},{"$f":"IF(AND(OR(F1148=TABLE1!$D$5,TABLE1!$D$5=\"کل بخشها\"),F1148<>\"\"),1,0)","v":0}]
[null,null,null,null,null,null,null,null,null,null,null,null,null,null,null,null,null,null,null,null,null,null,null,null,null,null,null,null,null,null,null,null,null,null,null,null,null,null,null,null,null,null,null,null,null,null,null,null,null,null,null,null,null,null,null,null,null,null,null,null,null,null,null,null,null,null,null,null,null,null,null,null,null,null,null,null,null,null,null,null,null,null,null,null,null,null,null,null,null,null,null,null,null,null,"",{"$f":"IF(LEFT(C1154,2)=TABLE1!$F$1,1,0)","v":0},{"$f":"IF(AND(IF(AND(IF(OR(AND(CQ1154=1,TABLE1!$AN$3=TRUE),AND(CQ1154=2,TABLE1!$AN$4=TRUE),AND(CQ1154=3,TABLE1!$AN$5=TRUE),AND(CQ1154=4,TABLE1!$AQ$3=TRUE),AND(CQ1154=5,TABLE1!$AQ$4=TRUE),AND(CQ1154=6,TABLE1!$AQ$5=TRUE),AND(CQ1154=7,TABLE1!$AT$3=TRUE),AND(CQ1154=8,TABLE1!$AT$4=TRUE),AND(CQ1154=9,TABLE1!$AT$5=TRUE),AND(CQ1154=10,TABLE1!$AW$3=TRUE),AND(CQ1154=11,TABLE1!$AW$4=TRUE),AND(CQ1154=12,TABLE1!$AW$5=TRUE)),1,0)=1),1,0)=1,CR1154=1,CT1154=1),1,0)","v":0},{"$f":"IF(AND(OR(F1154=TABLE1!$D$5,TABLE1!$D$5=\"کل بخشها\"),F1154<>\"\"),1,0)","v":0}]
[null,null,null,null,null,null,null,null,null,null,null,null,null,null,null,null,null,null,null,null,null,null,null,null,null,null,null,null,null,null,null,null,null,null,null,null,null,null,null,null,null,null,null,null,null,null,null,null,null,null,null,null,null,null,null,null,null,null,null,null,null,null,null,null,null,null,null,null,null,null,null,null,null,null,null,null,null,null,null,null,null,null,null,null,null,null,null,null,null,null,null,null,null,null,"",{"$f":"IF(LEFT(C1159,2)=TABLE1!$F$1,1,0)","v":0},{"$f":"IF(AND(IF(AND(IF(OR(AND(CQ1159=1,TABLE1!$AN$3=TRUE),AND(CQ1159=2,TABLE1!$AN$4=TRUE),AND(CQ1159=3,TABLE1!$AN$5=TRUE),AND(CQ1159=4,TABLE1!$AQ$3=TRUE),AND(CQ1159=5,TABLE1!$AQ$4=TRUE),AND(CQ1159=6,TABLE1!$AQ$5=TRUE),AND(CQ1159=7,TABLE1!$AT$3=TRUE),AND(CQ1159=8,TABLE1!$AT$4=TRUE),AND(CQ1159=9,TABLE1!$AT$5=TRUE),AND(CQ1159=10,TABLE1!$AW$3=TRUE),AND(CQ1159=11,TABLE1!$AW$4=TRUE),AND(CQ1159=12,TABLE1!$AW$5=TRUE)),1,0)=1),1,0)=1,CR1159=1,CT1159=1),1,0)","v":0},{"$f":"IF(AND(OR(F1159=TABLE1!$D$5,TABLE1!$D$5=\"کل بخشها\"),F1159<>\"\"),1,0)","v":0}]
[null,null,null,null,null,null,null,null,null,null,null,null,null,null,null,null,null,null,null,null,null,null,null,null,null,null,null,null,null,null,null,null,null,null,null,null,null,null,null,null,null,null,null,null,null,null,null,null,null,null,null,null,null,null,null,null,null,null,null,null,null,null,null,null,null,null,null,null,null,null,null,null,null,null,null,null,null,null,null,null,null,null,null,null,null,null,null,null,null,null,null,null,null,null,"",{"$f":"IF(LEFT(C1163,2)=TABLE1!$F$1,1,0)","v":0},{"$f":"IF(AND(IF(AND(IF(OR(AND(CQ1163=1,TABLE1!$AN$3=TRUE),AND(CQ1163=2,TABLE1!$AN$4=TRUE),AND(CQ1163=3,TABLE1!$AN$5=TRUE),AND(CQ1163=4,TABLE1!$AQ$3=TRUE),AND(CQ1163=5,TABLE1!$AQ$4=TRUE),AND(CQ1163=6,TABLE1!$AQ$5=TRUE),AND(CQ1163=7,TABLE1!$AT$3=TRUE),AND(CQ1163=8,TABLE1!$AT$4=TRUE),AND(CQ1163=9,TABLE1!$AT$5=TRUE),AND(CQ1163=10,TABLE1!$AW$3=TRUE),AND(CQ1163=11,TABLE1!$AW$4=TRUE),AND(CQ1163=12,TABLE1!$AW$5=TRUE)),1,0)=1),1,0)=1,CR1163=1,CT1163=1),1,0)","v":0},{"$f":"IF(AND(OR(F1163=TABLE1!$D$5,TABLE1!$D$5=\"کل بخشها\"),F1163<>\"\"),1,0)","v":0}]
[null,null,null,null,null,null,null,null,null,null,null,null,null,null,null,null,null,null,null,null,null,null,null,null,null,null,null,null,null,null,null,null,null,null,null,null,null,null,null,null,null,null,null,null,null,null,null,null,null,null,null,null,null,null,null,null,null,null,null,null,null,null,null,null,null,null,null,null,null,null,null,null,null,null,null,null,null,null,null,null,null,null,null,null,null,null,null,null,null,null,null,null,null,null,"",{"$f":"IF(LEFT(C1169,2)=TABLE1!$F$1,1,0)","v":0},{"$f":"IF(AND(IF(AND(IF(OR(AND(CQ1169=1,TABLE1!$AN$3=TRUE),AND(CQ1169=2,TABLE1!$AN$4=TRUE),AND(CQ1169=3,TABLE1!$AN$5=TRUE),AND(CQ1169=4,TABLE1!$AQ$3=TRUE),AND(CQ1169=5,TABLE1!$AQ$4=TRUE),AND(CQ1169=6,TABLE1!$AQ$5=TRUE),AND(CQ1169=7,TABLE1!$AT$3=TRUE),AND(CQ1169=8,TABLE1!$AT$4=TRUE),AND(CQ1169=9,TABLE1!$AT$5=TRUE),AND(CQ1169=10,TABLE1!$AW$3=TRUE),AND(CQ1169=11,TABLE1!$AW$4=TRUE),AND(CQ1169=12,TABLE1!$AW$5=TRUE)),1,0)=1),1,0)=1,CR1169=1,CT1169=1),1,0)","v":0},{"$f":"IF(AND(OR(F1169=TABLE1!$D$5,TABLE1!$D$5=\"کل بخشها\"),F1169<>\"\"),1,0)","v":0}]
[null,null,null,null,null,null,null,null,null,null,null,null,null,null,null,null,null,null,null,null,null,null,null,null,null,null,null,null,null,null,null,null,null,null,null,null,null,null,null,null,null,null,null,null,null,null,null,null,null,null,null,null,null,null,null,null,null,null,null,null,null,null,null,null,null,null,null,null,null,null,null,null,null,null,null,null,null,null,null,null,null,null,null,null,null,null,null,null,null,null,null,null,null,null,"",{"$f":"IF(LEFT(C1174,2)=TABLE1!$F$1,1,0)","v":0},{"$f":"IF(AND(IF(AND(IF(OR(AND(CQ1174=1,TABLE1!$AN$3=TRUE),AND(CQ1174=2,TABLE1!$AN$4=TRUE),AND(CQ1174=3,TABLE1!$AN$5=TRUE),AND(CQ1174=4,TABLE1!$AQ$3=TRUE),AND(CQ1174=5,TABLE1!$AQ$4=TRUE),AND(CQ1174=6,TABLE1!$AQ$5=TRUE),AND(CQ1174=7,TABLE1!$AT$3=TRUE),AND(CQ1174=8,TABLE1!$AT$4=TRUE),AND(CQ1174=9,TABLE1!$AT$5=TRUE),AND(CQ1174=10,TABLE1!$AW$3=TRUE),AND(CQ1174=11,TABLE1!$AW$4=TRUE),AND(CQ1174=12,TABLE1!$AW$5=TRUE)),1,0)=1),1,0)=1,CR1174=1,CT1174=1),1,0)","v":0},{"$f":"IF(AND(OR(F1174=TABLE1!$D$5,TABLE1!$D$5=\"کل بخشها\"),F1174<>\"\"),1,0)","v":0}]
[null,null,null,null,null,null,null,null,null,null,null,null,null,null,null,null,null,null,null,null,null,null,null,null,null,null,null,null,null,null,null,null,null,null,null,null,null,null,null,null,null,null,null,null,null,null,null,null,null,null,null,null,null,null,null,null,null,null,null,null,null,null,null,null,null,null,null,null,null,null,null,null,null,null,null,null,null,null,null,null,null,null,null,null,null,null,null,null,null,null,null,null,null,null,"",{"$f":"IF(LEFT(C1178,2)=TABLE1!$F$1,1,0)","v":0},{"$f":"IF(AND(IF(AND(IF(OR(AND(CQ1178=1,TABLE1!$AN$3=TRUE),AND(CQ1178=2,TABLE1!$AN$4=TRUE),AND(CQ1178=3,TABLE1!$AN$5=TRUE),AND(CQ1178=4,TABLE1!$AQ$3=TRUE),AND(CQ1178=5,TABLE1!$AQ$4=TRUE),AND(CQ1178=6,TABLE1!$AQ$5=TRUE),AND(CQ1178=7,TABLE1!$AT$3=TRUE),AND(CQ1178=8,TABLE1!$AT$4=TRUE),AND(CQ1178=9,TABLE1!$AT$5=TRUE),AND(CQ1178=10,TABLE1!$AW$3=TRUE),AND(CQ1178=11,TABLE1!$AW$4=TRUE),AND(CQ1178=12,TABLE1!$AW$5=TRUE)),1,0)=1),1,0)=1,CR1178=1,CT1178=1),1,0)","v":0},{"$f":"IF(AND(OR(F1178=TABLE1!$D$5,TABLE1!$D$5=\"کل بخشها\"),F1178<>\"\"),1,0)","v":0}]
[null,null,null,null,null,null,null,null,null,null,null,null,null,null,null,null,null,null,null,null,null,null,null,null,null,null,null,null,null,null,null,null,null,null,null,null,null,null,null,null,null,null,null,null,null,null,null,null,null,null,null,null,null,null,null,null,null,null,null,null,null,null,null,null,null,null,null,null,null,null,null,null,null,null,null,null,null,null,null,null,null,null,null,null,null,null,null,null,null,null,null,null,null,null,"",{"$f":"IF(LEFT(C1179,2)=TABLE1!$F$1,1,0)","v":0},{"$f":"IF(AND(IF(AND(IF(OR(AND(CQ1179=1,TABLE1!$AN$3=TRUE),AND(CQ1179=2,TABLE1!$AN$4=TRUE),AND(CQ1179=3,TABLE1!$AN$5=TRUE),AND(CQ1179=4,TABLE1!$AQ$3=TRUE),AND(CQ1179=5,TABLE1!$AQ$4=TRUE),AND(CQ1179=6,TABLE1!$AQ$5=TRUE),AND(CQ1179=7,TABLE1!$AT$3=TRUE),AND(CQ1179=8,TABLE1!$AT$4=TRUE),AND(CQ1179=9,TABLE1!$AT$5=TRUE),AND(CQ1179=10,TABLE1!$AW$3=TRUE),AND(CQ1179=11,TABLE1!$AW$4=TRUE),AND(CQ1179=12,TABLE1!$AW$5=TRUE)),1,0)=1),1,0)=1,CR1179=1,CT1179=1),1,0)","v":0},{"$f":"IF(AND(OR(F1179=TABLE1!$D$5,TABLE1!$D$5=\"کل بخشها\"),F1179<>\"\"),1,0)","v":0}]
[null,null,null,null,null,null,null,null,null,null,null,null,null,null,null,null,null,null,null,null,null,null,null,null,null,null,null,null,null,null,null,null,null,null,null,null,null,null,null,null,null,null,null,null,null,null,null,null,null,null,null,null,null,null,null,null,null,null,null,null,null,null,null,null,null,null,null,null,null,null,null,null,null,null,null,null,null,null,null,null,null,null,null,null,null,null,null,null,null,null,null,null,null,null,"",{"$f":"IF(LEFT(C1184,2)=TABLE1!$F$1,1,0)","v":0},{"$f":"IF(AND(IF(AND(IF(OR(AND(CQ1184=1,TABLE1!$AN$3=TRUE),AND(CQ1184=2,TABLE1!$AN$4=TRUE),AND(CQ1184=3,TABLE1!$AN$5=TRUE),AND(CQ1184=4,TABLE1!$AQ$3=TRUE),AND(CQ1184=5,TABLE1!$AQ$4=TRUE),AND(CQ1184=6,TABLE1!$AQ$5=TRUE),AND(CQ1184=7,TABLE1!$AT$3=TRUE),AND(CQ1184=8,TABLE1!$AT$4=TRUE),AND(CQ1184=9,TABLE1!$AT$5=TRUE),AND(CQ1184=10,TABLE1!$AW$3=TRUE),AND(CQ1184=11,TABLE1!$AW$4=TRUE),AND(CQ1184=12,TABLE1!$AW$5=TRUE)),1,0)=1),1,0)=1,CR1184=1,CT1184=1),1,0)","v":0},{"$f":"IF(AND(OR(F1184=TABLE1!$D$5,TABLE1!$D$5=\"کل بخشها\"),F1184<>\"\"),1,0)","v":0}]
[null,null,null,null,null,null,null,null,null,null,null,null,null,null,null,null,null,null,null,null,null,null,null,null,null,null,null,null,null,null,null,null,null,null,null,null,null,null,null,null,null,null,null,null,null,null,null,null,null,null,null,null,null,null,null,null,null,null,null,null,null,null,null,null,null,null,null,null,null,null,null,null,null,null,null,null,null,null,null,null,null,null,null,null,null,null,null,null,null,null,null,null,null,null,"",{"$f":"IF(LEFT(C1190,2)=TABLE1!$F$1,1,0)","v":0},{"$f":"IF(AND(IF(AND(IF(OR(AND(CQ1190=1,TABLE1!$AN$3=TRUE),AND(CQ1190=2,TABLE1!$AN$4=TRUE),AND(CQ1190=3,TABLE1!$AN$5=TRUE),AND(CQ1190=4,TABLE1!$AQ$3=TRUE),AND(CQ1190=5,TABLE1!$AQ$4=TRUE),AND(CQ1190=6,TABLE1!$AQ$5=TRUE),AND(CQ1190=7,TABLE1!$AT$3=TRUE),AND(CQ1190=8,TABLE1!$AT$4=TRUE),AND(CQ1190=9,TABLE1!$AT$5=TRUE),AND(CQ1190=10,TABLE1!$AW$3=TRUE),AND(CQ1190=11,TABLE1!$AW$4=TRUE),AND(CQ1190=12,TABLE1!$AW$5=TRUE)),1,0)=1),1,0)=1,CR1190=1,CT1190=1),1,0)","v":0},{"$f":"IF(AND(OR(F1190=TABLE1!$D$5,TABLE1!$D$5=\"کل بخشها\"),F1190<>\"\"),1,0)","v":0}]
[null,null,null,null,null,null,null,null,null,null,null,null,null,null,null,null,null,null,null,null,null,null,null,null,null,null,null,null,null,null,null,null,null,null,null,null,null,null,null,null,null,null,null,null,null,null,null,null,null,null,null,null,null,null,null,null,null,null,null,null,null,null,null,null,null,null,null,null,null,null,null,null,null,null,null,null,null,null,null,null,null,null,null,null,null,null,null,null,null,null,null,null,null,null,"",{"$f":"IF(LEFT(C1195,2)=TABLE1!$F$1,1,0)","v":0},{"$f":"IF(AND(IF(AND(IF(OR(AND(CQ1195=1,TABLE1!$AN$3=TRUE),AND(CQ1195=2,TABLE1!$AN$4=TRUE),AND(CQ1195=3,TABLE1!$AN$5=TRUE),AND(CQ1195=4,TABLE1!$AQ$3=TRUE),AND(CQ1195=5,TABLE1!$AQ$4=TRUE),AND(CQ1195=6,TABLE1!$AQ$5=TRUE),AND(CQ1195=7,TABLE1!$AT$3=TRUE),AND(CQ1195=8,TABLE1!$AT$4=TRUE),AND(CQ1195=9,TABLE1!$AT$5=TRUE),AND(CQ1195=10,TABLE1!$AW$3=TRUE),AND(CQ1195=11,TABLE1!$AW$4=TRUE),AND(CQ1195=12,TABLE1!$AW$5=TRUE)),1,0)=1),1,0)=1,CR1195=1,CT1195=1),1,0)","v":0},{"$f":"IF(AND(OR(F1195=TABLE1!$D$5,TABLE1!$D$5=\"کل بخشها\"),F1195<>\"\"),1,0)","v":0}]
[null,null,null,null,null,null,null,null,null,null,null,null,null,null,null,null,null,null,null,null,null,null,null,null,null,null,null,null,null,null,null,null,null,null,null,null,null,null,null,null,null,null,null,null,null,null,null,null,null,null,null,null,null,null,null,null,null,null,null,null,null,null,null,null,null,null,null,null,null,null,null,null,null,null,null,null,null,null,null,null,null,null,null,null,null,null,null,null,null,null,null,null,null,null,"",{"$f":"IF(LEFT(C1199,2)=TABLE1!$F$1,1,0)","v":0},{"$f":"IF(AND(IF(AND(IF(OR(AND(CQ1199=1,TABLE1!$AN$3=TRUE),AND(CQ1199=2,TABLE1!$AN$4=TRUE),AND(CQ1199=3,TABLE1!$AN$5=TRUE),AND(CQ1199=4,TABLE1!$AQ$3=TRUE),AND(CQ1199=5,TABLE1!$AQ$4=TRUE),AND(CQ1199=6,TABLE1!$AQ$5=TRUE),AND(CQ1199=7,TABLE1!$AT$3=TRUE),AND(CQ1199=8,TABLE1!$AT$4=TRUE),AND(CQ1199=9,TABLE1!$AT$5=TRUE),AND(CQ1199=10,TABLE1!$AW$3=TRUE),AND(CQ1199=11,TABLE1!$AW$4=TRUE),AND(CQ1199=12,TABLE1!$AW$5=TRUE)),1,0)=1),1,0)=1,CR1199=1,CT1199=1),1,0)","v":0},{"$f":"IF(AND(OR(F1199=TABLE1!$D$5,TABLE1!$D$5=\"کل بخشها\"),F1199<>\"\"),1,0)","v":0}]
[null,null,null,null,null,null,null,null,null,null,null,null,null,null,null,null,null,null,null,null,null,null,null,null,null,null,null,null,null,null,null,null,null,null,null,null,null,null,null,null,null,null,null,null,null,null,null,null,null,null,null,null,null,null,null,null,null,null,null,null,null,null,null,null,null,null,null,null,null,null,null,null,null,null,null,null,null,null,null,null,null,null,null,null,null,null,null,null,null,null,null,null,null,null,"",{"$f":"IF(LEFT(C1205,2)=TABLE1!$F$1,1,0)","v":0},{"$f":"IF(AND(IF(AND(IF(OR(AND(CQ1205=1,TABLE1!$AN$3=TRUE),AND(CQ1205=2,TABLE1!$AN$4=TRUE),AND(CQ1205=3,TABLE1!$AN$5=TRUE),AND(CQ1205=4,TABLE1!$AQ$3=TRUE),AND(CQ1205=5,TABLE1!$AQ$4=TRUE),AND(CQ1205=6,TABLE1!$AQ$5=TRUE),AND(CQ1205=7,TABLE1!$AT$3=TRUE),AND(CQ1205=8,TABLE1!$AT$4=TRUE),AND(CQ1205=9,TABLE1!$AT$5=TRUE),AND(CQ1205=10,TABLE1!$AW$3=TRUE),AND(CQ1205=11,TABLE1!$AW$4=TRUE),AND(CQ1205=12,TABLE1!$AW$5=TRUE)),1,0)=1),1,0)=1,CR1205=1,CT1205=1),1,0)","v":0},{"$f":"IF(AND(OR(F1205=TABLE1!$D$5,TABLE1!$D$5=\"کل بخشها\"),F1205<>\"\"),1,0)","v":0}]
[null,null,null,null,null,null,null,null,null,null,null,null,null,null,null,null,null,null,null,null,null,null,null,null,null,null,null,null,null,null,null,null,null,null,null,null,null,null,null,null,null,null,null,null,null,null,null,null,null,null,null,null,null,null,null,null,null,null,null,null,null,null,null,null,null,null,null,null,null,null,null,null,null,null,null,null,null,null,null,null,null,null,null,null,null,null,null,null,null,null,null,null,null,null,"",{"$f":"IF(LEFT(C1210,2)=TABLE1!$F$1,1,0)","v":0},{"$f":"IF(AND(IF(AND(IF(OR(AND(CQ1210=1,TABLE1!$AN$3=TRUE),AND(CQ1210=2,TABLE1!$AN$4=TRUE),AND(CQ1210=3,TABLE1!$AN$5=TRUE),AND(CQ1210=4,TABLE1!$AQ$3=TRUE),AND(CQ1210=5,TABLE1!$AQ$4=TRUE),AND(CQ1210=6,TABLE1!$AQ$5=TRUE),AND(CQ1210=7,TABLE1!$AT$3=TRUE),AND(CQ1210=8,TABLE1!$AT$4=TRUE),AND(CQ1210=9,TABLE1!$AT$5=TRUE),AND(CQ1210=10,TABLE1!$AW$3=TRUE),AND(CQ1210=11,TABLE1!$AW$4=TRUE),AND(CQ1210=12,TABLE1!$AW$5=TRUE)),1,0)=1),1,0)=1,CR1210=1,CT1210=1),1,0)","v":0},{"$f":"IF(AND(OR(F1210=TABLE1!$D$5,TABLE1!$D$5=\"کل بخشها\"),F1210<>\"\"),1,0)","v":0}]
[null,null,null,null,null,null,null,null,null,null,null,null,null,null,null,null,null,null,null,null,null,null,null,null,null,null,null,null,null,null,null,null,null,null,null,null,null,null,null,null,null,null,null,null,null,null,null,null,null,null,null,null,null,null,null,null,null,null,null,null,null,null,null,null,null,null,null,null,null,null,null,null,null,null,null,null,null,null,null,null,null,null,null,null,null,null,null,null,null,null,null,null,null,null,"",{"$f":"IF(LEFT(C1216,2)=TABLE1!$F$1,1,0)","v":0},{"$f":"IF(AND(IF(AND(IF(OR(AND(CQ1216=1,TABLE1!$AN$3=TRUE),AND(CQ1216=2,TABLE1!$AN$4=TRUE),AND(CQ1216=3,TABLE1!$AN$5=TRUE),AND(CQ1216=4,TABLE1!$AQ$3=TRUE),AND(CQ1216=5,TABLE1!$AQ$4=TRUE),AND(CQ1216=6,TABLE1!$AQ$5=TRUE),AND(CQ1216=7,TABLE1!$AT$3=TRUE),AND(CQ1216=8,TABLE1!$AT$4=TRUE),AND(CQ1216=9,TABLE1!$AT$5=TRUE),AND(CQ1216=10,TABLE1!$AW$3=TRUE),AND(CQ1216=11,TABLE1!$AW$4=TRUE),AND(CQ1216=12,TABLE1!$AW$5=TRUE)),1,0)=1),1,0)=1,CR1216=1,CT1216=1),1,0)","v":0},{"$f":"IF(AND(OR(F1216=TABLE1!$D$5,TABLE1!$D$5=\"کل بخشها\"),F1216<>\"\"),1,0)","v":0}]
[null,null,null,null,null,null,null,null,null,null,null,null,null,null,null,null,null,null,null,null,null,null,null,null,null,null,null,null,null,null,null,null,null,null,null,null,null,null,null,null,null,null,null,null,null,null,null,null,null,null,null,null,null,null,null,null,null,null,null,null,null,null,null,null,null,null,null,null,null,null,null,null,null,null,null,null,null,null,null,null,null,null,null,null,null,null,null,null,null,null,null,null,null,null,"",{"$f":"IF(LEFT(C1218,2)=TABLE1!$F$1,1,0)","v":0},{"$f":"IF(AND(IF(AND(IF(OR(AND(CQ1218=1,TABLE1!$AN$3=TRUE),AND(CQ1218=2,TABLE1!$AN$4=TRUE),AND(CQ1218=3,TABLE1!$AN$5=TRUE),AND(CQ1218=4,TABLE1!$AQ$3=TRUE),AND(CQ1218=5,TABLE1!$AQ$4=TRUE),AND(CQ1218=6,TABLE1!$AQ$5=TRUE),AND(CQ1218=7,TABLE1!$AT$3=TRUE),AND(CQ1218=8,TABLE1!$AT$4=TRUE),AND(CQ1218=9,TABLE1!$AT$5=TRUE),AND(CQ1218=10,TABLE1!$AW$3=TRUE),AND(CQ1218=11,TABLE1!$AW$4=TRUE),AND(CQ1218=12,TABLE1!$AW$5=TRUE)),1,0)=1),1,0)=1,CR1218=1,CT1218=1),1,0)","v":0},{"$f":"IF(AND(OR(F1218=TABLE1!$D$5,TABLE1!$D$5=\"کل بخشها\"),F1218<>\"\"),1,0)","v":0}]
[null,null,null,null,null,null,null,null,null,null,null,null,null,null,null,null,null,null,null,null,null,null,null,null,null,null,null,null,null,null,null,null,null,null,null,null,null,null,null,null,null,null,null,null,null,null,null,null,null,null,null,null,null,null,null,null,null,null,null,null,null,null,null,null,null,null,null,null,null,null,null,null,null,null,null,null,null,null,null,null,null,null,null,null,null,null,null,null,null,null,null,null,null,null,"",{"$f":"IF(LEFT(C1225,2)=TABLE1!$F$1,1,0)","v":0},{"$f":"IF(AND(IF(AND(IF(OR(AND(CQ1225=1,TABLE1!$AN$3=TRUE),AND(CQ1225=2,TABLE1!$AN$4=TRUE),AND(CQ1225=3,TABLE1!$AN$5=TRUE),AND(CQ1225=4,TABLE1!$AQ$3=TRUE),AND(CQ1225=5,TABLE1!$AQ$4=TRUE),AND(CQ1225=6,TABLE1!$AQ$5=TRUE),AND(CQ1225=7,TABLE1!$AT$3=TRUE),AND(CQ1225=8,TABLE1!$AT$4=TRUE),AND(CQ1225=9,TABLE1!$AT$5=TRUE),AND(CQ1225=10,TABLE1!$AW$3=TRUE),AND(CQ1225=11,TABLE1!$AW$4=TRUE),AND(CQ1225=12,TABLE1!$AW$5=TRUE)),1,0)=1),1,0)=1,CR1225=1,CT1225=1),1,0)","v":0},{"$f":"IF(AND(OR(F1225=TABLE1!$D$5,TABLE1!$D$5=\"کل بخشها\"),F1225<>\"\"),1,0)","v":0}]
[null,null,null,null,null,null,null,null,null,null,null,null,null,null,null,null,null,null,null,null,null,null,null,null,null,null,null,null,null,null,null,null,null,null,null,null,null,null,null,null,null,null,null,null,null,null,null,null,null,null,null,null,null,null,null,null,null,null,null,null,null,null,null,null,null,null,null,null,null,null,null,null,null,null,null,null,null,null,null,null,null,null,null,null,null,null,null,null,null,null,null,null,null,null,"",{"$f":"IF(LEFT(C1231,2)=TABLE1!$F$1,1,0)","v":0},{"$f":"IF(AND(IF(AND(IF(OR(AND(CQ1231=1,TABLE1!$AN$3=TRUE),AND(CQ1231=2,TABLE1!$AN$4=TRUE),AND(CQ1231=3,TABLE1!$AN$5=TRUE),AND(CQ1231=4,TABLE1!$AQ$3=TRUE),AND(CQ1231=5,TABLE1!$AQ$4=TRUE),AND(CQ1231=6,TABLE1!$AQ$5=TRUE),AND(CQ1231=7,TABLE1!$AT$3=TRUE),AND(CQ1231=8,TABLE1!$AT$4=TRUE),AND(CQ1231=9,TABLE1!$AT$5=TRUE),AND(CQ1231=10,TABLE1!$AW$3=TRUE),AND(CQ1231=11,TABLE1!$AW$4=TRUE),AND(CQ1231=12,TABLE1!$AW$5=TRUE)),1,0)=1),1,0)=1,CR1231=1,CT1231=1),1,0)","v":0},{"$f":"IF(AND(OR(F1231=TABLE1!$D$5,TABLE1!$D$5=\"کل بخشها\"),F1231<>\"\"),1,0)","v":0}]
[null,null,null,null,null,null,null,null,null,null,null,null,null,null,null,null,null,null,null,null,null,null,null,null,null,null,null,null,null,null,null,null,null,null,null,null,null,null,null,null,null,null,null,null,null,null,null,null,null,null,null,null,null,null,null,null,null,null,null,null,null,null,null,null,null,null,null,null,null,null,null,null,null,null,null,null,null,null,null,null,null,null,null,null,null,null,null,null,null,null,null,null,null,null,"",{"$f":"IF(LEFT(C1236,2)=TABLE1!$F$1,1,0)","v":0},{"$f":"IF(AND(IF(AND(IF(OR(AND(CQ1236=1,TABLE1!$AN$3=TRUE),AND(CQ1236=2,TABLE1!$AN$4=TRUE),AND(CQ1236=3,TABLE1!$AN$5=TRUE),AND(CQ1236=4,TABLE1!$AQ$3=TRUE),AND(CQ1236=5,TABLE1!$AQ$4=TRUE),AND(CQ1236=6,TABLE1!$AQ$5=TRUE),AND(CQ1236=7,TABLE1!$AT$3=TRUE),AND(CQ1236=8,TABLE1!$AT$4=TRUE),AND(CQ1236=9,TABLE1!$AT$5=TRUE),AND(CQ1236=10,TABLE1!$AW$3=TRUE),AND(CQ1236=11,TABLE1!$AW$4=TRUE),AND(CQ1236=12,TABLE1!$AW$5=TRUE)),1,0)=1),1,0)=1,CR1236=1,CT1236=1),1,0)","v":0},{"$f":"IF(AND(OR(F1236=TABLE1!$D$5,TABLE1!$D$5=\"کل بخشها\"),F1236<>\"\"),1,0)","v":0}]
[null,null,null,null,null,null,null,null,null,null,null,null,null,null,null,null,null,null,null,null,null,null,null,null,null,null,null,null,null,null,null,null,null,null,null,null,null,null,null,null,null,null,null,null,null,null,null,null,null,null,null,null,null,null,null,null,null,null,null,null,null,null,null,null,null,null,null,null,null,null,null,null,null,null,null,null,null,null,null,null,null,null,null,null,null,null,null,null,null,null,null,null,null,null,"",{"$f":"IF(LEFT(C1237,2)=TABLE1!$F$1,1,0)","v":0},{"$f":"IF(AND(IF(AND(IF(OR(AND(CQ1237=1,TABLE1!$AN$3=TRUE),AND(CQ1237=2,TABLE1!$AN$4=TRUE),AND(CQ1237=3,TABLE1!$AN$5=TRUE),AND(CQ1237=4,TABLE1!$AQ$3=TRUE),AND(CQ1237=5,TABLE1!$AQ$4=TRUE),AND(CQ1237=6,TABLE1!$AQ$5=TRUE),AND(CQ1237=7,TABLE1!$AT$3=TRUE),AND(CQ1237=8,TABLE1!$AT$4=TRUE),AND(CQ1237=9,TABLE1!$AT$5=TRUE),AND(CQ1237=10,TABLE1!$AW$3=TRUE),AND(CQ1237=11,TABLE1!$AW$4=TRUE),AND(CQ1237=12,TABLE1!$AW$5=TRUE)),1,0)=1),1,0)=1,CR1237=1,CT1237=1),1,0)","v":0},{"$f":"IF(AND(OR(F1237=TABLE1!$D$5,TABLE1!$D$5=\"کل بخشها\"),F1237<>\"\"),1,0)","v":0}]
[null,null,null,null,null,null,null,null,null,null,null,null,null,null,null,null,null,null,null,null,null,null,null,null,null,null,null,null,null,null,null,null,null,null,null,null,null,null,null,null,null,null,null,null,null,null,null,null,null,null,null,null,null,null,null,null,null,null,null,null,null,null,null,null,null,null,null,null,null,null,null,null,null,null,null,null,null,null,null,null,null,null,null,null,null,null,null,null,null,null,null,null,null,null,"",{"$f":"IF(LEFT(C1241,2)=TABLE1!$F$1,1,0)","v":0},{"$f":"IF(AND(IF(AND(IF(OR(AND(CQ1241=1,TABLE1!$AN$3=TRUE),AND(CQ1241=2,TABLE1!$AN$4=TRUE),AND(CQ1241=3,TABLE1!$AN$5=TRUE),AND(CQ1241=4,TABLE1!$AQ$3=TRUE),AND(CQ1241=5,TABLE1!$AQ$4=TRUE),AND(CQ1241=6,TABLE1!$AQ$5=TRUE),AND(CQ1241=7,TABLE1!$AT$3=TRUE),AND(CQ1241=8,TABLE1!$AT$4=TRUE),AND(CQ1241=9,TABLE1!$AT$5=TRUE),AND(CQ1241=10,TABLE1!$AW$3=TRUE),AND(CQ1241=11,TABLE1!$AW$4=TRUE),AND(CQ1241=12,TABLE1!$AW$5=TRUE)),1,0)=1),1,0)=1,CR1241=1,CT1241=1),1,0)","v":0},{"$f":"IF(AND(OR(F1241=TABLE1!$D$5,TABLE1!$D$5=\"کل بخشها\"),F1241<>\"\"),1,0)","v":0}]
[null,null,null,null,null,null,null,null,null,null,null,null,null,null,null,null,null,null,null,null,null,null,null,null,null,null,null,null,null,null,null,null,null,null,null,null,null,null,null,null,null,null,null,null,null,null,null,null,null,null,null,null,null,null,null,null,null,null,null,null,null,null,null,null,null,null,null,null,null,null,null,null,null,null,null,null,null,null,null,null,null,null,null,null,null,null,null,null,null,null,null,null,null,null,"",{"$f":"IF(LEFT(C1246,2)=TABLE1!$F$1,1,0)","v":0},{"$f":"IF(AND(IF(AND(IF(OR(AND(CQ1246=1,TABLE1!$AN$3=TRUE),AND(CQ1246=2,TABLE1!$AN$4=TRUE),AND(CQ1246=3,TABLE1!$AN$5=TRUE),AND(CQ1246=4,TABLE1!$AQ$3=TRUE),AND(CQ1246=5,TABLE1!$AQ$4=TRUE),AND(CQ1246=6,TABLE1!$AQ$5=TRUE),AND(CQ1246=7,TABLE1!$AT$3=TRUE),AND(CQ1246=8,TABLE1!$AT$4=TRUE),AND(CQ1246=9,TABLE1!$AT$5=TRUE),AND(CQ1246=10,TABLE1!$AW$3=TRUE),AND(CQ1246=11,TABLE1!$AW$4=TRUE),AND(CQ1246=12,TABLE1!$AW$5=TRUE)),1,0)=1),1,0)=1,CR1246=1,CT1246=1),1,0)","v":0},{"$f":"IF(AND(OR(F1246=TABLE1!$D$5,TABLE1!$D$5=\"کل بخشها\"),F1246<>\"\"),1,0)","v":0}]
[null,null,null,null,null,null,null,null,null,null,null,null,null,null,null,null,null,null,null,null,null,null,null,null,null,null,null,null,null,null,null,null,null,null,null,null,null,null,null,null,null,null,null,null,null,null,null,null,null,null,null,null,null,null,null,null,null,null,null,null,null,null,null,null,null,null,null,null,null,null,null,null,null,null,null,null,null,null,null,null,null,null,null,null,null,null,null,null,null,null,null,null,null,null,"",{"$f":"IF(LEFT(C1252,2)=TABLE1!$F$1,1,0)","v":0},{"$f":"IF(AND(IF(AND(IF(OR(AND(CQ1252=1,TABLE1!$AN$3=TRUE),AND(CQ1252=2,TABLE1!$AN$4=TRUE),AND(CQ1252=3,TABLE1!$AN$5=TRUE),AND(CQ1252=4,TABLE1!$AQ$3=TRUE),AND(CQ1252=5,TABLE1!$AQ$4=TRUE),AND(CQ1252=6,TABLE1!$AQ$5=TRUE),AND(CQ1252=7,TABLE1!$AT$3=TRUE),AND(CQ1252=8,TABLE1!$AT$4=TRUE),AND(CQ1252=9,TABLE1!$AT$5=TRUE),AND(CQ1252=10,TABLE1!$AW$3=TRUE),AND(CQ1252=11,TABLE1!$AW$4=TRUE),AND(CQ1252=12,TABLE1!$AW$5=TRUE)),1,0)=1),1,0)=1,CR1252=1,CT1252=1),1,0)","v":0},{"$f":"IF(AND(OR(F1252=TABLE1!$D$5,TABLE1!$D$5=\"کل بخشها\"),F1252<>\"\"),1,0)","v":0}]
[null,null,null,null,null,null,null,null,null,null,null,null,null,null,null,null,null,null,null,null,null,null,null,null,null,null,null,null,null,null,null,null,null,null,null,null,null,null,null,null,null,null,null,null,null,null,null,null,null,null,null,null,null,null,null,null,null,null,null,null,null,null,null,null,null,null,null,null,null,null,null,null,null,null,null,null,null,null,null,null,null,null,null,null,null,null,null,null,null,null,null,null,null,null,"",{"$f":"IF(LEFT(C1256,2)=TABLE1!$F$1,1,0)","v":0},{"$f":"IF(AND(IF(AND(IF(OR(AND(CQ1256=1,TABLE1!$AN$3=TRUE),AND(CQ1256=2,TABLE1!$AN$4=TRUE),AND(CQ1256=3,TABLE1!$AN$5=TRUE),AND(CQ1256=4,TABLE1!$AQ$3=TRUE),AND(CQ1256=5,TABLE1!$AQ$4=TRUE),AND(CQ1256=6,TABLE1!$AQ$5=TRUE),AND(CQ1256=7,TABLE1!$AT$3=TRUE),AND(CQ1256=8,TABLE1!$AT$4=TRUE),AND(CQ1256=9,TABLE1!$AT$5=TRUE),AND(CQ1256=10,TABLE1!$AW$3=TRUE),AND(CQ1256=11,TABLE1!$AW$4=TRUE),AND(CQ1256=12,TABLE1!$AW$5=TRUE)),1,0)=1),1,0)=1,CR1256=1,CT1256=1),1,0)","v":0},{"$f":"IF(AND(OR(F1256=TABLE1!$D$5,TABLE1!$D$5=\"کل بخشها\"),F1256<>\"\"),1,0)","v":0}]
[null,null,null,null,null,null,null,null,null,null,null,null,null,null,null,null,null,null,null,null,null,null,null,null,null,null,null,null,null,null,null,null,null,null,null,null,null,null,null,null,null,null,null,null,null,null,null,null,null,null,null,null,null,null,null,null,null,null,null,null,null,null,null,null,null,null,null,null,null,null,null,null,null,null,null,null,null,null,null,null,null,null,null,null,null,null,null,null,null,null,null,null,null,null,"",{"$f":"IF(LEFT(C1261,2)=TABLE1!$F$1,1,0)","v":0},{"$f":"IF(AND(IF(AND(IF(OR(AND(CQ1261=1,TABLE1!$AN$3=TRUE),AND(CQ1261=2,TABLE1!$AN$4=TRUE),AND(CQ1261=3,TABLE1!$AN$5=TRUE),AND(CQ1261=4,TABLE1!$AQ$3=TRUE),AND(CQ1261=5,TABLE1!$AQ$4=TRUE),AND(CQ1261=6,TABLE1!$AQ$5=TRUE),AND(CQ1261=7,TABLE1!$AT$3=TRUE),AND(CQ1261=8,TABLE1!$AT$4=TRUE),AND(CQ1261=9,TABLE1!$AT$5=TRUE),AND(CQ1261=10,TABLE1!$AW$3=TRUE),AND(CQ1261=11,TABLE1!$AW$4=TRUE),AND(CQ1261=12,TABLE1!$AW$5=TRUE)),1,0)=1),1,0)=1,CR1261=1,CT1261=1),1,0)","v":0},{"$f":"IF(AND(OR(F1261=TABLE1!$D$5,TABLE1!$D$5=\"کل بخشها\"),F1261<>\"\"),1,0)","v":0}]
[null,null,null,null,null,null,null,null,null,null,null,null,null,null,null,null,null,null,null,null,null,null,null,null,null,null,null,null,null,null,null,null,null,null,null,null,null,null,null,null,null,null,null,null,null,null,null,null,null,null,null,null,null,null,null,null,null,null,null,null,null,null,null,null,null,null,null,null,null,null,null,null,null,null,null,null,null,null,null,null,null,null,null,null,null,null,null,null,null,null,null,null,null,null,"",{"$f":"IF(LEFT(C1267,2)=TABLE1!$F$1,1,0)","v":0},{"$f":"IF(AND(IF(AND(IF(OR(AND(CQ1267=1,TABLE1!$AN$3=TRUE),AND(CQ1267=2,TABLE1!$AN$4=TRUE),AND(CQ1267=3,TABLE1!$AN$5=TRUE),AND(CQ1267=4,TABLE1!$AQ$3=TRUE),AND(CQ1267=5,TABLE1!$AQ$4=TRUE),AND(CQ1267=6,TABLE1!$AQ$5=TRUE),AND(CQ1267=7,TABLE1!$AT$3=TRUE),AND(CQ1267=8,TABLE1!$AT$4=TRUE),AND(CQ1267=9,TABLE1!$AT$5=TRUE),AND(CQ1267=10,TABLE1!$AW$3=TRUE),AND(CQ1267=11,TABLE1!$AW$4=TRUE),AND(CQ1267=12,TABLE1!$AW$5=TRUE)),1,0)=1),1,0)=1,CR1267=1,CT1267=1),1,0)","v":0},{"$f":"IF(AND(OR(F1267=TABLE1!$D$5,TABLE1!$D$5=\"کل بخشها\"),F1267<>\"\"),1,0)","v":0}]
[null,null,null,null,null,null,null,null,null,null,null,null,null,null,null,null,null,null,null,null,null,null,null,null,null,null,null,null,null,null,null,null,null,null,null,null,null,null,null,null,null,null,null,null,null,null,null,null,null,null,null,null,null,null,null,null,null,null,null,null,null,null,null,null,null,null,null,null,null,null,null,null,null,null,null,null,null,null,null,null,null,null,null,null,null,null,null,null,null,null,null,null,null,null,"",{"$f":"IF(LEFT(C1272,2)=TABLE1!$F$1,1,0)","v":0},{"$f":"IF(AND(IF(AND(IF(OR(AND(CQ1272=1,TABLE1!$AN$3=TRUE),AND(CQ1272=2,TABLE1!$AN$4=TRUE),AND(CQ1272=3,TABLE1!$AN$5=TRUE),AND(CQ1272=4,TABLE1!$AQ$3=TRUE),AND(CQ1272=5,TABLE1!$AQ$4=TRUE),AND(CQ1272=6,TABLE1!$AQ$5=TRUE),AND(CQ1272=7,TABLE1!$AT$3=TRUE),AND(CQ1272=8,TABLE1!$AT$4=TRUE),AND(CQ1272=9,TABLE1!$AT$5=TRUE),AND(CQ1272=10,TABLE1!$AW$3=TRUE),AND(CQ1272=11,TABLE1!$AW$4=TRUE),AND(CQ1272=12,TABLE1!$AW$5=TRUE)),1,0)=1),1,0)=1,CR1272=1,CT1272=1),1,0)","v":0},{"$f":"IF(AND(OR(F1272=TABLE1!$D$5,TABLE1!$D$5=\"کل بخشها\"),F1272<>\"\"),1,0)","v":0}]
[null,null,null,null,null,null,null,null,null,null,null,null,null,null,null,null,null,null,null,null,null,null,null,null,null,null,null,null,null,null,null,null,null,null,null,null,null,null,null,null,null,null,null,null,null,null,null,null,null,null,null,null,null,null,null,null,null,null,null,null,null,null,null,null,null,null,null,null,null,null,null,null,null,null,null,null,null,null,null,null,null,null,null,null,null,null,null,null,null,null,null,null,null,null,"",{"$f":"IF(LEFT(C1278,2)=TABLE1!$F$1,1,0)","v":0},{"$f":"IF(AND(IF(AND(IF(OR(AND(CQ1278=1,TABLE1!$AN$3=TRUE),AND(CQ1278=2,TABLE1!$AN$4=TRUE),AND(CQ1278=3,TABLE1!$AN$5=TRUE),AND(CQ1278=4,TABLE1!$AQ$3=TRUE),AND(CQ1278=5,TABLE1!$AQ$4=TRUE),AND(CQ1278=6,TABLE1!$AQ$5=TRUE),AND(CQ1278=7,TABLE1!$AT$3=TRUE),AND(CQ1278=8,TABLE1!$AT$4=TRUE),AND(CQ1278=9,TABLE1!$AT$5=TRUE),AND(CQ1278=10,TABLE1!$AW$3=TRUE),AND(CQ1278=11,TABLE1!$AW$4=TRUE),AND(CQ1278=12,TABLE1!$AW$5=TRUE)),1,0)=1),1,0)=1,CR1278=1,CT1278=1),1,0)","v":0},{"$f":"IF(AND(OR(F1278=TABLE1!$D$5,TABLE1!$D$5=\"کل بخشها\"),F1278<>\"\"),1,0)","v":0}]
[null,null,null,null,null,null,null,null,null,null,null,null,null,null,null,null,null,null,null,null,null,null,null,null,null,null,null,null,null,null,null,null,null,null,null,null,null,null,null,null,null,null,null,null,null,null,null,null,null,null,null,null,null,null,null,null,null,null,null,null,null,null,null,null,null,null,null,null,null,null,null,null,null,null,null,null,null,null,null,null,null,null,null,null,null,null,null,null,null,null,null,null,null,null,"",{"$f":"IF(LEFT(C1281,2)=TABLE1!$F$1,1,0)","v":0},{"$f":"IF(AND(IF(AND(IF(OR(AND(CQ1281=1,TABLE1!$AN$3=TRUE),AND(CQ1281=2,TABLE1!$AN$4=TRUE),AND(CQ1281=3,TABLE1!$AN$5=TRUE),AND(CQ1281=4,TABLE1!$AQ$3=TRUE),AND(CQ1281=5,TABLE1!$AQ$4=TRUE),AND(CQ1281=6,TABLE1!$AQ$5=TRUE),AND(CQ1281=7,TABLE1!$AT$3=TRUE),AND(CQ1281=8,TABLE1!$AT$4=TRUE),AND(CQ1281=9,TABLE1!$AT$5=TRUE),AND(CQ1281=10,TABLE1!$AW$3=TRUE),AND(CQ1281=11,TABLE1!$AW$4=TRUE),AND(CQ1281=12,TABLE1!$AW$5=TRUE)),1,0)=1),1,0)=1,CR1281=1,CT1281=1),1,0)","v":0},{"$f":"IF(AND(OR(F1281=TABLE1!$D$5,TABLE1!$D$5=\"کل بخشها\"),F1281<>\"\"),1,0)","v":0}]
[null,null,null,null,null,null,null,null,null,null,null,null,null,null,null,null,null,null,null,null,null,null,null,null,null,null,null,null,null,null,null,null,null,null,null,null,null,null,null,null,null,null,null,null,null,null,null,null,null,null,null,null,null,null,null,null,null,null,null,null,null,null,null,null,null,null,null,null,null,null,null,null,null,null,null,null,null,null,null,null,null,null,null,null,null,null,null,null,null,null,null,null,null,null,"",{"$f":"IF(LEFT(C1287,2)=TABLE1!$F$1,1,0)","v":0},{"$f":"IF(AND(IF(AND(IF(OR(AND(CQ1287=1,TABLE1!$AN$3=TRUE),AND(CQ1287=2,TABLE1!$AN$4=TRUE),AND(CQ1287=3,TABLE1!$AN$5=TRUE),AND(CQ1287=4,TABLE1!$AQ$3=TRUE),AND(CQ1287=5,TABLE1!$AQ$4=TRUE),AND(CQ1287=6,TABLE1!$AQ$5=TRUE),AND(CQ1287=7,TABLE1!$AT$3=TRUE),AND(CQ1287=8,TABLE1!$AT$4=TRUE),AND(CQ1287=9,TABLE1!$AT$5=TRUE),AND(CQ1287=10,TABLE1!$AW$3=TRUE),AND(CQ1287=11,TABLE1!$AW$4=TRUE),AND(CQ1287=12,TABLE1!$AW$5=TRUE)),1,0)=1),1,0)=1,CR1287=1,CT1287=1),1,0)","v":0},{"$f":"IF(AND(OR(F1287=TABLE1!$D$5,TABLE1!$D$5=\"کل بخشها\"),F1287<>\"\"),1,0)","v":0}]
[null,null,null,null,null,null,null,null,null,null,null,null,null,null,null,null,null,null,null,null,null,null,null,null,null,null,null,null,null,null,null,null,null,null,null,null,null,null,null,null,null,null,null,null,null,null,null,null,null,null,null,null,null,null,null,null,null,null,null,null,null,null,null,null,null,null,null,null,null,null,null,null,null,null,null,null,null,null,null,null,null,null,null,null,null,null,null,null,null,null,null,null,null,null,"",{"$f":"IF(LEFT(C1293,2)=TABLE1!$F$1,1,0)","v":0},{"$f":"IF(AND(IF(AND(IF(OR(AND(CQ1293=1,TABLE1!$AN$3=TRUE),AND(CQ1293=2,TABLE1!$AN$4=TRUE),AND(CQ1293=3,TABLE1!$AN$5=TRUE),AND(CQ1293=4,TABLE1!$AQ$3=TRUE),AND(CQ1293=5,TABLE1!$AQ$4=TRUE),AND(CQ1293=6,TABLE1!$AQ$5=TRUE),AND(CQ1293=7,TABLE1!$AT$3=TRUE),AND(CQ1293=8,TABLE1!$AT$4=TRUE),AND(CQ1293=9,TABLE1!$AT$5=TRUE),AND(CQ1293=10,TABLE1!$AW$3=TRUE),AND(CQ1293=11,TABLE1!$AW$4=TRUE),AND(CQ1293=12,TABLE1!$AW$5=TRUE)),1,0)=1),1,0)=1,CR1293=1,CT1293=1),1,0)","v":0},{"$f":"IF(AND(OR(F1293=TABLE1!$D$5,TABLE1!$D$5=\"کل بخشها\"),F1293<>\"\"),1,0)","v":0}]
[null,null,null,null,null,null,null,null,null,null,null,null,null,null,null,null,null,null,null,null,null,null,null,null,null,null,null,null,null,null,null,null,null,null,null,null,null,null,null,null,null,null,null,null,null,null,null,null,null,null,null,null,null,null,null,null,null,null,null,null,null,null,null,null,null,null,null,null,null,null,null,null,null,null,null,null,null,null,null,null,null,null,null,null,null,null,null,null,null,null,null,null,null,null,"",{"$f":"IF(LEFT(C1298,2)=TABLE1!$F$1,1,0)","v":0},{"$f":"IF(AND(IF(AND(IF(OR(AND(CQ1298=1,TABLE1!$AN$3=TRUE),AND(CQ1298=2,TABLE1!$AN$4=TRUE),AND(CQ1298=3,TABLE1!$AN$5=TRUE),AND(CQ1298=4,TABLE1!$AQ$3=TRUE),AND(CQ1298=5,TABLE1!$AQ$4=TRUE),AND(CQ1298=6,TABLE1!$AQ$5=TRUE),AND(CQ1298=7,TABLE1!$AT$3=TRUE),AND(CQ1298=8,TABLE1!$AT$4=TRUE),AND(CQ1298=9,TABLE1!$AT$5=TRUE),AND(CQ1298=10,TABLE1!$AW$3=TRUE),AND(CQ1298=11,TABLE1!$AW$4=TRUE),AND(CQ1298=12,TABLE1!$AW$5=TRUE)),1,0)=1),1,0)=1,CR1298=1,CT1298=1),1,0)","v":0},{"$f":"IF(AND(OR(F1298=TABLE1!$D$5,TABLE1!$D$5=\"کل بخشها\"),F1298<>\"\"),1,0)","v":0}]
[null,null,null,null,null,null,null,null,null,null,null,null,null,null,null,null,null,null,null,null,null,null,null,null,null,null,null,null,null,null,null,null,null,null,null,null,null,null,null,null,null,null,null,null,null,null,null,null,null,null,null,null,null,null,null,null,null,null,null,null,null,null,null,null,null,null,null,null,null,null,null,null,null,null,null,null,null,null,null,null,null,null,null,null,null,null,null,null,null,null,null,null,null,null,"",{"$f":"IF(LEFT(C1300,2)=TABLE1!$F$1,1,0)","v":0},{"$f":"IF(AND(IF(AND(IF(OR(AND(CQ1300=1,TABLE1!$AN$3=TRUE),AND(CQ1300=2,TABLE1!$AN$4=TRUE),AND(CQ1300=3,TABLE1!$AN$5=TRUE),AND(CQ1300=4,TABLE1!$AQ$3=TRUE),AND(CQ1300=5,TABLE1!$AQ$4=TRUE),AND(CQ1300=6,TABLE1!$AQ$5=TRUE),AND(CQ1300=7,TABLE1!$AT$3=TRUE),AND(CQ1300=8,TABLE1!$AT$4=TRUE),AND(CQ1300=9,TABLE1!$AT$5=TRUE),AND(CQ1300=10,TABLE1!$AW$3=TRUE),AND(CQ1300=11,TABLE1!$AW$4=TRUE),AND(CQ1300=12,TABLE1!$AW$5=TRUE)),1,0)=1),1,0)=1,CR1300=1,CT1300=1),1,0)","v":0},{"$f":"IF(AND(OR(F1300=TABLE1!$D$5,TABLE1!$D$5=\"کل بخشها\"),F1300<>\"\"),1,0)","v":0}]
[null,null,null,null,null,null,null,null,null,null,null,null,null,null,null,null,null,null,null,null,null,null,null,null,null,null,null,null,null,null,null,null,null,null,null,null,null,null,null,null,null,null,null,null,null,null,null,null,null,null,null,null,null,null,null,null,null,null,null,null,null,null,null,null,null,null,null,null,null,null,null,null,null,null,null,null,null,null,null,null,null,null,null,null,null,null,null,null,null,null,null,null,null,null,"",{"$f":"IF(LEFT(C1303,2)=TABLE1!$F$1,1,0)","v":0},{"$f":"IF(AND(IF(AND(IF(OR(AND(CQ1303=1,TABLE1!$AN$3=TRUE),AND(CQ1303=2,TABLE1!$AN$4=TRUE),AND(CQ1303=3,TABLE1!$AN$5=TRUE),AND(CQ1303=4,TABLE1!$AQ$3=TRUE),AND(CQ1303=5,TABLE1!$AQ$4=TRUE),AND(CQ1303=6,TABLE1!$AQ$5=TRUE),AND(CQ1303=7,TABLE1!$AT$3=TRUE),AND(CQ1303=8,TABLE1!$AT$4=TRUE),AND(CQ1303=9,TABLE1!$AT$5=TRUE),AND(CQ1303=10,TABLE1!$AW$3=TRUE),AND(CQ1303=11,TABLE1!$AW$4=TRUE),AND(CQ1303=12,TABLE1!$AW$5=TRUE)),1,0)=1),1,0)=1,CR1303=1,CT1303=1),1,0)","v":0},{"$f":"IF(AND(OR(F1303=TABLE1!$D$5,TABLE1!$D$5=\"کل بخشها\"),F1303<>\"\"),1,0)","v":0}]
[null,null,null,null,null,null,null,null,null,null,null,null,null,null,null,null,null,null,null,null,null,null,null,null,null,null,null,null,null,null,null,null,null,null,null,null,null,null,null,null,null,null,null,null,null,null,null,null,null,null,null,null,null,null,null,null,null,null,null,null,null,null,null,null,null,null,null,null,null,null,null,null,null,null,null,null,null,null,null,null,null,null,null,null,null,null,null,null,null,null,null,null,null,null,"",{"$f":"IF(LEFT(C1308,2)=TABLE1!$F$1,1,0)","v":0},{"$f":"IF(AND(IF(AND(IF(OR(AND(CQ1308=1,TABLE1!$AN$3=TRUE),AND(CQ1308=2,TABLE1!$AN$4=TRUE),AND(CQ1308=3,TABLE1!$AN$5=TRUE),AND(CQ1308=4,TABLE1!$AQ$3=TRUE),AND(CQ1308=5,TABLE1!$AQ$4=TRUE),AND(CQ1308=6,TABLE1!$AQ$5=TRUE),AND(CQ1308=7,TABLE1!$AT$3=TRUE),AND(CQ1308=8,TABLE1!$AT$4=TRUE),AND(CQ1308=9,TABLE1!$AT$5=TRUE),AND(CQ1308=10,TABLE1!$AW$3=TRUE),AND(CQ1308=11,TABLE1!$AW$4=TRUE),AND(CQ1308=12,TABLE1!$AW$5=TRUE)),1,0)=1),1,0)=1,CR1308=1,CT1308=1),1,0)","v":0},{"$f":"IF(AND(OR(F1308=TABLE1!$D$5,TABLE1!$D$5=\"کل بخشها\"),F1308<>\"\"),1,0)","v":0}]
[null,null,null,null,null,null,null,null,null,null,null,null,null,null,null,null,null,null,null,null,null,null,null,null,null,null,null,null,null,null,null,null,null,null,null,null,null,null,null,null,null,null,null,null,null,null,null,null,null,null,null,null,null,null,null,null,null,null,null,null,null,null,null,null,null,null,null,null,null,null,null,null,null,null,null,null,null,null,null,null,null,null,null,null,null,null,null,null,null,null,null,null,null,null,"",{"$f":"IF(LEFT(C1314,2)=TABLE1!$F$1,1,0)","v":0},{"$f":"IF(AND(IF(AND(IF(OR(AND(CQ1314=1,TABLE1!$AN$3=TRUE),AND(CQ1314=2,TABLE1!$AN$4=TRUE),AND(CQ1314=3,TABLE1!$AN$5=TRUE),AND(CQ1314=4,TABLE1!$AQ$3=TRUE),AND(CQ1314=5,TABLE1!$AQ$4=TRUE),AND(CQ1314=6,TABLE1!$AQ$5=TRUE),AND(CQ1314=7,TABLE1!$AT$3=TRUE),AND(CQ1314=8,TABLE1!$AT$4=TRUE),AND(CQ1314=9,TABLE1!$AT$5=TRUE),AND(CQ1314=10,TABLE1!$AW$3=TRUE),AND(CQ1314=11,TABLE1!$AW$4=TRUE),AND(CQ1314=12,TABLE1!$AW$5=TRUE)),1,0)=1),1,0)=1,CR1314=1,CT1314=1),1,0)","v":0},{"$f":"IF(AND(OR(F1314=TABLE1!$D$5,TABLE1!$D$5=\"کل بخشها\"),F1314<>\"\"),1,0)","v":0}]
[null,null,null,null,null,null,null,null,null,null,null,null,null,null,null,null,null,null,null,null,null,null,null,null,null,null,null,null,null,null,null,null,null,null,null,null,null,null,null,null,null,null,null,null,null,null,null,null,null,null,null,null,null,null,null,null,null,null,null,null,null,null,null,null,null,null,null,null,null,null,null,null,null,null,null,null,null,null,null,null,null,null,null,null,null,null,null,null,null,null,null,null,null,null,"",{"$f":"IF(LEFT(C1319,2)=TABLE1!$F$1,1,0)","v":0},{"$f":"IF(AND(IF(AND(IF(OR(AND(CQ1319=1,TABLE1!$AN$3=TRUE),AND(CQ1319=2,TABLE1!$AN$4=TRUE),AND(CQ1319=3,TABLE1!$AN$5=TRUE),AND(CQ1319=4,TABLE1!$AQ$3=TRUE),AND(CQ1319=5,TABLE1!$AQ$4=TRUE),AND(CQ1319=6,TABLE1!$AQ$5=TRUE),AND(CQ1319=7,TABLE1!$AT$3=TRUE),AND(CQ1319=8,TABLE1!$AT$4=TRUE),AND(CQ1319=9,TABLE1!$AT$5=TRUE),AND(CQ1319=10,TABLE1!$AW$3=TRUE),AND(CQ1319=11,TABLE1!$AW$4=TRUE),AND(CQ1319=12,TABLE1!$AW$5=TRUE)),1,0)=1),1,0)=1,CR1319=1,CT1319=1),1,0)","v":0},{"$f":"IF(AND(OR(F1319=TABLE1!$D$5,TABLE1!$D$5=\"کل بخشها\"),F1319<>\"\"),1,0)","v":0}]
[null,null,null,null,null,null,null,null,null,null,null,null,null,null,null,null,null,null,null,null,null,null,null,null,null,null,null,null,null,null,null,null,null,null,null,null,null,null,null,null,null,null,null,null,null,null,null,null,null,null,null,null,null,null,null,null,null,null,null,null,null,null,null,null,null,null,null,null,null,null,null,null,null,null,null,null,null,null,null,null,null,null,null,null,null,null,null,null,null,null,null,null,null,null,"",{"$f":"IF(LEFT(C1323,2)=TABLE1!$F$1,1,0)","v":0},{"$f":"IF(AND(IF(AND(IF(OR(AND(CQ1323=1,TABLE1!$AN$3=TRUE),AND(CQ1323=2,TABLE1!$AN$4=TRUE),AND(CQ1323=3,TABLE1!$AN$5=TRUE),AND(CQ1323=4,TABLE1!$AQ$3=TRUE),AND(CQ1323=5,TABLE1!$AQ$4=TRUE),AND(CQ1323=6,TABLE1!$AQ$5=TRUE),AND(CQ1323=7,TABLE1!$AT$3=TRUE),AND(CQ1323=8,TABLE1!$AT$4=TRUE),AND(CQ1323=9,TABLE1!$AT$5=TRUE),AND(CQ1323=10,TABLE1!$AW$3=TRUE),AND(CQ1323=11,TABLE1!$AW$4=TRUE),AND(CQ1323=12,TABLE1!$AW$5=TRUE)),1,0)=1),1,0)=1,CR1323=1,CT1323=1),1,0)","v":0},{"$f":"IF(AND(OR(F1323=TABLE1!$D$5,TABLE1!$D$5=\"کل بخشها\"),F1323<>\"\"),1,0)","v":0}]
[null,null,null,null,null,null,null,null,null,null,null,null,null,null,null,null,null,null,null,null,null,null,null,null,null,null,null,null,null,null,null,null,null,null,null,null,null,null,null,null,null,null,null,null,null,null,null,null,null,null,null,null,null,null,null,null,null,null,null,null,null,null,null,null,null,null,null,null,null,null,null,null,null,null,null,null,null,null,null,null,null,null,null,null,null,null,null,null,null,null,null,null,null,null,"",{"$f":"IF(LEFT(C1329,2)=TABLE1!$F$1,1,0)","v":0},{"$f":"IF(AND(IF(AND(IF(OR(AND(CQ1329=1,TABLE1!$AN$3=TRUE),AND(CQ1329=2,TABLE1!$AN$4=TRUE),AND(CQ1329=3,TABLE1!$AN$5=TRUE),AND(CQ1329=4,TABLE1!$AQ$3=TRUE),AND(CQ1329=5,TABLE1!$AQ$4=TRUE),AND(CQ1329=6,TABLE1!$AQ$5=TRUE),AND(CQ1329=7,TABLE1!$AT$3=TRUE),AND(CQ1329=8,TABLE1!$AT$4=TRUE),AND(CQ1329=9,TABLE1!$AT$5=TRUE),AND(CQ1329=10,TABLE1!$AW$3=TRUE),AND(CQ1329=11,TABLE1!$AW$4=TRUE),AND(CQ1329=12,TABLE1!$AW$5=TRUE)),1,0)=1),1,0)=1,CR1329=1,CT1329=1),1,0)","v":0},{"$f":"IF(AND(OR(F1329=TABLE1!$D$5,TABLE1!$D$5=\"کل بخشها\"),F1329<>\"\"),1,0)","v":0}]
[null,null,null,null,null,null,null,null,null,null,null,null,null,null,null,null,null,null,null,null,null,null,null,null,null,null,null,null,null,null,null,null,null,null,null,null,null,null,null,null,null,null,null,null,null,null,null,null,null,null,null,null,null,null,null,null,null,null,null,null,null,null,null,null,null,null,null,null,null,null,null,null,null,null,null,null,null,null,null,null,null,null,null,null,null,null,null,null,null,null,null,null,null,null,"",{"$f":"IF(LEFT(C1334,2)=TABLE1!$F$1,1,0)","v":0},{"$f":"IF(AND(IF(AND(IF(OR(AND(CQ1334=1,TABLE1!$AN$3=TRUE),AND(CQ1334=2,TABLE1!$AN$4=TRUE),AND(CQ1334=3,TABLE1!$AN$5=TRUE),AND(CQ1334=4,TABLE1!$AQ$3=TRUE),AND(CQ1334=5,TABLE1!$AQ$4=TRUE),AND(CQ1334=6,TABLE1!$AQ$5=TRUE),AND(CQ1334=7,TABLE1!$AT$3=TRUE),AND(CQ1334=8,TABLE1!$AT$4=TRUE),AND(CQ1334=9,TABLE1!$AT$5=TRUE),AND(CQ1334=10,TABLE1!$AW$3=TRUE),AND(CQ1334=11,TABLE1!$AW$4=TRUE),AND(CQ1334=12,TABLE1!$AW$5=TRUE)),1,0)=1),1,0)=1,CR1334=1,CT1334=1),1,0)","v":0},{"$f":"IF(AND(OR(F1334=TABLE1!$D$5,TABLE1!$D$5=\"کل بخشها\"),F1334<>\"\"),1,0)","v":0}]
[null,null,null,null,null,null,null,null,null,null,null,null,null,null,null,null,null,null,null,null,null,null,null,null,null,null,null,null,null,null,null,null,null,null,null,null,null,null,null,null,null,null,null,null,null,null,null,null,null,null,null,null,null,null,null,null,null,null,null,null,null,null,null,null,null,null,null,null,null,null,null,null,null,null,null,null,null,null,null,null,null,null,null,null,null,null,null,null,null,null,null,null,null,null,"",{"$f":"IF(LEFT(C1338,2)=TABLE1!$F$1,1,0)","v":0},{"$f":"IF(AND(IF(AND(IF(OR(AND(CQ1338=1,TABLE1!$AN$3=TRUE),AND(CQ1338=2,TABLE1!$AN$4=TRUE),AND(CQ1338=3,TABLE1!$AN$5=TRUE),AND(CQ1338=4,TABLE1!$AQ$3=TRUE),AND(CQ1338=5,TABLE1!$AQ$4=TRUE),AND(CQ1338=6,TABLE1!$AQ$5=TRUE),AND(CQ1338=7,TABLE1!$AT$3=TRUE),AND(CQ1338=8,TABLE1!$AT$4=TRUE),AND(CQ1338=9,TABLE1!$AT$5=TRUE),AND(CQ1338=10,TABLE1!$AW$3=TRUE),AND(CQ1338=11,TABLE1!$AW$4=TRUE),AND(CQ1338=12,TABLE1!$AW$5=TRUE)),1,0)=1),1,0)=1,CR1338=1,CT1338=1),1,0)","v":0},{"$f":"IF(AND(OR(F1338=TABLE1!$D$5,TABLE1!$D$5=\"کل بخشها\"),F1338<>\"\"),1,0)","v":0}]
[null,null,null,null,null,null,null,null,null,null,null,null,null,null,null,null,null,null,null,null,null,null,null,null,null,null,null,null,null,null,null,null,null,null,null,null,null,null,null,null,null,null,null,null,null,null,null,null,null,null,null,null,null,null,null,null,null,null,null,null,null,null,null,null,null,null,null,null,null,null,null,null,null,null,null,null,null,null,null,null,null,null,null,null,null,null,null,null,null,null,null,null,null,null,"",{"$f":"IF(LEFT(C1344,2)=TABLE1!$F$1,1,0)","v":0},{"$f":"IF(AND(IF(AND(IF(OR(AND(CQ1344=1,TABLE1!$AN$3=TRUE),AND(CQ1344=2,TABLE1!$AN$4=TRUE),AND(CQ1344=3,TABLE1!$AN$5=TRUE),AND(CQ1344=4,TABLE1!$AQ$3=TRUE),AND(CQ1344=5,TABLE1!$AQ$4=TRUE),AND(CQ1344=6,TABLE1!$AQ$5=TRUE),AND(CQ1344=7,TABLE1!$AT$3=TRUE),AND(CQ1344=8,TABLE1!$AT$4=TRUE),AND(CQ1344=9,TABLE1!$AT$5=TRUE),AND(CQ1344=10,TABLE1!$AW$3=TRUE),AND(CQ1344=11,TABLE1!$AW$4=TRUE),AND(CQ1344=12,TABLE1!$AW$5=TRUE)),1,0)=1),1,0)=1,CR1344=1,CT1344=1),1,0)","v":0},{"$f":"IF(AND(OR(F1344=TABLE1!$D$5,TABLE1!$D$5=\"کل بخشها\"),F1344<>\"\"),1,0)","v":0}]
[null,null,null,null,null,null,null,null,null,null,null,null,null,null,null,null,null,null,null,null,null,null,null,null,null,null,null,null,null,null,null,null,null,null,null,null,null,null,null,null,null,null,null,null,null,null,null,null,null,null,null,null,null,null,null,null,null,null,null,null,null,null,null,null,null,null,null,null,null,null,null,null,null,null,null,null,null,null,null,null,null,null,null,null,null,null,null,null,null,null,null,null,null,null,"",{"$f":"IF(LEFT(C1349,2)=TABLE1!$F$1,1,0)","v":0},{"$f":"IF(AND(IF(AND(IF(OR(AND(CQ1349=1,TABLE1!$AN$3=TRUE),AND(CQ1349=2,TABLE1!$AN$4=TRUE),AND(CQ1349=3,TABLE1!$AN$5=TRUE),AND(CQ1349=4,TABLE1!$AQ$3=TRUE),AND(CQ1349=5,TABLE1!$AQ$4=TRUE),AND(CQ1349=6,TABLE1!$AQ$5=TRUE),AND(CQ1349=7,TABLE1!$AT$3=TRUE),AND(CQ1349=8,TABLE1!$AT$4=TRUE),AND(CQ1349=9,TABLE1!$AT$5=TRUE),AND(CQ1349=10,TABLE1!$AW$3=TRUE),AND(CQ1349=11,TABLE1!$AW$4=TRUE),AND(CQ1349=12,TABLE1!$AW$5=TRUE)),1,0)=1),1,0)=1,CR1349=1,CT1349=1),1,0)","v":0},{"$f":"IF(AND(OR(F1349=TABLE1!$D$5,TABLE1!$D$5=\"کل بخشها\"),F1349<>\"\"),1,0)","v":0}]
[null,null,null,null,null,null,null,null,null,null,null,null,null,null,null,null,null,null,null,null,null,null,null,null,null,null,null,null,null,null,null,null,null,null,null,null,null,null,null,null,null,null,null,null,null,null,null,null,null,null,null,null,null,null,null,null,null,null,null,null,null,null,null,null,null,null,null,null,null,null,null,null,null,null,null,null,null,null,null,null,null,null,null,null,null,null,null,null,null,null,null,null,null,null,"",{"$f":"IF(LEFT(C1355,2)=TABLE1!$F$1,1,0)","v":0},{"$f":"IF(AND(IF(AND(IF(OR(AND(CQ1355=1,TABLE1!$AN$3=TRUE),AND(CQ1355=2,TABLE1!$AN$4=TRUE),AND(CQ1355=3,TABLE1!$AN$5=TRUE),AND(CQ1355=4,TABLE1!$AQ$3=TRUE),AND(CQ1355=5,TABLE1!$AQ$4=TRUE),AND(CQ1355=6,TABLE1!$AQ$5=TRUE),AND(CQ1355=7,TABLE1!$AT$3=TRUE),AND(CQ1355=8,TABLE1!$AT$4=TRUE),AND(CQ1355=9,TABLE1!$AT$5=TRUE),AND(CQ1355=10,TABLE1!$AW$3=TRUE),AND(CQ1355=11,TABLE1!$AW$4=TRUE),AND(CQ1355=12,TABLE1!$AW$5=TRUE)),1,0)=1),1,0)=1,CR1355=1,CT1355=1),1,0)","v":0},{"$f":"IF(AND(OR(F1355=TABLE1!$D$5,TABLE1!$D$5=\"کل بخشها\"),F1355<>\"\"),1,0)","v":0}]
[null,null,null,null,null,null,null,null,null,null,null,null,null,null,null,null,null,null,null,null,null,null,null,null,null,null,null,null,null,null,null,null,null,null,null,null,null,null,null,null,null,null,null,null,null,null,null,null,null,null,null,null,null,null,null,null,null,null,null,null,null,null,null,null,null,null,null,null,null,null,null,null,null,null,null,null,null,null,null,null,null,null,null,null,null,null,null,null,null,null,null,null,null,null,"",{"$f":"IF(LEFT(C1360,2)=TABLE1!$F$1,1,0)","v":0},{"$f":"IF(AND(IF(AND(IF(OR(AND(CQ1360=1,TABLE1!$AN$3=TRUE),AND(CQ1360=2,TABLE1!$AN$4=TRUE),AND(CQ1360=3,TABLE1!$AN$5=TRUE),AND(CQ1360=4,TABLE1!$AQ$3=TRUE),AND(CQ1360=5,TABLE1!$AQ$4=TRUE),AND(CQ1360=6,TABLE1!$AQ$5=TRUE),AND(CQ1360=7,TABLE1!$AT$3=TRUE),AND(CQ1360=8,TABLE1!$AT$4=TRUE),AND(CQ1360=9,TABLE1!$AT$5=TRUE),AND(CQ1360=10,TABLE1!$AW$3=TRUE),AND(CQ1360=11,TABLE1!$AW$4=TRUE),AND(CQ1360=12,TABLE1!$AW$5=TRUE)),1,0)=1),1,0)=1,CR1360=1,CT1360=1),1,0)","v":0},{"$f":"IF(AND(OR(F1360=TABLE1!$D$5,TABLE1!$D$5=\"کل بخشها\"),F1360<>\"\"),1,0)","v":0}]
[null,null,null,null,null,null,null,null,null,null,null,null,null,null,null,null,null,null,null,null,null,null,null,null,null,null,null,null,null,null,null,null,null,null,null,null,null,null,null,null,null,null,null,null,null,null,null,null,null,null,null,null,null,null,null,null,null,null,null,null,null,null,null,null,null,null,null,null,null,null,null,null,null,null,null,null,null,null,null,null,null,null,null,null,null,null,null,null,null,null,null,null,null,null,"",{"$f":"IF(LEFT(C1363,2)=TABLE1!$F$1,1,0)","v":0},{"$f":"IF(AND(IF(AND(IF(OR(AND(CQ1363=1,TABLE1!$AN$3=TRUE),AND(CQ1363=2,TABLE1!$AN$4=TRUE),AND(CQ1363=3,TABLE1!$AN$5=TRUE),AND(CQ1363=4,TABLE1!$AQ$3=TRUE),AND(CQ1363=5,TABLE1!$AQ$4=TRUE),AND(CQ1363=6,TABLE1!$AQ$5=TRUE),AND(CQ1363=7,TABLE1!$AT$3=TRUE),AND(CQ1363=8,TABLE1!$AT$4=TRUE),AND(CQ1363=9,TABLE1!$AT$5=TRUE),AND(CQ1363=10,TABLE1!$AW$3=TRUE),AND(CQ1363=11,TABLE1!$AW$4=TRUE),AND(CQ1363=12,TABLE1!$AW$5=TRUE)),1,0)=1),1,0)=1,CR1363=1,CT1363=1),1,0)","v":0},{"$f":"IF(AND(OR(F1363=TABLE1!$D$5,TABLE1!$D$5=\"کل بخشها\"),F1363<>\"\"),1,0)","v":0}]
[null,null,null,null,null,null,null,null,null,null,null,null,null,null,null,null,null,null,null,null,null,null,null,null,null,null,null,null,null,null,null,null,null,null,null,null,null,null,null,null,null,null,null,null,null,null,null,null,null,null,null,null,null,null,null,null,null,null,null,null,null,null,null,null,null,null,null,null,null,null,null,null,null,null,null,null,null,null,null,null,null,null,null,null,null,null,null,null,null,null,null,null,null,null,"",{"$f":"IF(LEFT(C1365,2)=TABLE1!$F$1,1,0)","v":0},{"$f":"IF(AND(IF(AND(IF(OR(AND(CQ1365=1,TABLE1!$AN$3=TRUE),AND(CQ1365=2,TABLE1!$AN$4=TRUE),AND(CQ1365=3,TABLE1!$AN$5=TRUE),AND(CQ1365=4,TABLE1!$AQ$3=TRUE),AND(CQ1365=5,TABLE1!$AQ$4=TRUE),AND(CQ1365=6,TABLE1!$AQ$5=TRUE),AND(CQ1365=7,TABLE1!$AT$3=TRUE),AND(CQ1365=8,TABLE1!$AT$4=TRUE),AND(CQ1365=9,TABLE1!$AT$5=TRUE),AND(CQ1365=10,TABLE1!$AW$3=TRUE),AND(CQ1365=11,TABLE1!$AW$4=TRUE),AND(CQ1365=12,TABLE1!$AW$5=TRUE)),1,0)=1),1,0)=1,CR1365=1,CT1365=1),1,0)","v":0},{"$f":"IF(AND(OR(F1365=TABLE1!$D$5,TABLE1!$D$5=\"کل بخشها\"),F1365<>\"\"),1,0)","v":0}]
[null,null,null,null,null,null,null,null,null,null,null,null,null,null,null,null,null,null,null,null,null,null,null,null,null,null,null,null,null,null,null,null,null,null,null,null,null,null,null,null,null,null,null,null,null,null,null,null,null,null,null,null,null,null,null,null,null,null,null,null,null,null,null,null,null,null,null,null,null,null,null,null,null,null,null,null,null,null,null,null,null,null,null,null,null,null,null,null,null,null,null,null,null,null,"",{"$f":"IF(LEFT(C1370,2)=TABLE1!$F$1,1,0)","v":0},{"$f":"IF(AND(IF(AND(IF(OR(AND(CQ1370=1,TABLE1!$AN$3=TRUE),AND(CQ1370=2,TABLE1!$AN$4=TRUE),AND(CQ1370=3,TABLE1!$AN$5=TRUE),AND(CQ1370=4,TABLE1!$AQ$3=TRUE),AND(CQ1370=5,TABLE1!$AQ$4=TRUE),AND(CQ1370=6,TABLE1!$AQ$5=TRUE),AND(CQ1370=7,TABLE1!$AT$3=TRUE),AND(CQ1370=8,TABLE1!$AT$4=TRUE),AND(CQ1370=9,TABLE1!$AT$5=TRUE),AND(CQ1370=10,TABLE1!$AW$3=TRUE),AND(CQ1370=11,TABLE1!$AW$4=TRUE),AND(CQ1370=12,TABLE1!$AW$5=TRUE)),1,0)=1),1,0)=1,CR1370=1,CT1370=1),1,0)","v":0},{"$f":"IF(AND(OR(F1370=TABLE1!$D$5,TABLE1!$D$5=\"کل بخشها\"),F1370<>\"\"),1,0)","v":0}]
[null,null,null,null,null,null,null,null,null,null,null,null,null,null,null,null,null,null,null,null,null,null,null,null,null,null,null,null,null,null,null,null,null,null,null,null,null,null,null,null,null,null,null,null,null,null,null,null,null,null,null,null,null,null,null,null,null,null,null,null,null,null,null,null,null,null,null,null,null,null,null,null,null,null,null,null,null,null,null,null,null,null,null,null,null,null,null,null,null,null,null,null,null,null,"",{"$f":"IF(LEFT(C1376,2)=TABLE1!$F$1,1,0)","v":0},{"$f":"IF(AND(IF(AND(IF(OR(AND(CQ1376=1,TABLE1!$AN$3=TRUE),AND(CQ1376=2,TABLE1!$AN$4=TRUE),AND(CQ1376=3,TABLE1!$AN$5=TRUE),AND(CQ1376=4,TABLE1!$AQ$3=TRUE),AND(CQ1376=5,TABLE1!$AQ$4=TRUE),AND(CQ1376=6,TABLE1!$AQ$5=TRUE),AND(CQ1376=7,TABLE1!$AT$3=TRUE),AND(CQ1376=8,TABLE1!$AT$4=TRUE),AND(CQ1376=9,TABLE1!$AT$5=TRUE),AND(CQ1376=10,TABLE1!$AW$3=TRUE),AND(CQ1376=11,TABLE1!$AW$4=TRUE),AND(CQ1376=12,TABLE1!$AW$5=TRUE)),1,0)=1),1,0)=1,CR1376=1,CT1376=1),1,0)","v":0},{"$f":"IF(AND(OR(F1376=TABLE1!$D$5,TABLE1!$D$5=\"کل بخشها\"),F1376<>\"\"),1,0)","v":0}]
[null,null,null,null,null,null,null,null,null,null,null,null,null,null,null,null,null,null,null,null,null,null,null,null,null,null,null,null,null,null,null,null,null,null,null,null,null,null,null,null,null,null,null,null,null,null,null,null,null,null,null,null,null,null,null,null,null,null,null,null,null,null,null,null,null,null,null,null,null,null,null,null,null,null,null,null,null,null,null,null,null,null,null,null,null,null,null,null,null,null,null,null,null,null,"",{"$f":"IF(LEFT(C1382,2)=TABLE1!$F$1,1,0)","v":0},{"$f":"IF(AND(IF(AND(IF(OR(AND(CQ1382=1,TABLE1!$AN$3=TRUE),AND(CQ1382=2,TABLE1!$AN$4=TRUE),AND(CQ1382=3,TABLE1!$AN$5=TRUE),AND(CQ1382=4,TABLE1!$AQ$3=TRUE),AND(CQ1382=5,TABLE1!$AQ$4=TRUE),AND(CQ1382=6,TABLE1!$AQ$5=TRUE),AND(CQ1382=7,TABLE1!$AT$3=TRUE),AND(CQ1382=8,TABLE1!$AT$4=TRUE),AND(CQ1382=9,TABLE1!$AT$5=TRUE),AND(CQ1382=10,TABLE1!$AW$3=TRUE),AND(CQ1382=11,TABLE1!$AW$4=TRUE),AND(CQ1382=12,TABLE1!$AW$5=TRUE)),1,0)=1),1,0)=1,CR1382=1,CT1382=1),1,0)","v":0},{"$f":"IF(AND(OR(F1382=TABLE1!$D$5,TABLE1!$D$5=\"کل بخشها\"),F1382<>\"\"),1,0)","v":0}]
[null,null,null,null,null,null,null,null,null,null,null,null,null,null,null,null,null,null,null,null,null,null,null,null,null,null,null,null,null,null,null,null,null,null,null,null,null,null,null,null,null,null,null,null,null,null,null,null,null,null,null,null,null,null,null,null,null,null,null,null,null,null,null,null,null,null,null,null,null,null,null,null,null,null,null,null,null,null,null,null,null,null,null,null,null,null,null,null,null,null,null,null,null,null,"",{"$f":"IF(LEFT(C1385,2)=TABLE1!$F$1,1,0)","v":0},{"$f":"IF(AND(IF(AND(IF(OR(AND(CQ1385=1,TABLE1!$AN$3=TRUE),AND(CQ1385=2,TABLE1!$AN$4=TRUE),AND(CQ1385=3,TABLE1!$AN$5=TRUE),AND(CQ1385=4,TABLE1!$AQ$3=TRUE),AND(CQ1385=5,TABLE1!$AQ$4=TRUE),AND(CQ1385=6,TABLE1!$AQ$5=TRUE),AND(CQ1385=7,TABLE1!$AT$3=TRUE),AND(CQ1385=8,TABLE1!$AT$4=TRUE),AND(CQ1385=9,TABLE1!$AT$5=TRUE),AND(CQ1385=10,TABLE1!$AW$3=TRUE),AND(CQ1385=11,TABLE1!$AW$4=TRUE),AND(CQ1385=12,TABLE1!$AW$5=TRUE)),1,0)=1),1,0)=1,CR1385=1,CT1385=1),1,0)","v":0},{"$f":"IF(AND(OR(F1385=TABLE1!$D$5,TABLE1!$D$5=\"کل بخشها\"),F1385<>\"\"),1,0)","v":0}]
[null,null,null,null,null,null,null,null,null,null,null,null,null,null,null,null,null,null,null,null,null,null,null,null,null,null,null,null,null,null,null,null,null,null,null,null,null,null,null,null,null,null,null,null,null,null,null,null,null,null,null,null,null,null,null,null,null,null,null,null,null,null,null,null,null,null,null,null,null,null,null,null,null,null,null,null,null,null,null,null,null,null,null,null,null,null,null,null,null,null,null,null,null,null,"",{"$f":"IF(LEFT(C1391,2)=TABLE1!$F$1,1,0)","v":0},{"$f":"IF(AND(IF(AND(IF(OR(AND(CQ1391=1,TABLE1!$AN$3=TRUE),AND(CQ1391=2,TABLE1!$AN$4=TRUE),AND(CQ1391=3,TABLE1!$AN$5=TRUE),AND(CQ1391=4,TABLE1!$AQ$3=TRUE),AND(CQ1391=5,TABLE1!$AQ$4=TRUE),AND(CQ1391=6,TABLE1!$AQ$5=TRUE),AND(CQ1391=7,TABLE1!$AT$3=TRUE),AND(CQ1391=8,TABLE1!$AT$4=TRUE),AND(CQ1391=9,TABLE1!$AT$5=TRUE),AND(CQ1391=10,TABLE1!$AW$3=TRUE),AND(CQ1391=11,TABLE1!$AW$4=TRUE),AND(CQ1391=12,TABLE1!$AW$5=TRUE)),1,0)=1),1,0)=1,CR1391=1,CT1391=1),1,0)","v":0},{"$f":"IF(AND(OR(F1391=TABLE1!$D$5,TABLE1!$D$5=\"کل بخشها\"),F1391<>\"\"),1,0)","v":0}]
[null,null,null,null,null,null,null,null,null,null,null,null,null,null,null,null,null,null,null,null,null,null,null,null,null,null,null,null,null,null,null,null,null,null,null,null,null,null,null,null,null,null,null,null,null,null,null,null,null,null,null,null,null,null,null,null,null,null,null,null,null,null,null,null,null,null,null,null,null,null,null,null,null,null,null,null,null,null,null,null,null,null,null,null,null,null,null,null,null,null,null,null,null,null,"",{"$f":"IF(LEFT(C1396,2)=TABLE1!$F$1,1,0)","v":0},{"$f":"IF(AND(IF(AND(IF(OR(AND(CQ1396=1,TABLE1!$AN$3=TRUE),AND(CQ1396=2,TABLE1!$AN$4=TRUE),AND(CQ1396=3,TABLE1!$AN$5=TRUE),AND(CQ1396=4,TABLE1!$AQ$3=TRUE),AND(CQ1396=5,TABLE1!$AQ$4=TRUE),AND(CQ1396=6,TABLE1!$AQ$5=TRUE),AND(CQ1396=7,TABLE1!$AT$3=TRUE),AND(CQ1396=8,TABLE1!$AT$4=TRUE),AND(CQ1396=9,TABLE1!$AT$5=TRUE),AND(CQ1396=10,TABLE1!$AW$3=TRUE),AND(CQ1396=11,TABLE1!$AW$4=TRUE),AND(CQ1396=12,TABLE1!$AW$5=TRUE)),1,0)=1),1,0)=1,CR1396=1,CT1396=1),1,0)","v":0},{"$f":"IF(AND(OR(F1396=TABLE1!$D$5,TABLE1!$D$5=\"کل بخشها\"),F1396<>\"\"),1,0)","v":0}]
[null,null,null,null,null,null,null,null,null,null,null,null,null,null,null,null,null,null,null,null,null,null,null,null,null,null,null,null,null,null,null,null,null,null,null,null,null,null,null,null,null,null,null,null,null,null,null,null,null,null,null,null,null,null,null,null,null,null,null,null,null,null,null,null,null,null,null,null,null,null,null,null,null,null,null,null,null,null,null,null,null,null,null,null,null,null,null,null,null,null,null,null,null,null,"",{"$f":"IF(LEFT(C1401,2)=TABLE1!$F$1,1,0)","v":0},{"$f":"IF(AND(IF(AND(IF(OR(AND(CQ1401=1,TABLE1!$AN$3=TRUE),AND(CQ1401=2,TABLE1!$AN$4=TRUE),AND(CQ1401=3,TABLE1!$AN$5=TRUE),AND(CQ1401=4,TABLE1!$AQ$3=TRUE),AND(CQ1401=5,TABLE1!$AQ$4=TRUE),AND(CQ1401=6,TABLE1!$AQ$5=TRUE),AND(CQ1401=7,TABLE1!$AT$3=TRUE),AND(CQ1401=8,TABLE1!$AT$4=TRUE),AND(CQ1401=9,TABLE1!$AT$5=TRUE),AND(CQ1401=10,TABLE1!$AW$3=TRUE),AND(CQ1401=11,TABLE1!$AW$4=TRUE),AND(CQ1401=12,TABLE1!$AW$5=TRUE)),1,0)=1),1,0)=1,CR1401=1,CT1401=1),1,0)","v":0},{"$f":"IF(AND(OR(F1401=TABLE1!$D$5,TABLE1!$D$5=\"کل بخشها\"),F1401<>\"\"),1,0)","v":0}]
[null,null,null,null,null,null,null,null,null,null,null,null,null,null,null,null,null,null,null,null,null,null,null,null,null,null,null,null,null,null,null,null,null,null,null,null,null,null,null,null,null,null,null,null,null,null,null,null,null,null,null,null,null,null,null,null,null,null,null,null,null,null,null,null,null,null,null,null,null,null,null,null,null,null,null,null,null,null,null,null,null,null,null,null,null,null,null,null,null,null,null,null,null,null,"",{"$f":"IF(LEFT(C1406,2)=TABLE1!$F$1,1,0)","v":0},{"$f":"IF(AND(IF(AND(IF(OR(AND(CQ1406=1,TABLE1!$AN$3=TRUE),AND(CQ1406=2,TABLE1!$AN$4=TRUE),AND(CQ1406=3,TABLE1!$AN$5=TRUE),AND(CQ1406=4,TABLE1!$AQ$3=TRUE),AND(CQ1406=5,TABLE1!$AQ$4=TRUE),AND(CQ1406=6,TABLE1!$AQ$5=TRUE),AND(CQ1406=7,TABLE1!$AT$3=TRUE),AND(CQ1406=8,TABLE1!$AT$4=TRUE),AND(CQ1406=9,TABLE1!$AT$5=TRUE),AND(CQ1406=10,TABLE1!$AW$3=TRUE),AND(CQ1406=11,TABLE1!$AW$4=TRUE),AND(CQ1406=12,TABLE1!$AW$5=TRUE)),1,0)=1),1,0)=1,CR1406=1,CT1406=1),1,0)","v":0},{"$f":"IF(AND(OR(F1406=TABLE1!$D$5,TABLE1!$D$5=\"کل بخشها\"),F1406<>\"\"),1,0)","v":0}]
[null,null,null,null,null,null,null,null,null,null,null,null,null,null,null,null,null,null,null,null,null,null,null,null,null,null,null,null,null,null,null,null,null,null,null,null,null,null,null,null,null,null,null,null,null,null,null,null,null,null,null,null,null,null,null,null,null,null,null,null,null,null,null,null,null,null,null,null,null,null,null,null,null,null,null,null,null,null,null,null,null,null,null,null,null,null,null,null,null,null,null,null,null,null,{"$f":"IFERROR(VALUE(MID(C1411,3,2)),\"\")","v":""},{"$f":"IF(LEFT(C1411,2)=TABLE1!$F$1,1,0)","v":0},{"$f":"IF(AND(IF(AND(IF(OR(AND(CQ1411=1,TABLE1!$AN$3=TRUE),AND(CQ1411=2,TABLE1!$AN$4=TRUE),AND(CQ1411=3,TABLE1!$AN$5=TRUE),AND(CQ1411=4,TABLE1!$AQ$3=TRUE),AND(CQ1411=5,TABLE1!$AQ$4=TRUE),AND(CQ1411=6,TABLE1!$AQ$5=TRUE),AND(CQ1411=7,TABLE1!$AT$3=TRUE),AND(CQ1411=8,TABLE1!$AT$4=TRUE),AND(CQ1411=9,TABLE1!$AT$5=TRUE),AND(CQ1411=10,TABLE1!$AW$3=TRUE),AND(CQ1411=11,TABLE1!$AW$4=TRUE),AND(CQ1411=12,TABLE1!$AW$5=TRUE)),1,0)=1),1,0)=1,CR1411=1,CT1411=1),1,0)","v":0},{"$f":"IF(AND(OR(F1411=TABLE1!$D$5,TABLE1!$D$5=\"کل بخشها\"),F1411<>\"\"),1,0)","v":0}]
[null,null,null,null,null,null,null,null,null,null,null,null,null,null,null,null,null,null,null,null,null,null,null,null,null,null,null,null,null,null,null,null,null,null,null,null,null,null,null,null,null,null,null,null,null,null,null,null,null,null,null,null,null,null,null,null,null,null,null,null,null,null,null,null,null,null,null,null,null,null,null,null,null,null,null,null,null,null,null,null,null,null,null,null,null,null,null,null,null,null,null,null,null,null,"",{"$f":"IF(LEFT(C1417,2)=TABLE1!$F$1,1,0)","v":0},{"$f":"IF(AND(IF(AND(IF(OR(AND(CQ1417=1,TABLE1!$AN$3=TRUE),AND(CQ1417=2,TABLE1!$AN$4=TRUE),AND(CQ1417=3,TABLE1!$AN$5=TRUE),AND(CQ1417=4,TABLE1!$AQ$3=TRUE),AND(CQ1417=5,TABLE1!$AQ$4=TRUE),AND(CQ1417=6,TABLE1!$AQ$5=TRUE),AND(CQ1417=7,TABLE1!$AT$3=TRUE),AND(CQ1417=8,TABLE1!$AT$4=TRUE),AND(CQ1417=9,TABLE1!$AT$5=TRUE),AND(CQ1417=10,TABLE1!$AW$3=TRUE),AND(CQ1417=11,TABLE1!$AW$4=TRUE),AND(CQ1417=12,TABLE1!$AW$5=TRUE)),1,0)=1),1,0)=1,CR1417=1,CT1417=1),1,0)","v":0},{"$f":"IF(AND(OR(F1417=TABLE1!$D$5,TABLE1!$D$5=\"کل بخشها\"),F1417<>\"\"),1,0)","v":0}]
[null,null,null,null,null,null,null,null,null,null,null,null,null,null,null,null,null,null,null,null,null,null,null,null,null,null,null,null,null,null,null,null,null,null,null,null,null,null,null,null,null,null,null,null,null,null,null,null,null,null,null,null,null,null,null,null,null,null,null,null,null,null,null,null,null,null,null,null,null,null,null,null,null,null,null,null,null,null,null,null,null,null,null,null,null,null,null,null,null,null,null,null,null,null,"",{"$f":"IF(LEFT(C1420,2)=TABLE1!$F$1,1,0)","v":0},{"$f":"IF(AND(IF(AND(IF(OR(AND(CQ1420=1,TABLE1!$AN$3=TRUE),AND(CQ1420=2,TABLE1!$AN$4=TRUE),AND(CQ1420=3,TABLE1!$AN$5=TRUE),AND(CQ1420=4,TABLE1!$AQ$3=TRUE),AND(CQ1420=5,TABLE1!$AQ$4=TRUE),AND(CQ1420=6,TABLE1!$AQ$5=TRUE),AND(CQ1420=7,TABLE1!$AT$3=TRUE),AND(CQ1420=8,TABLE1!$AT$4=TRUE),AND(CQ1420=9,TABLE1!$AT$5=TRUE),AND(CQ1420=10,TABLE1!$AW$3=TRUE),AND(CQ1420=11,TABLE1!$AW$4=TRUE),AND(CQ1420=12,TABLE1!$AW$5=TRUE)),1,0)=1),1,0)=1,CR1420=1,CT1420=1),1,0)","v":0},{"$f":"IF(AND(OR(F1420=TABLE1!$D$5,TABLE1!$D$5=\"کل بخشها\"),F1420<>\"\"),1,0)","v":0}]
[null,null,null,null,null,null,null,null,null,null,null,null,null,null,null,null,null,null,null,null,null,null,null,null,null,null,null,null,null,null,null,null,null,null,null,null,null,null,null,null,null,null,null,null,null,null,null,null,null,null,null,null,null,null,null,null,null,null,null,null,null,null,null,null,null,null,null,null,null,null,null,null,null,null,null,null,null,null,null,null,null,null,null,null,null,null,null,null,null,null,null,null,null,null,"",{"$f":"IF(LEFT(C1426,2)=TABLE1!$F$1,1,0)","v":0},{"$f":"IF(AND(IF(AND(IF(OR(AND(CQ1426=1,TABLE1!$AN$3=TRUE),AND(CQ1426=2,TABLE1!$AN$4=TRUE),AND(CQ1426=3,TABLE1!$AN$5=TRUE),AND(CQ1426=4,TABLE1!$AQ$3=TRUE),AND(CQ1426=5,TABLE1!$AQ$4=TRUE),AND(CQ1426=6,TABLE1!$AQ$5=TRUE),AND(CQ1426=7,TABLE1!$AT$3=TRUE),AND(CQ1426=8,TABLE1!$AT$4=TRUE),AND(CQ1426=9,TABLE1!$AT$5=TRUE),AND(CQ1426=10,TABLE1!$AW$3=TRUE),AND(CQ1426=11,TABLE1!$AW$4=TRUE),AND(CQ1426=12,TABLE1!$AW$5=TRUE)),1,0)=1),1,0)=1,CR1426=1,CT1426=1),1,0)","v":0},{"$f":"IF(AND(OR(F1426=TABLE1!$D$5,TABLE1!$D$5=\"کل بخشها\"),F1426<>\"\"),1,0)","v":0}]
[null,null,null,null,null,null,null,null,null,null,null,null,null,null,null,null,null,null,null,null,null,null,null,null,null,null,null,null,null,null,null,null,null,null,null,null,null,null,null,null,null,null,null,null,null,null,null,null,null,null,null,null,null,null,null,null,null,null,null,null,null,null,null,null,null,null,null,null,null,null,null,null,null,null,null,null,null,null,null,null,null,null,null,null,null,null,null,null,null,null,null,null,null,null,"",{"$f":"IF(LEFT(C1427,2)=TABLE1!$F$1,1,0)","v":0},{"$f":"IF(AND(IF(AND(IF(OR(AND(CQ1427=1,TABLE1!$AN$3=TRUE),AND(CQ1427=2,TABLE1!$AN$4=TRUE),AND(CQ1427=3,TABLE1!$AN$5=TRUE),AND(CQ1427=4,TABLE1!$AQ$3=TRUE),AND(CQ1427=5,TABLE1!$AQ$4=TRUE),AND(CQ1427=6,TABLE1!$AQ$5=TRUE),AND(CQ1427=7,TABLE1!$AT$3=TRUE),AND(CQ1427=8,TABLE1!$AT$4=TRUE),AND(CQ1427=9,TABLE1!$AT$5=TRUE),AND(CQ1427=10,TABLE1!$AW$3=TRUE),AND(CQ1427=11,TABLE1!$AW$4=TRUE),AND(CQ1427=12,TABLE1!$AW$5=TRUE)),1,0)=1),1,0)=1,CR1427=1,CT1427=1),1,0)","v":0},{"$f":"IF(AND(OR(F1427=TABLE1!$D$5,TABLE1!$D$5=\"کل بخشها\"),F1427<>\"\"),1,0)","v":0}]
[null,null,null,null,null,null,null,null,null,null,null,null,null,null,null,null,null,null,null,null,null,null,null,null,null,null,null,null,null,null,null,null,null,null,null,null,null,null,null,null,null,null,null,null,null,null,null,null,null,null,null,null,null,null,null,null,null,null,null,null,null,null,null,null,null,null,null,null,null,null,null,null,null,null,null,null,null,null,null,null,null,null,null,null,null,null,null,null,null,null,null,null,null,null,"",{"$f":"IF(LEFT(C1432,2)=TABLE1!$F$1,1,0)","v":0},{"$f":"IF(AND(IF(AND(IF(OR(AND(CQ1432=1,TABLE1!$AN$3=TRUE),AND(CQ1432=2,TABLE1!$AN$4=TRUE),AND(CQ1432=3,TABLE1!$AN$5=TRUE),AND(CQ1432=4,TABLE1!$AQ$3=TRUE),AND(CQ1432=5,TABLE1!$AQ$4=TRUE),AND(CQ1432=6,TABLE1!$AQ$5=TRUE),AND(CQ1432=7,TABLE1!$AT$3=TRUE),AND(CQ1432=8,TABLE1!$AT$4=TRUE),AND(CQ1432=9,TABLE1!$AT$5=TRUE),AND(CQ1432=10,TABLE1!$AW$3=TRUE),AND(CQ1432=11,TABLE1!$AW$4=TRUE),AND(CQ1432=12,TABLE1!$AW$5=TRUE)),1,0)=1),1,0)=1,CR1432=1,CT1432=1),1,0)","v":0},{"$f":"IF(AND(OR(F1432=TABLE1!$D$5,TABLE1!$D$5=\"کل بخشها\"),F1432<>\"\"),1,0)","v":0}]
[null,null,null,null,null,null,null,null,null,null,null,null,null,null,null,null,null,null,null,null,null,null,null,null,null,null,null,null,null,null,null,null,null,null,null,null,null,null,null,null,null,null,null,null,null,null,null,null,null,null,null,null,null,null,null,null,null,null,null,null,null,null,null,null,null,null,null,null,null,null,null,null,null,null,null,null,null,null,null,null,null,null,null,null,null,null,null,null,null,null,null,null,null,null,"",{"$f":"IF(LEFT(C1438,2)=TABLE1!$F$1,1,0)","v":0},{"$f":"IF(AND(IF(AND(IF(OR(AND(CQ1438=1,TABLE1!$AN$3=TRUE),AND(CQ1438=2,TABLE1!$AN$4=TRUE),AND(CQ1438=3,TABLE1!$AN$5=TRUE),AND(CQ1438=4,TABLE1!$AQ$3=TRUE),AND(CQ1438=5,TABLE1!$AQ$4=TRUE),AND(CQ1438=6,TABLE1!$AQ$5=TRUE),AND(CQ1438=7,TABLE1!$AT$3=TRUE),AND(CQ1438=8,TABLE1!$AT$4=TRUE),AND(CQ1438=9,TABLE1!$AT$5=TRUE),AND(CQ1438=10,TABLE1!$AW$3=TRUE),AND(CQ1438=11,TABLE1!$AW$4=TRUE),AND(CQ1438=12,TABLE1!$AW$5=TRUE)),1,0)=1),1,0)=1,CR1438=1,CT1438=1),1,0)","v":0},{"$f":"IF(AND(OR(F1438=TABLE1!$D$5,TABLE1!$D$5=\"کل بخشها\"),F1438<>\"\"),1,0)","v":0}]
[null,null,null,null,null,null,null,null,null,null,null,null,null,null,null,null,null,null,null,null,null,null,null,null,null,null,null,null,null,null,null,null,null,null,null,null,null,null,null,null,null,null,null,null,null,null,null,null,null,null,null,null,null,null,null,null,null,null,null,null,null,null,null,null,null,null,null,null,null,null,null,null,null,null,null,null,null,null,null,null,null,null,null,null,null,null,null,null,null,null,null,null,null,null,"",{"$f":"IF(LEFT(C1442,2)=TABLE1!$F$1,1,0)","v":0},{"$f":"IF(AND(IF(AND(IF(OR(AND(CQ1442=1,TABLE1!$AN$3=TRUE),AND(CQ1442=2,TABLE1!$AN$4=TRUE),AND(CQ1442=3,TABLE1!$AN$5=TRUE),AND(CQ1442=4,TABLE1!$AQ$3=TRUE),AND(CQ1442=5,TABLE1!$AQ$4=TRUE),AND(CQ1442=6,TABLE1!$AQ$5=TRUE),AND(CQ1442=7,TABLE1!$AT$3=TRUE),AND(CQ1442=8,TABLE1!$AT$4=TRUE),AND(CQ1442=9,TABLE1!$AT$5=TRUE),AND(CQ1442=10,TABLE1!$AW$3=TRUE),AND(CQ1442=11,TABLE1!$AW$4=TRUE),AND(CQ1442=12,TABLE1!$AW$5=TRUE)),1,0)=1),1,0)=1,CR1442=1,CT1442=1),1,0)","v":0},{"$f":"IF(AND(OR(F1442=TABLE1!$D$5,TABLE1!$D$5=\"کل بخشها\"),F1442<>\"\"),1,0)","v":0}]
[null,null,null,null,null,null,null,null,null,null,null,null,null,null,null,null,null,null,null,null,null,null,null,null,null,null,null,null,null,null,null,null,null,null,null,null,null,null,null,null,null,null,null,null,null,null,null,null,null,null,null,null,null,null,null,null,null,null,null,null,null,null,null,null,null,null,null,null,null,null,null,null,null,null,null,null,null,null,null,null,null,null,null,null,null,null,null,null,null,null,null,null,null,null,"",{"$f":"IF(LEFT(C1443,2)=TABLE1!$F$1,1,0)","v":0},{"$f":"IF(AND(IF(AND(IF(OR(AND(CQ1443=1,TABLE1!$AN$3=TRUE),AND(CQ1443=2,TABLE1!$AN$4=TRUE),AND(CQ1443=3,TABLE1!$AN$5=TRUE),AND(CQ1443=4,TABLE1!$AQ$3=TRUE),AND(CQ1443=5,TABLE1!$AQ$4=TRUE),AND(CQ1443=6,TABLE1!$AQ$5=TRUE),AND(CQ1443=7,TABLE1!$AT$3=TRUE),AND(CQ1443=8,TABLE1!$AT$4=TRUE),AND(CQ1443=9,TABLE1!$AT$5=TRUE),AND(CQ1443=10,TABLE1!$AW$3=TRUE),AND(CQ1443=11,TABLE1!$AW$4=TRUE),AND(CQ1443=12,TABLE1!$AW$5=TRUE)),1,0)=1),1,0)=1,CR1443=1,CT1443=1),1,0)","v":0},{"$f":"IF(AND(OR(F1443=TABLE1!$D$5,TABLE1!$D$5=\"کل بخشها\"),F1443<>\"\"),1,0)","v":0}]
[null,null,null,null,null,null,null,null,null,null,null,null,null,null,null,null,null,null,null,null,null,null,null,null,null,null,null,null,null,null,null,null,null,null,null,null,null,null,null,null,null,null,null,null,null,null,null,null,null,null,null,null,null,null,null,null,null,null,null,null,null,null,null,null,null,null,null,null,null,null,null,null,null,null,null,null,null,null,null,null,null,null,null,null,null,null,null,null,null,null,null,null,null,null,"",{"$f":"IF(LEFT(C1444,2)=TABLE1!$F$1,1,0)","v":0},{"$f":"IF(AND(IF(AND(IF(OR(AND(CQ1444=1,TABLE1!$AN$3=TRUE),AND(CQ1444=2,TABLE1!$AN$4=TRUE),AND(CQ1444=3,TABLE1!$AN$5=TRUE),AND(CQ1444=4,TABLE1!$AQ$3=TRUE),AND(CQ1444=5,TABLE1!$AQ$4=TRUE),AND(CQ1444=6,TABLE1!$AQ$5=TRUE),AND(CQ1444=7,TABLE1!$AT$3=TRUE),AND(CQ1444=8,TABLE1!$AT$4=TRUE),AND(CQ1444=9,TABLE1!$AT$5=TRUE),AND(CQ1444=10,TABLE1!$AW$3=TRUE),AND(CQ1444=11,TABLE1!$AW$4=TRUE),AND(CQ1444=12,TABLE1!$AW$5=TRUE)),1,0)=1),1,0)=1,CR1444=1,CT1444=1),1,0)","v":0},{"$f":"IF(AND(OR(F1444=TABLE1!$D$5,TABLE1!$D$5=\"کل بخشها\"),F1444<>\"\"),1,0)","v":0}]
[null,null,null,null,null,null,null,null,null,null,null,null,null,null,null,null,null,null,null,null,null,null,null,null,null,null,null,null,null,null,null,null,null,null,null,null,null,null,null,null,null,null,null,null,null,null,null,null,null,null,null,null,null,null,null,null,null,null,null,null,null,null,null,null,null,null,null,null,null,null,null,null,null,null,null,null,null,null,null,null,null,null,null,null,null,null,null,null,null,null,null,null,null,null,"",{"$f":"IF(LEFT(C1445,2)=TABLE1!$F$1,1,0)","v":0},{"$f":"IF(AND(IF(AND(IF(OR(AND(CQ1445=1,TABLE1!$AN$3=TRUE),AND(CQ1445=2,TABLE1!$AN$4=TRUE),AND(CQ1445=3,TABLE1!$AN$5=TRUE),AND(CQ1445=4,TABLE1!$AQ$3=TRUE),AND(CQ1445=5,TABLE1!$AQ$4=TRUE),AND(CQ1445=6,TABLE1!$AQ$5=TRUE),AND(CQ1445=7,TABLE1!$AT$3=TRUE),AND(CQ1445=8,TABLE1!$AT$4=TRUE),AND(CQ1445=9,TABLE1!$AT$5=TRUE),AND(CQ1445=10,TABLE1!$AW$3=TRUE),AND(CQ1445=11,TABLE1!$AW$4=TRUE),AND(CQ1445=12,TABLE1!$AW$5=TRUE)),1,0)=1),1,0)=1,CR1445=1,CT1445=1),1,0)","v":0},{"$f":"IF(AND(OR(F1445=TABLE1!$D$5,TABLE1!$D$5=\"کل بخشها\"),F1445<>\"\"),1,0)","v":0}]
[null,null,null,null,null,null,null,null,null,null,null,null,null,null,null,null,null,null,null,null,null,null,null,null,null,null,null,null,null,null,null,null,null,null,null,null,null,null,null,null,null,null,null,null,null,null,null,null,null,null,null,null,null,null,null,null,null,null,null,null,null,null,null,null,null,null,null,null,null,null,null,null,null,null,null,null,null,null,null,null,null,null,null,null,null,null,null,null,null,null,null,null,null,null,"",{"$f":"IF(LEFT(C1446,2)=TABLE1!$F$1,1,0)","v":0},{"$f":"IF(AND(IF(AND(IF(OR(AND(CQ1446=1,TABLE1!$AN$3=TRUE),AND(CQ1446=2,TABLE1!$AN$4=TRUE),AND(CQ1446=3,TABLE1!$AN$5=TRUE),AND(CQ1446=4,TABLE1!$AQ$3=TRUE),AND(CQ1446=5,TABLE1!$AQ$4=TRUE),AND(CQ1446=6,TABLE1!$AQ$5=TRUE),AND(CQ1446=7,TABLE1!$AT$3=TRUE),AND(CQ1446=8,TABLE1!$AT$4=TRUE),AND(CQ1446=9,TABLE1!$AT$5=TRUE),AND(CQ1446=10,TABLE1!$AW$3=TRUE),AND(CQ1446=11,TABLE1!$AW$4=TRUE),AND(CQ1446=12,TABLE1!$AW$5=TRUE)),1,0)=1),1,0)=1,CR1446=1,CT1446=1),1,0)","v":0},{"$f":"IF(AND(OR(F1446=TABLE1!$D$5,TABLE1!$D$5=\"کل بخشها\"),F1446<>\"\"),1,0)","v":0}]
[null,null,null,null,null,null,null,null,null,null,null,null,null,null,null,null,null,null,null,null,null,null,null,null,null,null,null,null,null,null,null,null,null,null,null,null,null,null,null,null,null,null,null,null,null,null,null,null,null,null,null,null,null,null,null,null,null,null,null,null,null,null,null,null,null,null,null,null,null,null,null,null,null,null,null,null,null,null,null,null,null,null,null,null,null,null,null,null,null,null,null,null,null,null,"",{"$f":"IF(LEFT(C1447,2)=TABLE1!$F$1,1,0)","v":0},{"$f":"IF(AND(IF(AND(IF(OR(AND(CQ1447=1,TABLE1!$AN$3=TRUE),AND(CQ1447=2,TABLE1!$AN$4=TRUE),AND(CQ1447=3,TABLE1!$AN$5=TRUE),AND(CQ1447=4,TABLE1!$AQ$3=TRUE),AND(CQ1447=5,TABLE1!$AQ$4=TRUE),AND(CQ1447=6,TABLE1!$AQ$5=TRUE),AND(CQ1447=7,TABLE1!$AT$3=TRUE),AND(CQ1447=8,TABLE1!$AT$4=TRUE),AND(CQ1447=9,TABLE1!$AT$5=TRUE),AND(CQ1447=10,TABLE1!$AW$3=TRUE),AND(CQ1447=11,TABLE1!$AW$4=TRUE),AND(CQ1447=12,TABLE1!$AW$5=TRUE)),1,0)=1),1,0)=1,CR1447=1,CT1447=1),1,0)","v":0},{"$f":"IF(AND(OR(F1447=TABLE1!$D$5,TABLE1!$D$5=\"کل بخشها\"),F1447<>\"\"),1,0)","v":0}]
[null,null,null,null,null,null,null,null,null,null,null,null,null,null,null,null,null,null,null,null,null,null,null,null,null,null,null,null,null,null,null,null,null,null,null,null,null,null,null,null,null,null,null,null,null,null,null,null,null,null,null,null,null,null,null,null,null,null,null,null,null,null,null,null,null,null,null,null,null,null,null,null,null,null,null,null,null,null,null,null,null,null,null,null,null,null,null,null,null,null,null,null,null,null,"",{"$f":"IF(LEFT(C1448,2)=TABLE1!$F$1,1,0)","v":0},{"$f":"IF(AND(IF(AND(IF(OR(AND(CQ1448=1,TABLE1!$AN$3=TRUE),AND(CQ1448=2,TABLE1!$AN$4=TRUE),AND(CQ1448=3,TABLE1!$AN$5=TRUE),AND(CQ1448=4,TABLE1!$AQ$3=TRUE),AND(CQ1448=5,TABLE1!$AQ$4=TRUE),AND(CQ1448=6,TABLE1!$AQ$5=TRUE),AND(CQ1448=7,TABLE1!$AT$3=TRUE),AND(CQ1448=8,TABLE1!$AT$4=TRUE),AND(CQ1448=9,TABLE1!$AT$5=TRUE),AND(CQ1448=10,TABLE1!$AW$3=TRUE),AND(CQ1448=11,TABLE1!$AW$4=TRUE),AND(CQ1448=12,TABLE1!$AW$5=TRUE)),1,0)=1),1,0)=1,CR1448=1,CT1448=1),1,0)","v":0},{"$f":"IF(AND(OR(F1448=TABLE1!$D$5,TABLE1!$D$5=\"کل بخشها\"),F1448<>\"\"),1,0)","v":0}]
[null,null,null,null,null,null,null,null,null,null,null,null,null,null,null,null,null,null,null,null,null,null,null,null,null,null,null,null,null,null,null,null,null,null,null,null,null,null,null,null,null,null,null,null,null,null,null,null,null,null,null,null,null,null,null,null,null,null,null,null,null,null,null,null,null,null,null,null,null,null,null,null,null,null,null,null,null,null,null,null,null,null,null,null,null,null,null,null,null,null,null,null,null,null,"",{"$f":"IF(LEFT(C1449,2)=TABLE1!$F$1,1,0)","v":0},{"$f":"IF(AND(IF(AND(IF(OR(AND(CQ1449=1,TABLE1!$AN$3=TRUE),AND(CQ1449=2,TABLE1!$AN$4=TRUE),AND(CQ1449=3,TABLE1!$AN$5=TRUE),AND(CQ1449=4,TABLE1!$AQ$3=TRUE),AND(CQ1449=5,TABLE1!$AQ$4=TRUE),AND(CQ1449=6,TABLE1!$AQ$5=TRUE),AND(CQ1449=7,TABLE1!$AT$3=TRUE),AND(CQ1449=8,TABLE1!$AT$4=TRUE),AND(CQ1449=9,TABLE1!$AT$5=TRUE),AND(CQ1449=10,TABLE1!$AW$3=TRUE),AND(CQ1449=11,TABLE1!$AW$4=TRUE),AND(CQ1449=12,TABLE1!$AW$5=TRUE)),1,0)=1),1,0)=1,CR1449=1,CT1449=1),1,0)","v":0},{"$f":"IF(AND(OR(F1449=TABLE1!$D$5,TABLE1!$D$5=\"کل بخشها\"),F1449<>\"\"),1,0)","v":0}]
[null,null,null,null,null,null,null,null,null,null,null,null,null,null,null,null,null,null,null,null,null,null,null,null,null,null,null,null,null,null,null,null,null,null,null,null,null,null,null,null,null,null,null,null,null,null,null,null,null,null,null,null,null,null,null,null,null,null,null,null,null,null,null,null,null,null,null,null,null,null,null,null,null,null,null,null,null,null,null,null,null,null,null,null,null,null,null,null,null,null,null,null,null,null,"",{"$f":"IF(LEFT(C1450,2)=TABLE1!$F$1,1,0)","v":0},{"$f":"IF(AND(IF(AND(IF(OR(AND(CQ1450=1,TABLE1!$AN$3=TRUE),AND(CQ1450=2,TABLE1!$AN$4=TRUE),AND(CQ1450=3,TABLE1!$AN$5=TRUE),AND(CQ1450=4,TABLE1!$AQ$3=TRUE),AND(CQ1450=5,TABLE1!$AQ$4=TRUE),AND(CQ1450=6,TABLE1!$AQ$5=TRUE),AND(CQ1450=7,TABLE1!$AT$3=TRUE),AND(CQ1450=8,TABLE1!$AT$4=TRUE),AND(CQ1450=9,TABLE1!$AT$5=TRUE),AND(CQ1450=10,TABLE1!$AW$3=TRUE),AND(CQ1450=11,TABLE1!$AW$4=TRUE),AND(CQ1450=12,TABLE1!$AW$5=TRUE)),1,0)=1),1,0)=1,CR1450=1,CT1450=1),1,0)","v":0},{"$f":"IF(AND(OR(F1450=TABLE1!$D$5,TABLE1!$D$5=\"کل بخشها\"),F1450<>\"\"),1,0)","v":0}]
[null,null,null,null,null,null,null,null,null,null,null,null,null,null,null,null,null,null,null,null,null,null,null,null,null,null,null,null,null,null,null,null,null,null,null,null,null,null,null,null,null,null,null,null,null,null,null,null,null,null,null,null,null,null,null,null,null,null,null,null,null,null,null,null,null,null,null,null,null,null,null,null,null,null,null,null,null,null,null,null,null,null,null,null,null,null,null,null,null,null,null,null,null,null,"",{"$f":"IF(LEFT(C1451,2)=TABLE1!$F$1,1,0)","v":0},{"$f":"IF(AND(IF(AND(IF(OR(AND(CQ1451=1,TABLE1!$AN$3=TRUE),AND(CQ1451=2,TABLE1!$AN$4=TRUE),AND(CQ1451=3,TABLE1!$AN$5=TRUE),AND(CQ1451=4,TABLE1!$AQ$3=TRUE),AND(CQ1451=5,TABLE1!$AQ$4=TRUE),AND(CQ1451=6,TABLE1!$AQ$5=TRUE),AND(CQ1451=7,TABLE1!$AT$3=TRUE),AND(CQ1451=8,TABLE1!$AT$4=TRUE),AND(CQ1451=9,TABLE1!$AT$5=TRUE),AND(CQ1451=10,TABLE1!$AW$3=TRUE),AND(CQ1451=11,TABLE1!$AW$4=TRUE),AND(CQ1451=12,TABLE1!$AW$5=TRUE)),1,0)=1),1,0)=1,CR1451=1,CT1451=1),1,0)","v":0},{"$f":"IF(AND(OR(F1451=TABLE1!$D$5,TABLE1!$D$5=\"کل بخشها\"),F1451<>\"\"),1,0)","v":0}]
[null,null,null,null,null,null,null,null,null,null,null,null,null,null,null,null,null,null,null,null,null,null,null,null,null,null,null,null,null,null,null,null,null,null,null,null,null,null,null,null,null,null,null,null,null,null,null,null,null,null,null,null,null,null,null,null,null,null,null,null,null,null,null,null,null,null,null,null,null,null,null,null,null,null,null,null,null,null,null,null,null,null,null,null,null,null,null,null,null,null,null,null,null,null,"",{"$f":"IF(LEFT(C1452,2)=TABLE1!$F$1,1,0)","v":0},{"$f":"IF(AND(IF(AND(IF(OR(AND(CQ1452=1,TABLE1!$AN$3=TRUE),AND(CQ1452=2,TABLE1!$AN$4=TRUE),AND(CQ1452=3,TABLE1!$AN$5=TRUE),AND(CQ1452=4,TABLE1!$AQ$3=TRUE),AND(CQ1452=5,TABLE1!$AQ$4=TRUE),AND(CQ1452=6,TABLE1!$AQ$5=TRUE),AND(CQ1452=7,TABLE1!$AT$3=TRUE),AND(CQ1452=8,TABLE1!$AT$4=TRUE),AND(CQ1452=9,TABLE1!$AT$5=TRUE),AND(CQ1452=10,TABLE1!$AW$3=TRUE),AND(CQ1452=11,TABLE1!$AW$4=TRUE),AND(CQ1452=12,TABLE1!$AW$5=TRUE)),1,0)=1),1,0)=1,CR1452=1,CT1452=1),1,0)","v":0},{"$f":"IF(AND(OR(F1452=TABLE1!$D$5,TABLE1!$D$5=\"کل بخشها\"),F1452<>\"\"),1,0)","v":0}]
[null,null,null,null,null,null,null,null,null,null,null,null,null,null,null,null,null,null,null,null,null,null,null,null,null,null,null,null,null,null,null,null,null,null,null,null,null,null,null,null,null,null,null,null,null,null,null,null,null,null,null,null,null,null,null,null,null,null,null,null,null,null,null,null,null,null,null,null,null,null,null,null,null,null,null,null,null,null,null,null,null,null,null,null,null,null,null,null,null,null,null,null,null,null,"",{"$f":"IF(LEFT(C1453,2)=TABLE1!$F$1,1,0)","v":0},{"$f":"IF(AND(IF(AND(IF(OR(AND(CQ1453=1,TABLE1!$AN$3=TRUE),AND(CQ1453=2,TABLE1!$AN$4=TRUE),AND(CQ1453=3,TABLE1!$AN$5=TRUE),AND(CQ1453=4,TABLE1!$AQ$3=TRUE),AND(CQ1453=5,TABLE1!$AQ$4=TRUE),AND(CQ1453=6,TABLE1!$AQ$5=TRUE),AND(CQ1453=7,TABLE1!$AT$3=TRUE),AND(CQ1453=8,TABLE1!$AT$4=TRUE),AND(CQ1453=9,TABLE1!$AT$5=TRUE),AND(CQ1453=10,TABLE1!$AW$3=TRUE),AND(CQ1453=11,TABLE1!$AW$4=TRUE),AND(CQ1453=12,TABLE1!$AW$5=TRUE)),1,0)=1),1,0)=1,CR1453=1,CT1453=1),1,0)","v":0},{"$f":"IF(AND(OR(F1453=TABLE1!$D$5,TABLE1!$D$5=\"کل بخشها\"),F1453<>\"\"),1,0)","v":0}]
[null,null,null,null,null,null,null,null,null,null,null,null,null,null,null,null,null,null,null,null,null,null,null,null,null,null,null,null,null,null,null,null,null,null,null,null,null,null,null,null,null,null,null,null,null,null,null,null,null,null,null,null,null,null,null,null,null,null,null,null,null,null,null,null,null,null,null,null,null,null,null,null,null,null,null,null,null,null,null,null,null,null,null,null,null,null,null,null,null,null,null,null,null,null,"",{"$f":"IF(LEFT(C1454,2)=TABLE1!$F$1,1,0)","v":0},{"$f":"IF(AND(IF(AND(IF(OR(AND(CQ1454=1,TABLE1!$AN$3=TRUE),AND(CQ1454=2,TABLE1!$AN$4=TRUE),AND(CQ1454=3,TABLE1!$AN$5=TRUE),AND(CQ1454=4,TABLE1!$AQ$3=TRUE),AND(CQ1454=5,TABLE1!$AQ$4=TRUE),AND(CQ1454=6,TABLE1!$AQ$5=TRUE),AND(CQ1454=7,TABLE1!$AT$3=TRUE),AND(CQ1454=8,TABLE1!$AT$4=TRUE),AND(CQ1454=9,TABLE1!$AT$5=TRUE),AND(CQ1454=10,TABLE1!$AW$3=TRUE),AND(CQ1454=11,TABLE1!$AW$4=TRUE),AND(CQ1454=12,TABLE1!$AW$5=TRUE)),1,0)=1),1,0)=1,CR1454=1,CT1454=1),1,0)","v":0},{"$f":"IF(AND(OR(F1454=TABLE1!$D$5,TABLE1!$D$5=\"کل بخشها\"),F1454<>\"\"),1,0)","v":0}]
[null,null,null,null,null,null,null,null,null,null,null,null,null,null,null,null,null,null,null,null,null,null,null,null,null,null,null,null,null,null,null,null,null,null,null,null,null,null,null,null,null,null,null,null,null,null,null,null,null,null,null,null,null,null,null,null,null,null,null,null,null,null,null,null,null,null,null,null,null,null,null,null,null,null,null,null,null,null,null,null,null,null,null,null,null,null,null,null,null,null,null,null,null,null,"",{"$f":"IF(LEFT(C1455,2)=TABLE1!$F$1,1,0)","v":0},{"$f":"IF(AND(IF(AND(IF(OR(AND(CQ1455=1,TABLE1!$AN$3=TRUE),AND(CQ1455=2,TABLE1!$AN$4=TRUE),AND(CQ1455=3,TABLE1!$AN$5=TRUE),AND(CQ1455=4,TABLE1!$AQ$3=TRUE),AND(CQ1455=5,TABLE1!$AQ$4=TRUE),AND(CQ1455=6,TABLE1!$AQ$5=TRUE),AND(CQ1455=7,TABLE1!$AT$3=TRUE),AND(CQ1455=8,TABLE1!$AT$4=TRUE),AND(CQ1455=9,TABLE1!$AT$5=TRUE),AND(CQ1455=10,TABLE1!$AW$3=TRUE),AND(CQ1455=11,TABLE1!$AW$4=TRUE),AND(CQ1455=12,TABLE1!$AW$5=TRUE)),1,0)=1),1,0)=1,CR1455=1,CT1455=1),1,0)","v":0},{"$f":"IF(AND(OR(F1455=TABLE1!$D$5,TABLE1!$D$5=\"کل بخشها\"),F1455<>\"\"),1,0)","v":0}]
[null,null,null,null,null,null,null,null,null,null,null,null,null,null,null,null,null,null,null,null,null,null,null,null,null,null,null,null,null,null,null,null,null,null,null,null,null,null,null,null,null,null,null,null,null,null,null,null,null,null,null,null,null,null,null,null,null,null,null,null,null,null,null,null,null,null,null,null,null,null,null,null,null,null,null,null,null,null,null,null,null,null,null,null,null,null,null,null,null,null,null,null,null,null,"",{"$f":"IF(LEFT(C1456,2)=TABLE1!$F$1,1,0)","v":0},{"$f":"IF(AND(IF(AND(IF(OR(AND(CQ1456=1,TABLE1!$AN$3=TRUE),AND(CQ1456=2,TABLE1!$AN$4=TRUE),AND(CQ1456=3,TABLE1!$AN$5=TRUE),AND(CQ1456=4,TABLE1!$AQ$3=TRUE),AND(CQ1456=5,TABLE1!$AQ$4=TRUE),AND(CQ1456=6,TABLE1!$AQ$5=TRUE),AND(CQ1456=7,TABLE1!$AT$3=TRUE),AND(CQ1456=8,TABLE1!$AT$4=TRUE),AND(CQ1456=9,TABLE1!$AT$5=TRUE),AND(CQ1456=10,TABLE1!$AW$3=TRUE),AND(CQ1456=11,TABLE1!$AW$4=TRUE),AND(CQ1456=12,TABLE1!$AW$5=TRUE)),1,0)=1),1,0)=1,CR1456=1,CT1456=1),1,0)","v":0},{"$f":"IF(AND(OR(F1456=TABLE1!$D$5,TABLE1!$D$5=\"کل بخشها\"),F1456<>\"\"),1,0)","v":0}]
[null,null,null,null,null,null,null,null,null,null,null,null,null,null,null,null,null,null,null,null,null,null,null,null,null,null,null,null,null,null,null,null,null,null,null,null,null,null,null,null,null,null,null,null,null,null,null,null,null,null,null,null,null,null,null,null,null,null,null,null,null,null,null,null,null,null,null,null,null,null,null,null,null,null,null,null,null,null,null,null,null,null,null,null,null,null,null,null,null,null,null,null,null,null,"",{"$f":"IF(LEFT(C1457,2)=TABLE1!$F$1,1,0)","v":0},{"$f":"IF(AND(IF(AND(IF(OR(AND(CQ1457=1,TABLE1!$AN$3=TRUE),AND(CQ1457=2,TABLE1!$AN$4=TRUE),AND(CQ1457=3,TABLE1!$AN$5=TRUE),AND(CQ1457=4,TABLE1!$AQ$3=TRUE),AND(CQ1457=5,TABLE1!$AQ$4=TRUE),AND(CQ1457=6,TABLE1!$AQ$5=TRUE),AND(CQ1457=7,TABLE1!$AT$3=TRUE),AND(CQ1457=8,TABLE1!$AT$4=TRUE),AND(CQ1457=9,TABLE1!$AT$5=TRUE),AND(CQ1457=10,TABLE1!$AW$3=TRUE),AND(CQ1457=11,TABLE1!$AW$4=TRUE),AND(CQ1457=12,TABLE1!$AW$5=TRUE)),1,0)=1),1,0)=1,CR1457=1,CT1457=1),1,0)","v":0},{"$f":"IF(AND(OR(F1457=TABLE1!$D$5,TABLE1!$D$5=\"کل بخشها\"),F1457<>\"\"),1,0)","v":0}]
[null,null,null,null,null,null,null,null,null,null,null,null,null,null,null,null,null,null,null,null,null,null,null,null,null,null,null,null,null,null,null,null,null,null,null,null,null,null,null,null,null,null,null,null,null,null,null,null,null,null,null,null,null,null,null,null,null,null,null,null,null,null,null,null,null,null,null,null,null,null,null,null,null,null,null,null,null,null,null,null,null,null,null,null,null,null,null,null,null,null,null,null,null,null,"",{"$f":"IF(LEFT(C1458,2)=TABLE1!$F$1,1,0)","v":0},{"$f":"IF(AND(IF(AND(IF(OR(AND(CQ1458=1,TABLE1!$AN$3=TRUE),AND(CQ1458=2,TABLE1!$AN$4=TRUE),AND(CQ1458=3,TABLE1!$AN$5=TRUE),AND(CQ1458=4,TABLE1!$AQ$3=TRUE),AND(CQ1458=5,TABLE1!$AQ$4=TRUE),AND(CQ1458=6,TABLE1!$AQ$5=TRUE),AND(CQ1458=7,TABLE1!$AT$3=TRUE),AND(CQ1458=8,TABLE1!$AT$4=TRUE),AND(CQ1458=9,TABLE1!$AT$5=TRUE),AND(CQ1458=10,TABLE1!$AW$3=TRUE),AND(CQ1458=11,TABLE1!$AW$4=TRUE),AND(CQ1458=12,TABLE1!$AW$5=TRUE)),1,0)=1),1,0)=1,CR1458=1,CT1458=1),1,0)","v":0},{"$f":"IF(AND(OR(F1458=TABLE1!$D$5,TABLE1!$D$5=\"کل بخشها\"),F1458<>\"\"),1,0)","v":0}]
[null,null,null,null,null,null,null,null,null,null,null,null,null,null,null,null,null,null,null,null,null,null,null,null,null,null,null,null,null,null,null,null,null,null,null,null,null,null,null,null,null,null,null,null,null,null,null,null,null,null,null,null,null,null,null,null,null,null,null,null,null,null,null,null,null,null,null,null,null,null,null,null,null,null,null,null,null,null,null,null,null,null,null,null,null,null,null,null,null,null,null,null,null,null,"",{"$f":"IF(LEFT(C1459,2)=TABLE1!$F$1,1,0)","v":0},{"$f":"IF(AND(IF(AND(IF(OR(AND(CQ1459=1,TABLE1!$AN$3=TRUE),AND(CQ1459=2,TABLE1!$AN$4=TRUE),AND(CQ1459=3,TABLE1!$AN$5=TRUE),AND(CQ1459=4,TABLE1!$AQ$3=TRUE),AND(CQ1459=5,TABLE1!$AQ$4=TRUE),AND(CQ1459=6,TABLE1!$AQ$5=TRUE),AND(CQ1459=7,TABLE1!$AT$3=TRUE),AND(CQ1459=8,TABLE1!$AT$4=TRUE),AND(CQ1459=9,TABLE1!$AT$5=TRUE),AND(CQ1459=10,TABLE1!$AW$3=TRUE),AND(CQ1459=11,TABLE1!$AW$4=TRUE),AND(CQ1459=12,TABLE1!$AW$5=TRUE)),1,0)=1),1,0)=1,CR1459=1,CT1459=1),1,0)","v":0},{"$f":"IF(AND(OR(F1459=TABLE1!$D$5,TABLE1!$D$5=\"کل بخشها\"),F1459<>\"\"),1,0)","v":0}]
[null,null,null,null,null,null,null,null,null,null,null,null,null,null,null,null,null,null,null,null,null,null,null,null,null,null,null,null,null,null,null,null,null,null,null,null,null,null,null,null,null,null,null,null,null,null,null,null,null,null,null,null,null,null,null,null,null,null,null,null,null,null,null,null,null,null,null,null,null,null,null,null,null,null,null,null,null,null,null,null,null,null,null,null,null,null,null,null,null,null,null,null,null,null,"",{"$f":"IF(LEFT(C1460,2)=TABLE1!$F$1,1,0)","v":0},{"$f":"IF(AND(IF(AND(IF(OR(AND(CQ1460=1,TABLE1!$AN$3=TRUE),AND(CQ1460=2,TABLE1!$AN$4=TRUE),AND(CQ1460=3,TABLE1!$AN$5=TRUE),AND(CQ1460=4,TABLE1!$AQ$3=TRUE),AND(CQ1460=5,TABLE1!$AQ$4=TRUE),AND(CQ1460=6,TABLE1!$AQ$5=TRUE),AND(CQ1460=7,TABLE1!$AT$3=TRUE),AND(CQ1460=8,TABLE1!$AT$4=TRUE),AND(CQ1460=9,TABLE1!$AT$5=TRUE),AND(CQ1460=10,TABLE1!$AW$3=TRUE),AND(CQ1460=11,TABLE1!$AW$4=TRUE),AND(CQ1460=12,TABLE1!$AW$5=TRUE)),1,0)=1),1,0)=1,CR1460=1,CT1460=1),1,0)","v":0},{"$f":"IF(AND(OR(F1460=TABLE1!$D$5,TABLE1!$D$5=\"کل بخشها\"),F1460<>\"\"),1,0)","v":0}]
[null,null,null,null,null,null,null,null,null,null,null,null,null,null,null,null,null,null,null,null,null,null,null,null,null,null,null,null,null,null,null,null,null,null,null,null,null,null,null,null,null,null,null,null,null,null,null,null,null,null,null,null,null,null,null,null,null,null,null,null,null,null,null,null,null,null,null,null,null,null,null,null,null,null,null,null,null,null,null,null,null,null,null,null,null,null,null,null,null,null,null,null,null,null,"",{"$f":"IF(LEFT(C1461,2)=TABLE1!$F$1,1,0)","v":0},{"$f":"IF(AND(IF(AND(IF(OR(AND(CQ1461=1,TABLE1!$AN$3=TRUE),AND(CQ1461=2,TABLE1!$AN$4=TRUE),AND(CQ1461=3,TABLE1!$AN$5=TRUE),AND(CQ1461=4,TABLE1!$AQ$3=TRUE),AND(CQ1461=5,TABLE1!$AQ$4=TRUE),AND(CQ1461=6,TABLE1!$AQ$5=TRUE),AND(CQ1461=7,TABLE1!$AT$3=TRUE),AND(CQ1461=8,TABLE1!$AT$4=TRUE),AND(CQ1461=9,TABLE1!$AT$5=TRUE),AND(CQ1461=10,TABLE1!$AW$3=TRUE),AND(CQ1461=11,TABLE1!$AW$4=TRUE),AND(CQ1461=12,TABLE1!$AW$5=TRUE)),1,0)=1),1,0)=1,CR1461=1,CT1461=1),1,0)","v":0},{"$f":"IF(AND(OR(F1461=TABLE1!$D$5,TABLE1!$D$5=\"کل بخشها\"),F1461<>\"\"),1,0)","v":0}]
[null,null,null,null,null,null,null,null,null,null,null,null,null,null,null,null,null,null,null,null,null,null,null,null,null,null,null,null,null,null,null,null,null,null,null,null,null,null,null,null,null,null,null,null,null,null,null,null,null,null,null,null,null,null,null,null,null,null,null,null,null,null,null,null,null,null,null,null,null,null,null,null,null,null,null,null,null,null,null,null,null,null,null,null,null,null,null,null,null,null,null,null,null,null,"",{"$f":"IF(LEFT(C1462,2)=TABLE1!$F$1,1,0)","v":0},{"$f":"IF(AND(IF(AND(IF(OR(AND(CQ1462=1,TABLE1!$AN$3=TRUE),AND(CQ1462=2,TABLE1!$AN$4=TRUE),AND(CQ1462=3,TABLE1!$AN$5=TRUE),AND(CQ1462=4,TABLE1!$AQ$3=TRUE),AND(CQ1462=5,TABLE1!$AQ$4=TRUE),AND(CQ1462=6,TABLE1!$AQ$5=TRUE),AND(CQ1462=7,TABLE1!$AT$3=TRUE),AND(CQ1462=8,TABLE1!$AT$4=TRUE),AND(CQ1462=9,TABLE1!$AT$5=TRUE),AND(CQ1462=10,TABLE1!$AW$3=TRUE),AND(CQ1462=11,TABLE1!$AW$4=TRUE),AND(CQ1462=12,TABLE1!$AW$5=TRUE)),1,0)=1),1,0)=1,CR1462=1,CT1462=1),1,0)","v":0},{"$f":"IF(AND(OR(F1462=TABLE1!$D$5,TABLE1!$D$5=\"کل بخشها\"),F1462<>\"\"),1,0)","v":0}]
[null,null,null,null,null,null,null,null,null,null,null,null,null,null,null,null,null,null,null,null,null,null,null,null,null,null,null,null,null,null,null,null,null,null,null,null,null,null,null,null,null,null,null,null,null,null,null,null,null,null,null,null,null,null,null,null,null,null,null,null,null,null,null,null,null,null,null,null,null,null,null,null,null,null,null,null,null,null,null,null,null,null,null,null,null,null,null,null,null,null,null,null,null,null,"",{"$f":"IF(LEFT(C1463,2)=TABLE1!$F$1,1,0)","v":0},{"$f":"IF(AND(IF(AND(IF(OR(AND(CQ1463=1,TABLE1!$AN$3=TRUE),AND(CQ1463=2,TABLE1!$AN$4=TRUE),AND(CQ1463=3,TABLE1!$AN$5=TRUE),AND(CQ1463=4,TABLE1!$AQ$3=TRUE),AND(CQ1463=5,TABLE1!$AQ$4=TRUE),AND(CQ1463=6,TABLE1!$AQ$5=TRUE),AND(CQ1463=7,TABLE1!$AT$3=TRUE),AND(CQ1463=8,TABLE1!$AT$4=TRUE),AND(CQ1463=9,TABLE1!$AT$5=TRUE),AND(CQ1463=10,TABLE1!$AW$3=TRUE),AND(CQ1463=11,TABLE1!$AW$4=TRUE),AND(CQ1463=12,TABLE1!$AW$5=TRUE)),1,0)=1),1,0)=1,CR1463=1,CT1463=1),1,0)","v":0},{"$f":"IF(AND(OR(F1463=TABLE1!$D$5,TABLE1!$D$5=\"کل بخشها\"),F1463<>\"\"),1,0)","v":0}]
[null,null,null,null,null,null,null,null,null,null,null,null,null,null,null,null,null,null,null,null,null,null,null,null,null,null,null,null,null,null,null,null,null,null,null,null,null,null,null,null,null,null,null,null,null,null,null,null,null,null,null,null,null,null,null,null,null,null,null,null,null,null,null,null,null,null,null,null,null,null,null,null,null,null,null,null,null,null,null,null,null,null,null,null,null,null,null,null,null,null,null,null,null,null,"",{"$f":"IF(LEFT(C1464,2)=TABLE1!$F$1,1,0)","v":0},{"$f":"IF(AND(IF(AND(IF(OR(AND(CQ1464=1,TABLE1!$AN$3=TRUE),AND(CQ1464=2,TABLE1!$AN$4=TRUE),AND(CQ1464=3,TABLE1!$AN$5=TRUE),AND(CQ1464=4,TABLE1!$AQ$3=TRUE),AND(CQ1464=5,TABLE1!$AQ$4=TRUE),AND(CQ1464=6,TABLE1!$AQ$5=TRUE),AND(CQ1464=7,TABLE1!$AT$3=TRUE),AND(CQ1464=8,TABLE1!$AT$4=TRUE),AND(CQ1464=9,TABLE1!$AT$5=TRUE),AND(CQ1464=10,TABLE1!$AW$3=TRUE),AND(CQ1464=11,TABLE1!$AW$4=TRUE),AND(CQ1464=12,TABLE1!$AW$5=TRUE)),1,0)=1),1,0)=1,CR1464=1,CT1464=1),1,0)","v":0},{"$f":"IF(AND(OR(F1464=TABLE1!$D$5,TABLE1!$D$5=\"کل بخشها\"),F1464<>\"\"),1,0)","v":0}]
[null,null,null,null,null,null,null,null,null,null,null,null,null,null,null,null,null,null,null,null,null,null,null,null,null,null,null,null,null,null,null,null,null,null,null,null,null,null,null,null,null,null,null,null,null,null,null,null,null,null,null,null,null,null,null,null,null,null,null,null,null,null,null,null,null,null,null,null,null,null,null,null,null,null,null,null,null,null,null,null,null,null,null,null,null,null,null,null,null,null,null,null,null,null,"",{"$f":"IF(LEFT(C1465,2)=TABLE1!$F$1,1,0)","v":0},{"$f":"IF(AND(IF(AND(IF(OR(AND(CQ1465=1,TABLE1!$AN$3=TRUE),AND(CQ1465=2,TABLE1!$AN$4=TRUE),AND(CQ1465=3,TABLE1!$AN$5=TRUE),AND(CQ1465=4,TABLE1!$AQ$3=TRUE),AND(CQ1465=5,TABLE1!$AQ$4=TRUE),AND(CQ1465=6,TABLE1!$AQ$5=TRUE),AND(CQ1465=7,TABLE1!$AT$3=TRUE),AND(CQ1465=8,TABLE1!$AT$4=TRUE),AND(CQ1465=9,TABLE1!$AT$5=TRUE),AND(CQ1465=10,TABLE1!$AW$3=TRUE),AND(CQ1465=11,TABLE1!$AW$4=TRUE),AND(CQ1465=12,TABLE1!$AW$5=TRUE)),1,0)=1),1,0)=1,CR1465=1,CT1465=1),1,0)","v":0},{"$f":"IF(AND(OR(F1465=TABLE1!$D$5,TABLE1!$D$5=\"کل بخشها\"),F1465<>\"\"),1,0)","v":0}]
[null,null,null,null,null,null,null,null,null,null,null,null,null,null,null,null,null,null,null,null,null,null,null,null,null,null,null,null,null,null,null,null,null,null,null,null,null,null,null,null,null,null,null,null,null,null,null,null,null,null,null,null,null,null,null,null,null,null,null,null,null,null,null,null,null,null,null,null,null,null,null,null,null,null,null,null,null,null,null,null,null,null,null,null,null,null,null,null,null,null,null,null,null,null,"",{"$f":"IF(LEFT(C1466,2)=TABLE1!$F$1,1,0)","v":0},{"$f":"IF(AND(IF(AND(IF(OR(AND(CQ1466=1,TABLE1!$AN$3=TRUE),AND(CQ1466=2,TABLE1!$AN$4=TRUE),AND(CQ1466=3,TABLE1!$AN$5=TRUE),AND(CQ1466=4,TABLE1!$AQ$3=TRUE),AND(CQ1466=5,TABLE1!$AQ$4=TRUE),AND(CQ1466=6,TABLE1!$AQ$5=TRUE),AND(CQ1466=7,TABLE1!$AT$3=TRUE),AND(CQ1466=8,TABLE1!$AT$4=TRUE),AND(CQ1466=9,TABLE1!$AT$5=TRUE),AND(CQ1466=10,TABLE1!$AW$3=TRUE),AND(CQ1466=11,TABLE1!$AW$4=TRUE),AND(CQ1466=12,TABLE1!$AW$5=TRUE)),1,0)=1),1,0)=1,CR1466=1,CT1466=1),1,0)","v":0},{"$f":"IF(AND(OR(F1466=TABLE1!$D$5,TABLE1!$D$5=\"کل بخشها\"),F1466<>\"\"),1,0)","v":0}]
[null,null,null,null,null,null,null,null,null,null,null,null,null,null,null,null,null,null,null,null,null,null,null,null,null,null,null,null,null,null,null,null,null,null,null,null,null,null,null,null,null,null,null,null,null,null,null,null,null,null,null,null,null,null,null,null,null,null,null,null,null,null,null,null,null,null,null,null,null,null,null,null,null,null,null,null,null,null,null,null,null,null,null,null,null,null,null,null,null,null,null,null,null,null,"",{"$f":"IF(LEFT(C1467,2)=TABLE1!$F$1,1,0)","v":0},{"$f":"IF(AND(IF(AND(IF(OR(AND(CQ1467=1,TABLE1!$AN$3=TRUE),AND(CQ1467=2,TABLE1!$AN$4=TRUE),AND(CQ1467=3,TABLE1!$AN$5=TRUE),AND(CQ1467=4,TABLE1!$AQ$3=TRUE),AND(CQ1467=5,TABLE1!$AQ$4=TRUE),AND(CQ1467=6,TABLE1!$AQ$5=TRUE),AND(CQ1467=7,TABLE1!$AT$3=TRUE),AND(CQ1467=8,TABLE1!$AT$4=TRUE),AND(CQ1467=9,TABLE1!$AT$5=TRUE),AND(CQ1467=10,TABLE1!$AW$3=TRUE),AND(CQ1467=11,TABLE1!$AW$4=TRUE),AND(CQ1467=12,TABLE1!$AW$5=TRUE)),1,0)=1),1,0)=1,CR1467=1,CT1467=1),1,0)","v":0},{"$f":"IF(AND(OR(F1467=TABLE1!$D$5,TABLE1!$D$5=\"کل بخشها\"),F1467<>\"\"),1,0)","v":0}]
[null,null,null,null,null,null,null,null,null,null,null,null,null,null,null,null,null,null,null,null,null,null,null,null,null,null,null,null,null,null,null,null,null,null,null,null,null,null,null,null,null,null,null,null,null,null,null,null,null,null,null,null,null,null,null,null,null,null,null,null,null,null,null,null,null,null,null,null,null,null,null,null,null,null,null,null,null,null,null,null,null,null,null,null,null,null,null,null,null,null,null,null,null,null,"",{"$f":"IF(LEFT(C1468,2)=TABLE1!$F$1,1,0)","v":0},{"$f":"IF(AND(IF(AND(IF(OR(AND(CQ1468=1,TABLE1!$AN$3=TRUE),AND(CQ1468=2,TABLE1!$AN$4=TRUE),AND(CQ1468=3,TABLE1!$AN$5=TRUE),AND(CQ1468=4,TABLE1!$AQ$3=TRUE),AND(CQ1468=5,TABLE1!$AQ$4=TRUE),AND(CQ1468=6,TABLE1!$AQ$5=TRUE),AND(CQ1468=7,TABLE1!$AT$3=TRUE),AND(CQ1468=8,TABLE1!$AT$4=TRUE),AND(CQ1468=9,TABLE1!$AT$5=TRUE),AND(CQ1468=10,TABLE1!$AW$3=TRUE),AND(CQ1468=11,TABLE1!$AW$4=TRUE),AND(CQ1468=12,TABLE1!$AW$5=TRUE)),1,0)=1),1,0)=1,CR1468=1,CT1468=1),1,0)","v":0},{"$f":"IF(AND(OR(F1468=TABLE1!$D$5,TABLE1!$D$5=\"کل بخشها\"),F1468<>\"\"),1,0)","v":0}]
[null,null,null,null,null,null,null,null,null,null,null,null,null,null,null,null,null,null,null,null,null,null,null,null,null,null,null,null,null,null,null,null,null,null,null,null,null,null,null,null,null,null,null,null,null,null,null,null,null,null,null,null,null,null,null,null,null,null,null,null,null,null,null,null,null,null,null,null,null,null,null,null,null,null,null,null,null,null,null,null,null,null,null,null,null,null,null,null,null,null,null,null,null,null,"",{"$f":"IF(LEFT(C1469,2)=TABLE1!$F$1,1,0)","v":0},{"$f":"IF(AND(IF(AND(IF(OR(AND(CQ1469=1,TABLE1!$AN$3=TRUE),AND(CQ1469=2,TABLE1!$AN$4=TRUE),AND(CQ1469=3,TABLE1!$AN$5=TRUE),AND(CQ1469=4,TABLE1!$AQ$3=TRUE),AND(CQ1469=5,TABLE1!$AQ$4=TRUE),AND(CQ1469=6,TABLE1!$AQ$5=TRUE),AND(CQ1469=7,TABLE1!$AT$3=TRUE),AND(CQ1469=8,TABLE1!$AT$4=TRUE),AND(CQ1469=9,TABLE1!$AT$5=TRUE),AND(CQ1469=10,TABLE1!$AW$3=TRUE),AND(CQ1469=11,TABLE1!$AW$4=TRUE),AND(CQ1469=12,TABLE1!$AW$5=TRUE)),1,0)=1),1,0)=1,CR1469=1,CT1469=1),1,0)","v":0},{"$f":"IF(AND(OR(F1469=TABLE1!$D$5,TABLE1!$D$5=\"کل بخشها\"),F1469<>\"\"),1,0)","v":0}]
[null,null,null,null,null,null,null,null,null,null,null,null,null,null,null,null,null,null,null,null,null,null,null,null,null,null,null,null,null,null,null,null,null,null,null,null,null,null,null,null,null,null,null,null,null,null,null,null,null,null,null,null,null,null,null,null,null,null,null,null,null,null,null,null,null,null,null,null,null,null,null,null,null,null,null,null,null,null,null,null,null,null,null,null,null,null,null,null,null,null,null,null,null,null,"",{"$f":"IF(LEFT(C1470,2)=TABLE1!$F$1,1,0)","v":0},{"$f":"IF(AND(IF(AND(IF(OR(AND(CQ1470=1,TABLE1!$AN$3=TRUE),AND(CQ1470=2,TABLE1!$AN$4=TRUE),AND(CQ1470=3,TABLE1!$AN$5=TRUE),AND(CQ1470=4,TABLE1!$AQ$3=TRUE),AND(CQ1470=5,TABLE1!$AQ$4=TRUE),AND(CQ1470=6,TABLE1!$AQ$5=TRUE),AND(CQ1470=7,TABLE1!$AT$3=TRUE),AND(CQ1470=8,TABLE1!$AT$4=TRUE),AND(CQ1470=9,TABLE1!$AT$5=TRUE),AND(CQ1470=10,TABLE1!$AW$3=TRUE),AND(CQ1470=11,TABLE1!$AW$4=TRUE),AND(CQ1470=12,TABLE1!$AW$5=TRUE)),1,0)=1),1,0)=1,CR1470=1,CT1470=1),1,0)","v":0},{"$f":"IF(AND(OR(F1470=TABLE1!$D$5,TABLE1!$D$5=\"کل بخشها\"),F1470<>\"\"),1,0)","v":0}]
[null,null,null,null,null,null,null,null,null,null,null,null,null,null,null,null,null,null,null,null,null,null,null,null,null,null,null,null,null,null,null,null,null,null,null,null,null,null,null,null,null,null,null,null,null,null,null,null,null,null,null,null,null,null,null,null,null,null,null,null,null,null,null,null,null,null,null,null,null,null,null,null,null,null,null,null,null,null,null,null,null,null,null,null,null,null,null,null,null,null,null,null,null,null,"",{"$f":"IF(LEFT(C1471,2)=TABLE1!$F$1,1,0)","v":0},{"$f":"IF(AND(IF(AND(IF(OR(AND(CQ1471=1,TABLE1!$AN$3=TRUE),AND(CQ1471=2,TABLE1!$AN$4=TRUE),AND(CQ1471=3,TABLE1!$AN$5=TRUE),AND(CQ1471=4,TABLE1!$AQ$3=TRUE),AND(CQ1471=5,TABLE1!$AQ$4=TRUE),AND(CQ1471=6,TABLE1!$AQ$5=TRUE),AND(CQ1471=7,TABLE1!$AT$3=TRUE),AND(CQ1471=8,TABLE1!$AT$4=TRUE),AND(CQ1471=9,TABLE1!$AT$5=TRUE),AND(CQ1471=10,TABLE1!$AW$3=TRUE),AND(CQ1471=11,TABLE1!$AW$4=TRUE),AND(CQ1471=12,TABLE1!$AW$5=TRUE)),1,0)=1),1,0)=1,CR1471=1,CT1471=1),1,0)","v":0},{"$f":"IF(AND(OR(F1471=TABLE1!$D$5,TABLE1!$D$5=\"کل بخشها\"),F1471<>\"\"),1,0)","v":0}]
[null,null,null,null,null,null,null,null,null,null,null,null,null,null,null,null,null,null,null,null,null,null,null,null,null,null,null,null,null,null,null,null,null,null,null,null,null,null,null,null,null,null,null,null,null,null,null,null,null,null,null,null,null,null,null,null,null,null,null,null,null,null,null,null,null,null,null,null,null,null,null,null,null,null,null,null,null,null,null,null,null,null,null,null,null,null,null,null,null,null,null,null,null,null,"",{"$f":"IF(LEFT(C1472,2)=TABLE1!$F$1,1,0)","v":0},{"$f":"IF(AND(IF(AND(IF(OR(AND(CQ1472=1,TABLE1!$AN$3=TRUE),AND(CQ1472=2,TABLE1!$AN$4=TRUE),AND(CQ1472=3,TABLE1!$AN$5=TRUE),AND(CQ1472=4,TABLE1!$AQ$3=TRUE),AND(CQ1472=5,TABLE1!$AQ$4=TRUE),AND(CQ1472=6,TABLE1!$AQ$5=TRUE),AND(CQ1472=7,TABLE1!$AT$3=TRUE),AND(CQ1472=8,TABLE1!$AT$4=TRUE),AND(CQ1472=9,TABLE1!$AT$5=TRUE),AND(CQ1472=10,TABLE1!$AW$3=TRUE),AND(CQ1472=11,TABLE1!$AW$4=TRUE),AND(CQ1472=12,TABLE1!$AW$5=TRUE)),1,0)=1),1,0)=1,CR1472=1,CT1472=1),1,0)","v":0},{"$f":"IF(AND(OR(F1472=TABLE1!$D$5,TABLE1!$D$5=\"کل بخشها\"),F1472<>\"\"),1,0)","v":0}]
[null,null,null,null,null,null,null,null,null,null,null,null,null,null,null,null,null,null,null,null,null,null,null,null,null,null,null,null,null,null,null,null,null,null,null,null,null,null,null,null,null,null,null,null,null,null,null,null,null,null,null,null,null,null,null,null,null,null,null,null,null,null,null,null,null,null,null,null,null,null,null,null,null,null,null,null,null,null,null,null,null,null,null,null,null,null,null,null,null,null,null,null,null,null,"",{"$f":"IF(LEFT(C1473,2)=TABLE1!$F$1,1,0)","v":0},{"$f":"IF(AND(IF(AND(IF(OR(AND(CQ1473=1,TABLE1!$AN$3=TRUE),AND(CQ1473=2,TABLE1!$AN$4=TRUE),AND(CQ1473=3,TABLE1!$AN$5=TRUE),AND(CQ1473=4,TABLE1!$AQ$3=TRUE),AND(CQ1473=5,TABLE1!$AQ$4=TRUE),AND(CQ1473=6,TABLE1!$AQ$5=TRUE),AND(CQ1473=7,TABLE1!$AT$3=TRUE),AND(CQ1473=8,TABLE1!$AT$4=TRUE),AND(CQ1473=9,TABLE1!$AT$5=TRUE),AND(CQ1473=10,TABLE1!$AW$3=TRUE),AND(CQ1473=11,TABLE1!$AW$4=TRUE),AND(CQ1473=12,TABLE1!$AW$5=TRUE)),1,0)=1),1,0)=1,CR1473=1,CT1473=1),1,0)","v":0},{"$f":"IF(AND(OR(F1473=TABLE1!$D$5,TABLE1!$D$5=\"کل بخشها\"),F1473<>\"\"),1,0)","v":0}]
[null,null,null,null,null,null,null,null,null,null,null,null,null,null,null,null,null,null,null,null,null,null,null,null,null,null,null,null,null,null,null,null,null,null,null,null,null,null,null,null,null,null,null,null,null,null,null,null,null,null,null,null,null,null,null,null,null,null,null,null,null,null,null,null,null,null,null,null,null,null,null,null,null,null,null,null,null,null,null,null,null,null,null,null,null,null,null,null,null,null,null,null,null,null,"",{"$f":"IF(LEFT(C1474,2)=TABLE1!$F$1,1,0)","v":0},{"$f":"IF(AND(IF(AND(IF(OR(AND(CQ1474=1,TABLE1!$AN$3=TRUE),AND(CQ1474=2,TABLE1!$AN$4=TRUE),AND(CQ1474=3,TABLE1!$AN$5=TRUE),AND(CQ1474=4,TABLE1!$AQ$3=TRUE),AND(CQ1474=5,TABLE1!$AQ$4=TRUE),AND(CQ1474=6,TABLE1!$AQ$5=TRUE),AND(CQ1474=7,TABLE1!$AT$3=TRUE),AND(CQ1474=8,TABLE1!$AT$4=TRUE),AND(CQ1474=9,TABLE1!$AT$5=TRUE),AND(CQ1474=10,TABLE1!$AW$3=TRUE),AND(CQ1474=11,TABLE1!$AW$4=TRUE),AND(CQ1474=12,TABLE1!$AW$5=TRUE)),1,0)=1),1,0)=1,CR1474=1,CT1474=1),1,0)","v":0},{"$f":"IF(AND(OR(F1474=TABLE1!$D$5,TABLE1!$D$5=\"کل بخشها\"),F1474<>\"\"),1,0)","v":0}]
[null,null,null,null,null,null,null,null,null,null,null,null,null,null,null,null,null,null,null,null,null,null,null,null,null,null,null,null,null,null,null,null,null,null,null,null,null,null,null,null,null,null,null,null,null,null,null,null,null,null,null,null,null,null,null,null,null,null,null,null,null,null,null,null,null,null,null,null,null,null,null,null,null,null,null,null,null,null,null,null,null,null,null,null,null,null,null,null,null,null,null,null,null,null,{"$f":"IFERROR(VALUE(MID(C1475,3,2)),\"\")","v":""},{"$f":"IF(LEFT(C1475,2)=TABLE1!$F$1,1,0)","v":0},{"$f":"IF(AND(IF(AND(IF(OR(AND(CQ1475=1,TABLE1!$AN$3=TRUE),AND(CQ1475=2,TABLE1!$AN$4=TRUE),AND(CQ1475=3,TABLE1!$AN$5=TRUE),AND(CQ1475=4,TABLE1!$AQ$3=TRUE),AND(CQ1475=5,TABLE1!$AQ$4=TRUE),AND(CQ1475=6,TABLE1!$AQ$5=TRUE),AND(CQ1475=7,TABLE1!$AT$3=TRUE),AND(CQ1475=8,TABLE1!$AT$4=TRUE),AND(CQ1475=9,TABLE1!$AT$5=TRUE),AND(CQ1475=10,TABLE1!$AW$3=TRUE),AND(CQ1475=11,TABLE1!$AW$4=TRUE),AND(CQ1475=12,TABLE1!$AW$5=TRUE)),1,0)=1),1,0)=1,CR1475=1,CT1475=1),1,0)","v":0},{"$f":"IF(AND(OR(F1475=TABLE1!$D$5,TABLE1!$D$5=\"کل بخشها\"),F1475<>\"\"),1,0)","v":0}]
[null,null,null,null,null,null,null,null,null,null,null,null,null,null,null,null,null,null,null,null,null,null,null,null,null,null,null,null,null,null,null,null,null,null,null,null,null,null,null,null,null,null,null,null,null,null,null,null,null,null,null,null,null,null,null,null,null,null,null,null,null,null,null,null,null,null,null,null,null,null,null,null,null,null,null,null,null,null,null,null,null,null,null,null,null,null,null,null,null,null,null,null,null,null,"",{"$f":"IF(LEFT(C1476,2)=TABLE1!$F$1,1,0)","v":0},{"$f":"IF(AND(IF(AND(IF(OR(AND(CQ1476=1,TABLE1!$AN$3=TRUE),AND(CQ1476=2,TABLE1!$AN$4=TRUE),AND(CQ1476=3,TABLE1!$AN$5=TRUE),AND(CQ1476=4,TABLE1!$AQ$3=TRUE),AND(CQ1476=5,TABLE1!$AQ$4=TRUE),AND(CQ1476=6,TABLE1!$AQ$5=TRUE),AND(CQ1476=7,TABLE1!$AT$3=TRUE),AND(CQ1476=8,TABLE1!$AT$4=TRUE),AND(CQ1476=9,TABLE1!$AT$5=TRUE),AND(CQ1476=10,TABLE1!$AW$3=TRUE),AND(CQ1476=11,TABLE1!$AW$4=TRUE),AND(CQ1476=12,TABLE1!$AW$5=TRUE)),1,0)=1),1,0)=1,CR1476=1,CT1476=1),1,0)","v":0},{"$f":"IF(AND(OR(F1476=TABLE1!$D$5,TABLE1!$D$5=\"کل بخشها\"),F1476<>\"\"),1,0)","v":0}]
[null,null,null,null,null,null,null,null,null,null,null,null,null,null,null,null,null,null,null,null,null,null,null,null,null,null,null,null,null,null,null,null,null,null,null,null,null,null,null,null,null,null,null,null,null,null,null,null,null,null,null,null,null,null,null,null,null,null,null,null,null,null,null,null,null,null,null,null,null,null,null,null,null,null,null,null,null,null,null,null,null,null,null,null,null,null,null,null,null,null,null,null,null,null,"",{"$f":"IF(LEFT(C1477,2)=TABLE1!$F$1,1,0)","v":0},{"$f":"IF(AND(IF(AND(IF(OR(AND(CQ1477=1,TABLE1!$AN$3=TRUE),AND(CQ1477=2,TABLE1!$AN$4=TRUE),AND(CQ1477=3,TABLE1!$AN$5=TRUE),AND(CQ1477=4,TABLE1!$AQ$3=TRUE),AND(CQ1477=5,TABLE1!$AQ$4=TRUE),AND(CQ1477=6,TABLE1!$AQ$5=TRUE),AND(CQ1477=7,TABLE1!$AT$3=TRUE),AND(CQ1477=8,TABLE1!$AT$4=TRUE),AND(CQ1477=9,TABLE1!$AT$5=TRUE),AND(CQ1477=10,TABLE1!$AW$3=TRUE),AND(CQ1477=11,TABLE1!$AW$4=TRUE),AND(CQ1477=12,TABLE1!$AW$5=TRUE)),1,0)=1),1,0)=1,CR1477=1,CT1477=1),1,0)","v":0},{"$f":"IF(AND(OR(F1477=TABLE1!$D$5,TABLE1!$D$5=\"کل بخشها\"),F1477<>\"\"),1,0)","v":0}]
[null,null,null,null,null,null,null,null,null,null,null,null,null,null,null,null,null,null,null,null,null,null,null,null,null,null,null,null,null,null,null,null,null,null,null,null,null,null,null,null,null,null,null,null,null,null,null,null,null,null,null,null,null,null,null,null,null,null,null,null,null,null,null,null,null,null,null,null,null,null,null,null,null,null,null,null,null,null,null,null,null,null,null,null,null,null,null,null,null,null,null,null,null,null,"",{"$f":"IF(LEFT(C1478,2)=TABLE1!$F$1,1,0)","v":0},{"$f":"IF(AND(IF(AND(IF(OR(AND(CQ1478=1,TABLE1!$AN$3=TRUE),AND(CQ1478=2,TABLE1!$AN$4=TRUE),AND(CQ1478=3,TABLE1!$AN$5=TRUE),AND(CQ1478=4,TABLE1!$AQ$3=TRUE),AND(CQ1478=5,TABLE1!$AQ$4=TRUE),AND(CQ1478=6,TABLE1!$AQ$5=TRUE),AND(CQ1478=7,TABLE1!$AT$3=TRUE),AND(CQ1478=8,TABLE1!$AT$4=TRUE),AND(CQ1478=9,TABLE1!$AT$5=TRUE),AND(CQ1478=10,TABLE1!$AW$3=TRUE),AND(CQ1478=11,TABLE1!$AW$4=TRUE),AND(CQ1478=12,TABLE1!$AW$5=TRUE)),1,0)=1),1,0)=1,CR1478=1,CT1478=1),1,0)","v":0},{"$f":"IF(AND(OR(F1478=TABLE1!$D$5,TABLE1!$D$5=\"کل بخشها\"),F1478<>\"\"),1,0)","v":0}]
[null,null,null,null,null,null,null,null,null,null,null,null,null,null,null,null,null,null,null,null,null,null,null,null,null,null,null,null,null,null,null,null,null,null,null,null,null,null,null,null,null,null,null,null,null,null,null,null,null,null,null,null,null,null,null,null,null,null,null,null,null,null,null,null,null,null,null,null,null,null,null,null,null,null,null,null,null,null,null,null,null,null,null,null,null,null,null,null,null,null,null,null,null,null,"",{"$f":"IF(LEFT(C1479,2)=TABLE1!$F$1,1,0)","v":0},{"$f":"IF(AND(IF(AND(IF(OR(AND(CQ1479=1,TABLE1!$AN$3=TRUE),AND(CQ1479=2,TABLE1!$AN$4=TRUE),AND(CQ1479=3,TABLE1!$AN$5=TRUE),AND(CQ1479=4,TABLE1!$AQ$3=TRUE),AND(CQ1479=5,TABLE1!$AQ$4=TRUE),AND(CQ1479=6,TABLE1!$AQ$5=TRUE),AND(CQ1479=7,TABLE1!$AT$3=TRUE),AND(CQ1479=8,TABLE1!$AT$4=TRUE),AND(CQ1479=9,TABLE1!$AT$5=TRUE),AND(CQ1479=10,TABLE1!$AW$3=TRUE),AND(CQ1479=11,TABLE1!$AW$4=TRUE),AND(CQ1479=12,TABLE1!$AW$5=TRUE)),1,0)=1),1,0)=1,CR1479=1,CT1479=1),1,0)","v":0},{"$f":"IF(AND(OR(F1479=TABLE1!$D$5,TABLE1!$D$5=\"کل بخشها\"),F1479<>\"\"),1,0)","v":0}]
[null,null,null,null,null,null,null,null,null,null,null,null,null,null,null,null,null,null,null,null,null,null,null,null,null,null,null,null,null,null,null,null,null,null,null,null,null,null,null,null,null,null,null,null,null,null,null,null,null,null,null,null,null,null,null,null,null,null,null,null,null,null,null,null,null,null,null,null,null,null,null,null,null,null,null,null,null,null,null,null,null,null,null,null,null,null,null,null,null,null,null,null,null,null,"",{"$f":"IF(LEFT(C1480,2)=TABLE1!$F$1,1,0)","v":0},{"$f":"IF(AND(IF(AND(IF(OR(AND(CQ1480=1,TABLE1!$AN$3=TRUE),AND(CQ1480=2,TABLE1!$AN$4=TRUE),AND(CQ1480=3,TABLE1!$AN$5=TRUE),AND(CQ1480=4,TABLE1!$AQ$3=TRUE),AND(CQ1480=5,TABLE1!$AQ$4=TRUE),AND(CQ1480=6,TABLE1!$AQ$5=TRUE),AND(CQ1480=7,TABLE1!$AT$3=TRUE),AND(CQ1480=8,TABLE1!$AT$4=TRUE),AND(CQ1480=9,TABLE1!$AT$5=TRUE),AND(CQ1480=10,TABLE1!$AW$3=TRUE),AND(CQ1480=11,TABLE1!$AW$4=TRUE),AND(CQ1480=12,TABLE1!$AW$5=TRUE)),1,0)=1),1,0)=1,CR1480=1,CT1480=1),1,0)","v":0},{"$f":"IF(AND(OR(F1480=TABLE1!$D$5,TABLE1!$D$5=\"کل بخشها\"),F1480<>\"\"),1,0)","v":0}]
[null,null,null,null,null,null,null,null,null,null,null,null,null,null,null,null,null,null,null,null,null,null,null,null,null,null,null,null,null,null,null,null,null,null,null,null,null,null,null,null,null,null,null,null,null,null,null,null,null,null,null,null,null,null,null,null,null,null,null,null,null,null,null,null,null,null,null,null,null,null,null,null,null,null,null,null,null,null,null,null,null,null,null,null,null,null,null,null,null,null,null,null,null,null,"",{"$f":"IF(LEFT(C1481,2)=TABLE1!$F$1,1,0)","v":0},{"$f":"IF(AND(IF(AND(IF(OR(AND(CQ1481=1,TABLE1!$AN$3=TRUE),AND(CQ1481=2,TABLE1!$AN$4=TRUE),AND(CQ1481=3,TABLE1!$AN$5=TRUE),AND(CQ1481=4,TABLE1!$AQ$3=TRUE),AND(CQ1481=5,TABLE1!$AQ$4=TRUE),AND(CQ1481=6,TABLE1!$AQ$5=TRUE),AND(CQ1481=7,TABLE1!$AT$3=TRUE),AND(CQ1481=8,TABLE1!$AT$4=TRUE),AND(CQ1481=9,TABLE1!$AT$5=TRUE),AND(CQ1481=10,TABLE1!$AW$3=TRUE),AND(CQ1481=11,TABLE1!$AW$4=TRUE),AND(CQ1481=12,TABLE1!$AW$5=TRUE)),1,0)=1),1,0)=1,CR1481=1,CT1481=1),1,0)","v":0},{"$f":"IF(AND(OR(F1481=TABLE1!$D$5,TABLE1!$D$5=\"کل بخشها\"),F1481<>\"\"),1,0)","v":0}]
[null,null,null,null,null,null,null,null,null,null,null,null,null,null,null,null,null,null,null,null,null,null,null,null,null,null,null,null,null,null,null,null,null,null,null,null,null,null,null,null,null,null,null,null,null,null,null,null,null,null,null,null,null,null,null,null,null,null,null,null,null,null,null,null,null,null,null,null,null,null,null,null,null,null,null,null,null,null,null,null,null,null,null,null,null,null,null,null,null,null,null,null,null,null,"",{"$f":"IF(LEFT(C1482,2)=TABLE1!$F$1,1,0)","v":0},{"$f":"IF(AND(IF(AND(IF(OR(AND(CQ1482=1,TABLE1!$AN$3=TRUE),AND(CQ1482=2,TABLE1!$AN$4=TRUE),AND(CQ1482=3,TABLE1!$AN$5=TRUE),AND(CQ1482=4,TABLE1!$AQ$3=TRUE),AND(CQ1482=5,TABLE1!$AQ$4=TRUE),AND(CQ1482=6,TABLE1!$AQ$5=TRUE),AND(CQ1482=7,TABLE1!$AT$3=TRUE),AND(CQ1482=8,TABLE1!$AT$4=TRUE),AND(CQ1482=9,TABLE1!$AT$5=TRUE),AND(CQ1482=10,TABLE1!$AW$3=TRUE),AND(CQ1482=11,TABLE1!$AW$4=TRUE),AND(CQ1482=12,TABLE1!$AW$5=TRUE)),1,0)=1),1,0)=1,CR1482=1,CT1482=1),1,0)","v":0},{"$f":"IF(AND(OR(F1482=TABLE1!$D$5,TABLE1!$D$5=\"کل بخشها\"),F1482<>\"\"),1,0)","v":0}]
[null,null,null,null,null,null,null,null,null,null,null,null,null,null,null,null,null,null,null,null,null,null,null,null,null,null,null,null,null,null,null,null,null,null,null,null,null,null,null,null,null,null,null,null,null,null,null,null,null,null,null,null,null,null,null,null,null,null,null,null,null,null,null,null,null,null,null,null,null,null,null,null,null,null,null,null,null,null,null,null,null,null,null,null,null,null,null,null,null,null,null,null,null,null,"",{"$f":"IF(LEFT(C1483,2)=TABLE1!$F$1,1,0)","v":0},{"$f":"IF(AND(IF(AND(IF(OR(AND(CQ1483=1,TABLE1!$AN$3=TRUE),AND(CQ1483=2,TABLE1!$AN$4=TRUE),AND(CQ1483=3,TABLE1!$AN$5=TRUE),AND(CQ1483=4,TABLE1!$AQ$3=TRUE),AND(CQ1483=5,TABLE1!$AQ$4=TRUE),AND(CQ1483=6,TABLE1!$AQ$5=TRUE),AND(CQ1483=7,TABLE1!$AT$3=TRUE),AND(CQ1483=8,TABLE1!$AT$4=TRUE),AND(CQ1483=9,TABLE1!$AT$5=TRUE),AND(CQ1483=10,TABLE1!$AW$3=TRUE),AND(CQ1483=11,TABLE1!$AW$4=TRUE),AND(CQ1483=12,TABLE1!$AW$5=TRUE)),1,0)=1),1,0)=1,CR1483=1,CT1483=1),1,0)","v":0},{"$f":"IF(AND(OR(F1483=TABLE1!$D$5,TABLE1!$D$5=\"کل بخشها\"),F1483<>\"\"),1,0)","v":0}]
[null,null,null,null,null,null,null,null,null,null,null,null,null,null,null,null,null,null,null,null,null,null,null,null,null,null,null,null,null,null,null,null,null,null,null,null,null,null,null,null,null,null,null,null,null,null,null,null,null,null,null,null,null,null,null,null,null,null,null,null,null,null,null,null,null,null,null,null,null,null,null,null,null,null,null,null,null,null,null,null,null,null,null,null,null,null,null,null,null,null,null,null,null,null,"",{"$f":"IF(LEFT(C1484,2)=TABLE1!$F$1,1,0)","v":0},{"$f":"IF(AND(IF(AND(IF(OR(AND(CQ1484=1,TABLE1!$AN$3=TRUE),AND(CQ1484=2,TABLE1!$AN$4=TRUE),AND(CQ1484=3,TABLE1!$AN$5=TRUE),AND(CQ1484=4,TABLE1!$AQ$3=TRUE),AND(CQ1484=5,TABLE1!$AQ$4=TRUE),AND(CQ1484=6,TABLE1!$AQ$5=TRUE),AND(CQ1484=7,TABLE1!$AT$3=TRUE),AND(CQ1484=8,TABLE1!$AT$4=TRUE),AND(CQ1484=9,TABLE1!$AT$5=TRUE),AND(CQ1484=10,TABLE1!$AW$3=TRUE),AND(CQ1484=11,TABLE1!$AW$4=TRUE),AND(CQ1484=12,TABLE1!$AW$5=TRUE)),1,0)=1),1,0)=1,CR1484=1,CT1484=1),1,0)","v":0},{"$f":"IF(AND(OR(F1484=TABLE1!$D$5,TABLE1!$D$5=\"کل بخشها\"),F1484<>\"\"),1,0)","v":0}]
[null,null,null,null,null,null,null,null,null,null,null,null,null,null,null,null,null,null,null,null,null,null,null,null,null,null,null,null,null,null,null,null,null,null,null,null,null,null,null,null,null,null,null,null,null,null,null,null,null,null,null,null,null,null,null,null,null,null,null,null,null,null,null,null,null,null,null,null,null,null,null,null,null,null,null,null,null,null,null,null,null,null,null,null,null,null,null,null,null,null,null,null,null,null,"",{"$f":"IF(LEFT(C1485,2)=TABLE1!$F$1,1,0)","v":0},{"$f":"IF(AND(IF(AND(IF(OR(AND(CQ1485=1,TABLE1!$AN$3=TRUE),AND(CQ1485=2,TABLE1!$AN$4=TRUE),AND(CQ1485=3,TABLE1!$AN$5=TRUE),AND(CQ1485=4,TABLE1!$AQ$3=TRUE),AND(CQ1485=5,TABLE1!$AQ$4=TRUE),AND(CQ1485=6,TABLE1!$AQ$5=TRUE),AND(CQ1485=7,TABLE1!$AT$3=TRUE),AND(CQ1485=8,TABLE1!$AT$4=TRUE),AND(CQ1485=9,TABLE1!$AT$5=TRUE),AND(CQ1485=10,TABLE1!$AW$3=TRUE),AND(CQ1485=11,TABLE1!$AW$4=TRUE),AND(CQ1485=12,TABLE1!$AW$5=TRUE)),1,0)=1),1,0)=1,CR1485=1,CT1485=1),1,0)","v":0},{"$f":"IF(AND(OR(F1485=TABLE1!$D$5,TABLE1!$D$5=\"کل بخشها\"),F1485<>\"\"),1,0)","v":0}]
[null,null,null,null,null,null,null,null,null,null,null,null,null,null,null,null,null,null,null,null,null,null,null,null,null,null,null,null,null,null,null,null,null,null,null,null,null,null,null,null,null,null,null,null,null,null,null,null,null,null,null,null,null,null,null,null,null,null,null,null,null,null,null,null,null,null,null,null,null,null,null,null,null,null,null,null,null,null,null,null,null,null,null,null,null,null,null,null,null,null,null,null,null,null,"",{"$f":"IF(LEFT(C1486,2)=TABLE1!$F$1,1,0)","v":0},{"$f":"IF(AND(IF(AND(IF(OR(AND(CQ1486=1,TABLE1!$AN$3=TRUE),AND(CQ1486=2,TABLE1!$AN$4=TRUE),AND(CQ1486=3,TABLE1!$AN$5=TRUE),AND(CQ1486=4,TABLE1!$AQ$3=TRUE),AND(CQ1486=5,TABLE1!$AQ$4=TRUE),AND(CQ1486=6,TABLE1!$AQ$5=TRUE),AND(CQ1486=7,TABLE1!$AT$3=TRUE),AND(CQ1486=8,TABLE1!$AT$4=TRUE),AND(CQ1486=9,TABLE1!$AT$5=TRUE),AND(CQ1486=10,TABLE1!$AW$3=TRUE),AND(CQ1486=11,TABLE1!$AW$4=TRUE),AND(CQ1486=12,TABLE1!$AW$5=TRUE)),1,0)=1),1,0)=1,CR1486=1,CT1486=1),1,0)","v":0},{"$f":"IF(AND(OR(F1486=TABLE1!$D$5,TABLE1!$D$5=\"کل بخشها\"),F1486<>\"\"),1,0)","v":0}]
[null,null,null,null,null,null,null,null,null,null,null,null,null,null,null,null,null,null,null,null,null,null,null,null,null,null,null,null,null,null,null,null,null,null,null,null,null,null,null,null,null,null,null,null,null,null,null,null,null,null,null,null,null,null,null,null,null,null,null,null,null,null,null,null,null,null,null,null,null,null,null,null,null,null,null,null,null,null,null,null,null,null,null,null,null,null,null,null,null,null,null,null,null,null,"",{"$f":"IF(LEFT(C1487,2)=TABLE1!$F$1,1,0)","v":0},{"$f":"IF(AND(IF(AND(IF(OR(AND(CQ1487=1,TABLE1!$AN$3=TRUE),AND(CQ1487=2,TABLE1!$AN$4=TRUE),AND(CQ1487=3,TABLE1!$AN$5=TRUE),AND(CQ1487=4,TABLE1!$AQ$3=TRUE),AND(CQ1487=5,TABLE1!$AQ$4=TRUE),AND(CQ1487=6,TABLE1!$AQ$5=TRUE),AND(CQ1487=7,TABLE1!$AT$3=TRUE),AND(CQ1487=8,TABLE1!$AT$4=TRUE),AND(CQ1487=9,TABLE1!$AT$5=TRUE),AND(CQ1487=10,TABLE1!$AW$3=TRUE),AND(CQ1487=11,TABLE1!$AW$4=TRUE),AND(CQ1487=12,TABLE1!$AW$5=TRUE)),1,0)=1),1,0)=1,CR1487=1,CT1487=1),1,0)","v":0},{"$f":"IF(AND(OR(F1487=TABLE1!$D$5,TABLE1!$D$5=\"کل بخشها\"),F1487<>\"\"),1,0)","v":0}]
[null,null,null,null,null,null,null,null,null,null,null,null,null,null,null,null,null,null,null,null,null,null,null,null,null,null,null,null,null,null,null,null,null,null,null,null,null,null,null,null,null,null,null,null,null,null,null,null,null,null,null,null,null,null,null,null,null,null,null,null,null,null,null,null,null,null,null,null,null,null,null,null,null,null,null,null,null,null,null,null,null,null,null,null,null,null,null,null,null,null,null,null,null,null,"",{"$f":"IF(LEFT(C1488,2)=TABLE1!$F$1,1,0)","v":0},{"$f":"IF(AND(IF(AND(IF(OR(AND(CQ1488=1,TABLE1!$AN$3=TRUE),AND(CQ1488=2,TABLE1!$AN$4=TRUE),AND(CQ1488=3,TABLE1!$AN$5=TRUE),AND(CQ1488=4,TABLE1!$AQ$3=TRUE),AND(CQ1488=5,TABLE1!$AQ$4=TRUE),AND(CQ1488=6,TABLE1!$AQ$5=TRUE),AND(CQ1488=7,TABLE1!$AT$3=TRUE),AND(CQ1488=8,TABLE1!$AT$4=TRUE),AND(CQ1488=9,TABLE1!$AT$5=TRUE),AND(CQ1488=10,TABLE1!$AW$3=TRUE),AND(CQ1488=11,TABLE1!$AW$4=TRUE),AND(CQ1488=12,TABLE1!$AW$5=TRUE)),1,0)=1),1,0)=1,CR1488=1,CT1488=1),1,0)","v":0},{"$f":"IF(AND(OR(F1488=TABLE1!$D$5,TABLE1!$D$5=\"کل بخشها\"),F1488<>\"\"),1,0)","v":0}]
[null,null,null,null,null,null,null,null,null,null,null,null,null,null,null,null,null,null,null,null,null,null,null,null,null,null,null,null,null,null,null,null,null,null,null,null,null,null,null,null,null,null,null,null,null,null,null,null,null,null,null,null,null,null,null,null,null,null,null,null,null,null,null,null,null,null,null,null,null,null,null,null,null,null,null,null,null,null,null,null,null,null,null,null,null,null,null,null,null,null,null,null,null,null,"",{"$f":"IF(LEFT(C1489,2)=TABLE1!$F$1,1,0)","v":0},{"$f":"IF(AND(IF(AND(IF(OR(AND(CQ1489=1,TABLE1!$AN$3=TRUE),AND(CQ1489=2,TABLE1!$AN$4=TRUE),AND(CQ1489=3,TABLE1!$AN$5=TRUE),AND(CQ1489=4,TABLE1!$AQ$3=TRUE),AND(CQ1489=5,TABLE1!$AQ$4=TRUE),AND(CQ1489=6,TABLE1!$AQ$5=TRUE),AND(CQ1489=7,TABLE1!$AT$3=TRUE),AND(CQ1489=8,TABLE1!$AT$4=TRUE),AND(CQ1489=9,TABLE1!$AT$5=TRUE),AND(CQ1489=10,TABLE1!$AW$3=TRUE),AND(CQ1489=11,TABLE1!$AW$4=TRUE),AND(CQ1489=12,TABLE1!$AW$5=TRUE)),1,0)=1),1,0)=1,CR1489=1,CT1489=1),1,0)","v":0},{"$f":"IF(AND(OR(F1489=TABLE1!$D$5,TABLE1!$D$5=\"کل بخشها\"),F1489<>\"\"),1,0)","v":0}]
[null,null,null,null,null,null,null,null,null,null,null,null,null,null,null,null,null,null,null,null,null,null,null,null,null,null,null,null,null,null,null,null,null,null,null,null,null,null,null,null,null,null,null,null,null,null,null,null,null,null,null,null,null,null,null,null,null,null,null,null,null,null,null,null,null,null,null,null,null,null,null,null,null,null,null,null,null,null,null,null,null,null,null,null,null,null,null,null,null,null,null,null,null,null,"",{"$f":"IF(LEFT(C1490,2)=TABLE1!$F$1,1,0)","v":0},{"$f":"IF(AND(IF(AND(IF(OR(AND(CQ1490=1,TABLE1!$AN$3=TRUE),AND(CQ1490=2,TABLE1!$AN$4=TRUE),AND(CQ1490=3,TABLE1!$AN$5=TRUE),AND(CQ1490=4,TABLE1!$AQ$3=TRUE),AND(CQ1490=5,TABLE1!$AQ$4=TRUE),AND(CQ1490=6,TABLE1!$AQ$5=TRUE),AND(CQ1490=7,TABLE1!$AT$3=TRUE),AND(CQ1490=8,TABLE1!$AT$4=TRUE),AND(CQ1490=9,TABLE1!$AT$5=TRUE),AND(CQ1490=10,TABLE1!$AW$3=TRUE),AND(CQ1490=11,TABLE1!$AW$4=TRUE),AND(CQ1490=12,TABLE1!$AW$5=TRUE)),1,0)=1),1,0)=1,CR1490=1,CT1490=1),1,0)","v":0},{"$f":"IF(AND(OR(F1490=TABLE1!$D$5,TABLE1!$D$5=\"کل بخشها\"),F1490<>\"\"),1,0)","v":0}]
[null,null,null,null,null,null,null,null,null,null,null,null,null,null,null,null,null,null,null,null,null,null,null,null,null,null,null,null,null,null,null,null,null,null,null,null,null,null,null,null,null,null,null,null,null,null,null,null,null,null,null,null,null,null,null,null,null,null,null,null,null,null,null,null,null,null,null,null,null,null,null,null,null,null,null,null,null,null,null,null,null,null,null,null,null,null,null,null,null,null,null,null,null,null,"",{"$f":"IF(LEFT(C1491,2)=TABLE1!$F$1,1,0)","v":0},{"$f":"IF(AND(IF(AND(IF(OR(AND(CQ1491=1,TABLE1!$AN$3=TRUE),AND(CQ1491=2,TABLE1!$AN$4=TRUE),AND(CQ1491=3,TABLE1!$AN$5=TRUE),AND(CQ1491=4,TABLE1!$AQ$3=TRUE),AND(CQ1491=5,TABLE1!$AQ$4=TRUE),AND(CQ1491=6,TABLE1!$AQ$5=TRUE),AND(CQ1491=7,TABLE1!$AT$3=TRUE),AND(CQ1491=8,TABLE1!$AT$4=TRUE),AND(CQ1491=9,TABLE1!$AT$5=TRUE),AND(CQ1491=10,TABLE1!$AW$3=TRUE),AND(CQ1491=11,TABLE1!$AW$4=TRUE),AND(CQ1491=12,TABLE1!$AW$5=TRUE)),1,0)=1),1,0)=1,CR1491=1,CT1491=1),1,0)","v":0},{"$f":"IF(AND(OR(F1491=TABLE1!$D$5,TABLE1!$D$5=\"کل بخشها\"),F1491<>\"\"),1,0)","v":0}]
[null,null,null,null,null,null,null,null,null,null,null,null,null,null,null,null,null,null,null,null,null,null,null,null,null,null,null,null,null,null,null,null,null,null,null,null,null,null,null,null,null,null,null,null,null,null,null,null,null,null,null,null,null,null,null,null,null,null,null,null,null,null,null,null,null,null,null,null,null,null,null,null,null,null,null,null,null,null,null,null,null,null,null,null,null,null,null,null,null,null,null,null,null,null,"",{"$f":"IF(LEFT(C1492,2)=TABLE1!$F$1,1,0)","v":0},{"$f":"IF(AND(IF(AND(IF(OR(AND(CQ1492=1,TABLE1!$AN$3=TRUE),AND(CQ1492=2,TABLE1!$AN$4=TRUE),AND(CQ1492=3,TABLE1!$AN$5=TRUE),AND(CQ1492=4,TABLE1!$AQ$3=TRUE),AND(CQ1492=5,TABLE1!$AQ$4=TRUE),AND(CQ1492=6,TABLE1!$AQ$5=TRUE),AND(CQ1492=7,TABLE1!$AT$3=TRUE),AND(CQ1492=8,TABLE1!$AT$4=TRUE),AND(CQ1492=9,TABLE1!$AT$5=TRUE),AND(CQ1492=10,TABLE1!$AW$3=TRUE),AND(CQ1492=11,TABLE1!$AW$4=TRUE),AND(CQ1492=12,TABLE1!$AW$5=TRUE)),1,0)=1),1,0)=1,CR1492=1,CT1492=1),1,0)","v":0},{"$f":"IF(AND(OR(F1492=TABLE1!$D$5,TABLE1!$D$5=\"کل بخشها\"),F1492<>\"\"),1,0)","v":0}]
[null,null,null,null,null,null,null,null,null,null,null,null,null,null,null,null,null,null,null,null,null,null,null,null,null,null,null,null,null,null,null,null,null,null,null,null,null,null,null,null,null,null,null,null,null,null,null,null,null,null,null,null,null,null,null,null,null,null,null,null,null,null,null,null,null,null,null,null,null,null,null,null,null,null,null,null,null,null,null,null,null,null,null,null,null,null,null,null,null,null,null,null,null,null,"",{"$f":"IF(LEFT(C1493,2)=TABLE1!$F$1,1,0)","v":0},{"$f":"IF(AND(IF(AND(IF(OR(AND(CQ1493=1,TABLE1!$AN$3=TRUE),AND(CQ1493=2,TABLE1!$AN$4=TRUE),AND(CQ1493=3,TABLE1!$AN$5=TRUE),AND(CQ1493=4,TABLE1!$AQ$3=TRUE),AND(CQ1493=5,TABLE1!$AQ$4=TRUE),AND(CQ1493=6,TABLE1!$AQ$5=TRUE),AND(CQ1493=7,TABLE1!$AT$3=TRUE),AND(CQ1493=8,TABLE1!$AT$4=TRUE),AND(CQ1493=9,TABLE1!$AT$5=TRUE),AND(CQ1493=10,TABLE1!$AW$3=TRUE),AND(CQ1493=11,TABLE1!$AW$4=TRUE),AND(CQ1493=12,TABLE1!$AW$5=TRUE)),1,0)=1),1,0)=1,CR1493=1,CT1493=1),1,0)","v":0},{"$f":"IF(AND(OR(F1493=TABLE1!$D$5,TABLE1!$D$5=\"کل بخشها\"),F1493<>\"\"),1,0)","v":0}]
[null,null,null,null,null,null,null,null,null,null,null,null,null,null,null,null,null,null,null,null,null,null,null,null,null,null,null,null,null,null,null,null,null,null,null,null,null,null,null,null,null,null,null,null,null,null,null,null,null,null,null,null,null,null,null,null,null,null,null,null,null,null,null,null,null,null,null,null,null,null,null,null,null,null,null,null,null,null,null,null,null,null,null,null,null,null,null,null,null,null,null,null,null,null,"",{"$f":"IF(LEFT(C1494,2)=TABLE1!$F$1,1,0)","v":0},{"$f":"IF(AND(IF(AND(IF(OR(AND(CQ1494=1,TABLE1!$AN$3=TRUE),AND(CQ1494=2,TABLE1!$AN$4=TRUE),AND(CQ1494=3,TABLE1!$AN$5=TRUE),AND(CQ1494=4,TABLE1!$AQ$3=TRUE),AND(CQ1494=5,TABLE1!$AQ$4=TRUE),AND(CQ1494=6,TABLE1!$AQ$5=TRUE),AND(CQ1494=7,TABLE1!$AT$3=TRUE),AND(CQ1494=8,TABLE1!$AT$4=TRUE),AND(CQ1494=9,TABLE1!$AT$5=TRUE),AND(CQ1494=10,TABLE1!$AW$3=TRUE),AND(CQ1494=11,TABLE1!$AW$4=TRUE),AND(CQ1494=12,TABLE1!$AW$5=TRUE)),1,0)=1),1,0)=1,CR1494=1,CT1494=1),1,0)","v":0},{"$f":"IF(AND(OR(F1494=TABLE1!$D$5,TABLE1!$D$5=\"کل بخشها\"),F1494<>\"\"),1,0)","v":0}]
[null,null,null,null,null,null,null,null,null,null,null,null,null,null,null,null,null,null,null,null,null,null,null,null,null,null,null,null,null,null,null,null,null,null,null,null,null,null,null,null,null,null,null,null,null,null,null,null,null,null,null,null,null,null,null,null,null,null,null,null,null,null,null,null,null,null,null,null,null,null,null,null,null,null,null,null,null,null,null,null,null,null,null,null,null,null,null,null,null,null,null,null,null,null,"",{"$f":"IF(LEFT(C1495,2)=TABLE1!$F$1,1,0)","v":0},{"$f":"IF(AND(IF(AND(IF(OR(AND(CQ1495=1,TABLE1!$AN$3=TRUE),AND(CQ1495=2,TABLE1!$AN$4=TRUE),AND(CQ1495=3,TABLE1!$AN$5=TRUE),AND(CQ1495=4,TABLE1!$AQ$3=TRUE),AND(CQ1495=5,TABLE1!$AQ$4=TRUE),AND(CQ1495=6,TABLE1!$AQ$5=TRUE),AND(CQ1495=7,TABLE1!$AT$3=TRUE),AND(CQ1495=8,TABLE1!$AT$4=TRUE),AND(CQ1495=9,TABLE1!$AT$5=TRUE),AND(CQ1495=10,TABLE1!$AW$3=TRUE),AND(CQ1495=11,TABLE1!$AW$4=TRUE),AND(CQ1495=12,TABLE1!$AW$5=TRUE)),1,0)=1),1,0)=1,CR1495=1,CT1495=1),1,0)","v":0},{"$f":"IF(AND(OR(F1495=TABLE1!$D$5,TABLE1!$D$5=\"کل بخشها\"),F1495<>\"\"),1,0)","v":0}]
[null,null,null,null,null,null,null,null,null,null,null,null,null,null,null,null,null,null,null,null,null,null,null,null,null,null,null,null,null,null,null,null,null,null,null,null,null,null,null,null,null,null,null,null,null,null,null,null,null,null,null,null,null,null,null,null,null,null,null,null,null,null,null,null,null,null,null,null,null,null,null,null,null,null,null,null,null,null,null,null,null,null,null,null,null,null,null,null,null,null,null,null,null,null,"",{"$f":"IF(LEFT(C1496,2)=TABLE1!$F$1,1,0)","v":0},{"$f":"IF(AND(IF(AND(IF(OR(AND(CQ1496=1,TABLE1!$AN$3=TRUE),AND(CQ1496=2,TABLE1!$AN$4=TRUE),AND(CQ1496=3,TABLE1!$AN$5=TRUE),AND(CQ1496=4,TABLE1!$AQ$3=TRUE),AND(CQ1496=5,TABLE1!$AQ$4=TRUE),AND(CQ1496=6,TABLE1!$AQ$5=TRUE),AND(CQ1496=7,TABLE1!$AT$3=TRUE),AND(CQ1496=8,TABLE1!$AT$4=TRUE),AND(CQ1496=9,TABLE1!$AT$5=TRUE),AND(CQ1496=10,TABLE1!$AW$3=TRUE),AND(CQ1496=11,TABLE1!$AW$4=TRUE),AND(CQ1496=12,TABLE1!$AW$5=TRUE)),1,0)=1),1,0)=1,CR1496=1,CT1496=1),1,0)","v":0},{"$f":"IF(AND(OR(F1496=TABLE1!$D$5,TABLE1!$D$5=\"کل بخشها\"),F1496<>\"\"),1,0)","v":0}]
[null,null,null,null,null,null,null,null,null,null,null,null,null,null,null,null,null,null,null,null,null,null,null,null,null,null,null,null,null,null,null,null,null,null,null,null,null,null,null,null,null,null,null,null,null,null,null,null,null,null,null,null,null,null,null,null,null,null,null,null,null,null,null,null,null,null,null,null,null,null,null,null,null,null,null,null,null,null,null,null,null,null,null,null,null,null,null,null,null,null,null,null,null,null,"",{"$f":"IF(LEFT(C1497,2)=TABLE1!$F$1,1,0)","v":0},{"$f":"IF(AND(IF(AND(IF(OR(AND(CQ1497=1,TABLE1!$AN$3=TRUE),AND(CQ1497=2,TABLE1!$AN$4=TRUE),AND(CQ1497=3,TABLE1!$AN$5=TRUE),AND(CQ1497=4,TABLE1!$AQ$3=TRUE),AND(CQ1497=5,TABLE1!$AQ$4=TRUE),AND(CQ1497=6,TABLE1!$AQ$5=TRUE),AND(CQ1497=7,TABLE1!$AT$3=TRUE),AND(CQ1497=8,TABLE1!$AT$4=TRUE),AND(CQ1497=9,TABLE1!$AT$5=TRUE),AND(CQ1497=10,TABLE1!$AW$3=TRUE),AND(CQ1497=11,TABLE1!$AW$4=TRUE),AND(CQ1497=12,TABLE1!$AW$5=TRUE)),1,0)=1),1,0)=1,CR1497=1,CT1497=1),1,0)","v":0},{"$f":"IF(AND(OR(F1497=TABLE1!$D$5,TABLE1!$D$5=\"کل بخشها\"),F1497<>\"\"),1,0)","v":0}]
[null,null,null,null,null,null,null,null,null,null,null,null,null,null,null,null,null,null,null,null,null,null,null,null,null,null,null,null,null,null,null,null,null,null,null,null,null,null,null,null,null,null,null,null,null,null,null,null,null,null,null,null,null,null,null,null,null,null,null,null,null,null,null,null,null,null,null,null,null,null,null,null,null,null,null,null,null,null,null,null,null,null,null,null,null,null,null,null,null,null,null,null,null,null,"",{"$f":"IF(LEFT(C1498,2)=TABLE1!$F$1,1,0)","v":0},{"$f":"IF(AND(IF(AND(IF(OR(AND(CQ1498=1,TABLE1!$AN$3=TRUE),AND(CQ1498=2,TABLE1!$AN$4=TRUE),AND(CQ1498=3,TABLE1!$AN$5=TRUE),AND(CQ1498=4,TABLE1!$AQ$3=TRUE),AND(CQ1498=5,TABLE1!$AQ$4=TRUE),AND(CQ1498=6,TABLE1!$AQ$5=TRUE),AND(CQ1498=7,TABLE1!$AT$3=TRUE),AND(CQ1498=8,TABLE1!$AT$4=TRUE),AND(CQ1498=9,TABLE1!$AT$5=TRUE),AND(CQ1498=10,TABLE1!$AW$3=TRUE),AND(CQ1498=11,TABLE1!$AW$4=TRUE),AND(CQ1498=12,TABLE1!$AW$5=TRUE)),1,0)=1),1,0)=1,CR1498=1,CT1498=1),1,0)","v":0},{"$f":"IF(AND(OR(F1498=TABLE1!$D$5,TABLE1!$D$5=\"کل بخشها\"),F1498<>\"\"),1,0)","v":0}]
[null,null,null,null,null,null,null,null,null,null,null,null,null,null,null,null,null,null,null,null,null,null,null,null,null,null,null,null,null,null,null,null,null,null,null,null,null,null,null,null,null,null,null,null,null,null,null,null,null,null,null,null,null,null,null,null,null,null,null,null,null,null,null,null,null,null,null,null,null,null,null,null,null,null,null,null,null,null,null,null,null,null,null,null,null,null,null,null,null,null,null,null,null,null,"",{"$f":"IF(LEFT(C1499,2)=TABLE1!$F$1,1,0)","v":0},{"$f":"IF(AND(IF(AND(IF(OR(AND(CQ1499=1,TABLE1!$AN$3=TRUE),AND(CQ1499=2,TABLE1!$AN$4=TRUE),AND(CQ1499=3,TABLE1!$AN$5=TRUE),AND(CQ1499=4,TABLE1!$AQ$3=TRUE),AND(CQ1499=5,TABLE1!$AQ$4=TRUE),AND(CQ1499=6,TABLE1!$AQ$5=TRUE),AND(CQ1499=7,TABLE1!$AT$3=TRUE),AND(CQ1499=8,TABLE1!$AT$4=TRUE),AND(CQ1499=9,TABLE1!$AT$5=TRUE),AND(CQ1499=10,TABLE1!$AW$3=TRUE),AND(CQ1499=11,TABLE1!$AW$4=TRUE),AND(CQ1499=12,TABLE1!$AW$5=TRUE)),1,0)=1),1,0)=1,CR1499=1,CT1499=1),1,0)","v":0},{"$f":"IF(AND(OR(F1499=TABLE1!$D$5,TABLE1!$D$5=\"کل بخشها\"),F1499<>\"\"),1,0)","v":0}]
[null,null,null,null,null,null,null,null,null,null,null,null,null,null,null,null,null,null,null,null,null,null,null,null,null,null,null,null,null,null,null,null,null,null,null,null,null,null,null,null,null,null,null,null,null,null,null,null,null,null,null,null,null,null,null,null,null,null,null,null,null,null,null,null,null,null,null,null,null,null,null,null,null,null,null,null,null,null,null,null,null,null,null,null,null,null,null,null,null,null,null,null,null,null,"",{"$f":"IF(LEFT(C1500,2)=TABLE1!$F$1,1,0)","v":0},{"$f":"IF(AND(IF(AND(IF(OR(AND(CQ1500=1,TABLE1!$AN$3=TRUE),AND(CQ1500=2,TABLE1!$AN$4=TRUE),AND(CQ1500=3,TABLE1!$AN$5=TRUE),AND(CQ1500=4,TABLE1!$AQ$3=TRUE),AND(CQ1500=5,TABLE1!$AQ$4=TRUE),AND(CQ1500=6,TABLE1!$AQ$5=TRUE),AND(CQ1500=7,TABLE1!$AT$3=TRUE),AND(CQ1500=8,TABLE1!$AT$4=TRUE),AND(CQ1500=9,TABLE1!$AT$5=TRUE),AND(CQ1500=10,TABLE1!$AW$3=TRUE),AND(CQ1500=11,TABLE1!$AW$4=TRUE),AND(CQ1500=12,TABLE1!$AW$5=TRUE)),1,0)=1),1,0)=1,CR1500=1,CT1500=1),1,0)","v":0},{"$f":"IF(AND(OR(F1500=TABLE1!$D$5,TABLE1!$D$5=\"کل بخشها\"),F1500<>\"\"),1,0)","v":0}]
[null,null,null,null,null,null,null,null,null,null,null,null,null,null,null,null,null,null,null,null,null,null,null,null,null,null,null,null,null,null,null,null,null,null,null,null,null,null,null,null,null,null,null,null,null,null,null,null,null,null,null,null,null,null,null,null,null,null,null,null,null,null,null,null,null,null,null,null,null,null,null,null,null,null,null,null,null,null,null,null,null,null,null,null,null,null,null,null,null,null,null,null,null,null,"",{"$f":"IF(LEFT(C1501,2)=TABLE1!$F$1,1,0)","v":0},{"$f":"IF(AND(IF(AND(IF(OR(AND(CQ1501=1,TABLE1!$AN$3=TRUE),AND(CQ1501=2,TABLE1!$AN$4=TRUE),AND(CQ1501=3,TABLE1!$AN$5=TRUE),AND(CQ1501=4,TABLE1!$AQ$3=TRUE),AND(CQ1501=5,TABLE1!$AQ$4=TRUE),AND(CQ1501=6,TABLE1!$AQ$5=TRUE),AND(CQ1501=7,TABLE1!$AT$3=TRUE),AND(CQ1501=8,TABLE1!$AT$4=TRUE),AND(CQ1501=9,TABLE1!$AT$5=TRUE),AND(CQ1501=10,TABLE1!$AW$3=TRUE),AND(CQ1501=11,TABLE1!$AW$4=TRUE),AND(CQ1501=12,TABLE1!$AW$5=TRUE)),1,0)=1),1,0)=1,CR1501=1,CT1501=1),1,0)","v":0},{"$f":"IF(AND(OR(F1501=TABLE1!$D$5,TABLE1!$D$5=\"کل بخشها\"),F1501<>\"\"),1,0)","v":0}]
[null,null,null,null,null,null,null,null,null,null,null,null,null,null,null,null,null,null,null,null,null,null,null,null,null,null,null,null,null,null,null,null,null,null,null,null,null,null,null,null,null,null,null,null,null,null,null,null,null,null,null,null,null,null,null,null,null,null,null,null,null,null,null,null,null,null,null,null,null,null,null,null,null,null,null,null,null,null,null,null,null,null,null,null,null,null,null,null,null,null,null,null,null,null,"",{"$f":"IF(LEFT(C1502,2)=TABLE1!$F$1,1,0)","v":0},{"$f":"IF(AND(IF(AND(IF(OR(AND(CQ1502=1,TABLE1!$AN$3=TRUE),AND(CQ1502=2,TABLE1!$AN$4=TRUE),AND(CQ1502=3,TABLE1!$AN$5=TRUE),AND(CQ1502=4,TABLE1!$AQ$3=TRUE),AND(CQ1502=5,TABLE1!$AQ$4=TRUE),AND(CQ1502=6,TABLE1!$AQ$5=TRUE),AND(CQ1502=7,TABLE1!$AT$3=TRUE),AND(CQ1502=8,TABLE1!$AT$4=TRUE),AND(CQ1502=9,TABLE1!$AT$5=TRUE),AND(CQ1502=10,TABLE1!$AW$3=TRUE),AND(CQ1502=11,TABLE1!$AW$4=TRUE),AND(CQ1502=12,TABLE1!$AW$5=TRUE)),1,0)=1),1,0)=1,CR1502=1,CT1502=1),1,0)","v":0},{"$f":"IF(AND(OR(F1502=TABLE1!$D$5,TABLE1!$D$5=\"کل بخشها\"),F1502<>\"\"),1,0)","v":0}]
[null,null,null,null,null,null,null,null,null,null,null,null,null,null,null,null,null,null,null,null,null,null,null,null,null,null,null,null,null,null,null,null,null,null,null,null,null,null,null,null,null,null,null,null,null,null,null,null,null,null,null,null,null,null,null,null,null,null,null,null,null,null,null,null,null,null,null,null,null,null,null,null,null,null,null,null,null,null,null,null,null,null,null,null,null,null,null,null,null,null,null,null,null,null,"",{"$f":"IF(LEFT(C1503,2)=TABLE1!$F$1,1,0)","v":0},{"$f":"IF(AND(IF(AND(IF(OR(AND(CQ1503=1,TABLE1!$AN$3=TRUE),AND(CQ1503=2,TABLE1!$AN$4=TRUE),AND(CQ1503=3,TABLE1!$AN$5=TRUE),AND(CQ1503=4,TABLE1!$AQ$3=TRUE),AND(CQ1503=5,TABLE1!$AQ$4=TRUE),AND(CQ1503=6,TABLE1!$AQ$5=TRUE),AND(CQ1503=7,TABLE1!$AT$3=TRUE),AND(CQ1503=8,TABLE1!$AT$4=TRUE),AND(CQ1503=9,TABLE1!$AT$5=TRUE),AND(CQ1503=10,TABLE1!$AW$3=TRUE),AND(CQ1503=11,TABLE1!$AW$4=TRUE),AND(CQ1503=12,TABLE1!$AW$5=TRUE)),1,0)=1),1,0)=1,CR1503=1,CT1503=1),1,0)","v":0},{"$f":"IF(AND(OR(F1503=TABLE1!$D$5,TABLE1!$D$5=\"کل بخشها\"),F1503<>\"\"),1,0)","v":0}]

{"sheet":"sheet1","index":1,"n_rows":24,"n_cols":101,"rows_kept":24,"cut":false,"hidden":false,"merged":[[0,3,0,5],[0,0,1,1],[18,0,18,2],[0,14,0,42],[0,43,0,71],[0,6,1,6],[3,0,4,0],[3,1,4,1],[0,2,1,2],[3,2,4,2],[0,72,0,100],[0,8,1,8],[0,7,1,7],[0,13,1,13],[0,11,1,11],[0,10,1,10],[0,9,1,9],[0,12,1,12]]}
["نام ونام خانوادگی",null,"تاریخ ارسال کشت \n( مانند 961201)","آنتی بیو گرام",null,null,"ردیف اکسل","ردیف","نام ","تاریخ","نوع باکتری","نوع کشت","نام بخش","جواب","حساس",null,null,null,null,null,null,null,null,null,null,null,null,null,null,null,null,null,null,null,null,null,null,null,null,null,null,null,null,"نیمه حساس",null,null,null,null,null,null,null,null,null,null,null,null,null,null,null,null,null,null,null,null,null,null,null,null,null,null,null,null,"مقاوم"]
[null,null,null,"حساس","نیمه حساس","مقاوم",null,null,null,null,null,null,null,null,"جنتامایسین ","آمیکاسین ","آمپی سیلین ","پنی سیلین ","ایمی پنم","سفازولین ","سفوتاکسیم ","سفالوتین ","سفتریاکسون","سفتیزوکسیم ","سیپروفلوکساسین ","کلیندامایسین ","کوتریموکسازول","نالیدیک اسید ","ونکومایسین","سفتازیدیم ","آموکسی سیلین","آزیترومایسین","کاربنی سیلین","سفالکسین","سپفیم","تتراسایکلین","نورفلوکساسین","نیتروفورانتوئین","مترونیدازول","مروپنم","کانامایسین","داکسی سایکلین","کلوگزایسلین","جنتامایسین ","آمیکاسین ","آمپی سیلین ","پنی سیلین ","ایمی پنم","سفازولین ","سفوتاکسیم ","سفالوتین ","سفتریاکسون","سفتیزوکسیم ","سیپروفلوکساسین ","کلیندامایسین ","کوتریموکسازول","نالیدیک اسید ","ونکومایسین","سفتازیدیم ","آموکسی سیلین","آزیترومایسین","کاربنی سیلین","سفالکسین","سپفیم","تتراسایکلین","نورفلوکساسین","نیتروفورانتوئین","مترونیدازول","مروپنم","کانامایسین","داکسی سایکلین","کلوگزایسلین","جنتامایسین ","آمیکاسین ","آمپی سیلین ","پنی سیلین ","ایمی پنم","سفازولین ","سفوتاکسیم ","سفالوتین ","سفتریاکسون","سفتیزوکسیم ","سیپروفلوکساسین ","کلیندامایسین ","کوتریموکسازول","نالیدیک اسید ","ونکومایسین","سفتازیدیم ","آموکسی سیلین","آزیترومایسین","کاربنی سیلین","سفالکسین","سپفیم","تتراسایکلین","نورفلوکساسین","نیتروفورانتوئین","مترونیدازول","مروپنم","کانامایسین","داکسی سایکلین","کلوگزایسلین"]
[null,null,null,null,null,null,{"$f":"MAX(data!A:A)+3","v":3},{"$f":"G3-2","v":1},{"$f":"A3","v":0},{"$f":"C3","v":0},{"$f":"K6","v":{"$error":"#N/A"}},{"$f":"K7","v":""},{"$f":"K9","v":0},{"$f":"K8","v":"مثبت"},{"$f":"IF($L6=TRUE,1,\"\")","v":""},{"$f":"IF($L7=TRUE,1,\"\")","v":""},{"$f":"IF($L8=TRUE,1,\"\")","v":""},{"$f":"IF($L9=TRUE,1,\"\")","v":""},{"$f":"IF($L10=TRUE,1,\"\")","v":""},{"$f":"IF($L11=TRUE,1,\"\")","v":""},{"$f":"IF($L12=TRUE,1,\"\")","v":""},{"$f":"IF($L13=TRUE,1,\"\")","v":""},{"$f":"IF($L14=TRUE,1,\"\")","v":""},{"$f":"IF($L15=TRUE,1,\"\")","v":""},{"$f":"IF($L16=TRUE,1,\"\")","v":""},{"$f":"IF($L17=TRUE,1,\"\")","v":""},{"$f":"IF($L18=TRUE,1,\"\")","v":""},{"$f":"IF($L19=TRUE,1,\"\")","v":""},{"$f":"IF($L20=TRUE,1,\"\")","v":""},{"$f":"IF($L21=TRUE,1,\"\")","v":""},{"$f":"IF($L22=TRUE,1,\"\")","v":""},{"$f":"IF($L23=TRUE,1,\"\")","v":""},{"$f":"IF($L24=TRUE,1,\"\")","v":""},{"$f":"IF($L25=TRUE,1,\"\")","v":""},{"$f":"IF($L26=TRUE,1,\"\")","v":""},{"$f":"IF($L27=TRUE,1,\"\")","v":""},{"$f":"IF($L28=TRUE,1,\"\")","v":""},{"$f":"IF($L29=TRUE,1,\"\")","v":""},{"$f":"IF($L30=TRUE,1,\"\")","v":""},{"$f":"IF($L31=TRUE,1,\"\")","v":""},{"$f":"IF($L32=TRUE,1,\"\")","v":""},{"$f":"IF($L33=TRUE,1,\"\")","v":""},{"$f":"IF($L34=TRUE,1,\"\")","v":""},{"$f":"IF($M6=TRUE,1,\"\")","v":""},{"$f":"IF($M7=TRUE,1,\"\")","v":""},{"$f":"IF($M8=TRUE,1,\"\")","v":""},{"$f":"IF($M9=TRUE,1,\"\")","v":""},{"$f":"IF($M10=TRUE,1,\"\")","v":""},{"$f":"IF($M11=TRUE,1,\"\")","v":""},{"$f":"IF($M12=TRUE,1,\"\")","v":""},{"$f":"IF($M13=TRUE,1,\"\")","v":""},{"$f":"IF($M14=TRUE,1,\"\")","v":""},{"$f":"IF($M15=TRUE,1,\"\")","v":""},{"$f":"IF($M16=TRUE,1,\"\")","v":""},{"$f":"IF($M17=TRUE,1,\"\")","v":""},{"$f":"IF($M18=TRUE,1,\"\")","v":""},{"$f":"IF($M19=TRUE,1,\"\")","v":""},{"$f":"IF($M20=TRUE,1,\"\")","v":""},{"$f":"IF($M21=TRUE,1,\"\")","v":""},{"$f":"IF($M22=TRUE,1,\"\")","v":""},{"$f":"IF($M23=TRUE,1,\"\")","v":""},{"$f":"IF($M24=TRUE,1,\"\")","v":""},{"$f":"IF($M25=TRUE,1,\"\")","v":""},{"$f":"IF($M26=TRUE,1,\"\")","v":""},{"$f":"IF($M27=TRUE,1,\"\")","v":""},{"$f":"IF($M28=TRUE,1,\"\")","v":""},{"$f":"IF($M29=TRUE,1,\"\")","v":""},{"$f":"IF($M30=TRUE,1,\"\")","v":""},{"$f":"IF($M31=TRUE,1,\"\")","v":""},{"$f":"IF($M32=TRUE,1,\"\")","v":""},{"$f":"IF($M33=TRUE,1,\"\")","v":""},{"$f":"IF($M34=TRUE,1,\"\")","v":""},{"$f":"IF($N6=TRUE,1,\"\")","v":""},{"$f":"IF($N7=TRUE,1,\"\")","v":""},{"$f":"IF($N8=TRUE,1,\"\")","v":""},{"$f":"IF($N9=TRUE,1,\"\")","v":""},{"$f":"IF($N10=TRUE,1,\"\")","v":""},{"$f":"IF($N11=TRUE,1,\"\")","v":""},{"$f":"IF($N12=TRUE,1,\"\")","v":""},{"$f":"IF($N13=TRUE,1,\"\")","v":""},{"$f":"IF($N14=TRUE,1,\"\")","v":""},{"$f":"IF($N15=TRUE,1,\"\")","v":""},{"$f":"IF($N16=TRUE,1,\"\")","v":""},{"$f":"IF($N17=TRUE,1,\"\")","v":""},{"$f":"IF($N18=TRUE,1,\"\")","v":""},{"$f":"IF($N19=TRUE,1,\"\")","v":""},{"$f":"IF($N20=TRUE,1,\"\")","v":""},{"$f":"IF($N21=TRUE,1,\"\")","v":""},{"$f":"IF($N22=TRUE,1,\"\")","v":""},{"$f":"IF($N23=TRUE,1,\"\")","v":""},{"$f":"IF($N24=TRUE,1,\"\")","v":""},{"$f":"IF($N25=TRUE,1,\"\")","v":""},{"$f":"IF($N26=TRUE,1,\"\")","v":""},{"$f":"IF($N27=TRUE,1,\"\")","v":""},{"$f":"IF($N28=TRUE,1,\"\")","v":""},{"$f":"IF($N29=TRUE,1,\"\")","v":""},{"$f":"IF($N30=TRUE,1,\"\")","v":""},{"$f":"IF($N31=TRUE,1,\"\")","v":""},{"$f":"IF($N32=TRUE,1,\"\")","v":""},{"$f":"IF($N33=TRUE,1,\"\")","v":""},{"$f":"IF($N34=TRUE,1,\"\")","v":""}]
["نوع باکتری","نوع کشت ","نام بخش"]
[]
[null,null,null,null,null,null,null,1,"کلبسیلا",null,{"$f":"VLOOKUP(J6,H6:I24,2,0)","v":{"$error":"#N/A"}}]
[null,null,null,null,null,null,null,2,"استاف اورئوس",null,{"$f":"IF(J7=1,\"مدفوع\",IF(J7=2,\"زخم بستر\",IF(J7=3,\"محل جراحی\",IF(J7=4,\"ترشحات ریه\",IF(J7=5,\"کشت زخم\",IF(J7=6,\"خون\",IF(J7=7,\"ادرار\",\"\")))))))","v":""}]
[null,null,null,null,null,null,null,3,"اشرشیاکلای",1,{"$f":"IF(J8=1,\"مثبت\",IF(J8=2,\"منفی\",\"\"))","v":"مثبت"}]
[null,null,null,null,null,null,null,4,"استاف کوآگولاز منفی",null,{"$f":"IF(J9=1,\"اطفال\",IF(J9=2,\"نوازادن\",IF(J9=3,\"اورژانس\",IF(J9=4,\"PICU\",IF(J9=5,\"NICU\",)))))","v":0}]
[null,null,null,null,null,null,null,5,"استاف کوآگولاز مثبت"]
[null,null,null,null,null,null,null,6,"سودومونا"]
[null,null,null,null,null,null,null,7,"آنترباکتر"]
[null,null,null,null,null,null,null,8,"میکروکوک"]
["جواب کشت ",null,null,null,null,null,null,9,"استاف سایروفیت"]
[null,null,null,null,null,null,null,10,"استاف اپیدرمیدیس"]
[null,null,null,null,null,null,null,11,"شیگلا"]
[null,null,null,null,null,null,null,12,"سراشیا"]
["تهیه  و تنظیم :","محسن علیزاده",null,null,null,null,null,13,"سیتروباکتر"]
["مسؤل آمار بیمارستان خاتم الانبیاء گنبد کاووس",null,null,null,null,null,null,14,"پروتئوس"]
[null,null,null,null,null,null,null,15,"آنتروکوک"]
[null,null,null,null,null,null,null,16,"آسینتوباکتر"]
[null,null,null,null,null,null,null,17,"سالمونلا"]
[null,null,null,null,null,null,null,18,"کاندیدا"]
[null,null,null,null,null,null,null,19,"استرپتوکوک"]

{"sheet":"TABLE1","index":2,"n_rows":42,"n_cols":65,"rows_kept":42,"cut":false,"hidden":false,"merged":[[32,34,32,51],[0,0,0,2],[4,0,4,2]]}
["سال ( چهار رقمی وارد شود ) ",null,null,1396,null,{"$f":"RIGHT(D1,2)","v":"96"}]
[null,null,null,null,null,null,null,null,null,null,null,null,null,null,null,null,null,null,null,null,null,null,null,null,null,null,null,null,null,null,null,null,null,null,null,null,null,null,null,"کل بخشها","CCU A","CCU B","CCU C","ICU OH","پست کت","اتاق عمل","آنژیوگرافی","اورژانس"]
[null,null,null,null,null,null,null,null,null,null,null,null,null,null,null,null,null,null,null,null,null,null,null,null,null,null,null,null,null,null,null,null,null,null,null,null,null,null,null,false,"فروردین",{"$f":"IF(AN3=TRUE,AO3,\"\")","v":""},false,"تیر",{"$f":"IF(AQ3=TRUE,AR3,\"\")","v":""},false,"مهر",{"$f":"IF(AT3=TRUE,AU3,\"\")","v":""},false,"دی",{"$f":"IF(AW3=TRUE,AX3,\"\")","v":""}]
[null,null,null,null,null,null,null,null,null,null,null,null,null,null,null,null,null,null,null,null,null,null,null,null,null,null,null,null,null,null,null,null,null,null,null,null,null,null,null,false,"اردیبهشت",{"$f":"IF(AN4=TRUE,AO4,\"\")","v":""},false,"مرداد",{"$f":"IF(AQ4=TRUE,AR4,\"\")","v":""},false,"آبان",{"$f":"IF(AT4=TRUE,AU4,\"\")","v":""},false,"بهمن",{"$f":"IF(AW4=TRUE,AX4,\"\")","v":""}]
["نام بخش را انتخاب کنید",null,null,"کل بخشها",null,null,null,null,null,null,null,null,null,null,null,null,null,null,null,null,null,null,null,null,null,null,null,null,null,null,null,null,null,null,null,null,null,null,null,false,"خرداد",{"$f":"IF(AN5=TRUE,AO5,\"\")","v":""},false,"شهریور",{"$f":"IF(AQ5=TRUE,AR5,\"\")","v":""},false,"آذر",{"$f":"IF(AT5=TRUE,AU5,\"\")","v":""},false,"اسفند",{"$f":"IF(AW5=TRUE,AX5,\"\")","v":""}]
[]
[{"$f":"\"تعداد کشت مثبت و حساس  \"&\"بخش \"&D5&\" سال \"&D1&\"ماه \"&AP3&\" \"&AP4&\" \"&AP5&\" \"&AS3&\" \"&AS4&\" \"&AS5&\" \"&AV3&\" \"&AV4&\" \"&AV5&\" \"&AY3&\" \"&AY4&\" \"&AY5","v":"تعداد کشت مثبت و حساس  بخش کل بخشها سال 1396ماه            "},null,null,null,null,null,null,null,null,null,null,null,null,null,null,null,null,null,null,null,null,null,null,null,null,null,null,null,null,null,null,null,null,null,null,{"$f":"IF(AJ8=0,\"\",COUNTIF($AJ$8:AJ8,\"=1\"))","v":""},{"$f":"IF(AK8=0,\"\",COUNTIF($AJ$8:AK8,\"=1\"))","v":""},{"$f":"IF(AL8=0,\"\",COUNTIF($AJ$8:AL8,\"=1\"))","v":""},{"$f":"IF(AM8=0,\"\",COUNTIF($AJ$8:AM8,\"=1\"))","v":""},{"$f":"IF(AN8=0,\"\",COUNTIF($AJ$8:AN8,\"=1\"))","v":""},{"$f":"IF(AO8=0,\"\",COUNTIF($AJ$8:AO8,\"=1\"))","v":""},{"$f":"IF(AP8=0,\"\",COUNTIF($AJ$8:AP8,\"=1\"))","v":""},{"$f":"IF(AQ8=0,\"\",COUNTIF($AJ$8:AQ8,\"=1\"))","v":""},{"$f":"IF(AR8=0,\"\",COUNTIF($AJ$8:AR8,\"=1\"))","v":""},{"$f":"IF(AS8=0,\"\",COUNTIF($AJ$8:AS8,\"=1\"))","v":""},{"$f":"IF(AT8=0,\"\",COUNTIF($AJ$8:AT8,\"=1\"))","v":""},{"$f":"IF(AU8=0,\"\",COUNTIF($AJ$8:AU8,\"=1\"))","v":""},{"$f":"IF(AV8=0,\"\",COUNTIF($AJ$8:AV8,\"=1\"))","v":""},{"$f":"IF(AW8=0,\"\",COUNTIF($AJ$8:AW8,\"=1\"))","v":""},{"$f":"IF(AX8=0,\"\",COUNTIF($AJ$8:AX8,\"=1\"))","v":""},{"$f":"IF(AY8=0,\"\",COUNTIF($AJ$8:AY8,\"=1\"))","v":""},{"$f":"IF(AZ8=0,\"\",COUNTIF($AJ$8:AZ8,\"=1\"))","v":""},{"$f":"IF(BA8=0,\"\",COUNTIF($AJ$8:BA8,\"=1\"))","v":""},{"$f":"IF(BB8=0,\"\",COUNTIF($AJ$8:BB8,\"=1\"))","v":""},{"$f":"IF(BC8=0,\"\",COUNTIF($AJ$8:BC8,\"=1\"))","v":""},{"$f":"IF(BD8=0,\"\",COUNTIF($AJ$8:BD8,\"=1\"))","v":""},{"$f":"IF(BE8=0,\"\",COUNTIF($AJ$8:BE8,\"=1\"))","v":""},{"$f":"IF(BF8=0,\"\",COUNTIF($AJ$8:BF8,\"=1\"))","v":""},{"$f":"IF(BG8=0,\"\",COUNTIF($AJ$8:BG8,\"=1\"))","v":""},{"$f":"IF(BH8=0,\"\",COUNTIF($AJ$8:BH8,\"=1\"))","v":""},{"$f":"IF(BI8=0,\"\",COUNTIF($AJ$8:BI8,\"=1\"))","v":""},{"$f":"IF(BJ8=0,\"\",COUNTIF($AJ$8:BJ8,\"=1\"))","v":""},{"$f":"IF(BK8=0,\"\",COUNTIF($AJ$8:BK8,\"=1\"))","v":""},{"$f":"IF(BL8=0,\"\",COUNTIF($AJ$8:BL8,\"=1\"))","v":""},{"$f":"IF(BM8=0,\"\",COUNTIF($AJ$8:BM8,\"=1\"))","v":""}]
[null,null,null,null,null,null,null,null,null,null,null,null,null,null,null,null,null,null,null,null,null,null,null,null,null,null,null,null,null,null,null,null,null,null,null,{"$f":"IF(AJ29>0,1,0)","v":0},0,0,0,0,0,0,0,0,0,0,0,0,0,0,0,0,0,{"$f":"IF(BB29>0,1,0)","v":0},0,0,0,0,0,0,0,0,0,0,0]
["نوع باکتری",{"$f":"IFERROR(INDEX($AJ$9:$BM$9,1,MATCH(COLUMNS($AJ$7:AJ7),$AJ$7:$BM$7,0)),\"\")","v":""},{"$f":"IFERROR(INDEX($AJ$9:$BM$9,1,MATCH(COLUMNS($AJ$7:AK7),$AJ$7:$BM$7,0)),\"\")","v":""},{"$f":"IFERROR(INDEX($AJ$9:$BM$9,1,MATCH(COLUMNS($AJ$7:AL7),$AJ$7:$BM$7,0)),\"\")","v":""},{"$f":"IFERROR(INDEX($AJ$9:$BM$9,1,MATCH(COLUMNS($AJ$7:AM7),$AJ$7:$BM$7,0)),\"\")","v":""},{"$f":"IFERROR(INDEX($AJ$9:$BM$9,1,MATCH(COLUMNS($AJ$7:AN7),$AJ$7:$BM$7,0)),\"\")","v":""},{"$f":"IFERROR(INDEX($AJ$9:$BM$9,1,MATCH(COLUMNS($AJ$7:AO7),$AJ$7:$BM$7,0)),\"\")","v":""},{"$f":"IFERROR(INDEX($AJ$9:$BM$9,1,MATCH(COLUMNS($AJ$7:AP7),$AJ$7:$BM$7,0)),\"\")","v":""},{"$f":"IFERROR(INDEX($AJ$9:$BM$9,1,MATCH(COLUMNS($AJ$7:AQ7),$AJ$7:$BM$7,0)),\"\")","v":""},{"$f":"IFERROR(INDEX($AJ$9:$BM$9,1,MATCH(COLUMNS($AJ$7:AR7),$AJ$7:$BM$7,0)),\"\")","v":""},{"$f":"IFERROR(INDEX($AJ$9:$BM$9,1,MATCH(COLUMNS($AJ$7:AS7),$AJ$7:$BM$7,0)),\"\")","v":""},{"$f":"IFERROR(INDEX($AJ$9:$BM$9,1,MATCH(COLUMNS($AJ$7:AT7),$AJ$7:$BM$7,0)),\"\")","v":""},{"$f":"IFERROR(INDEX($AJ$9:$BM$9,1,MATCH(COLUMNS($AJ$7:AU7),$AJ$7:$BM$7,0)),\"\")","v":""},{"$f":"IFERROR(INDEX($AJ$9:$BM$9,1,MATCH(COLUMNS($AJ$7:AV7),$AJ$7:$BM$7,0)),\"\")","v":""},{"$f":"IFERROR(INDEX($AJ$9:$BM$9,1,MATCH(COLUMNS($AJ$7:AW7),$AJ$7:$BM$7,0)),\"\")","v":""},{"$f":"IFERROR(INDEX($AJ$9:$BM$9,1,MATCH(COLUMNS($AJ$7:AX7),$AJ$7:$BM$7,0)),\"\")","v":""},{"$f":"IFERROR(INDEX($AJ$9:$BM$9,1,MATCH(COLUMNS($AJ$7:AY7),$AJ$7:$BM$7,0)),\"\")","v":""},{"$f":"IFERROR(INDEX($AJ$9:$BM$9,1,MATCH(COLUMNS($AJ$7:AZ7),$AJ$7:$BM$7,0)),\"\")","v":""},{"$f":"IFERROR(INDEX($AJ$9:$BM$9,1,MATCH(COLUMNS($AJ$7:BA7),$AJ$7:$BM$7,0)),\"\")","v":""},{"$f":"IFERROR(INDEX($AJ$9:$BM$9,1,MATCH(COLUMNS($AJ$7:BB7),$AJ$7:$BM$7,0)),\"\")","v":""},{"$f":"IFERROR(INDEX($AJ$9:$BM$9,1,MATCH(COLUMNS($AJ$7:BC7),$AJ$7:$BM$7,0)),\"\")","v":""},{"$f":"IFERROR(INDEX($AJ$9:$BM$9,1,MATCH(COLUMNS($AJ$7:BD7),$AJ$7:$BM$7,0)),\"\")","v":""},{"$f":"IFERROR(INDEX($AJ$9:$BM$9,1,MATCH(COLUMNS($AJ$7:BE7),$AJ$7:$BM$7,0)),\"\")","v":""},{"$f":"IFERROR(INDEX($AJ$9:$BM$9,1,MATCH(COLUMNS($AJ$7:BF7),$AJ$7:$BM$7,0)),\"\")","v":""},{"$f":"IFERROR(INDEX($AJ$9:$BM$9,1,MATCH(COLUMNS($AJ$7:BG7),$AJ$7:$BM$7,0)),\"\")","v":""},{"$f":"IFERROR(INDEX($AJ$9:$BM$9,1,MATCH(COLUMNS($AJ$7:BH7),$AJ$7:$BM$7,0)),\"\")","v":""},{"$f":"IFERROR(INDEX($AJ$9:$BM$9,1,MATCH(COLUMNS($AJ$7:BI7),$AJ$7:$BM$7,0)),\"\")","v":""},{"$f":"IFERROR(INDEX($AJ$9:$BM$9,1,MATCH(COLUMNS($AJ$7:BJ7),$AJ$7:$BM$7,0)),\"\")","v":""},{"$f":"IFERROR(INDEX($AJ$9:$BM$9,1,MATCH(COLUMNS($AJ$7:BK7),$AJ$7:$BM$7,0)),\"\")","v":""},{"$f":"IFERROR(INDEX($AJ$9:$BM$9,1,MATCH(COLUMNS($AJ$7:BL7),$AJ$7:$BM$7,0)),\"\")","v":""},{"$f":"IFERROR(INDEX($AJ$9:$BM$9,1,MATCH(COLUMNS($AJ$7:BM7),$AJ$7:$BM$7,0)),\"\")","v":""},null,null,null,"نوع باکتری","جنتامایسین","آمیکاسین","آمپی سیلین ","پنی سیلین ","ایمی پنم ","سفازولین ","سفوتاکسیم ","سفالوتین ","سفتریاکسون ","سفتیزوکسیم ","سیپروفلوکساسین ","کلیندامایسین ","کوتریموکسازول ","نالیدیک اسید ","ونکومایسین ","سفتازیدیم ","آموکسی سیلین","آزیترومایسین","کاربنی سیلین","سفالکسین","سپفیم","تتراسایکلین","نورفلوکساسین","نیتروفورانتوئین","مترونیدازول","مروپنم","کانامایسین","داکسی سایکلین","کلوگزایسلین","جمع"]
[{"$f":"IFERROR(INDEX($AI$10:$AI$29,MATCH(ROWS($AG$10:AG10),$AG$10:$AG$116,0),1),\"\")","v":""},{"$f":"IFERROR(INDEX($AJ$10:$BM$29,MATCH(ROWS($AG$10:AH10),$AG$10:$AG$116,0),MATCH(COLUMNS($AJ$7:AJ7),$AJ$7:$BM$7,0)),\"\")","v":""},{"$f":"IFERROR(INDEX($AJ10:$BM29,MATCH(ROWS($AG$10:AI10),$AG$10:$AG$116,0),MATCH(COLUMNS($AJ$7:AK7),$AJ$7:$BM$7,0)),\"\")","v":""},{"$f":"IFERROR(INDEX($AJ10:$BM29,MATCH(ROWS($AG$10:AJ10),$AG$10:$AG$116,0),MATCH(COLUMNS($AJ$7:AL7),$AJ$7:$BM$7,0)),\"\")","v":""},{"$f":"IFERROR(INDEX($AJ10:$BM29,MATCH(ROWS($AG$10:AK10),$AG$10:$AG$116,0),MATCH(COLUMNS($AJ$7:AM7),$AJ$7:$BM$7,0)),\"\")","v":""},{"$f":"IFERROR(INDEX($AJ10:$BM29,MATCH(ROWS($AG$10:AL10),$AG$10:$AG$116,0),MATCH(COLUMNS($AJ$7:AN7),$AJ$7:$BM$7,0)),\"\")","v":""},{"$f":"IFERROR(INDEX($AJ10:$BM29,MATCH(ROWS($AG$10:AM10),$AG$10:$AG$116,0),MATCH(COLUMNS($AJ$7:AO7),$AJ$7:$BM$7,0)),\"\")","v":""},{"$f":"IFERROR(INDEX($AJ10:$BM29,MATCH(ROWS($AG$10:AN10),$AG$10:$AG$116,0),MATCH(COLUMNS($AJ$7:AP7),$AJ$7:$BM$7,0)),\"\")","v":""},{"$f":"IFERROR(INDEX($AJ10:$BM29,MATCH(ROWS($AG$10:AO10),$AG$10:$AG$116,0),MATCH(COLUMNS($AJ$7:AQ7),$AJ$7:$BM$7,0)),\"\")","v":""},{"$f":"IFERROR(INDEX($AJ10:$BM29,MATCH(ROWS($AG$10:AP10),$AG$10:$AG$116,0),MATCH(COLUMNS($AJ$7:AR7),$AJ$7:$BM$7,0)),\"\")","v":""},{"$f":"IFERROR(INDEX($AJ10:$BM29,MATCH(ROWS($AG$10:AQ10),$AG$10:$AG$116,0),MATCH(COLUMNS($AJ$7:AS7),$AJ$7:$BM$7,0)),\"\")","v":""},{"$f":"IFERROR(INDEX($AJ10:$BM29,MATCH(ROWS($AG$10:AR10),$AG$10:$AG$116,0),MATCH(COLUMNS($AJ$7:AT7),$AJ$7:$BM$7,0)),\"\")","v":""},{"$f":"IFERROR(INDEX($AJ10:$BM29,MATCH(ROWS($AG$10:AS10),$AG$10:$AG$116,0),MATCH(COLUMNS($AJ$7:AU7),$AJ$7:$BM$7,0)),\"\")","v":""},{"$f":"IFERROR(INDEX($AJ10:$BM29,MATCH(ROWS($AG$10:AT10),$AG$10:$AG$116,0),MATCH(COLUMNS($AJ$7:AV7),$AJ$7:$BM$7,0)),\"\")","v":""},{"$f":"IFERROR(INDEX($AJ10:$BM29,MATCH(ROWS($AG$10:AU10),$AG$10:$AG$116,0),MATCH(COLUMNS($AJ$7:AW7),$AJ$7:$BM$7,0)),\"\")","v":""},{"$f":"IFERROR(INDEX($AJ10:$BM29,MATCH(ROWS($AG$10:AV10),$AG$10:$AG$116,0),MATCH(COLUMNS($AJ$7:AX7),$AJ$7:$BM$7,0)),\"\")","v":""},{"$f":"IFERROR(INDEX($AJ10:$BM29,MATCH(ROWS($AG$10:AW10),$AG$10:$AG$116,0),MATCH(COLUMNS($AJ$7:AY7),$AJ$7:$BM$7,0)),\"\")","v":""},{"$f":"IFERROR(INDEX($AJ10:$BM29,MATCH(ROWS($AG$10:AX10),$AG$10:$AG$116,0),MATCH(COLUMNS($AJ$7:AZ7),$AJ$7:$BM$7,0)),\"\")","v":""},{"$f":"IFERROR(INDEX($AJ10:$BM29,MATCH(ROWS($AG$10:AY10),$AG$10:$AG$116,0),MATCH(COLUMNS($AJ$7:BA7),$AJ$7:$BM$7,0)),\"\")","v":""},{"$f":"IFERROR(INDEX($AJ10:$BM29,MATCH(ROWS($AG$10:AZ10),$AG$10:$AG$116,0),MATCH(COLUMNS($AJ$7:BB7),$AJ$7:$BM$7,0)),\"\")","v":""},{"$f":"IFERROR(INDEX($AJ10:$BM29,MATCH(ROWS($AG$10:BA10),$AG$10:$AG$116,0),MATCH(COLUMNS($AJ$7:BC7),$AJ$7:$BM$7,0)),\"\")","v":""},{"$f":"IFERROR(INDEX($AJ10:$BM29,MATCH(ROWS($AG$10:BB10),$AG$10:$AG$116,0),MATCH(COLUMNS($AJ$7:BD7),$AJ$7:$BM$7,0)),\"\")","v":""},{"$f":"IFERROR(INDEX($AJ10:$BM29,MATCH(ROWS($AG$10:BC10),$AG$10:$AG$116,0),MATCH(COLUMNS($AJ$7:BE7),$AJ$7:$BM$7,0)),\"\")","v":""},{"$f":"IFERROR(INDEX($AJ10:$BM29,MATCH(ROWS($AG$10:BD10),$AG$10:$AG$116,0),MATCH(COLUMNS($AJ$7:BF7),$AJ$7:$BM$7,0)),\"\")","v":""},{"$f":"IFERROR(INDEX($AJ10:$BM29,MATCH(ROWS($AG$10:BE10),$AG$10:$AG$116,0),MATCH(COLUMNS($AJ$7:BG7),$AJ$7:$BM$7,0)),\"\")","v":""},{"$f":"IFERROR(INDEX($AJ10:$BM29,MATCH(ROWS($AG$10:BF10),$AG$10:$AG$116,0),MATCH(COLUMNS($AJ$7:BH7),$AJ$7:$BM$7,0)),\"\")","v":""},{"$f":"IFERROR(INDEX($AJ10:$BM29,MATCH(ROWS($AG$10:BG10),$AG$10:$AG$116,0),MATCH(COLUMNS($AJ$7:BI7),$AJ$7:$BM$7,0)),\"\")","v":""},{"$f":"IFERROR(INDEX($AJ10:$BM29,MATCH(ROWS($AG$10:BH10),$AG$10:$AG$116,0),MATCH(COLUMNS($AJ$7:BJ7),$AJ$7:$BM$7,0)),\"\")","v":""},{"$f":"IFERROR(INDEX($AJ10:$BM29,MATCH(ROWS($AG$10:BI10),$AG$10:$AG$116,0),MATCH(COLUMNS($AJ$7:BK7),$AJ$7:$BM$7,0)),\"\")","v":""},{"$f":"IFERROR(INDEX($AJ10:$BM29,MATCH(ROWS($AG$10:BJ10),$AG$10:$AG$116,0),MATCH(COLUMNS($AJ$7:BL7),$AJ$7:$BM$7,0)),\"\")","v":""},{"$f":"IFERROR(INDEX($AJ10:$BM29,MATCH(ROWS($AG$10:BK10),$AG$10:$AG$116,0),MATCH(COLUMNS($AJ$7:BM7),$AJ$7:$BM$7,0)),\"\")","v":""},null,{"$f":"IF(AH10=0,\"\",COUNTIF($AH$10:AH10,\"=1\"))","v":""},{"$f":"IF(BM10>0,1,0)","v":0},"کلبسیلا",{"$f":"SUMIFS(data!$H$3:$H$1499,data!$D$3:$D$1499,AI10,data!$G$3:$G$1499,\"مثبت\",data!$CS$3:$CS$1499,1)","v":0},{"$f":"SUMIFS(data!$I$3:$I$1499,data!$D$3:$D$1499,AI10,data!$G$3:$G$1499,\"مثبت\",data!$CS$3:$CS$1499,1)","v":0},{"$f":"SUMIFS(data!$J$3:$J$1499,data!$D$3:$D$1499,$AI10,data!$G$3:$G$1499,\"مثبت\",data!$CS$3:$CS$1499,1)","v":0},{"$f":"SUMIFS(data!$K$3:$K$1499,data!$D$3:$D$1499,$AI10,data!$G$3:$G$1499,\"مثبت\",data!$CS$3:$CS$1499,1)","v":0},{"$f":"SUMIFS(data!$L$3:$L$1499,data!$D$3:$D$1499,$AI10,data!$G$3:$G$1499,\"مثبت\",data!$CS$3:$CS$1499,1)","v":0},{"$f":"SUMIFS(data!$M$3:$M$1499,data!$D$3:$D$1499,$AI10,data!$G$3:$G$1499,\"مثبت\",data!$CS$3:$CS$1499,1)","v":0},{"$f":"SUMIFS(data!$N$3:$N$1499,data!$D$3:$D$1499,$AI10,data!$G$3:$G$1499,\"مثبت\",data!$CS$3:$CS$1499,1)","v":0},{"$f":"SUMIFS(data!$O$3:$O$1499,data!$D$3:$D$1499,$AI10,data!$G$3:$G$1499,\"مثبت\",data!$CS$3:$CS$1499,1)","v":0},{"$f":"SUMIFS(data!$P$3:$P$1499,data!$D$3:$D$1499,$AI10,data!$G$3:$G$1499,\"مثبت\",data!$CS$3:$CS$1499,1)","v":0},{"$f":"SUMIFS(data!$Q$3:$Q$1499,data!$D$3:$D$1499,$AI10,data!$G$3:$G$1499,\"مثبت\",data!$CS$3:$CS$1499,1)","v":0},{"$f":"SUMIFS(data!$R$3:$R$1499,data!$D$3:$D$1499,$AI10,data!$G$3:$G$1499,\"مثبت\",data!$CS$3:$CS$1499,1)","v":0},{"$f":"SUMIFS(data!$S$3:$S$1499,data!$D$3:$D$1499,$AI10,data!$G$3:$G$1499,\"مثبت\",data!$CS$3:$CS$1499,1)","v":0},{"$f":"SUMIFS(data!$T$3:$T$1499,data!$D$3:$D$1499,$AI10,data!$G$3:$G$1499,\"مثبت\",data!$CS$3:$CS$1499,1)","v":0},{"$f":"SUMIFS(data!$U$3:$U$1499,data!$D$3:$D$1499,$AI10,data!$G$3:$G$1499,\"مثبت\",data!$CS$3:$CS$1499,1)","v":0},{"$f":"SUMIFS(data!$V$3:$V$1499,data!$D$3:$D$1499,$AI10,data!$G$3:$G$1499,\"مثبت\",data!$CS$3:$CS$1499,1)","v":0},{"$f":"SUMIFS(data!$W$3:$W$1499,data!$D$3:$D$1499,$AI10,data!$G$3:$G$1499,\"مثبت\",data!$CS$3:$CS$1499,1)","v":0},{"$f":"SUMIFS(data!$X$3:$X$1499,data!$D$3:$D$1499,$AI10,data!$G$3:$G$1499,\"مثبت\",data!$CS$3:$CS$1499,1)","v":0},{"$f":"SUMIFS(data!$Y$3:$Y$1499,data!$D$3:$D$1499,$AI10,data!$G$3:$G$1499,\"مثبت\",data!$CS$3:$CS$1499,1)","v":0},{"$f":"SUMIFS(data!Z$3:Z$1499,data!$D$3:$D$1499,$AI10,data!$G$3:$G$1499,\"مثبت\",data!$CS$3:$CS$1499,1)","v":0},{"$f":"SUMIFS(data!AA$3:AA$1499,data!$D$3:$D$1499,$AI10,data!$G$3:$G$1499,\"مثبت\",data!$CS$3:$CS$1499,1)","v":0},{"$f":"SUMIFS(data!AB$3:AB$1499,data!$D$3:$D$1499,$AI10,data!$G$3:$G$1499,\"مثبت\",data!$CS$3:$CS$1499,1)","v":0},{"$f":"SUMIFS(data!AC$3:AC$1499,data!$D$3:$D$1499,$AI10,data!$G$3:$G$1499,\"مثبت\",data!$CS$3:$CS$1499,1)","v":0},{"$f":"SUMIFS(data!AD$3:AD$1499,data!$D$3:$D$1499,$AI10,data!$G$3:$G$1499,\"مثبت\",data!$CS$3:$CS$1499,1)","v":0},{"$f":"SUMIFS(data!AE$3:AE$1499,data!$D$3:$D$1499,$AI10,data!$G$3:$G$1499,\"مثبت\",data!$CS$3:$CS$1499,1)","v":0},{"$f":"SUMIFS(data!AF$3:AF$1499,data!$D$3:$D$1499,$AI10,data!$G$3:$G$1499,\"مثبت\",data!$CS$3:$CS$1499,1)","v":0},{"$f":"SUMIFS(data!AG$3:AG$1499,data!$D$3:$D$1499,$AI10,data!$G$3:$G$1499,\"مثبت\",data!$CS$3:$CS$1499,1)","v":0},{"$f":"SUMIFS(data!AH$3:AH$1499,data!$D$3:$D$1499,$AI10,data!$G$3:$G$1499,\"مثبت\",data!$CS$3:$CS$1499,1)","v":0},{"$f":"SUMIFS(data!AI$3:AI$1499,data!$D$3:$D$1499,$AI10,data!$G$3:$G$1499,\"مثبت\",data!$CS$3:$CS$1499,1)","v":0},{"$f":"SUMIFS(data!AJ$3:AJ$1499,data!$D$3:$D$1499,$AI10,data!$G$3:$G$1499,\"مثبت\",data!$CS$3:$CS$1499,1)","v":0},{"$f":"SUM(AJ10:BL10)","v":0}]
[{"$f":"IFERROR(INDEX($AI$10:$AI$29,MATCH(ROWS($AG$10:AG11),$AG$10:$AG$116,0),1),\"\")","v":""},{"$f":"IFERROR(INDEX($AJ$10:$BM$29,MATCH(ROWS($AG$10:AH11),$AG$10:$AG$116,0),MATCH(COLUMNS($AJ$7:AJ8),$AJ$7:$BM$7,0)),\"\")","v":""},{"$f":"IFERROR(INDEX($AJ$10:$BM$29,MATCH(ROWS($AG$10:AI11),$AG$10:$AG$116,0),MATCH(COLUMNS($AJ$7:AK8),$AJ$7:$BM$7,0)),\"\")","v":""},{"$f":"IFERROR(INDEX($AJ$10:$BM$29,MATCH(ROWS($AG$10:AJ11),$AG$10:$AG$116,0),MATCH(COLUMNS($AJ$7:AL8),$AJ$7:$BM$7,0)),\"\")","v":""},{"$f":"IFERROR(INDEX($AJ$10:$BM$29,MATCH(ROWS($AG$10:AK11),$AG$10:$AG$116,0),MATCH(COLUMNS($AJ$7:AM8),$AJ$7:$BM$7,0)),\"\")","v":""},{"$f":"IFERROR(INDEX($AJ$10:$BM$29,MATCH(ROWS($AG$10:AL11),$AG$10:$AG$116,0),MATCH(COLUMNS($AJ$7:AN8),$AJ$7:$BM$7,0)),\"\")","v":""},{"$f":"IFERROR(INDEX($AJ$10:$BM$29,MATCH(ROWS($AG$10:AM11),$AG$10:$AG$116,0),MATCH(COLUMNS($AJ$7:AO8),$AJ$7:$BM$7,0)),\"\")","v":""},{"$f":"IFERROR(INDEX($AJ$10:$BM$29,MATCH(ROWS($AG$10:AN11),$AG$10:$AG$116,0),MATCH(COLUMNS($AJ$7:AP8),$AJ$7:$BM$7,0)),\"\")","v":""},{"$f":"IFERROR(INDEX($AJ$10:$BM$29,MATCH(ROWS($AG$10:AO11),$AG$10:$AG$116,0),MATCH(COLUMNS($AJ$7:AQ8),$AJ$7:$BM$7,0)),\"\")","v":""},{"$f":"IFERROR(INDEX($AJ$10:$BM$29,MATCH(ROWS($AG$10:AP11),$AG$10:$AG$116,0),MATCH(COLUMNS($AJ$7:AR8),$AJ$7:$BM$7,0)),\"\")","v":""},{"$f":"IFERROR(INDEX($AJ$10:$BM$29,MATCH(ROWS($AG$10:AQ11),$AG$10:$AG$116,0),MATCH(COLUMNS($AJ$7:AS8),$AJ$7:$BM$7,0)),\"\")","v":""},{"$f":"IFERROR(INDEX($AJ$10:$BM$29,MATCH(ROWS($AG$10:AR11),$AG$10:$AG$116,0),MATCH(COLUMNS($AJ$7:AT8),$AJ$7:$BM$7,0)),\"\")","v":""},{"$f":"IFERROR(INDEX($AJ$10:$BM$29,MATCH(ROWS($AG$10:AS11),$AG$10:$AG$116,0),MATCH(COLUMNS($AJ$7:AU8),$AJ$7:$BM$7,0)),\"\")","v":""},{"$f":"IFERROR(INDEX($AJ$10:$BM$29,MATCH(ROWS($AG$10:AT11),$AG$10:$AG$116,0),MATCH(COLUMNS($AJ$7:AV8),$AJ$7:$BM$7,0)),\"\")","v":""},{"$f":"IFERROR(INDEX($AJ$10:$BM$29,MATCH(ROWS($AG$10:AU11),$AG$10:$AG$116,0),MATCH(COLUMNS($AJ$7:AW8),$AJ$7:$BM$7,0)),\"\")","v":""},{"$f":"IFERROR(INDEX($AJ$10:$BM$29,MATCH(ROWS($AG$10:AV11),$AG$10:$AG$116,0),MATCH(COLUMNS($AJ$7:AX8),$AJ$7:$BM$7,0)),\"\")","v":""},{"$f":"IFERROR(INDEX($AJ$10:$BM$29,MATCH(ROWS($AG$10:AW11),$AG$10:$AG$116,0),MATCH(COLUMNS($AJ$7:AY8),$AJ$7:$BM$7,0)),\"\")","v":""},{"$f":"IFERROR(INDEX($AJ$10:$BM$29,MATCH(ROWS($AG$10:AX11),$AG$10:$AG$116,0),MATCH(COLUMNS($AJ$7:AZ8),$AJ$7:$BM$7,0)),\"\")","v":""},{"$f":"IFERROR(INDEX($AJ$10:$BM$29,MATCH(ROWS($AG$10:AY11),$AG$10:$AG$116,0),MATCH(COLUMNS($AJ$7:BA8),$AJ$7:$BM$7,0)),\"\")","v":""},{"$f":"IFERROR(INDEX($AJ$10:$BM$29,MATCH(ROWS($AG$10:AZ11),$AG$10:$AG$116,0),MATCH(COLUMNS($AJ$7:BB8),$AJ$7:$BM$7,0)),\"\")","v":""},{"$f":"IFERROR(INDEX($AJ$10:$BM$29,MATCH(ROWS($AG$10:BA11),$AG$10:$AG$116,0),MATCH(COLUMNS($AJ$7:BC8),$AJ$7:$BM$7,0)),\"\")","v":""},{"$f":"IFERROR(INDEX($AJ$10:$BM$29,MATCH(ROWS($AG$10:BB11),$AG$10:$AG$116,0),MATCH(COLUMNS($AJ$7:BD8),$AJ$7:$BM$7,0)),\"\")","v":""},{"$f":"IFERROR(INDEX($AJ$10:$BM$29,MATCH(ROWS($AG$10:BC11),$AG$10:$AG$116,0),MATCH(COLUMNS($AJ$7:BE8),$AJ$7:$BM$7,0)),\"\")","v":""},{"$f":"IFERROR(INDEX($AJ$10:$BM$29,MATCH(ROWS($AG$10:BD11),$AG$10:$AG$116,0),MATCH(COLUMNS($AJ$7:BF8),$AJ$7:$BM$7,0)),\"\")","v":""},{"$f":"IFERROR(INDEX($AJ$10:$BM$29,MATCH(ROWS($AG$10:BE11),$AG$10:$AG$116,0),MATCH(COLUMNS($AJ$7:BG8),$AJ$7:$BM$7,0)),\"\")","v":""},{"$f":"IFERROR(INDEX($AJ$10:$BM$29,MATCH(ROWS($AG$10:BF11),$AG$10:$AG$116,0),MATCH(COLUMNS($AJ$7:BH8),$AJ$7:$BM$7,0)),\"\")","v":""},{"$f":"IFERROR(INDEX($AJ$10:$BM$29,MATCH(ROWS($AG$10:BG11),$AG$10:$AG$116,0),MATCH(COLUMNS($AJ$7:BI8),$AJ$7:$BM$7,0)),\"\")","v":""},{"$f":"IFERROR(INDEX($AJ$10:$BM$29,MATCH(ROWS($AG$10:BH11),$AG$10:$AG$116,0),MATCH(COLUMNS($AJ$7:BJ8),$AJ$7:$BM$7,0)),\"\")","v":""},{"$f":"IFERROR(INDEX($AJ$10:$BM$29,MATCH(ROWS($AG$10:BI11),$AG$10:$AG$116,0),MATCH(COLUMNS($AJ$7:BK8),$AJ$7:$BM$7,0)),\"\")","v":""},{"$f":"IFERROR(INDEX($AJ$10:$BM$29,MATCH(ROWS($AG$10:BJ11),$AG$10:$AG$116,0),MATCH(COLUMNS($AJ$7:BL8),$AJ$7:$BM$7,0)),\"\")","v":""},{"$f":"IFERROR(INDEX($AJ$10:$BM$29,MATCH(ROWS($AG$10:BK11),$AG$10:$AG$116,0),MATCH(COLUMNS($AJ$7:BM8),$AJ$7:$BM$7,0)),\"\")","v":""},null,{"$f":"IF(AH11=0,\"\",COUNTIF($AH$10:AH11,\"=1\"))","v":""},0,"استاف اورئوس",{"$f":"SUMIFS(data!$H$3:$H$1499,data!$D$3:$D$1499,AI11,data!$G$3:$G$1499,\"مثبت\",data!$CS$3:$CS$1499,1)","v":0},{"$f":"SUMIFS(data!$I$3:$I$1499,data!$D$3:$D$1499,AI11,data!$G$3:$G$1499,\"مثبت\",data!$CS$3:$CS$1499,1)","v":0},{"$f":"SUMIFS(data!$J$3:$J$1499,data!$D$3:$D$1499,$AI11,data!$G$3:$G$1499,\"مثبت\",data!$CS$3:$CS$1499,1)","v":0},{"$f":"SUMIFS(data!$K$3:$K$1499,data!$D$3:$D$1499,$AI11,data!$G$3:$G$1499,\"مثبت\",data!$CS$3:$CS$1499,1)","v":0},{"$f":"SUMIFS(data!$L$3:$L$1499,data!$D$3:$D$1499,$AI11,data!$G$3:$G$1499,\"مثبت\",data!$CS$3:$CS$1499,1)","v":0},{"$f":"SUMIFS(data!$M$3:$M$1499,data!$D$3:$D$1499,$AI11,data!$G$3:$G$1499,\"مثبت\",data!$CS$3:$CS$1499,1)","v":0},{"$f":"SUMIFS(data!$N$3:$N$1499,data!$D$3:$D$1499,$AI11,data!$G$3:$G$1499,\"مثبت\",data!$CS$3:$CS$1499,1)","v":0},{"$f":"SUMIFS(data!$O$3:$O$1499,data!$D$3:$D$1499,$AI11,data!$G$3:$G$1499,\"مثبت\",data!$CS$3:$CS$1499,1)","v":0},{"$f":"SUMIFS(data!$P$3:$P$1499,data!$D$3:$D$1499,$AI11,data!$G$3:$G$1499,\"مثبت\",data!$CS$3:$CS$1499,1)","v":0},{"$f":"SUMIFS(data!$Q$3:$Q$1499,data!$D$3:$D$1499,$AI11,data!$G$3:$G$1499,\"مثبت\",data!$CS$3:$CS$1499,1)","v":0},{"$f":"SUMIFS(data!$R$3:$R$1499,data!$D$3:$D$1499,$AI11,data!$G$3:$G$1499,\"مثبت\",data!$CS$3:$CS$1499,1)","v":0},{"$f":"SUMIFS(data!$S$3:$S$1499,data!$D$3:$D$1499,$AI11,data!$G$3:$G$1499,\"مثبت\",data!$CS$3:$CS$1499,1)","v":0},{"$f":"SUMIFS(data!$T$3:$T$1499,data!$D$3:$D$1499,$AI11,data!$G$3:$G$1499,\"مثبت\",data!$CS$3:$CS$1499,1)","v":0},{"$f":"SUMIFS(data!$U$3:$U$1499,data!$D$3:$D$1499,$AI11,data!$G$3:$G$1499,\"مثبت\",data!$CS$3:$CS$1499,1)","v":0},{"$f":"SUMIFS(data!$V$3:$V$1499,data!$D$3:$D$1499,$AI11,data!$G$3:$G$1499,\"مثبت\",data!$CS$3:$CS$1499,1)","v":0},{"$f":"SUMIFS(data!$W$3:$W$1499,data!$D$3:$D$1499,$AI11,data!$G$3:$G$1499,\"مثبت\",data!$CS$3:$CS$1499,1)","v":0},{"$f":"SUMIFS(data!$X$3:$X$1499,data!$D$3:$D$1499,$AI11,data!$G$3:$G$1499,\"مثبت\",data!$CS$3:$CS$1499,1)","v":0},{"$f":"SUMIFS(data!$Y$3:$Y$1499,data!$D$3:$D$1499,$AI11,data!$G$3:$G$1499,\"مثبت\",data!$CS$3:$CS$1499,1)","v":0},{"$f":"SUMIFS(data!Z$3:Z$1499,data!$D$3:$D$1499,$AI11,data!$G$3:$G$1499,\"مثبت\",data!$CS$3:$CS$1499,1)","v":0},{"$f":"SUMIFS(data!AA$3:AA$1499,data!$D$3:$D$1499,$AI11,data!$G$3:$G$1499,\"مثبت\",data!$CS$3:$CS$1499,1)","v":0},{"$f":"SUMIFS(data!AB$3:AB$1499,data!$D$3:$D$1499,$AI11,data!$G$3:$G$1499,\"مثبت\",data!$CS$3:$CS$1499,1)","v":0},{"$f":"SUMIFS(data!AC$3:AC$1499,data!$D$3:$D$1499,$AI11,data!$G$3:$G$1499,\"مثبت\",data!$CS$3:$CS$1499,1)","v":0},{"$f":"SUMIFS(data!AD$3:AD$1499,data!$D$3:$D$1499,$AI11,data!$G$3:$G$1499,\"مثبت\",data!$CS$3:$CS$1499,1)","v":0},{"$f":"SUMIFS(data!AE$3:AE$1499,data!$D$3:$D$1499,$AI11,data!$G$3:$G$1499,\"مثبت\",data!$CS$3:$CS$1499,1)","v":0},{"$f":"SUMIFS(data!AF$3:AF$1499,data!$D$3:$D$1499,$AI11,data!$G$3:$G$1499,\"مثبت\",data!$CS$3:$CS$1499,1)","v":0},{"$f":"SUMIFS(data!AG$3:AG$1499,data!$D$3:$D$1499,$AI11,data!$G$3:$G$1499,\"مثبت\",data!$CS$3:$CS$1499,1)","v":0},{"$f":"SUMIFS(data!AH$3:AH$1499,data!$D$3:$D$1499,$AI11,data!$G$3:$G$1499,\"مثبت\",data!$CS$3:$CS$1499,1)","v":0},{"$f":"SUMIFS(data!AI$3:AI$1499,data!$D$3:$D$1499,$AI11,data!$G$3:$G$1499,\"مثبت\",data!$CS$3:$CS$1499,1)","v":0},{"$f":"SUMIFS(data!AJ$3:AJ$1499,data!$D$3:$D$1499,$AI11,data!$G$3:$G$1499,\"مثبت\",data!$CS$3:$CS$1499,1)","v":0},0]
[{"$f":"IFERROR(INDEX($AI$10:$AI$29,MATCH(ROWS($AG$10:AG12),$AG$10:$AG$116,0),1),\"\")","v":""},{"$f":"IFERROR(INDEX($AJ$10:$BM$29,MATCH(ROWS($AG$10:AH12),$AG$10:$AG$116,0),MATCH(COLUMNS($AJ$7:AJ9),$AJ$7:$BM$7,0)),\"\")","v":""},{"$f":"IFERROR(INDEX($AJ$10:$BM$29,MATCH(ROWS($AG$10:AI12),$AG$10:$AG$116,0),MATCH(COLUMNS($AJ$7:AK9),$AJ$7:$BM$7,0)),\"\")","v":""},{"$f":"IFERROR(INDEX($AJ$10:$BM$29,MATCH(ROWS($AG$10:AJ12),$AG$10:$AG$116,0),MATCH(COLUMNS($AJ$7:AL9),$AJ$7:$BM$7,0)),\"\")","v":""},{"$f":"IFERROR(INDEX($AJ$10:$BM$29,MATCH(ROWS($AG$10:AK12),$AG$10:$AG$116,0),MATCH(COLUMNS($AJ$7:AM9),$AJ$7:$BM$7,0)),\"\")","v":""},{"$f":"IFERROR(INDEX($AJ$10:$BM$29,MATCH(ROWS($AG$10:AL12),$AG$10:$AG$116,0),MATCH(COLUMNS($AJ$7:AN9),$AJ$7:$BM$7,0)),\"\")","v":""},{"$f":"IFERROR(INDEX($AJ$10:$BM$29,MATCH(ROWS($AG$10:AM12),$AG$10:$AG$116,0),MATCH(COLUMNS($AJ$7:AO9),$AJ$7:$BM$7,0)),\"\")","v":""},{"$f":"IFERROR(INDEX($AJ$10:$BM$29,MATCH(ROWS($AG$10:AN12),$AG$10:$AG$116,0),MATCH(COLUMNS($AJ$7:AP9),$AJ$7:$BM$7,0)),\"\")","v":""},{"$f":"IFERROR(INDEX($AJ$10:$BM$29,MATCH(ROWS($AG$10:AO12),$AG$10:$AG$116,0),MATCH(COLUMNS($AJ$7:AQ9),$AJ$7:$BM$7,0)),\"\")","v":""},{"$f":"IFERROR(INDEX($AJ$10:$BM$29,MATCH(ROWS($AG$10:AP12),$AG$10:$AG$116,0),MATCH(COLUMNS($AJ$7:AR9),$AJ$7:$BM$7,0)),\"\")","v":""},{"$f":"IFERROR(INDEX($AJ$10:$BM$29,MATCH(ROWS($AG$10:AQ12),$AG$10:$AG$116,0),MATCH(COLUMNS($AJ$7:AS9),$AJ$7:$BM$7,0)),\"\")","v":""},{"$f":"IFERROR(INDEX($AJ$10:$BM$29,MATCH(ROWS($AG$10:AR12),$AG$10:$AG$116,0),MATCH(COLUMNS($AJ$7:AT9),$AJ$7:$BM$7,0)),\"\")","v":""},{"$f":"IFERROR(INDEX($AJ$10:$BM$29,MATCH(ROWS($AG$10:AS12),$AG$10:$AG$116,0),MATCH(COLUMNS($AJ$7:AU9),$AJ$7:$BM$7,0)),\"\")","v":""},{"$f":"IFERROR(INDEX($AJ$10:$BM$29,MATCH(ROWS($AG$10:AT12),$AG$10:$AG$116,0),MATCH(COLUMNS($AJ$7:AV9),$AJ$7:$BM$7,0)),\"\")","v":""},{"$f":"IFERROR(INDEX($AJ$10:$BM$29,MATCH(ROWS($AG$10:AU12),$AG$10:$AG$116,0),MATCH(COLUMNS($AJ$7:AW9),$AJ$7:$BM$7,0)),\"\")","v":""},{"$f":"IFERROR(INDEX($AJ$10:$BM$29,MATCH(ROWS($AG$10:AV12),$AG$10:$AG$116,0),MATCH(COLUMNS($AJ$7:AX9),$AJ$7:$BM$7,0)),\"\")","v":""},{"$f":"IFERROR(INDEX($AJ$10:$BM$29,MATCH(ROWS($AG$10:AW12),$AG$10:$AG$116,0),MATCH(COLUMNS($AJ$7:AY9),$AJ$7:$BM$7,0)),\"\")","v":""},{"$f":"IFERROR(INDEX($AJ$10:$BM$29,MATCH(ROWS($AG$10:AX12),$AG$10:$AG$116,0),MATCH(COLUMNS($AJ$7:AZ9),$AJ$7:$BM$7,0)),\"\")","v":""},{"$f":"IFERROR(INDEX($AJ$10:$BM$29,MATCH(ROWS($AG$10:AY12),$AG$10:$AG$116,0),MATCH(COLUMNS($AJ$7:BA9),$AJ$7:$BM$7,0)),\"\")","v":""},{"$f":"IFERROR(INDEX($AJ$10:$BM$29,MATCH(ROWS($AG$10:AZ12),$AG$10:$AG$116,0),MATCH(COLUMNS($AJ$7:BB9),$AJ$7:$BM$7,0)),\"\")","v":""},{"$f":"IFERROR(INDEX($AJ$10:$BM$29,MATCH(ROWS($AG$10:BA12),$AG$10:$AG$116,0),MATCH(COLUMNS($AJ$7:BC9),$AJ$7:$BM$7,0)),\"\")","v":""},{"$f":"IFERROR(INDEX($AJ$10:$BM$29,MATCH(ROWS($AG$10:BB12),$AG$10:$AG$116,0),MATCH(COLUMNS($AJ$7:BD9),$AJ$7:$BM$7,0)),\"\")","v":""},{"$f":"IFERROR(INDEX($AJ$10:$BM$29,MATCH(ROWS($AG$10:BC12),$AG$10:$AG$116,0),MATCH(COLUMNS($AJ$7:BE9),$AJ$7:$BM$7,0)),\"\")","v":""},{"$f":"IFERROR(INDEX($AJ$10:$BM$29,MATCH(ROWS($AG$10:BD12),$AG$10:$AG$116,0),MATCH(COLUMNS($AJ$7:BF9),$AJ$7:$BM$7,0)),\"\")","v":""},{"$f":"IFERROR(INDEX($AJ$10:$BM$29,MATCH(ROWS($AG$10:BE12),$AG$10:$AG$116,0),MATCH(COLUMNS($AJ$7:BG9),$AJ$7:$BM$7,0)),\"\")","v":""},{"$f":"IFERROR(INDEX($AJ$10:$BM$29,MATCH(ROWS($AG$10:BF12),$AG$10:$AG$116,0),MATCH(COLUMNS($AJ$7:BH9),$AJ$7:$BM$7,0)),\"\")","v":""},{"$f":"IFERROR(INDEX($AJ$10:$BM$29,MATCH(ROWS($AG$10:BG12),$AG$10:$AG$116,0),MATCH(COLUMNS($AJ$7:BI9),$AJ$7:$BM$7,0)),\"\")","v":""},{"$f":"IFERROR(INDEX($AJ$10:$BM$29,MATCH(ROWS($AG$10:BH12),$AG$10:$AG$116,0),MATCH(COLUMNS($AJ$7:BJ9),$AJ$7:$BM$7,0)),\"\")","v":""},{"$f":"IFERROR(INDEX($AJ$10:$BM$29,MATCH(ROWS($AG$10:BI12),$AG$10:$AG$116,0),MATCH(COLUMNS($AJ$7:BK9),$AJ$7:$BM$7,0)),\"\")","v":""},{"$f":"IFERROR(INDEX($AJ$10:$BM$29,MATCH(ROWS($AG$10:BJ12),$AG$10:$AG$116,0),MATCH(COLUMNS($AJ$7:BL9),$AJ$7:$BM$7,0)),\"\")","v":""},{"$f":"IFERROR(INDEX($AJ$10:$BM$29,MATCH(ROWS($AG$10:BK12),$AG$10:$AG$116,0),MATCH(COLUMNS($AJ$7:BM9),$AJ$7:$BM$7,0)),\"\")","v":""},null,{"$f":"IF(AH12=0,\"\",COUNTIF($AH$10:AH12,\"=1\"))","v":""},0,"اشرشیاکلای",{"$f":"SUMIFS(data!$H$3:$H$1499,data!$D$3:$D$1499,AI12,data!$G$3:$G$1499,\"مثبت\",data!$CS$3:$CS$1499,1)","v":0},{"$f":"SUMIFS(data!$I$3:$I$1499,data!$D$3:$D$1499,AI12,data!$G$3:$G$1499,\"مثبت\",data!$CS$3:$CS$1499,1)","v":0},{"$f":"SUMIFS(data!$J$3:$J$1499,data!$D$3:$D$1499,$AI12,data!$G$3:$G$1499,\"مثبت\",data!$CS$3:$CS$1499,1)","v":0},{"$f":"SUMIFS(data!$K$3:$K$1499,data!$D$3:$D$1499,$AI12,data!$G$3:$G$1499,\"مثبت\",data!$CS$3:$CS$1499,1)","v":0},{"$f":"SUMIFS(data!$L$3:$L$1499,data!$D$3:$D$1499,$AI12,data!$G$3:$G$1499,\"مثبت\",data!$CS$3:$CS$1499,1)","v":0},{"$f":"SUMIFS(data!$M$3:$M$1499,data!$D$3:$D$1499,$AI12,data!$G$3:$G$1499,\"مثبت\",data!$CS$3:$CS$1499,1)","v":0},{"$f":"SUMIFS(data!$N$3:$N$1499,data!$D$3:$D$1499,$AI12,data!$G$3:$G$1499,\"مثبت\",data!$CS$3:$CS$1499,1)","v":0},{"$f":"SUMIFS(data!$O$3:$O$1499,data!$D$3:$D$1499,$AI12,data!$G$3:$G$1499,\"مثبت\",data!$CS$3:$CS$1499,1)","v":0},{"$f":"SUMIFS(data!$P$3:$P$1499,data!$D$3:$D$1499,$AI12,data!$G$3:$G$1499,\"مثبت\",data!$CS$3:$CS$1499,1)","v":0},{"$f":"SUMIFS(data!$Q$3:$Q$1499,data!$D$3:$D$1499,$AI12,data!$G$3:$G$1499,\"مثبت\",data!$CS$3:$CS$1499,1)","v":0},{"$f":"SUMIFS(data!$R$3:$R$1499,data!$D$3:$D$1499,$AI12,data!$G$3:$G$1499,\"مثبت\",data!$CS$3:$CS$1499,1)","v":0},{"$f":"SUMIFS(data!$S$3:$S$1499,data!$D$3:$D$1499,$AI12,data!$G$3:$G$1499,\"مثبت\",data!$CS$3:$CS$1499,1)","v":0},{"$f":"SUMIFS(data!$T$3:$T$1499,data!$D$3:$D$1499,$AI12,data!$G$3:$G$1499,\"مثبت\",data!$CS$3:$CS$1499,1)","v":0},{"$f":"SUMIFS(data!$U$3:$U$1499,data!$D$3:$D$1499,$AI12,data!$G$3:$G$1499,\"مثبت\",data!$CS$3:$CS$1499,1)","v":0},{"$f":"SUMIFS(data!$V$3:$V$1499,data!$D$3:$D$1499,$AI12,data!$G$3:$G$1499,\"مثبت\",data!$CS$3:$CS$1499,1)","v":0},{"$f":"SUMIFS(data!$W$3:$W$1499,data!$D$3:$D$1499,$AI12,data!$G$3:$G$1499,\"مثبت\",data!$CS$3:$CS$1499,1)","v":0},{"$f":"SUMIFS(data!$X$3:$X$1499,data!$D$3:$D$1499,$AI12,data!$G$3:$G$1499,\"مثبت\",data!$CS$3:$CS$1499,1)","v":0},{"$f":"SUMIFS(data!$Y$3:$Y$1499,data!$D$3:$D$1499,$AI12,data!$G$3:$G$1499,\"مثبت\",data!$CS$3:$CS$1499,1)","v":0},{"$f":"SUMIFS(data!Z$3:Z$1499,data!$D$3:$D$1499,$AI12,data!$G$3:$G$1499,\"مثبت\",data!$CS$3:$CS$1499,1)","v":0},{"$f":"SUMIFS(data!AA$3:AA$1499,data!$D$3:$D$1499,$AI12,data!$G$3:$G$1499,\"مثبت\",data!$CS$3:$CS$1499,1)","v":0},{"$f":"SUMIFS(data!AB$3:AB$1499,data!$D$3:$D$1499,$AI12,data!$G$3:$G$1499,\"مثبت\",data!$CS$3:$CS$1499,1)","v":0},{"$f":"SUMIFS(data!AC$3:AC$1499,data!$D$3:$D$1499,$AI12,data!$G$3:$G$1499,\"مثبت\",data!$CS$3:$CS$1499,1)","v":0},{"$f":"SUMIFS(data!AD$3:AD$1499,data!$D$3:$D$1499,$AI12,data!$G$3:$G$1499,\"مثبت\",data!$CS$3:$CS$1499,1)","v":0},{"$f":"SUMIFS(data!AE$3:AE$1499,data!$D$3:$D$1499,$AI12,data!$G$3:$G$1499,\"مثبت\",data!$CS$3:$CS$1499,1)","v":0},{"$f":"SUMIFS(data!AF$3:AF$1499,data!$D$3:$D$1499,$AI12,data!$G$3:$G$1499,\"مثبت\",data!$CS$3:$CS$1499,1)","v":0},{"$f":"SUMIFS(data!AG$3:AG$1499,data!$D$3:$D$1499,$AI12,data!$G$3:$G$1499,\"مثبت\",data!$CS$3:$CS$1499,1)","v":0},{"$f":"SUMIFS(data!AH$3:AH$1499,data!$D$3:$D$1499,$AI12,data!$G$3:$G$1499,\"مثبت\",data!$CS$3:$CS$1499,1)","v":0},{"$f":"SUMIFS(data!AI$3:AI$1499,data!$D$3:$D$1499,$AI12,data!$G$3:$G$1499,\"مثبت\",data!$CS$3:$CS$1499,1)","v":0},{"$f":"SUMIFS(data!AJ$3:AJ$1499,data!$D$3:$D$1499,$AI12,data!$G$3:$G$1499,\"مثبت\",data!$CS$3:$CS$1499,1)","v":0},0]
[{"$f":"IFERROR(INDEX($AI$10:$AI$29,MATCH(ROWS($AG$10:AG13),$AG$10:$AG$116,0),1),\"\")","v":""},{"$f":"IFERROR(INDEX($AJ$10:$BM$29,MATCH(ROWS($AG$10:AH13),$AG$10:$AG$116,0),MATCH(COLUMNS($AJ$7:AJ10),$AJ$7:$BM$7,0)),\"\")","v":""},{"$f":"IFERROR(INDEX($AJ$10:$BM$29,MATCH(ROWS($AG$10:AI13),$AG$10:$AG$116,0),MATCH(COLUMNS($AJ$7:AK10),$AJ$7:$BM$7,0)),\"\")","v":""},{"$f":"IFERROR(INDEX($AJ$10:$BM$29,MATCH(ROWS($AG$10:AJ13),$AG$10:$AG$116,0),MATCH(COLUMNS($AJ$7:AL10),$AJ$7:$BM$7,0)),\"\")","v":""},{"$f":"IFERROR(INDEX($AJ$10:$BM$29,MATCH(ROWS($AG$10:AK13),$AG$10:$AG$116,0),MATCH(COLUMNS($AJ$7:AM10),$AJ$7:$BM$7,0)),\"\")","v":""},{"$f":"IFERROR(INDEX($AJ$10:$BM$29,MATCH(ROWS($AG$10:AL13),$AG$10:$AG$116,0),MATCH(COLUMNS($AJ$7:AN10),$AJ$7:$BM$7,0)),\"\")","v":""},{"$f":"IFERROR(INDEX($AJ$10:$BM$29,MATCH(ROWS($AG$10:AM13),$AG$10:$AG$116,0),MATCH(COLUMNS($AJ$7:AO10),$AJ$7:$BM$7,0)),\"\")","v":""},{"$f":"IFERROR(INDEX($AJ$10:$BM$29,MATCH(ROWS($AG$10:AN13),$AG$10:$AG$116,0),MATCH(COLUMNS($AJ$7:AP10),$AJ$7:$BM$7,0)),\"\")","v":""},{"$f":"IFERROR(INDEX($AJ$10:$BM$29,MATCH(ROWS($AG$10:AO13),$AG$10:$AG$116,0),MATCH(COLUMNS($AJ$7:AQ10),$AJ$7:$BM$7,0)),\"\")","v":""},{"$f":"IFERROR(INDEX($AJ$10:$BM$29,MATCH(ROWS($AG$10:AP13),$AG$10:$AG$116,0),MATCH(COLUMNS($AJ$7:AR10),$AJ$7:$BM$7,0)),\"\")","v":""},{"$f":"IFERROR(INDEX($AJ$10:$BM$29,MATCH(ROWS($AG$10:AQ13),$AG$10:$AG$116,0),MATCH(COLUMNS($AJ$7:AS10),$AJ$7:$BM$7,0)),\"\")","v":""},{"$f":"IFERROR(INDEX($AJ$10:$BM$29,MATCH(ROWS($AG$10:AR13),$AG$10:$AG$116,0),MATCH(COLUMNS($AJ$7:AT10),$AJ$7:$BM$7,0)),\"\")","v":""},{"$f":"IFERROR(INDEX($AJ$10:$BM$29,MATCH(ROWS($AG$10:AS13),$AG$10:$AG$116,0),MATCH(COLUMNS($AJ$7:AU10),$AJ$7:$BM$7,0)),\"\")","v":""},{"$f":"IFERROR(INDEX($AJ$10:$BM$29,MATCH(ROWS($AG$10:AT13),$AG$10:$AG$116,0),MATCH(COLUMNS($AJ$7:AV10),$AJ$7:$BM$7,0)),\"\")","v":""},{"$f":"IFERROR(INDEX($AJ$10:$BM$29,MATCH(ROWS($AG$10:AU13),$AG$10:$AG$116,0),MATCH(COLUMNS($AJ$7:AW10),$AJ$7:$BM$7,0)),\"\")","v":""},{"$f":"IFERROR(INDEX($AJ$10:$BM$29,MATCH(ROWS($AG$10:AV13),$AG$10:$AG$116,0),MATCH(COLUMNS($AJ$7:AX10),$AJ$7:$BM$7,0)),\"\")","v":""},{"$f":"IFERROR(INDEX($AJ$10:$BM$29,MATCH(ROWS($AG$10:AW13),$AG$10:$AG$116,0),MATCH(COLUMNS($AJ$7:AY10),$AJ$7:$BM$7,0)),\"\")","v":""},{"$f":"IFERROR(INDEX($AJ$10:$BM$29,MATCH(ROWS($AG$10:AX13),$AG$10:$AG$116,0),MATCH(COLUMNS($AJ$7:AZ10),$AJ$7:$BM$7,0)),\"\")","v":""},{"$f":"IFERROR(INDEX($AJ$10:$BM$29,MATCH(ROWS($AG$10:AY13),$AG$10:$AG$116,0),MATCH(COLUMNS($AJ$7:BA10),$AJ$7:$BM$7,0)),\"\")","v":""},{"$f":"IFERROR(INDEX($AJ$10:$BM$29,MATCH(ROWS($AG$10:AZ13),$AG$10:$AG$116,0),MATCH(COLUMNS($AJ$7:BB10),$AJ$7:$BM$7,0)),\"\")","v":""},{"$f":"IFERROR(INDEX($AJ$10:$BM$29,MATCH(ROWS($AG$10:BA13),$AG$10:$AG$116,0),MATCH(COLUMNS($AJ$7:BC10),$AJ$7:$BM$7,0)),\"\")","v":""},{"$f":"IFERROR(INDEX($AJ$10:$BM$29,MATCH(ROWS($AG$10:BB13),$AG$10:$AG$116,0),MATCH(COLUMNS($AJ$7:BD10),$AJ$7:$BM$7,0)),\"\")","v":""},{"$f":"IFERROR(INDEX($AJ$10:$BM$29,MATCH(ROWS($AG$10:BC13),$AG$10:$AG$116,0),MATCH(COLUMNS($AJ$7:BE10),$AJ$7:$BM$7,0)),\"\")","v":""},{"$f":"IFERROR(INDEX($AJ$10:$BM$29,MATCH(ROWS($AG$10:BD13),$AG$10:$AG$116,0),MATCH(COLUMNS($AJ$7:BF10),$AJ$7:$BM$7,0)),\"\")","v":""},{"$f":"IFERROR(INDEX($AJ$10:$BM$29,MATCH(ROWS($AG$10:BE13),$AG$10:$AG$116,0),MATCH(COLUMNS($AJ$7:BG10),$AJ$7:$BM$7,0)),\"\")","v":""},{"$f":"IFERROR(INDEX($AJ$10:$BM$29,MATCH(ROWS($AG$10:BF13),$AG$10:$AG$116,0),MATCH(COLUMNS($AJ$7:BH10),$AJ$7:$BM$7,0)),\"\")","v":""},{"$f":"IFERROR(INDEX($AJ$10:$BM$29,MATCH(ROWS($AG$10:BG13),$AG$10:$AG$116,0),MATCH(COLUMNS($AJ$7:BI10),$AJ$7:$BM$7,0)),\"\")","v":""},{"$f":"IFERROR(INDEX($AJ$10:$BM$29,MATCH(ROWS($AG$10:BH13),$AG$10:$AG$116,0),MATCH(COLUMNS($AJ$7:BJ10),$AJ$7:$BM$7,0)),\"\")","v":""},{"$f":"IFERROR(INDEX($AJ$10:$BM$29,MATCH(ROWS($AG$10:BI13),$AG$10:$AG$116,0),MATCH(COLUMNS($AJ$7:BK10),$AJ$7:$BM$7,0)),\"\")","v":""},{"$f":"IFERROR(INDEX($AJ$10:$BM$29,MATCH(ROWS($AG$10:BJ13),$AG$10:$AG$116,0),MATCH(COLUMNS($AJ$7:BL10),$AJ$7:$BM$7,0)),\"\")","v":""},{"$f":"IFERROR(INDEX($AJ$10:$BM$29,MATCH(ROWS($AG$10:BK13),$AG$10:$AG$116,0),MATCH(COLUMNS($AJ$7:BM10),$AJ$7:$BM$7,0)),\"\")","v":""},null,{"$f":"IF(AH13=0,\"\",COUNTIF($AH$10:AH13,\"=1\"))","v":""},0,"استاف کوآگولاز منفی",{"$f":"SUMIFS(data!$H$3:$H$1499,data!$D$3:$D$1499,AI13,data!$G$3:$G$1499,\"مثبت\",data!$CS$3:$CS$1499,1)","v":0},{"$f":"SUMIFS(data!$I$3:$I$1499,data!$D$3:$D$1499,AI13,data!$G$3:$G$1499,\"مثبت\",data!$CS$3:$CS$1499,1)","v":0},{"$f":"SUMIFS(data!$J$3:$J$1499,data!$D$3:$D$1499,$AI13,data!$G$3:$G$1499,\"مثبت\",data!$CS$3:$CS$1499,1)","v":0},{"$f":"SUMIFS(data!$K$3:$K$1499,data!$D$3:$D$1499,$AI13,data!$G$3:$G$1499,\"مثبت\",data!$CS$3:$CS$1499,1)","v":0},{"$f":"SUMIFS(data!$L$3:$L$1499,data!$D$3:$D$1499,$AI13,data!$G$3:$G$1499,\"مثبت\",data!$CS$3:$CS$1499,1)","v":0},{"$f":"SUMIFS(data!$M$3:$M$1499,data!$D$3:$D$1499,$AI13,data!$G$3:$G$1499,\"مثبت\",data!$CS$3:$CS$1499,1)","v":0},{"$f":"SUMIFS(data!$N$3:$N$1499,data!$D$3:$D$1499,$AI13,data!$G$3:$G$1499,\"مثبت\",data!$CS$3:$CS$1499,1)","v":0},{"$f":"SUMIFS(data!$O$3:$O$1499,data!$D$3:$D$1499,$AI13,data!$G$3:$G$1499,\"مثبت\",data!$CS$3:$CS$1499,1)","v":0},{"$f":"SUMIFS(data!$P$3:$P$1499,data!$D$3:$D$1499,$AI13,data!$G$3:$G$1499,\"مثبت\",data!$CS$3:$CS$1499,1)","v":0},{"$f":"SUMIFS(data!$Q$3:$Q$1499,data!$D$3:$D$1499,$AI13,data!$G$3:$G$1499,\"مثبت\",data!$CS$3:$CS$1499,1)","v":0},{"$f":"SUMIFS(data!$R$3:$R$1499,data!$D$3:$D$1499,$AI13,data!$G$3:$G$1499,\"مثبت\",data!$CS$3:$CS$1499,1)","v":0},{"$f":"SUMIFS(data!$S$3:$S$1499,data!$D$3:$D$1499,$AI13,data!$G$3:$G$1499,\"مثبت\",data!$CS$3:$CS$1499,1)","v":0},{"$f":"SUMIFS(data!$T$3:$T$1499,data!$D$3:$D$1499,$AI13,data!$G$3:$G$1499,\"مثبت\",data!$CS$3:$CS$1499,1)","v":0},{"$f":"SUMIFS(data!$U$3:$U$1499,data!$D$3:$D$1499,$AI13,data!$G$3:$G$1499,\"مثبت\",data!$CS$3:$CS$1499,1)","v":0},{"$f":"SUMIFS(data!$V$3:$V$1499,data!$D$3:$D$1499,$AI13,data!$G$3:$G$1499,\"مثبت\",data!$CS$3:$CS$1499,1)","v":0},{"$f":"SUMIFS(data!$W$3:$W$1499,data!$D$3:$D$1499,$AI13,data!$G$3:$G$1499,\"مثبت\",data!$CS$3:$CS$1499,1)","v":0},{"$f":"SUMIFS(data!$X$3:$X$1499,data!$D$3:$D$1499,$AI13,data!$G$3:$G$1499,\"مثبت\",data!$CS$3:$CS$1499,1)","v":0},{"$f":"SUMIFS(data!$Y$3:$Y$1499,data!$D$3:$D$1499,$AI13,data!$G$3:$G$1499,\"مثبت\",data!$CS$3:$CS$1499,1)","v":0},{"$f":"SUMIFS(data!Z$3:Z$1499,data!$D$3:$D$1499,$AI13,data!$G$3:$G$1499,\"مثبت\",data!$CS$3:$CS$1499,1)","v":0},{"$f":"SUMIFS(data!AA$3:AA$1499,data!$D$3:$D$1499,$AI13,data!$G$3:$G$1499,\"مثبت\",data!$CS$3:$CS$1499,1)","v":0},{"$f":"SUMIFS(data!AB$3:AB$1499,data!$D$3:$D$1499,$AI13,data!$G$3:$G$1499,\"مثبت\",data!$CS$3:$CS$1499,1)","v":0},{"$f":"SUMIFS(data!AC$3:AC$1499,data!$D$3:$D$1499,$AI13,data!$G$3:$G$1499,\"مثبت\",data!$CS$3:$CS$1499,1)","v":0},{"$f":"SUMIFS(data!AD$3:AD$1499,data!$D$3:$D$1499,$AI13,data!$G$3:$G$1499,\"مثبت\",data!$CS$3:$CS$1499,1)","v":0},{"$f":"SUMIFS(data!AE$3:AE$1499,data!$D$3:$D$1499,$AI13,data!$G$3:$G$1499,\"مثبت\",data!$CS$3:$CS$1499,1)","v":0},{"$f":"SUMIFS(data!AF$3:AF$1499,data!$D$3:$D$1499,$AI13,data!$G$3:$G$1499,\"مثبت\",data!$CS$3:$CS$1499,1)","v":0},{"$f":"SUMIFS(data!AG$3:AG$1499,data!$D$3:$D$1499,$AI13,data!$G$3:$G$1499,\"مثبت\",data!$CS$3:$CS$1499,1)","v":0},{"$f":"SUMIFS(data!AH$3:AH$1499,data!$D$3:$D$1499,$AI13,data!$G$3:$G$1499,\"مثبت\",data!$CS$3:$CS$1499,1)","v":0},{"$f":"SUMIFS(data!AI$3:AI$1499,data!$D$3:$D$1499,$AI13,data!$G$3:$G$1499,\"مثبت\",data!$CS$3:$CS$1499,1)","v":0},{"$f":"SUMIFS(data!AJ$3:AJ$1499,data!$D$3:$D$1499,$AI13,data!$G$3:$G$1499,\"مثبت\",data!$CS$3:$CS$1499,1)","v":0},0]
[{"$f":"IFERROR(INDEX($AI$10:$AI$29,MATCH(ROWS($AG$10:AG14),$AG$10:$AG$116,0),1),\"\")","v":""},{"$f":"IFERROR(INDEX($AJ$10:$BM$29,MATCH(ROWS($AG$10:AH14),$AG$10:$AG$116,0),MATCH(COLUMNS($AJ$7:AJ11),$AJ$7:$BM$7,0)),\"\")","v":""},{"$f":"IFERROR(INDEX($AJ$10:$BM$29,MATCH(ROWS($AG$10:AI14),$AG$10:$AG$116,0),MATCH(COLUMNS($AJ$7:AK11),$AJ$7:$BM$7,0)),\"\")","v":""},{"$f":"IFERROR(INDEX($AJ$10:$BM$29,MATCH(ROWS($AG$10:AJ14),$AG$10:$AG$116,0),MATCH(COLUMNS($AJ$7:AL11),$AJ$7:$BM$7,0)),\"\")","v":""},{"$f":"IFERROR(INDEX($AJ$10:$BM$29,MATCH(ROWS($AG$10:AK14),$AG$10:$AG$116,0),MATCH(COLUMNS($AJ$7:AM11),$AJ$7:$BM$7,0)),\"\")","v":""},{"$f":"IFERROR(INDEX($AJ$10:$BM$29,MATCH(ROWS($AG$10:AL14),$AG$10:$AG$116,0),MATCH(COLUMNS($AJ$7:AN11),$AJ$7:$BM$7,0)),\"\")","v":""},{"$f":"IFERROR(INDEX($AJ$10:$BM$29,MATCH(ROWS($AG$10:AM14),$AG$10:$AG$116,0),MATCH(COLUMNS($AJ$7:AO11),$AJ$7:$BM$7,0)),\"\")","v":""},{"$f":"IFERROR(INDEX($AJ$10:$BM$29,MATCH(ROWS($AG$10:AN14),$AG$10:$AG$116,0),MATCH(COLUMNS($AJ$7:AP11),$AJ$7:$BM$7,0)),\"\")","v":""},{"$f":"IFERROR(INDEX($AJ$10:$BM$29,MATCH(ROWS($AG$10:AO14),$AG$10:$AG$116,0),MATCH(COLUMNS($AJ$7:AQ11),$AJ$7:$BM$7,0)),\"\")","v":""},{"$f":"IFERROR(INDEX($AJ$10:$BM$29,MATCH(ROWS($AG$10:AP14),$AG$10:$AG$116,0),MATCH(COLUMNS($AJ$7:AR11),$AJ$7:$BM$7,0)),\"\")","v":""},{"$f":"IFERROR(INDEX($AJ$10:$BM$29,MATCH(ROWS($AG$10:AQ14),$AG$10:$AG$116,0),MATCH(COLUMNS($AJ$7:AS11),$AJ$7:$BM$7,0)),\"\")","v":""},{"$f":"IFERROR(INDEX($AJ$10:$BM$29,MATCH(ROWS($AG$10:AR14),$AG$10:$AG$116,0),MATCH(COLUMNS($AJ$7:AT11),$AJ$7:$BM$7,0)),\"\")","v":""},{"$f":"IFERROR(INDEX($AJ$10:$BM$29,MATCH(ROWS($AG$10:AS14),$AG$10:$AG$116,0),MATCH(COLUMNS($AJ$7:AU11),$AJ$7:$BM$7,0)),\"\")","v":""},{"$f":"IFERROR(INDEX($AJ$10:$BM$29,MATCH(ROWS($AG$10:AT14),$AG$10:$AG$116,0),MATCH(COLUMNS($AJ$7:AV11),$AJ$7:$BM$7,0)),\"\")","v":""},{"$f":"IFERROR(INDEX($AJ$10:$BM$29,MATCH(ROWS($AG$10:AU14),$AG$10:$AG$116,0),MATCH(COLUMNS($AJ$7:AW11),$AJ$7:$BM$7,0)),\"\")","v":""},{"$f":"IFERROR(INDEX($AJ$10:$BM$29,MATCH(ROWS($AG$10:AV14),$AG$10:$AG$116,0),MATCH(COLUMNS($AJ$7:AX11),$AJ$7:$BM$7,0)),\"\")","v":""},{"$f":"IFERROR(INDEX($AJ$10:$BM$29,MATCH(ROWS($AG$10:AW14),$AG$10:$AG$116,0),MATCH(COLUMNS($AJ$7:AY11),$AJ$7:$BM$7,0)),\"\")","v":""},{"$f":"IFERROR(INDEX($AJ$10:$BM$29,MATCH(ROWS($AG$10:AX14),$AG$10:$AG$116,0),MATCH(COLUMNS($AJ$7:AZ11),$AJ$7:$BM$7,0)),\"\")","v":""},{"$f":"IFERROR(INDEX($AJ$10:$BM$29,MATCH(ROWS($AG$10:AY14),$AG$10:$AG$116,0),MATCH(COLUMNS($AJ$7:BA11),$AJ$7:$BM$7,0)),\"\")","v":""},{"$f":"IFERROR(INDEX($AJ$10:$BM$29,MATCH(ROWS($AG$10:AZ14),$AG$10:$AG$116,0),MATCH(COLUMNS($AJ$7:BB11),$AJ$7:$BM$7,0)),\"\")","v":""},{"$f":"IFERROR(INDEX($AJ$10:$BM$29,MATCH(ROWS($AG$10:BA14),$AG$10:$AG$116,0),MATCH(COLUMNS($AJ$7:BC11),$AJ$7:$BM$7,0)),\"\")","v":""},{"$f":"IFERROR(INDEX($AJ$10:$BM$29,MATCH(ROWS($AG$10:BB14),$AG$10:$AG$116,0),MATCH(COLUMNS($AJ$7:BD11),$AJ$7:$BM$7,0)),\"\")","v":""},{"$f":"IFERROR(INDEX($AJ$10:$BM$29,MATCH(ROWS($AG$10:BC14),$AG$10:$AG$116,0),MATCH(COLUMNS($AJ$7:BE11),$AJ$7:$BM$7,0)),\"\")","v":""},{"$f":"IFERROR(INDEX($AJ$10:$BM$29,MATCH(ROWS($AG$10:BD14),$AG$10:$AG$116,0),MATCH(COLUMNS($AJ$7:BF11),$AJ$7:$BM$7,0)),\"\")","v":""},{"$f":"IFERROR(INDEX($AJ$10:$BM$29,MATCH(ROWS($AG$10:BE14),$AG$10:$AG$116,0),MATCH(COLUMNS($AJ$7:BG11),$AJ$7:$BM$7,0)),\"\")","v":""},{"$f":"IFERROR(INDEX($AJ$10:$BM$29,MATCH(ROWS($AG$10:BF14),$AG$10:$AG$116,0),MATCH(COLUMNS($AJ$7:BH11),$AJ$7:$BM$7,0)),\"\")","v":""},{"$f":"IFERROR(INDEX($AJ$10:$BM$29,MATCH(ROWS($AG$10:BG14),$AG$10:$AG$116,0),MATCH(COLUMNS($AJ$7:BI11),$AJ$7:$BM$7,0)),\"\")","v":""},{"$f":"IFERROR(INDEX($AJ$10:$BM$29,MATCH(ROWS($AG$10:BH14),$AG$10:$AG$116,0),MATCH(COLUMNS($AJ$7:BJ11),$AJ$7:$BM$7,0)),\"\")","v":""},{"$f":"IFERROR(INDEX($AJ$10:$BM$29,MATCH(ROWS($AG$10:BI14),$AG$10:$AG$116,0),MATCH(COLUMNS($AJ$7:BK11),$AJ$7:$BM$7,0)),\"\")","v":""},{"$f":"IFERROR(INDEX($AJ$10:$BM$29,MATCH(ROWS($AG$10:BJ14),$AG$10:$AG$116,0),MATCH(COLUMNS($AJ$7:BL11),$AJ$7:$BM$7,0)),\"\")","v":""},{"$f":"IFERROR(INDEX($AJ$10:$BM$29,MATCH(ROWS($AG$10:BK14),$AG$10:$AG$116,0),MATCH(COLUMNS($AJ$7:BM11),$AJ$7:$BM$7,0)),\"\")","v":""},null,{"$f":"IF(AH14=0,\"\",COUNTIF($AH$10:AH14,\"=1\"))","v":""},0,"استاف کوآگولاز مثبت",{"$f":"SUMIFS(data!$H$3:$H$1499,data!$D$3:$D$1499,AI14,data!$G$3:$G$1499,\"مثبت\",data!$CS$3:$CS$1499,1)","v":0},{"$f":"SUMIFS(data!$I$3:$I$1499,data!$D$3:$D$1499,AI14,data!$G$3:$G$1499,\"مثبت\",data!$CS$3:$CS$1499,1)","v":0},{"$f":"SUMIFS(data!$J$3:$J$1499,data!$D$3:$D$1499,$AI14,data!$G$3:$G$1499,\"مثبت\",data!$CS$3:$CS$1499,1)","v":0},{"$f":"SUMIFS(data!$K$3:$K$1499,data!$D$3:$D$1499,$AI14,data!$G$3:$G$1499,\"مثبت\",data!$CS$3:$CS$1499,1)","v":0},{"$f":"SUMIFS(data!$L$3:$L$1499,data!$D$3:$D$1499,$AI14,data!$G$3:$G$1499,\"مثبت\",data!$CS$3:$CS$1499,1)","v":0},{"$f":"SUMIFS(data!$M$3:$M$1499,data!$D$3:$D$1499,$AI14,data!$G$3:$G$1499,\"مثبت\",data!$CS$3:$CS$1499,1)","v":0},{"$f":"SUMIFS(data!$N$3:$N$1499,data!$D$3:$D$1499,$AI14,data!$G$3:$G$1499,\"مثبت\",data!$CS$3:$CS$1499,1)","v":0},{"$f":"SUMIFS(data!$O$3:$O$1499,data!$D$3:$D$1499,$AI14,data!$G$3:$G$1499,\"مثبت\",data!$CS$3:$CS$1499,1)","v":0},{"$f":"SUMIFS(data!$P$3:$P$1499,data!$D$3:$D$1499,$AI14,data!$G$3:$G$1499,\"مثبت\",data!$CS$3:$CS$1499,1)","v":0},{"$f":"SUMIFS(data!$Q$3:$Q$1499,data!$D$3:$D$1499,$AI14,data!$G$3:$G$1499,\"مثبت\",data!$CS$3:$CS$1499,1)","v":0},{"$f":"SUMIFS(data!$R$3:$R$1499,data!$D$3:$D$1499,$AI14,data!$G$3:$G$1499,\"مثبت\",data!$CS$3:$CS$1499,1)","v":0},{"$f":"SUMIFS(data!$S$3:$S$1499,data!$D$3:$D$1499,$AI14,data!$G$3:$G$1499,\"مثبت\",data!$CS$3:$CS$1499,1)","v":0},{"$f":"SUMIFS(data!$T$3:$T$1499,data!$D$3:$D$1499,$AI14,data!$G$3:$G$1499,\"مثبت\",data!$CS$3:$CS$1499,1)","v":0},{"$f":"SUMIFS(data!$U$3:$U$1499,data!$D$3:$D$1499,$AI14,data!$G$3:$G$1499,\"مثبت\",data!$CS$3:$CS$1499,1)","v":0},{"$f":"SUMIFS(data!$V$3:$V$1499,data!$D$3:$D$1499,$AI14,data!$G$3:$G$1499,\"مثبت\",data!$CS$3:$CS$1499,1)","v":0},{"$f":"SUMIFS(data!$W$3:$W$1499,data!$D$3:$D$1499,$AI14,data!$G$3:$G$1499,\"مثبت\",data!$CS$3:$CS$1499,1)","v":0},{"$f":"SUMIFS(data!$X$3:$X$1499,data!$D$3:$D$1499,$AI14,data!$G$3:$G$1499,\"مثبت\",data!$CS$3:$CS$1499,1)","v":0},{"$f":"SUMIFS(data!$Y$3:$Y$1499,data!$D$3:$D$1499,$AI14,data!$G$3:$G$1499,\"مثبت\",data!$CS$3:$CS$1499,1)","v":0},{"$f":"SUMIFS(data!Z$3:Z$1499,data!$D$3:$D$1499,$AI14,data!$G$3:$G$1499,\"مثبت\",data!$CS$3:$CS$1499,1)","v":0},{"$f":"SUMIFS(data!AA$3:AA$1499,data!$D$3:$D$1499,$AI14,data!$G$3:$G$1499,\"مثبت\",data!$CS$3:$CS$1499,1)","v":0},{"$f":"SUMIFS(data!AB$3:AB$1499,data!$D$3:$D$1499,$AI14,data!$G$3:$G$1499,\"مثبت\",data!$CS$3:$CS$1499,1)","v":0},{"$f":"SUMIFS(data!AC$3:AC$1499,data!$D$3:$D$1499,$AI14,data!$G$3:$G$1499,\"مثبت\",data!$CS$3:$CS$1499,1)","v":0},{"$f":"SUMIFS(data!AD$3:AD$1499,data!$D$3:$D$1499,$AI14,data!$G$3:$G$1499,\"مثبت\",data!$CS$3:$CS$1499,1)","v":0},{"$f":"SUMIFS(data!AE$3:AE$1499,data!$D$3:$D$1499,$AI14,data!$G$3:$G$1499,\"مثبت\",data!$CS$3:$CS$1499,1)","v":0},{"$f":"SUMIFS(data!AF$3:AF$1499,data!$D$3:$D$1499,$AI14,data!$G$3:$G$1499,\"مثبت\",data!$CS$3:$CS$1499,1)","v":0},{"$f":"SUMIFS(data!AG$3:AG$1499,data!$D$3:$D$1499,$AI14,data!$G$3:$G$1499,\"مثبت\",data!$CS$3:$CS$1499,1)","v":0},{"$f":"SUMIFS(data!AH$3:AH$1499,data!$D$3:$D$1499,$AI14,data!$G$3:$G$1499,\"مثبت\",data!$CS$3:$CS$1499,1)","v":0},{"$f":"SUMIFS(data!AI$3:AI$1499,data!$D$3:$D$1499,$AI14,data!$G$3:$G$1499,\"مثبت\",data!$CS$3:$CS$1499,1)","v":0},{"$f":"SUMIFS(data!AJ$3:AJ$1499,data!$D$3:$D$1499,$AI14,data!$G$3:$G$1499,\"مثبت\",data!$CS$3:$CS$1499,1)","v":0},0]
[{"$f":"IFERROR(INDEX($AI$10:$AI$29,MATCH(ROWS($AG$10:AG15),$AG$10:$AG$116,0),1),\"\")","v":""},{"$f":"IFERROR(INDEX($AJ$10:$BM$29,MATCH(ROWS($AG$10:AH15),$AG$10:$AG$116,0),MATCH(COLUMNS($AJ$7:AJ12),$AJ$7:$BM$7,0)),\"\")","v":""},{"$f":"IFERROR(INDEX($AJ$10:$BM$29,MATCH(ROWS($AG$10:AI15),$AG$10:$AG$116,0),MATCH(COLUMNS($AJ$7:AK12),$AJ$7:$BM$7,0)),\"\")","v":""},{"$f":"IFERROR(INDEX($AJ$10:$BM$29,MATCH(ROWS($AG$10:AJ15),$AG$10:$AG$116,0),MATCH(COLUMNS($AJ$7:AL12),$AJ$7:$BM$7,0)),\"\")","v":""},{"$f":"IFERROR(INDEX($AJ$10:$BM$29,MATCH(ROWS($AG$10:AK15),$AG$10:$AG$116,0),MATCH(COLUMNS($AJ$7:AM12),$AJ$7:$BM$7,0)),\"\")","v":""},{"$f":"IFERROR(INDEX($AJ$10:$BM$29,MATCH(ROWS($AG$10:AL15),$AG$10:$AG$116,0),MATCH(COLUMNS($AJ$7:AN12),$AJ$7:$BM$7,0)),\"\")","v":""},{"$f":"IFERROR(INDEX($AJ$10:$BM$29,MATCH(ROWS($AG$10:AM15),$AG$10:$AG$116,0),MATCH(COLUMNS($AJ$7:AO12),$AJ$7:$BM$7,0)),\"\")","v":""},{"$f":"IFERROR(INDEX($AJ$10:$BM$29,MATCH(ROWS($AG$10:AN15),$AG$10:$AG$116,0),MATCH(COLUMNS($AJ$7:AP12),$AJ$7:$BM$7,0)),\"\")","v":""},{"$f":"IFERROR(INDEX($AJ$10:$BM$29,MATCH(ROWS($AG$10:AO15),$AG$10:$AG$116,0),MATCH(COLUMNS($AJ$7:AQ12),$AJ$7:$BM$7,0)),\"\")","v":""},{"$f":"IFERROR(INDEX($AJ$10:$BM$29,MATCH(ROWS($AG$10:AP15),$AG$10:$AG$116,0),MATCH(COLUMNS($AJ$7:AR12),$AJ$7:$BM$7,0)),\"\")","v":""},{"$f":"IFERROR(INDEX($AJ$10:$BM$29,MATCH(ROWS($AG$10:AQ15),$AG$10:$AG$116,0),MATCH(COLUMNS($AJ$7:AS12),$AJ$7:$BM$7,0)),\"\")","v":""},{"$f":"IFERROR(INDEX($AJ$10:$BM$29,MATCH(ROWS($AG$10:AR15),$AG$10:$AG$116,0),MATCH(COLUMNS($AJ$7:AT12),$AJ$7:$BM$7,0)),\"\")","v":""},{"$f":"IFERROR(INDEX($AJ$10:$BM$29,MATCH(ROWS($AG$10:AS15),$AG$10:$AG$116,0),MATCH(COLUMNS($AJ$7:AU12),$AJ$7:$BM$7,0)),\"\")","v":""},{"$f":"IFERROR(INDEX($AJ$10:$BM$29,MATCH(ROWS($AG$10:AT15),$AG$10:$AG$116,0),MATCH(COLUMNS($AJ$7:AV12),$AJ$7:$BM$7,0)),\"\")","v":""},{"$f":"IFERROR(INDEX($AJ$10:$BM$29,MATCH(ROWS($AG$10:AU15),$AG$10:$AG$116,0),MATCH(COLUMNS($AJ$7:AW12),$AJ$7:$BM$7,0)),\"\")","v":""},{"$f":"IFERROR(INDEX($AJ$10:$BM$29,MATCH(ROWS($AG$10:AV15),$AG$10:$AG$116,0),MATCH(COLUMNS($AJ$7:AX12),$AJ$7:$BM$7,0)),\"\")","v":""},{"$f":"IFERROR(INDEX($AJ$10:$BM$29,MATCH(ROWS($AG$10:AW15),$AG$10:$AG$116,0),MATCH(COLUMNS($AJ$7:AY12),$AJ$7:$BM$7,0)),\"\")","v":""},{"$f":"IFERROR(INDEX($AJ$10:$BM$29,MATCH(ROWS($AG$10:AX15),$AG$10:$AG$116,0),MATCH(COLUMNS($AJ$7:AZ12),$AJ$7:$BM$7,0)),\"\")","v":""},{"$f":"IFERROR(INDEX($AJ$10:$BM$29,MATCH(ROWS($AG$10:AY15),$AG$10:$AG$116,0),MATCH(COLUMNS($AJ$7:BA12),$AJ$7:$BM$7,0)),\"\")","v":""},{"$f":"IFERROR(INDEX($AJ$10:$BM$29,MATCH(ROWS($AG$10:AZ15),$AG$10:$AG$116,0),MATCH(COLUMNS($AJ$7:BB12),$AJ$7:$BM$7,0)),\"\")","v":""},{"$f":"IFERROR(INDEX($AJ$10:$BM$29,MATCH(ROWS($AG$10:BA15),$AG$10:$AG$116,0),MATCH(COLUMNS($AJ$7:BC12),$AJ$7:$BM$7,0)),\"\")","v":""},{"$f":"IFERROR(INDEX($AJ$10:$BM$29,MATCH(ROWS($AG$10:BB15),$AG$10:$AG$116,0),MATCH(COLUMNS($AJ$7:BD12),$AJ$7:$BM$7,0)),\"\")","v":""},{"$f":"IFERROR(INDEX($AJ$10:$BM$29,MATCH(ROWS($AG$10:BC15),$AG$10:$AG$116,0),MATCH(COLUMNS($AJ$7:BE12),$AJ$7:$BM$7,0)),\"\")","v":""},{"$f":"IFERROR(INDEX($AJ$10:$BM$29,MATCH(ROWS($AG$10:BD15),$AG$10:$AG$116,0),MATCH(COLUMNS($AJ$7:BF12),$AJ$7:$BM$7,0)),\"\")","v":""},{"$f":"IFERROR(INDEX($AJ$10:$BM$29,MATCH(ROWS($AG$10:BE15),$AG$10:$AG$116,0),MATCH(COLUMNS($AJ$7:BG12),$AJ$7:$BM$7,0)),\"\")","v":""},{"$f":"IFERROR(INDEX($AJ$10:$BM$29,MATCH(ROWS($AG$10:BF15),$AG$10:$AG$116,0),MATCH(COLUMNS($AJ$7:BH12),$AJ$7:$BM$7,0)),\"\")","v":""},{"$f":"IFERROR(INDEX($AJ$10:$BM$29,MATCH(ROWS($AG$10:BG15),$AG$10:$AG$116,0),MATCH(COLUMNS($AJ$7:BI12),$AJ$7:$BM$7,0)),\"\")","v":""},{"$f":"IFERROR(INDEX($AJ$10:$BM$29,MATCH(ROWS($AG$10:BH15),$AG$10:$AG$116,0),MATCH(COLUMNS($AJ$7:BJ12),$AJ$7:$BM$7,0)),\"\")","v":""},{"$f":"IFERROR(INDEX($AJ$10:$BM$29,MATCH(ROWS($AG$10:BI15),$AG$10:$AG$116,0),MATCH(COLUMNS($AJ$7:BK12),$AJ$7:$BM$7,0)),\"\")","v":""},{"$f":"IFERROR(INDEX($AJ$10:$BM$29,MATCH(ROWS($AG$10:BJ15),$AG$10:$AG$116,0),MATCH(COLUMNS($AJ$7:BL12),$AJ$7:$BM$7,0)),\"\")","v":""},{"$f":"IFERROR(INDEX($AJ$10:$BM$29,MATCH(ROWS($AG$10:BK15),$AG$10:$AG$116,0),MATCH(COLUMNS($AJ$7:BM12),$AJ$7:$BM$7,0)),\"\")","v":""},null,{"$f":"IF(AH15=0,\"\",COUNTIF($AH$10:AH15,\"=1\"))","v":""},0,"سودومونا",{"$f":"SUMIFS(data!$H$3:$H$1499,data!$D$3:$D$1499,AI15,data!$G$3:$G$1499,\"مثبت\",data!$CS$3:$CS$1499,1)","v":0},{"$f":"SUMIFS(data!$I$3:$I$1499,data!$D$3:$D$1499,AI15,data!$G$3:$G$1499,\"مثبت\",data!$CS$3:$CS$1499,1)","v":0},{"$f":"SUMIFS(data!$J$3:$J$1499,data!$D$3:$D$1499,$AI15,data!$G$3:$G$1499,\"مثبت\",data!$CS$3:$CS$1499,1)","v":0},{"$f":"SUMIFS(data!$K$3:$K$1499,data!$D$3:$D$1499,$AI15,data!$G$3:$G$1499,\"مثبت\",data!$CS$3:$CS$1499,1)","v":0},{"$f":"SUMIFS(data!$L$3:$L$1499,data!$D$3:$D$1499,$AI15,data!$G$3:$G$1499,\"مثبت\",data!$CS$3:$CS$1499,1)","v":0},{"$f":"SUMIFS(data!$M$3:$M$1499,data!$D$3:$D$1499,$AI15,data!$G$3:$G$1499,\"مثبت\",data!$CS$3:$CS$1499,1)","v":0},{"$f":"SUMIFS(data!$N$3:$N$1499,data!$D$3:$D$1499,$AI15,data!$G$3:$G$1499,\"مثبت\",data!$CS$3:$CS$1499,1)","v":0},{"$f":"SUMIFS(data!$O$3:$O$1499,data!$D$3:$D$1499,$AI15,data!$G$3:$G$1499,\"مثبت\",data!$CS$3:$CS$1499,1)","v":0},{"$f":"SUMIFS(data!$P$3:$P$1499,data!$D$3:$D$1499,$AI15,data!$G$3:$G$1499,\"مثبت\",data!$CS$3:$CS$1499,1)","v":0},{"$f":"SUMIFS(data!$Q$3:$Q$1499,data!$D$3:$D$1499,$AI15,data!$G$3:$G$1499,\"مثبت\",data!$CS$3:$CS$1499,1)","v":0},{"$f":"SUMIFS(data!$R$3:$R$1499,data!$D$3:$D$1499,$AI15,data!$G$3:$G$1499,\"مثبت\",data!$CS$3:$CS$1499,1)","v":0},{"$f":"SUMIFS(data!$S$3:$S$1499,data!$D$3:$D$1499,$AI15,data!$G$3:$G$1499,\"مثبت\",data!$CS$3:$CS$1499,1)","v":0},{"$f":"SUMIFS(data!$T$3:$T$1499,data!$D$3:$D$1499,$AI15,data!$G$3:$G$1499,\"مثبت\",data!$CS$3:$CS$1499,1)","v":0},{"$f":"SUMIFS(data!$U$3:$U$1499,data!$D$3:$D$1499,$AI15,data!$G$3:$G$1499,\"مثبت\",data!$CS$3:$CS$1499,1)","v":0},{"$f":"SUMIFS(data!$V$3:$V$1499,data!$D$3:$D$1499,$AI15,data!$G$3:$G$1499,\"مثبت\",data!$CS$3:$CS$1499,1)","v":0},{"$f":"SUMIFS(data!$W$3:$W$1499,data!$D$3:$D$1499,$AI15,data!$G$3:$G$1499,\"مثبت\",data!$CS$3:$CS$1499,1)","v":0},{"$f":"SUMIFS(data!$X$3:$X$1499,data!$D$3:$D$1499,$AI15,data!$G$3:$G$1499,\"مثبت\",data!$CS$3:$CS$1499,1)","v":0},{"$f":"SUMIFS(data!$Y$3:$Y$1499,data!$D$3:$D$1499,$AI15,data!$G$3:$G$1499,\"مثبت\",data!$CS$3:$CS$1499,1)","v":0},{"$f":"SUMIFS(data!Z$3:Z$1499,data!$D$3:$D$1499,$AI15,data!$G$3:$G$1499,\"مثبت\",data!$CS$3:$CS$1499,1)","v":0},{"$f":"SUMIFS(data!AA$3:AA$1499,data!$D$3:$D$1499,$AI15,data!$G$3:$G$1499,\"مثبت\",data!$CS$3:$CS$1499,1)","v":0},{"$f":"SUMIFS(data!AB$3:AB$1499,data!$D$3:$D$1499,$AI15,data!$G$3:$G$1499,\"مثبت\",data!$CS$3:$CS$1499,1)","v":0},{"$f":"SUMIFS(data!AC$3:AC$1499,data!$D$3:$D$1499,$AI15,data!$G$3:$G$1499,\"مثبت\",data!$CS$3:$CS$1499,1)","v":0},{"$f":"SUMIFS(data!AD$3:AD$1499,data!$D$3:$D$1499,$AI15,data!$G$3:$G$1499,\"مثبت\",data!$CS$3:$CS$1499,1)","v":0},{"$f":"SUMIFS(data!AE$3:AE$1499,data!$D$3:$D$1499,$AI15,data!$G$3:$G$1499,\"مثبت\",data!$CS$3:$CS$1499,1)","v":0},{"$f":"SUMIFS(data!AF$3:AF$1499,data!$D$3:$D$1499,$AI15,data!$G$3:$G$1499,\"مثبت\",data!$CS$3:$CS$1499,1)","v":0},{"$f":"SUMIFS(data!AG$3:AG$1499,data!$D$3:$D$1499,$AI15,data!$G$3:$G$1499,\"مثبت\",data!$CS$3:$CS$1499,1)","v":0},{"$f":"SUMIFS(data!AH$3:AH$1499,data!$D$3:$D$1499,$AI15,data!$G$3:$G$1499,\"مثبت\",data!$CS$3:$CS$1499,1)","v":0},{"$f":"SUMIFS(data!AI$3:AI$1499,data!$D$3:$D$1499,$AI15,data!$G$3:$G$1499,\"مثبت\",data!$CS$3:$CS$1499,1)","v":0},{"$f":"SUMIFS(data!AJ$3:AJ$1499,data!$D$3:$D$1499,$AI15,data!$G$3:$G$1499,\"مثبت\",data!$CS$3:$CS$1499,1)","v":0},0]
[{"$f":"IFERROR(INDEX($AI$10:$AI$29,MATCH(ROWS($AG$10:AG16),$AG$10:$AG$116,0),1),\"\")","v":""},{"$f":"IFERROR(INDEX($AJ$10:$BM$29,MATCH(ROWS($AG$10:AH16),$AG$10:$AG$116,0),MATCH(COLUMNS($AJ$7:AJ13),$AJ$7:$BM$7,0)),\"\")","v":""},{"$f":"IFERROR(INDEX($AJ$10:$BM$29,MATCH(ROWS($AG$10:AI16),$AG$10:$AG$116,0),MATCH(COLUMNS($AJ$7:AK13),$AJ$7:$BM$7,0)),\"\")","v":""},{"$f":"IFERROR(INDEX($AJ$10:$BM$29,MATCH(ROWS($AG$10:AJ16),$AG$10:$AG$116,0),MATCH(COLUMNS($AJ$7:AL13),$AJ$7:$BM$7,0)),\"\")","v":""},{"$f":"IFERROR(INDEX($AJ$10:$BM$29,MATCH(ROWS($AG$10:AK16),$AG$10:$AG$116,0),MATCH(COLUMNS($AJ$7:AM13),$AJ$7:$BM$7,0)),\"\")","v":""},{"$f":"IFERROR(INDEX($AJ$10:$BM$29,MATCH(ROWS($AG$10:AL16),$AG$10:$AG$116,0),MATCH(COLUMNS($AJ$7:AN13),$AJ$7:$BM$7,0)),\"\")","v":""},{"$f":"IFERROR(INDEX($AJ$10:$BM$29,MATCH(ROWS($AG$10:AM16),$AG$10:$AG$116,0),MATCH(COLUMNS($AJ$7:AO13),$AJ$7:$BM$7,0)),\"\")","v":""},{"$f":"IFERROR(INDEX($AJ$10:$BM$29,MATCH(ROWS($AG$10:AN16),$AG$10:$AG$116,0),MATCH(COLUMNS($AJ$7:AP13),$AJ$7:$BM$7,0)),\"\")","v":""},{"$f":"IFERROR(INDEX($AJ$10:$BM$29,MATCH(ROWS($AG$10:AO16),$AG$10:$AG$116,0),MATCH(COLUMNS($AJ$7:AQ13),$AJ$7:$BM$7,0)),\"\")","v":""},{"$f":"IFERROR(INDEX($AJ$10:$BM$29,MATCH(ROWS($AG$10:AP16),$AG$10:$AG$116,0),MATCH(COLUMNS($AJ$7:AR13),$AJ$7:$BM$7,0)),\"\")","v":""},{"$f":"IFERROR(INDEX($AJ$10:$BM$29,MATCH(ROWS($AG$10:AQ16),$AG$10:$AG$116,0),MATCH(COLUMNS($AJ$7:AS13),$AJ$7:$BM$7,0)),\"\")","v":""},{"$f":"IFERROR(INDEX($AJ$10:$BM$29,MATCH(ROWS($AG$10:AR16),$AG$10:$AG$116,0),MATCH(COLUMNS($AJ$7:AT13),$AJ$7:$BM$7,0)),\"\")","v":""},{"$f":"IFERROR(INDEX($AJ$10:$BM$29,MATCH(ROWS($AG$10:AS16),$AG$10:$AG$116,0),MATCH(COLUMNS($AJ$7:AU13),$AJ$7:$BM$7,0)),\"\")","v":""},{"$f":"IFERROR(INDEX($AJ$10:$BM$29,MATCH(ROWS($AG$10:AT16),$AG$10:$AG$116,0),MATCH(COLUMNS($AJ$7:AV13),$AJ$7:$BM$7,0)),\"\")","v":""},{"$f":"IFERROR(INDEX($AJ$10:$BM$29,MATCH(ROWS($AG$10:AU16),$AG$10:$AG$116,0),MATCH(COLUMNS($AJ$7:AW13),$AJ$7:$BM$7,0)),\"\")","v":""},{"$f":"IFERROR(INDEX($AJ$10:$BM$29,MATCH(ROWS($AG$10:AV16),$AG$10:$AG$116,0),MATCH(COLUMNS($AJ$7:AX13),$AJ$7:$BM$7,0)),\"\")","v":""},{"$f":"IFERROR(INDEX($AJ$10:$BM$29,MATCH(ROWS($AG$10:AW16),$AG$10:$AG$116,0),MATCH(COLUMNS($AJ$7:AY13),$AJ$7:$BM$7,0)),\"\")","v":""},{"$f":"IFERROR(INDEX($AJ$10:$BM$29,MATCH(ROWS($AG$10:AX16),$AG$10:$AG$116,0),MATCH(COLUMNS($AJ$7:AZ13),$AJ$7:$BM$7,0)),\"\")","v":""},{"$f":"IFERROR(INDEX($AJ$10:$BM$29,MATCH(ROWS($AG$10:AY16),$AG$10:$AG$116,0),MATCH(COLUMNS($AJ$7:BA13),$AJ$7:$BM$7,0)),\"\")","v":""},{"$f":"IFERROR(INDEX($AJ$10:$BM$29,MATCH(ROWS($AG$10:AZ16),$AG$10:$AG$116,0),MATCH(COLUMNS($AJ$7:BB13),$AJ$7:$BM$7,0)),\"\")","v":""},{"$f":"IFERROR(INDEX($AJ$10:$BM$29,MATCH(ROWS($AG$10:BA16),$AG$10:$AG$116,0),MATCH(COLUMNS($AJ$7:BC13),$AJ$7:$BM$7,0)),\"\")","v":""},{"$f":"IFERROR(INDEX($AJ$10:$BM$29,MATCH(ROWS($AG$10:BB16),$AG$10:$AG$116,0),MATCH(COLUMNS($AJ$7:BD13),$AJ$7:$BM$7,0)),\"\")","v":""},{"$f":"IFERROR(INDEX($AJ$10:$BM$29,MATCH(ROWS($AG$10:BC16),$AG$10:$AG$116,0),MATCH(COLUMNS($AJ$7:BE13),$AJ$7:$BM$7,0)),\"\")","v":""},{"$f":"IFERROR(INDEX($AJ$10:$BM$29,MATCH(ROWS($AG$10:BD16),$AG$10:$AG$116,0),MATCH(COLUMNS($AJ$7:BF13),$AJ$7:$BM$7,0)),\"\")","v":""},{"$f":"IFERROR(INDEX($AJ$10:$BM$29,MATCH(ROWS($AG$10:BE16),$AG$10:$AG$116,0),MATCH(COLUMNS($AJ$7:BG13),$AJ$7:$BM$7,0)),\"\")","v":""},{"$f":"IFERROR(INDEX($AJ$10:$BM$29,MATCH(ROWS($AG$10:BF16),$AG$10:$AG$116,0),MATCH(COLUMNS($AJ$7:BH13),$AJ$7:$BM$7,0)),\"\")","v":""},{"$f":"IFERROR(INDEX($AJ$10:$BM$29,MATCH(ROWS($AG$10:BG16),$AG$10:$AG$116,0),MATCH(COLUMNS($AJ$7:BI13),$AJ$7:$BM$7,0)),\"\")","v":""},{"$f":"IFERROR(INDEX($AJ$10:$BM$29,MATCH(ROWS($AG$10:BH16),$AG$10:$AG$116,0),MATCH(COLUMNS($AJ$7:BJ13),$AJ$7:$BM$7,0)),\"\")","v":""},{"$f":"IFERROR(INDEX($AJ$10:$BM$29,MATCH(ROWS($AG$10:BI16),$AG$10:$AG$116,0),MATCH(COLUMNS($AJ$7:BK13),$AJ$7:$BM$7,0)),\"\")","v":""},{"$f":"IFERROR(INDEX($AJ$10:$BM$29,MATCH(ROWS($AG$10:BJ16),$AG$10:$AG$116,0),MATCH(COLUMNS($AJ$7:BL13),$AJ$7:$BM$7,0)),\"\")","v":""},{"$f":"IFERROR(INDEX($AJ$10:$BM$29,MATCH(ROWS($AG$10:BK16),$AG$10:$AG$116,0),MATCH(COLUMNS($AJ$7:BM13),$AJ$7:$BM$7,0)),\"\")","v":""},null,{"$f":"IF(AH16=0,\"\",COUNTIF($AH$10:AH16,\"=1\"))","v":""},0,"آنترباکتر",{"$f":"SUMIFS(data!$H$3:$H$1499,data!$D$3:$D$1499,AI16,data!$G$3:$G$1499,\"مثبت\",data!$CS$3:$CS$1499,1)","v":0},{"$f":"SUMIFS(data!$I$3:$I$1499,data!$D$3:$D$1499,AI16,data!$G$3:$G$1499,\"مثبت\",data!$CS$3:$CS$1499,1)","v":0},{"$f":"SUMIFS(data!$J$3:$J$1499,data!$D$3:$D$1499,$AI16,data!$G$3:$G$1499,\"مثبت\",data!$CS$3:$CS$1499,1)","v":0},{"$f":"SUMIFS(data!$K$3:$K$1499,data!$D$3:$D$1499,$AI16,data!$G$3:$G$1499,\"مثبت\",data!$CS$3:$CS$1499,1)","v":0},{"$f":"SUMIFS(data!$L$3:$L$1499,data!$D$3:$D$1499,$AI16,data!$G$3:$G$1499,\"مثبت\",data!$CS$3:$CS$1499,1)","v":0},{"$f":"SUMIFS(data!$M$3:$M$1499,data!$D$3:$D$1499,$AI16,data!$G$3:$G$1499,\"مثبت\",data!$CS$3:$CS$1499,1)","v":0},{"$f":"SUMIFS(data!$N$3:$N$1499,data!$D$3:$D$1499,$AI16,data!$G$3:$G$1499,\"مثبت\",data!$CS$3:$CS$1499,1)","v":0},{"$f":"SUMIFS(data!$O$3:$O$1499,data!$D$3:$D$1499,$AI16,data!$G$3:$G$1499,\"مثبت\",data!$CS$3:$CS$1499,1)","v":0},{"$f":"SUMIFS(data!$P$3:$P$1499,data!$D$3:$D$1499,$AI16,data!$G$3:$G$1499,\"مثبت\",data!$CS$3:$CS$1499,1)","v":0},{"$f":"SUMIFS(data!$Q$3:$Q$1499,data!$D$3:$D$1499,$AI16,data!$G$3:$G$1499,\"مثبت\",data!$CS$3:$CS$1499,1)","v":0},{"$f":"SUMIFS(data!$R$3:$R$1499,data!$D$3:$D$1499,$AI16,data!$G$3:$G$1499,\"مثبت\",data!$CS$3:$CS$1499,1)","v":0},{"$f":"SUMIFS(data!$S$3:$S$1499,data!$D$3:$D$1499,$AI16,data!$G$3:$G$1499,\"مثبت\",data!$CS$3:$CS$1499,1)","v":0},{"$f":"SUMIFS(data!$T$3:$T$1499,data!$D$3:$D$1499,$AI16,data!$G$3:$G$1499,\"مثبت\",data!$CS$3:$CS$1499,1)","v":0},{"$f":"SUMIFS(data!$U$3:$U$1499,data!$D$3:$D$1499,$AI16,data!$G$3:$G$1499,\"مثبت\",data!$CS$3:$CS$1499,1)","v":0},{"$f":"SUMIFS(data!$V$3:$V$1499,data!$D$3:$D$1499,$AI16,data!$G$3:$G$1499,\"مثبت\",data!$CS$3:$CS$1499,1)","v":0},{"$f":"SUMIFS(data!$W$3:$W$1499,data!$D$3:$D$1499,$AI16,data!$G$3:$G$1499,\"مثبت\",data!$CS$3:$CS$1499,1)","v":0},{"$f":"SUMIFS(data!$X$3:$X$1499,data!$D$3:$D$1499,$AI16,data!$G$3:$G$1499,\"مثبت\",data!$CS$3:$CS$1499,1)","v":0},{"$f":"SUMIFS(data!$Y$3:$Y$1499,data!$D$3:$D$1499,$AI16,data!$G$3:$G$1499,\"مثبت\",data!$CS$3:$CS$1499,1)","v":0},{"$f":"SUMIFS(data!Z$3:Z$1499,data!$D$3:$D$1499,$AI16,data!$G$3:$G$1499,\"مثبت\",data!$CS$3:$CS$1499,1)","v":0},{"$f":"SUMIFS(data!AA$3:AA$1499,data!$D$3:$D$1499,$AI16,data!$G$3:$G$1499,\"مثبت\",data!$CS$3:$CS$1499,1)","v":0},{"$f":"SUMIFS(data!AB$3:AB$1499,data!$D$3:$D$1499,$AI16,data!$G$3:$G$1499,\"مثبت\",data!$CS$3:$CS$1499,1)","v":0},{"$f":"SUMIFS(data!AC$3:AC$1499,data!$D$3:$D$1499,$AI16,data!$G$3:$G$1499,\"مثبت\",data!$CS$3:$CS$1499,1)","v":0},{"$f":"SUMIFS(data!AD$3:AD$1499,data!$D$3:$D$1499,$AI16,data!$G$3:$G$1499,\"مثبت\",data!$CS$3:$CS$1499,1)","v":0},{"$f":"SUMIFS(data!AE$3:AE$1499,data!$D$3:$D$1499,$AI16,data!$G$3:$G$1499,\"مثبت\",data!$CS$3:$CS$1499,1)","v":0},{"$f":"SUMIFS(data!AF$3:AF$1499,data!$D$3:$D$1499,$AI16,data!$G$3:$G$1499,\"مثبت\",data!$CS$3:$CS$1499,1)","v":0},{"$f":"SUMIFS(data!AG$3:AG$1499,data!$D$3:$D$1499,$AI16,data!$G$3:$G$1499,\"مثبت\",data!$CS$3:$CS$1499,1)","v":0},{"$f":"SUMIFS(data!AH$3:AH$1499,data!$D$3:$D$1499,$AI16,data!$G$3:$G$1499,\"مثبت\",data!$CS$3:$CS$1499,1)","v":0},{"$f":"SUMIFS(data!AI$3:AI$1499,data!$D$3:$D$1499,$AI16,data!$G$3:$G$1499,\"مثبت\",data!$CS$3:$CS$1499,1)","v":0},{"$f":"SUMIFS(data!AJ$3:AJ$1499,data!$D$3:$D$1499,$AI16,data!$G$3:$G$1499,\"مثبت\",data!$CS$3:$CS$1499,1)","v":0},0]
[{"$f":"IFERROR(INDEX($AI$10:$AI$29,MATCH(ROWS($AG$10:AG17),$AG$10:$AG$116,0),1),\"\")","v":""},{"$f":"IFERROR(INDEX($AJ$10:$BM$29,MATCH(ROWS($AG$10:AH17),$AG$10:$AG$116,0),MATCH(COLUMNS($AJ$7:AJ14),$AJ$7:$BM$7,0)),\"\")","v":""},{"$f":"IFERROR(INDEX($AJ$10:$BM$29,MATCH(ROWS($AG$10:AI17),$AG$10:$AG$116,0),MATCH(COLUMNS($AJ$7:AK14),$AJ$7:$BM$7,0)),\"\")","v":""},{"$f":"IFERROR(INDEX($AJ$10:$BM$29,MATCH(ROWS($AG$10:AJ17),$AG$10:$AG$116,0),MATCH(COLUMNS($AJ$7:AL14),$AJ$7:$BM$7,0)),\"\")","v":""},{"$f":"IFERROR(INDEX($AJ$10:$BM$29,MATCH(ROWS($AG$10:AK17),$AG$10:$AG$116,0),MATCH(COLUMNS($AJ$7:AM14),$AJ$7:$BM$7,0)),\"\")","v":""},{"$f":"IFERROR(INDEX($AJ$10:$BM$29,MATCH(ROWS($AG$10:AL17),$AG$10:$AG$116,0),MATCH(COLUMNS($AJ$7:AN14),$AJ$7:$BM$7,0)),\"\")","v":""},{"$f":"IFERROR(INDEX($AJ$10:$BM$29,MATCH(ROWS($AG$10:AM17),$AG$10:$AG$116,0),MATCH(COLUMNS($AJ$7:AO14),$AJ$7:$BM$7,0)),\"\")","v":""},{"$f":"IFERROR(INDEX($AJ$10:$BM$29,MATCH(ROWS($AG$10:AN17),$AG$10:$AG$116,0),MATCH(COLUMNS($AJ$7:AP14),$AJ$7:$BM$7,0)),\"\")","v":""},{"$f":"IFERROR(INDEX($AJ$10:$BM$29,MATCH(ROWS($AG$10:AO17),$AG$10:$AG$116,0),MATCH(COLUMNS($AJ$7:AQ14),$AJ$7:$BM$7,0)),\"\")","v":""},{"$f":"IFERROR(INDEX($AJ$10:$BM$29,MATCH(ROWS($AG$10:AP17),$AG$10:$AG$116,0),MATCH(COLUMNS($AJ$7:AR14),$AJ$7:$BM$7,0)),\"\")","v":""},{"$f":"IFERROR(INDEX($AJ$10:$BM$29,MATCH(ROWS($AG$10:AQ17),$AG$10:$AG$116,0),MATCH(COLUMNS($AJ$7:AS14),$AJ$7:$BM$7,0)),\"\")","v":""},{"$f":"IFERROR(INDEX($AJ$10:$BM$29,MATCH(ROWS($AG$10:AR17),$AG$10:$AG$116,0),MATCH(COLUMNS($AJ$7:AT14),$AJ$7:$BM$7,0)),\"\")","v":""},{"$f":"IFERROR(INDEX($AJ$10:$BM$29,MATCH(ROWS($AG$10:AS17),$AG$10:$AG$116,0),MATCH(COLUMNS($AJ$7:AU14),$AJ$7:$BM$7,0)),\"\")","v":""},{"$f":"IFERROR(INDEX($AJ$10:$BM$29,MATCH(ROWS($AG$10:AT17),$AG$10:$AG$116,0),MATCH(COLUMNS($AJ$7:AV14),$AJ$7:$BM$7,0)),\"\")","v":""},{"$f":"IFERROR(INDEX($AJ$10:$BM$29,MATCH(ROWS($AG$10:AU17),$AG$10:$AG$116,0),MATCH(COLUMNS($AJ$7:AW14),$AJ$7:$BM$7,0)),\"\")","v":""},{"$f":"IFERROR(INDEX($AJ$10:$BM$29,MATCH(ROWS($AG$10:AV17),$AG$10:$AG$116,0),MATCH(COLUMNS($AJ$7:AX14),$AJ$7:$BM$7,0)),\"\")","v":""},{"$f":"IFERROR(INDEX($AJ$10:$BM$29,MATCH(ROWS($AG$10:AW17),$AG$10:$AG$116,0),MATCH(COLUMNS($AJ$7:AY14),$AJ$7:$BM$7,0)),\"\")","v":""},{"$f":"IFERROR(INDEX($AJ$10:$BM$29,MATCH(ROWS($AG$10:AX17),$AG$10:$AG$116,0),MATCH(COLUMNS($AJ$7:AZ14),$AJ$7:$BM$7,0)),\"\")","v":""},{"$f":"IFERROR(INDEX($AJ$10:$BM$29,MATCH(ROWS($AG$10:AY17),$AG$10:$AG$116,0),MATCH(COLUMNS($AJ$7:BA14),$AJ$7:$BM$7,0)),\"\")","v":""},{"$f":"IFERROR(INDEX($AJ$10:$BM$29,MATCH(ROWS($AG$10:AZ17),$AG$10:$AG$116,0),MATCH(COLUMNS($AJ$7:BB14),$AJ$7:$BM$7,0)),\"\")","v":""},{"$f":"IFERROR(INDEX($AJ$10:$BM$29,MATCH(ROWS($AG$10:BA17),$AG$10:$AG$116,0),MATCH(COLUMNS($AJ$7:BC14),$AJ$7:$BM$7,0)),\"\")","v":""},{"$f":"IFERROR(INDEX($AJ$10:$BM$29,MATCH(ROWS($AG$10:BB17),$AG$10:$AG$116,0),MATCH(COLUMNS($AJ$7:BD14),$AJ$7:$BM$7,0)),\"\")","v":""},{"$f":"IFERROR(INDEX($AJ$10:$BM$29,MATCH(ROWS($AG$10:BC17),$AG$10:$AG$116,0),MATCH(COLUMNS($AJ$7:BE14),$AJ$7:$BM$7,0)),\"\")","v":""},{"$f":"IFERROR(INDEX($AJ$10:$BM$29,MATCH(ROWS($AG$10:BD17),$AG$10:$AG$116,0),MATCH(COLUMNS($AJ$7:BF14),$AJ$7:$BM$7,0)),\"\")","v":""},{"$f":"IFERROR(INDEX($AJ$10:$BM$29,MATCH(ROWS($AG$10:BE17),$AG$10:$AG$116,0),MATCH(COLUMNS($AJ$7:BG14),$AJ$7:$BM$7,0)),\"\")","v":""},{"$f":"IFERROR(INDEX($AJ$10:$BM$29,MATCH(ROWS($AG$10:BF17),$AG$10:$AG$116,0),MATCH(COLUMNS($AJ$7:BH14),$AJ$7:$BM$7,0)),\"\")","v":""},{"$f":"IFERROR(INDEX($AJ$10:$BM$29,MATCH(ROWS($AG$10:BG17),$AG$10:$AG$116,0),MATCH(COLUMNS($AJ$7:BI14),$AJ$7:$BM$7,0)),\"\")","v":""},{"$f":"IFERROR(INDEX($AJ$10:$BM$29,MATCH(ROWS($AG$10:BH17),$AG$10:$AG$116,0),MATCH(COLUMNS($AJ$7:BJ14),$AJ$7:$BM$7,0)),\"\")","v":""},{"$f":"IFERROR(INDEX($AJ$10:$BM$29,MATCH(ROWS($AG$10:BI17),$AG$10:$AG$116,0),MATCH(COLUMNS($AJ$7:BK14),$AJ$7:$BM$7,0)),\"\")","v":""},{"$f":"IFERROR(INDEX($AJ$10:$BM$29,MATCH(ROWS($AG$10:BJ17),$AG$10:$AG$116,0),MATCH(COLUMNS($AJ$7:BL14),$AJ$7:$BM$7,0)),\"\")","v":""},{"$f":"IFERROR(INDEX($AJ$10:$BM$29,MATCH(ROWS($AG$10:BK17),$AG$10:$AG$116,0),MATCH(COLUMNS($AJ$7:BM14),$AJ$7:$BM$7,0)),\"\")","v":""},null,{"$f":"IF(AH17=0,\"\",COUNTIF($AH$10:AH17,\"=1\"))","v":""},0,"میکروکوک",{"$f":"SUMIFS(data!$H$3:$H$1499,data!$D$3:$D$1499,AI17,data!$G$3:$G$1499,\"مثبت\",data!$CS$3:$CS$1499,1)","v":0},{"$f":"SUMIFS(data!$I$3:$I$1499,data!$D$3:$D$1499,AI17,data!$G$3:$G$1499,\"مثبت\",data!$CS$3:$CS$1499,1)","v":0},{"$f":"SUMIFS(data!$J$3:$J$1499,data!$D$3:$D$1499,$AI17,data!$G$3:$G$1499,\"مثبت\",data!$CS$3:$CS$1499,1)","v":0},{"$f":"SUMIFS(data!$K$3:$K$1499,data!$D$3:$D$1499,$AI17,data!$G$3:$G$1499,\"مثبت\",data!$CS$3:$CS$1499,1)","v":0},{"$f":"SUMIFS(data!$L$3:$L$1499,data!$D$3:$D$1499,$AI17,data!$G$3:$G$1499,\"مثبت\",data!$CS$3:$CS$1499,1)","v":0},{"$f":"SUMIFS(data!$M$3:$M$1499,data!$D$3:$D$1499,$AI17,data!$G$3:$G$1499,\"مثبت\",data!$CS$3:$CS$1499,1)","v":0},{"$f":"SUMIFS(data!$N$3:$N$1499,data!$D$3:$D$1499,$AI17,data!$G$3:$G$1499,\"مثبت\",data!$CS$3:$CS$1499,1)","v":0},{"$f":"SUMIFS(data!$O$3:$O$1499,data!$D$3:$D$1499,$AI17,data!$G$3:$G$1499,\"مثبت\",data!$CS$3:$CS$1499,1)","v":0},{"$f":"SUMIFS(data!$P$3:$P$1499,data!$D$3:$D$1499,$AI17,data!$G$3:$G$1499,\"مثبت\",data!$CS$3:$CS$1499,1)","v":0},{"$f":"SUMIFS(data!$Q$3:$Q$1499,data!$D$3:$D$1499,$AI17,data!$G$3:$G$1499,\"مثبت\",data!$CS$3:$CS$1499,1)","v":0},{"$f":"SUMIFS(data!$R$3:$R$1499,data!$D$3:$D$1499,$AI17,data!$G$3:$G$1499,\"مثبت\",data!$CS$3:$CS$1499,1)","v":0},{"$f":"SUMIFS(data!$S$3:$S$1499,data!$D$3:$D$1499,$AI17,data!$G$3:$G$1499,\"مثبت\",data!$CS$3:$CS$1499,1)","v":0},{"$f":"SUMIFS(data!$T$3:$T$1499,data!$D$3:$D$1499,$AI17,data!$G$3:$G$1499,\"مثبت\",data!$CS$3:$CS$1499,1)","v":0},{"$f":"SUMIFS(data!$U$3:$U$1499,data!$D$3:$D$1499,$AI17,data!$G$3:$G$1499,\"مثبت\",data!$CS$3:$CS$1499,1)","v":0},{"$f":"SUMIFS(data!$V$3:$V$1499,data!$D$3:$D$1499,$AI17,data!$G$3:$G$1499,\"مثبت\",data!$CS$3:$CS$1499,1)","v":0},{"$f":"SUMIFS(data!$W$3:$W$1499,data!$D$3:$D$1499,$AI17,data!$G$3:$G$1499,\"مثبت\",data!$CS$3:$CS$1499,1)","v":0},{"$f":"SUMIFS(data!$X$3:$X$1499,data!$D$3:$D$1499,$AI17,data!$G$3:$G$1499,\"مثبت\",data!$CS$3:$CS$1499,1)","v":0},{"$f":"SUMIFS(data!$Y$3:$Y$1499,data!$D$3:$D$1499,$AI17,data!$G$3:$G$1499,\"مثبت\",data!$CS$3:$CS$1499,1)","v":0},{"$f":"SUMIFS(data!Z$3:Z$1499,data!$D$3:$D$1499,$AI17,data!$G$3:$G$1499,\"مثبت\",data!$CS$3:$CS$1499,1)","v":0},{"$f":"SUMIFS(data!AA$3:AA$1499,data!$D$3:$D$1499,$AI17,data!$G$3:$G$1499,\"مثبت\",data!$CS$3:$CS$1499,1)","v":0},{"$f":"SUMIFS(data!AB$3:AB$1499,data!$D$3:$D$1499,$AI17,data!$G$3:$G$1499,\"مثبت\",data!$CS$3:$CS$1499,1)","v":0},{"$f":"SUMIFS(data!AC$3:AC$1499,data!$D$3:$D$1499,$AI17,data!$G$3:$G$1499,\"مثبت\",data!$CS$3:$CS$1499,1)","v":0},{"$f":"SUMIFS(data!AD$3:AD$1499,data!$D$3:$D$1499,$AI17,data!$G$3:$G$1499,\"مثبت\",data!$CS$3:$CS$1499,1)","v":0},{"$f":"SUMIFS(data!AE$3:AE$1499,data!$D$3:$D$1499,$AI17,data!$G$3:$G$1499,\"مثبت\",data!$CS$3:$CS$1499,1)","v":0},{"$f":"SUMIFS(data!AF$3:AF$1499,data!$D$3:$D$1499,$AI17,data!$G$3:$G$1499,\"مثبت\",data!$CS$3:$CS$1499,1)","v":0},{"$f":"SUMIFS(data!AG$3:AG$1499,data!$D$3:$D$1499,$AI17,data!$G$3:$G$1499,\"مثبت\",data!$CS$3:$CS$1499,1)","v":0},{"$f":"SUMIFS(data!AH$3:AH$1499,data!$D$3:$D$1499,$AI17,data!$G$3:$G$1499,\"مثبت\",data!$CS$3:$CS$1499,1)","v":0},{"$f":"SUMIFS(data!AI$3:AI$1499,data!$D$3:$D$1499,$AI17,data!$G$3:$G$1499,\"مثبت\",data!$CS$3:$CS$1499,1)","v":0},{"$f":"SUMIFS(data!AJ$3:AJ$1499,data!$D$3:$D$1499,$AI17,data!$G$3:$G$1499,\"مثبت\",data!$CS$3:$CS$1499,1)","v":0},0]
[{"$f":"IFERROR(INDEX($AI$10:$AI$29,MATCH(ROWS($AG$10:AG18),$AG$10:$AG$116,0),1),\"\")","v":""},{"$f":"IFERROR(INDEX($AJ$10:$BM$29,MATCH(ROWS($AG$10:AH18),$AG$10:$AG$116,0),MATCH(COLUMNS($AJ$7:AJ15),$AJ$7:$BM$7,0)),\"\")","v":""},{"$f":"IFERROR(INDEX($AJ$10:$BM$29,MATCH(ROWS($AG$10:AI18),$AG$10:$AG$116,0),MATCH(COLUMNS($AJ$7:AK15),$AJ$7:$BM$7,0)),\"\")","v":""},{"$f":"IFERROR(INDEX($AJ$10:$BM$29,MATCH(ROWS($AG$10:AJ18),$AG$10:$AG$116,0),MATCH(COLUMNS($AJ$7:AL15),$AJ$7:$BM$7,0)),\"\")","v":""},{"$f":"IFERROR(INDEX($AJ$10:$BM$29,MATCH(ROWS($AG$10:AK18),$AG$10:$AG$116,0),MATCH(COLUMNS($AJ$7:AM15),$AJ$7:$BM$7,0)),\"\")","v":""},{"$f":"IFERROR(INDEX($AJ$10:$BM$29,MATCH(ROWS($AG$10:AL18),$AG$10:$AG$116,0),MATCH(COLUMNS($AJ$7:AN15),$AJ$7:$BM$7,0)),\"\")","v":""},{"$f":"IFERROR(INDEX($AJ$10:$BM$29,MATCH(ROWS($AG$10:AM18),$AG$10:$AG$116,0),MATCH(COLUMNS($AJ$7:AO15),$AJ$7:$BM$7,0)),\"\")","v":""},{"$f":"IFERROR(INDEX($AJ$10:$BM$29,MATCH(ROWS($AG$10:AN18),$AG$10:$AG$116,0),MATCH(COLUMNS($AJ$7:AP15),$AJ$7:$BM$7,0)),\"\")","v":""},{"$f":"IFERROR(INDEX($AJ$10:$BM$29,MATCH(ROWS($AG$10:AO18),$AG$10:$AG$116,0),MATCH(COLUMNS($AJ$7:AQ15),$AJ$7:$BM$7,0)),\"\")","v":""},{"$f":"IFERROR(INDEX($AJ$10:$BM$29,MATCH(ROWS($AG$10:AP18),$AG$10:$AG$116,0),MATCH(COLUMNS($AJ$7:AR15),$AJ$7:$BM$7,0)),\"\")","v":""},{"$f":"IFERROR(INDEX($AJ$10:$BM$29,MATCH(ROWS($AG$10:AQ18),$AG$10:$AG$116,0),MATCH(COLUMNS($AJ$7:AS15),$AJ$7:$BM$7,0)),\"\")","v":""},{"$f":"IFERROR(INDEX($AJ$10:$BM$29,MATCH(ROWS($AG$10:AR18),$AG$10:$AG$116,0),MATCH(COLUMNS($AJ$7:AT15),$AJ$7:$BM$7,0)),\"\")","v":""},{"$f":"IFERROR(INDEX($AJ$10:$BM$29,MATCH(ROWS($AG$10:AS18),$AG$10:$AG$116,0),MATCH(COLUMNS($AJ$7:AU15),$AJ$7:$BM$7,0)),\"\")","v":""},{"$f":"IFERROR(INDEX($AJ$10:$BM$29,MATCH(ROWS($AG$10:AT18),$AG$10:$AG$116,0),MATCH(COLUMNS($AJ$7:AV15),$AJ$7:$BM$7,0)),\"\")","v":""},{"$f":"IFERROR(INDEX($AJ$10:$BM$29,MATCH(ROWS($AG$10:AU18),$AG$10:$AG$116,0),MATCH(COLUMNS($AJ$7:AW15),$AJ$7:$BM$7,0)),\"\")","v":""},{"$f":"IFERROR(INDEX($AJ$10:$BM$29,MATCH(ROWS($AG$10:AV18),$AG$10:$AG$116,0),MATCH(COLUMNS($AJ$7:AX15),$AJ$7:$BM$7,0)),\"\")","v":""},{"$f":"IFERROR(INDEX($AJ$10:$BM$29,MATCH(ROWS($AG$10:AW18),$AG$10:$AG$116,0),MATCH(COLUMNS($AJ$7:AY15),$AJ$7:$BM$7,0)),\"\")","v":""},{"$f":"IFERROR(INDEX($AJ$10:$BM$29,MATCH(ROWS($AG$10:AX18),$AG$10:$AG$116,0),MATCH(COLUMNS($AJ$7:AZ15),$AJ$7:$BM$7,0)),\"\")","v":""},{"$f":"IFERROR(INDEX($AJ$10:$BM$29,MATCH(ROWS($AG$10:AY18),$AG$10:$AG$116,0),MATCH(COLUMNS($AJ$7:BA15),$AJ$7:$BM$7,0)),\"\")","v":""},{"$f":"IFERROR(INDEX($AJ$10:$BM$29,MATCH(ROWS($AG$10:AZ18),$AG$10:$AG$116,0),MATCH(COLUMNS($AJ$7:BB15),$AJ$7:$BM$7,0)),\"\")","v":""},{"$f":"IFERROR(INDEX($AJ$10:$BM$29,MATCH(ROWS($AG$10:BA18),$AG$10:$AG$116,0),MATCH(COLUMNS($AJ$7:BC15),$AJ$7:$BM$7,0)),\"\")","v":""},{"$f":"IFERROR(INDEX($AJ$10:$BM$29,MATCH(ROWS($AG$10:BB18),$AG$10:$AG$116,0),MATCH(COLUMNS($AJ$7:BD15),$AJ$7:$BM$7,0)),\"\")","v":""},{"$f":"IFERROR(INDEX($AJ$10:$BM$29,MATCH(ROWS($AG$10:BC18),$AG$10:$AG$116,0),MATCH(COLUMNS($AJ$7:BE15),$AJ$7:$BM$7,0)),\"\")","v":""},{"$f":"IFERROR(INDEX($AJ$10:$BM$29,MATCH(ROWS($AG$10:BD18),$AG$10:$AG$116,0),MATCH(COLUMNS($AJ$7:BF15),$AJ$7:$BM$7,0)),\"\")","v":""},{"$f":"IFERROR(INDEX($AJ$10:$BM$29,MATCH(ROWS($AG$10:BE18),$AG$10:$AG$116,0),MATCH(COLUMNS($AJ$7:BG15),$AJ$7:$BM$7,0)),\"\")","v":""},{"$f":"IFERROR(INDEX($AJ$10:$BM$29,MATCH(ROWS($AG$10:BF18),$AG$10:$AG$116,0),MATCH(COLUMNS($AJ$7:BH15),$AJ$7:$BM$7,0)),\"\")","v":""},{"$f":"IFERROR(INDEX($AJ$10:$BM$29,MATCH(ROWS($AG$10:BG18),$AG$10:$AG$116,0),MATCH(COLUMNS($AJ$7:BI15),$AJ$7:$BM$7,0)),\"\")","v":""},{"$f":"IFERROR(INDEX($AJ$10:$BM$29,MATCH(ROWS($AG$10:BH18),$AG$10:$AG$116,0),MATCH(COLUMNS($AJ$7:BJ15),$AJ$7:$BM$7,0)),\"\")","v":""},{"$f":"IFERROR(INDEX($AJ$10:$BM$29,MATCH(ROWS($AG$10:BI18),$AG$10:$AG$116,0),MATCH(COLUMNS($AJ$7:BK15),$AJ$7:$BM$7,0)),\"\")","v":""},{"$f":"IFERROR(INDEX($AJ$10:$BM$29,MATCH(ROWS($AG$10:BJ18),$AG$10:$AG$116,0),MATCH(COLUMNS($AJ$7:BL15),$AJ$7:$BM$7,0)),\"\")","v":""},{"$f":"IFERROR(INDEX($AJ$10:$BM$29,MATCH(ROWS($AG$10:BK18),$AG$10:$AG$116,0),MATCH(COLUMNS($AJ$7:BM15),$AJ$7:$BM$7,0)),\"\")","v":""},null,{"$f":"IF(AH18=0,\"\",COUNTIF($AH$10:AH18,\"=1\"))","v":""},0,"استاف سایروفیت",{"$f":"SUMIFS(data!$H$3:$H$1499,data!$D$3:$D$1499,AI18,data!$G$3:$G$1499,\"مثبت\",data!$CS$3:$CS$1499,1)","v":0},{"$f":"SUMIFS(data!$I$3:$I$1499,data!$D$3:$D$1499,AI18,data!$G$3:$G$1499,\"مثبت\",data!$CS$3:$CS$1499,1)","v":0},{"$f":"SUMIFS(data!$J$3:$J$1499,data!$D$3:$D$1499,$AI18,data!$G$3:$G$1499,\"مثبت\",data!$CS$3:$CS$1499,1)","v":0},{"$f":"SUMIFS(data!$K$3:$K$1499,data!$D$3:$D$1499,$AI18,data!$G$3:$G$1499,\"مثبت\",data!$CS$3:$CS$1499,1)","v":0},{"$f":"SUMIFS(data!$L$3:$L$1499,data!$D$3:$D$1499,$AI18,data!$G$3:$G$1499,\"مثبت\",data!$CS$3:$CS$1499,1)","v":0},{"$f":"SUMIFS(data!$M$3:$M$1499,data!$D$3:$D$1499,$AI18,data!$G$3:$G$1499,\"مثبت\",data!$CS$3:$CS$1499,1)","v":0},{"$f":"SUMIFS(data!$N$3:$N$1499,data!$D$3:$D$1499,$AI18,data!$G$3:$G$1499,\"مثبت\",data!$CS$3:$CS$1499,1)","v":0},{"$f":"SUMIFS(data!$O$3:$O$1499,data!$D$3:$D$1499,$AI18,data!$G$3:$G$1499,\"مثبت\",data!$CS$3:$CS$1499,1)","v":0},{"$f":"SUMIFS(data!$P$3:$P$1499,data!$D$3:$D$1499,$AI18,data!$G$3:$G$1499,\"مثبت\",data!$CS$3:$CS$1499,1)","v":0},{"$f":"SUMIFS(data!$Q$3:$Q$1499,data!$D$3:$D$1499,$AI18,data!$G$3:$G$1499,\"مثبت\",data!$CS$3:$CS$1499,1)","v":0},{"$f":"SUMIFS(data!$R$3:$R$1499,data!$D$3:$D$1499,$AI18,data!$G$3:$G$1499,\"مثبت\",data!$CS$3:$CS$1499,1)","v":0},{"$f":"SUMIFS(data!$S$3:$S$1499,data!$D$3:$D$1499,$AI18,data!$G$3:$G$1499,\"مثبت\",data!$CS$3:$CS$1499,1)","v":0},{"$f":"SUMIFS(data!$T$3:$T$1499,data!$D$3:$D$1499,$AI18,data!$G$3:$G$1499,\"مثبت\",data!$CS$3:$CS$1499,1)","v":0},{"$f":"SUMIFS(data!$U$3:$U$1499,data!$D$3:$D$1499,$AI18,data!$G$3:$G$1499,\"مثبت\",data!$CS$3:$CS$1499,1)","v":0},{"$f":"SUMIFS(data!$V$3:$V$1499,data!$D$3:$D$1499,$AI18,data!$G$3:$G$1499,\"مثبت\",data!$CS$3:$CS$1499,1)","v":0},{"$f":"SUMIFS(data!$W$3:$W$1499,data!$D$3:$D$1499,$AI18,data!$G$3:$G$1499,\"مثبت\",data!$CS$3:$CS$1499,1)","v":0},{"$f":"SUMIFS(data!$X$3:$X$1499,data!$D$3:$D$1499,$AI18,data!$G$3:$G$1499,\"مثبت\",data!$CS$3:$CS$1499,1)","v":0},{"$f":"SUMIFS(data!$Y$3:$Y$1499,data!$D$3:$D$1499,$AI18,data!$G$3:$G$1499,\"مثبت\",data!$CS$3:$CS$1499,1)","v":0},{"$f":"SUMIFS(data!Z$3:Z$1499,data!$D$3:$D$1499,$AI18,data!$G$3:$G$1499,\"مثبت\",data!$CS$3:$CS$1499,1)","v":0},{"$f":"SUMIFS(data!AA$3:AA$1499,data!$D$3:$D$1499,$AI18,data!$G$3:$G$1499,\"مثبت\",data!$CS$3:$CS$1499,1)","v":0},{"$f":"SUMIFS(data!AB$3:AB$1499,data!$D$3:$D$1499,$AI18,data!$G$3:$G$1499,\"مثبت\",data!$CS$3:$CS$1499,1)","v":0},{"$f":"SUMIFS(data!AC$3:AC$1499,data!$D$3:$D$1499,$AI18,data!$G$3:$G$1499,\"مثبت\",data!$CS$3:$CS$1499,1)","v":0},{"$f":"SUMIFS(data!AD$3:AD$1499,data!$D$3:$D$1499,$AI18,data!$G$3:$G$1499,\"مثبت\",data!$CS$3:$CS$1499,1)","v":0},{"$f":"SUMIFS(data!AE$3:AE$1499,data!$D$3:$D$1499,$AI18,data!$G$3:$G$1499,\"مثبت\",data!$CS$3:$CS$1499,1)","v":0},{"$f":"SUMIFS(data!AF$3:AF$1499,data!$D$3:$D$1499,$AI18,data!$G$3:$G$1499,\"مثبت\",data!$CS$3:$CS$1499,1)","v":0},{"$f":"SUMIFS(data!AG$3:AG$1499,data!$D$3:$D$1499,$AI18,data!$G$3:$G$1499,\"مثبت\",data!$CS$3:$CS$1499,1)","v":0},{"$f":"SUMIFS(data!AH$3:AH$1499,data!$D$3:$D$1499,$AI18,data!$G$3:$G$1499,\"مثبت\",data!$CS$3:$CS$1499,1)","v":0},{"$f":"SUMIFS(data!AI$3:AI$1499,data!$D$3:$D$1499,$AI18,data!$G$3:$G$1499,\"مثبت\",data!$CS$3:$CS$1499,1)","v":0},{"$f":"SUMIFS(data!AJ$3:AJ$1499,data!$D$3:$D$1499,$AI18,data!$G$3:$G$1499,\"مثبت\",data!$CS$3:$CS$1499,1)","v":0},0]
[{"$f":"IFERROR(INDEX($AI$10:$AI$29,MATCH(ROWS($AG$10:AG19),$AG$10:$AG$116,0),1),\"\")","v":""},{"$f":"IFERROR(INDEX($AJ$10:$BM$29,MATCH(ROWS($AG$10:AH19),$AG$10:$AG$116,0),MATCH(COLUMNS($AJ$7:AJ16),$AJ$7:$BM$7,0)),\"\")","v":""},{"$f":"IFERROR(INDEX($AJ$10:$BM$29,MATCH(ROWS($AG$10:AI19),$AG$10:$AG$116,0),MATCH(COLUMNS($AJ$7:AK16),$AJ$7:$BM$7,0)),\"\")","v":""},{"$f":"IFERROR(INDEX($AJ$10:$BM$29,MATCH(ROWS($AG$10:AJ19),$AG$10:$AG$116,0),MATCH(COLUMNS($AJ$7:AL16),$AJ$7:$BM$7,0)),\"\")","v":""},{"$f":"IFERROR(INDEX($AJ$10:$BM$29,MATCH(ROWS($AG$10:AK19),$AG$10:$AG$116,0),MATCH(COLUMNS($AJ$7:AM16),$AJ$7:$BM$7,0)),\"\")","v":""},{"$f":"IFERROR(INDEX($AJ$10:$BM$29,MATCH(ROWS($AG$10:AL19),$AG$10:$AG$116,0),MATCH(COLUMNS($AJ$7:AN16),$AJ$7:$BM$7,0)),\"\")","v":""},{"$f":"IFERROR(INDEX($AJ$10:$BM$29,MATCH(ROWS($AG$10:AM19),$AG$10:$AG$116,0),MATCH(COLUMNS($AJ$7:AO16),$AJ$7:$BM$7,0)),\"\")","v":""},{"$f":"IFERROR(INDEX($AJ$10:$BM$29,MATCH(ROWS($AG$10:AN19),$AG$10:$AG$116,0),MATCH(COLUMNS($AJ$7:AP16),$AJ$7:$BM$7,0)),\"\")","v":""},{"$f":"IFERROR(INDEX($AJ$10:$BM$29,MATCH(ROWS($AG$10:AO19),$AG$10:$AG$116,0),MATCH(COLUMNS($AJ$7:AQ16),$AJ$7:$BM$7,0)),\"\")","v":""},{"$f":"IFERROR(INDEX($AJ$10:$BM$29,MATCH(ROWS($AG$10:AP19),$AG$10:$AG$116,0),MATCH(COLUMNS($AJ$7:AR16),$AJ$7:$BM$7,0)),\"\")","v":""},{"$f":"IFERROR(INDEX($AJ$10:$BM$29,MATCH(ROWS($AG$10:AQ19),$AG$10:$AG$116,0),MATCH(COLUMNS($AJ$7:AS16),$AJ$7:$BM$7,0)),\"\")","v":""},{"$f":"IFERROR(INDEX($AJ$10:$BM$29,MATCH(ROWS($AG$10:AR19),$AG$10:$AG$116,0),MATCH(COLUMNS($AJ$7:AT16),$AJ$7:$BM$7,0)),\"\")","v":""},{"$f":"IFERROR(INDEX($AJ$10:$BM$29,MATCH(ROWS($AG$10:AS19),$AG$10:$AG$116,0),MATCH(COLUMNS($AJ$7:AU16),$AJ$7:$BM$7,0)),\"\")","v":""},{"$f":"IFERROR(INDEX($AJ$10:$BM$29,MATCH(ROWS($AG$10:AT19),$AG$10:$AG$116,0),MATCH(COLUMNS($AJ$7:AV16),$AJ$7:$BM$7,0)),\"\")","v":""},{"$f":"IFERROR(INDEX($AJ$10:$BM$29,MATCH(ROWS($AG$10:AU19),$AG$10:$AG$116,0),MATCH(COLUMNS($AJ$7:AW16),$AJ$7:$BM$7,0)),\"\")","v":""},{"$f":"IFERROR(INDEX($AJ$10:$BM$29,MATCH(ROWS($AG$10:AV19),$AG$10:$AG$116,0),MATCH(COLUMNS($AJ$7:AX16),$AJ$7:$BM$7,0)),\"\")","v":""},{"$f":"IFERROR(INDEX($AJ$10:$BM$29,MATCH(ROWS($AG$10:AW19),$AG$10:$AG$116,0),MATCH(COLUMNS($AJ$7:AY16),$AJ$7:$BM$7,0)),\"\")","v":""},{"$f":"IFERROR(INDEX($AJ$10:$BM$29,MATCH(ROWS($AG$10:AX19),$AG$10:$AG$116,0),MATCH(COLUMNS($AJ$7:AZ16),$AJ$7:$BM$7,0)),\"\")","v":""},{"$f":"IFERROR(INDEX($AJ$10:$BM$29,MATCH(ROWS($AG$10:AY19),$AG$10:$AG$116,0),MATCH(COLUMNS($AJ$7:BA16),$AJ$7:$BM$7,0)),\"\")","v":""},{"$f":"IFERROR(INDEX($AJ$10:$BM$29,MATCH(ROWS($AG$10:AZ19),$AG$10:$AG$116,0),MATCH(COLUMNS($AJ$7:BB16),$AJ$7:$BM$7,0)),\"\")","v":""},{"$f":"IFERROR(INDEX($AJ$10:$BM$29,MATCH(ROWS($AG$10:BA19),$AG$10:$AG$116,0),MATCH(COLUMNS($AJ$7:BC16),$AJ$7:$BM$7,0)),\"\")","v":""},{"$f":"IFERROR(INDEX($AJ$10:$BM$29,MATCH(ROWS($AG$10:BB19),$AG$10:$AG$116,0),MATCH(COLUMNS($AJ$7:BD16),$AJ$7:$BM$7,0)),\"\")","v":""},{"$f":"IFERROR(INDEX($AJ$10:$BM$29,MATCH(ROWS($AG$10:BC19),$AG$10:$AG$116,0),MATCH(COLUMNS($AJ$7:BE16),$AJ$7:$BM$7,0)),\"\")","v":""},{"$f":"IFERROR(INDEX($AJ$10:$BM$29,MATCH(ROWS($AG$10:BD19),$AG$10:$AG$116,0),MATCH(COLUMNS($AJ$7:BF16),$AJ$7:$BM$7,0)),\"\")","v":""},{"$f":"IFERROR(INDEX($AJ$10:$BM$29,MATCH(ROWS($AG$10:BE19),$AG$10:$AG$116,0),MATCH(COLUMNS($AJ$7:BG16),$AJ$7:$BM$7,0)),\"\")","v":""},{"$f":"IFERROR(INDEX($AJ$10:$BM$29,MATCH(ROWS($AG$10:BF19),$AG$10:$AG$116,0),MATCH(COLUMNS($AJ$7:BH16),$AJ$7:$BM$7,0)),\"\")","v":""},{"$f":"IFERROR(INDEX($AJ$10:$BM$29,MATCH(ROWS($AG$10:BG19),$AG$10:$AG$116,0),MATCH(COLUMNS($AJ$7:BI16),$AJ$7:$BM$7,0)),\"\")","v":""},{"$f":"IFERROR(INDEX($AJ$10:$BM$29,MATCH(ROWS($AG$10:BH19),$AG$10:$AG$116,0),MATCH(COLUMNS($AJ$7:BJ16),$AJ$7:$BM$7,0)),\"\")","v":""},{"$f":"IFERROR(INDEX($AJ$10:$BM$29,MATCH(ROWS($AG$10:BI19),$AG$10:$AG$116,0),MATCH(COLUMNS($AJ$7:BK16),$AJ$7:$BM$7,0)),\"\")","v":""},{"$f":"IFERROR(INDEX($AJ$10:$BM$29,MATCH(ROWS($AG$10:BJ19),$AG$10:$AG$116,0),MATCH(COLUMNS($AJ$7:BL16),$AJ$7:$BM$7,0)),\"\")","v":""},{"$f":"IFERROR(INDEX($AJ$10:$BM$29,MATCH(ROWS($AG$10:BK19),$AG$10:$AG$116,0),MATCH(COLUMNS($AJ$7:BM16),$AJ$7:$BM$7,0)),\"\")","v":""},null,{"$f":"IF(AH19=0,\"\",COUNTIF($AH$10:AH19,\"=1\"))","v":""},0,"استاف اپیدرمیدیس",{"$f":"SUMIFS(data!$H$3:$H$1499,data!$D$3:$D$1499,AI19,data!$G$3:$G$1499,\"مثبت\",data!$CS$3:$CS$1499,1)","v":0},{"$f":"SUMIFS(data!$I$3:$I$1499,data!$D$3:$D$1499,AI19,data!$G$3:$G$1499,\"مثبت\",data!$CS$3:$CS$1499,1)","v":0},{"$f":"SUMIFS(data!$J$3:$J$1499,data!$D$3:$D$1499,$AI19,data!$G$3:$G$1499,\"مثبت\",data!$CS$3:$CS$1499,1)","v":0},{"$f":"SUMIFS(data!$K$3:$K$1499,data!$D$3:$D$1499,$AI19,data!$G$3:$G$1499,\"مثبت\",data!$CS$3:$CS$1499,1)","v":0},{"$f":"SUMIFS(data!$L$3:$L$1499,data!$D$3:$D$1499,$AI19,data!$G$3:$G$1499,\"مثبت\",data!$CS$3:$CS$1499,1)","v":0},{"$f":"SUMIFS(data!$M$3:$M$1499,data!$D$3:$D$1499,$AI19,data!$G$3:$G$1499,\"مثبت\",data!$CS$3:$CS$1499,1)","v":0},{"$f":"SUMIFS(data!$N$3:$N$1499,data!$D$3:$D$1499,$AI19,data!$G$3:$G$1499,\"مثبت\",data!$CS$3:$CS$1499,1)","v":0},{"$f":"SUMIFS(data!$O$3:$O$1499,data!$D$3:$D$1499,$AI19,data!$G$3:$G$1499,\"مثبت\",data!$CS$3:$CS$1499,1)","v":0},{"$f":"SUMIFS(data!$P$3:$P$1499,data!$D$3:$D$1499,$AI19,data!$G$3:$G$1499,\"مثبت\",data!$CS$3:$CS$1499,1)","v":0},{"$f":"SUMIFS(data!$Q$3:$Q$1499,data!$D$3:$D$1499,$AI19,data!$G$3:$G$1499,\"مثبت\",data!$CS$3:$CS$1499,1)","v":0},{"$f":"SUMIFS(data!$R$3:$R$1499,data!$D$3:$D$1499,$AI19,data!$G$3:$G$1499,\"مثبت\",data!$CS$3:$CS$1499,1)","v":0},{"$f":"SUMIFS(data!$S$3:$S$1499,data!$D$3:$D$1499,$AI19,data!$G$3:$G$1499,\"مثبت\",data!$CS$3:$CS$1499,1)","v":0},{"$f":"SUMIFS(data!$T$3:$T$1499,data!$D$3:$D$1499,$AI19,data!$G$3:$G$1499,\"مثبت\",data!$CS$3:$CS$1499,1)","v":0},{"$f":"SUMIFS(data!$U$3:$U$1499,data!$D$3:$D$1499,$AI19,data!$G$3:$G$1499,\"مثبت\",data!$CS$3:$CS$1499,1)","v":0},{"$f":"SUMIFS(data!$V$3:$V$1499,data!$D$3:$D$1499,$AI19,data!$G$3:$G$1499,\"مثبت\",data!$CS$3:$CS$1499,1)","v":0},{"$f":"SUMIFS(data!$W$3:$W$1499,data!$D$3:$D$1499,$AI19,data!$G$3:$G$1499,\"مثبت\",data!$CS$3:$CS$1499,1)","v":0},{"$f":"SUMIFS(data!$X$3:$X$1499,data!$D$3:$D$1499,$AI19,data!$G$3:$G$1499,\"مثبت\",data!$CS$3:$CS$1499,1)","v":0},{"$f":"SUMIFS(data!$Y$3:$Y$1499,data!$D$3:$D$1499,$AI19,data!$G$3:$G$1499,\"مثبت\",data!$CS$3:$CS$1499,1)","v":0},{"$f":"SUMIFS(data!Z$3:Z$1499,data!$D$3:$D$1499,$AI19,data!$G$3:$G$1499,\"مثبت\",data!$CS$3:$CS$1499,1)","v":0},{"$f":"SUMIFS(data!AA$3:AA$1499,data!$D$3:$D$1499,$AI19,data!$G$3:$G$1499,\"مثبت\",data!$CS$3:$CS$1499,1)","v":0},{"$f":"SUMIFS(data!AB$3:AB$1499,data!$D$3:$D$1499,$AI19,data!$G$3:$G$1499,\"مثبت\",data!$CS$3:$CS$1499,1)","v":0},{"$f":"SUMIFS(data!AC$3:AC$1499,data!$D$3:$D$1499,$AI19,data!$G$3:$G$1499,\"مثبت\",data!$CS$3:$CS$1499,1)","v":0},{"$f":"SUMIFS(data!AD$3:AD$1499,data!$D$3:$D$1499,$AI19,data!$G$3:$G$1499,\"مثبت\",data!$CS$3:$CS$1499,1)","v":0},{"$f":"SUMIFS(data!AE$3:AE$1499,data!$D$3:$D$1499,$AI19,data!$G$3:$G$1499,\"مثبت\",data!$CS$3:$CS$1499,1)","v":0},{"$f":"SUMIFS(data!AF$3:AF$1499,data!$D$3:$D$1499,$AI19,data!$G$3:$G$1499,\"مثبت\",data!$CS$3:$CS$1499,1)","v":0},{"$f":"SUMIFS(data!AG$3:AG$1499,data!$D$3:$D$1499,$AI19,data!$G$3:$G$1499,\"مثبت\",data!$CS$3:$CS$1499,1)","v":0},{"$f":"SUMIFS(data!AH$3:AH$1499,data!$D$3:$D$1499,$AI19,data!$G$3:$G$1499,\"مثبت\",data!$CS$3:$CS$1499,1)","v":0},{"$f":"SUMIFS(data!AI$3:AI$1499,data!$D$3:$D$1499,$AI19,data!$G$3:$G$1499,\"مثبت\",data!$CS$3:$CS$1499,1)","v":0},{"$f":"SUMIFS(data!AJ$3:AJ$1499,data!$D$3:$D$1499,$AI19,data!$G$3:$G$1499,\"مثبت\",data!$CS$3:$CS$1499,1)","v":0},0]
[{"$f":"IFERROR(INDEX($AI$10:$AI$29,MATCH(ROWS($AG$10:AG20),$AG$10:$AG$116,0),1),\"\")","v":""},{"$f":"IFERROR(INDEX($AJ$10:$BM$29,MATCH(ROWS($AG$10:AH20),$AG$10:$AG$116,0),MATCH(COLUMNS($AJ$7:AJ17),$AJ$7:$BM$7,0)),\"\")","v":""},{"$f":"IFERROR(INDEX($AJ$10:$BM$29,MATCH(ROWS($AG$10:AI20),$AG$10:$AG$116,0),MATCH(COLUMNS($AJ$7:AK17),$AJ$7:$BM$7,0)),\"\")","v":""},{"$f":"IFERROR(INDEX($AJ$10:$BM$29,MATCH(ROWS($AG$10:AJ20),$AG$10:$AG$116,0),MATCH(COLUMNS($AJ$7:AL17),$AJ$7:$BM$7,0)),\"\")","v":""},{"$f":"IFERROR(INDEX($AJ$10:$BM$29,MATCH(ROWS($AG$10:AK20),$AG$10:$AG$116,0),MATCH(COLUMNS($AJ$7:AM17),$AJ$7:$BM$7,0)),\"\")","v":""},{"$f":"IFERROR(INDEX($AJ$10:$BM$29,MATCH(ROWS($AG$10:AL20),$AG$10:$AG$116,0),MATCH(COLUMNS($AJ$7:AN17),$AJ$7:$BM$7,0)),\"\")","v":""},{"$f":"IFERROR(INDEX($AJ$10:$BM$29,MATCH(ROWS($AG$10:AM20),$AG$10:$AG$116,0),MATCH(COLUMNS($AJ$7:AO17),$AJ$7:$BM$7,0)),\"\")","v":""},{"$f":"IFERROR(INDEX($AJ$10:$BM$29,MATCH(ROWS($AG$10:AN20),$AG$10:$AG$116,0),MATCH(COLUMNS($AJ$7:AP17),$AJ$7:$BM$7,0)),\"\")","v":""},{"$f":"IFERROR(INDEX($AJ$10:$BM$29,MATCH(ROWS($AG$10:AO20),$AG$10:$AG$116,0),MATCH(COLUMNS($AJ$7:AQ17),$AJ$7:$BM$7,0)),\"\")","v":""},{"$f":"IFERROR(INDEX($AJ$10:$BM$29,MATCH(ROWS($AG$10:AP20),$AG$10:$AG$116,0),MATCH(COLUMNS($AJ$7:AR17),$AJ$7:$BM$7,0)),\"\")","v":""},{"$f":"IFERROR(INDEX($AJ$10:$BM$29,MATCH(ROWS($AG$10:AQ20),$AG$10:$AG$116,0),MATCH(COLUMNS($AJ$7:AS17),$AJ$7:$BM$7,0)),\"\")","v":""},{"$f":"IFERROR(INDEX($AJ$10:$BM$29,MATCH(ROWS($AG$10:AR20),$AG$10:$AG$116,0),MATCH(COLUMNS($AJ$7:AT17),$AJ$7:$BM$7,0)),\"\")","v":""},{"$f":"IFERROR(INDEX($AJ$10:$BM$29,MATCH(ROWS($AG$10:AS20),$AG$10:$AG$116,0),MATCH(COLUMNS($AJ$7:AU17),$AJ$7:$BM$7,0)),\"\")","v":""},{"$f":"IFERROR(INDEX($AJ$10:$BM$29,MATCH(ROWS($AG$10:AT20),$AG$10:$AG$116,0),MATCH(COLUMNS($AJ$7:AV17),$AJ$7:$BM$7,0)),\"\")","v":""},{"$f":"IFERROR(INDEX($AJ$10:$BM$29,MATCH(ROWS($AG$10:AU20),$AG$10:$AG$116,0),MATCH(COLUMNS($AJ$7:AW17),$AJ$7:$BM$7,0)),\"\")","v":""},{"$f":"IFERROR(INDEX($AJ$10:$BM$29,MATCH(ROWS($AG$10:AV20),$AG$10:$AG$116,0),MATCH(COLUMNS($AJ$7:AX17),$AJ$7:$BM$7,0)),\"\")","v":""},{"$f":"IFERROR(INDEX($AJ$10:$BM$29,MATCH(ROWS($AG$10:AW20),$AG$10:$AG$116,0),MATCH(COLUMNS($AJ$7:AY17),$AJ$7:$BM$7,0)),\"\")","v":""},{"$f":"IFERROR(INDEX($AJ$10:$BM$29,MATCH(ROWS($AG$10:AX20),$AG$10:$AG$116,0),MATCH(COLUMNS($AJ$7:AZ17),$AJ$7:$BM$7,0)),\"\")","v":""},{"$f":"IFERROR(INDEX($AJ$10:$BM$29,MATCH(ROWS($AG$10:AY20),$AG$10:$AG$116,0),MATCH(COLUMNS($AJ$7:BA17),$AJ$7:$BM$7,0)),\"\")","v":""},{"$f":"IFERROR(INDEX($AJ$10:$BM$29,MATCH(ROWS($AG$10:AZ20),$AG$10:$AG$116,0),MATCH(COLUMNS($AJ$7:BB17),$AJ$7:$BM$7,0)),\"\")","v":""},{"$f":"IFERROR(INDEX($AJ$10:$BM$29,MATCH(ROWS($AG$10:BA20),$AG$10:$AG$116,0),MATCH(COLUMNS($AJ$7:BC17),$AJ$7:$BM$7,0)),\"\")","v":""},{"$f":"IFERROR(INDEX($AJ$10:$BM$29,MATCH(ROWS($AG$10:BB20),$AG$10:$AG$116,0),MATCH(COLUMNS($AJ$7:BD17),$AJ$7:$BM$7,0)),\"\")","v":""},{"$f":"IFERROR(INDEX($AJ$10:$BM$29,MATCH(ROWS($AG$10:BC20),$AG$10:$AG$116,0),MATCH(COLUMNS($AJ$7:BE17),$AJ$7:$BM$7,0)),\"\")","v":""},{"$f":"IFERROR(INDEX($AJ$10:$BM$29,MATCH(ROWS($AG$10:BD20),$AG$10:$AG$116,0),MATCH(COLUMNS($AJ$7:BF17),$AJ$7:$BM$7,0)),\"\")","v":""},{"$f":"IFERROR(INDEX($AJ$10:$BM$29,MATCH(ROWS($AG$10:BE20),$AG$10:$AG$116,0),MATCH(COLUMNS($AJ$7:BG17),$AJ$7:$BM$7,0)),\"\")","v":""},{"$f":"IFERROR(INDEX($AJ$10:$BM$29,MATCH(ROWS($AG$10:BF20),$AG$10:$AG$116,0),MATCH(COLUMNS($AJ$7:BH17),$AJ$7:$BM$7,0)),\"\")","v":""},{"$f":"IFERROR(INDEX($AJ$10:$BM$29,MATCH(ROWS($AG$10:BG20),$AG$10:$AG$116,0),MATCH(COLUMNS($AJ$7:BI17),$AJ$7:$BM$7,0)),\"\")","v":""},{"$f":"IFERROR(INDEX($AJ$10:$BM$29,MATCH(ROWS($AG$10:BH20),$AG$10:$AG$116,0),MATCH(COLUMNS($AJ$7:BJ17),$AJ$7:$BM$7,0)),\"\")","v":""},{"$f":"IFERROR(INDEX($AJ$10:$BM$29,MATCH(ROWS($AG$10:BI20),$AG$10:$AG$116,0),MATCH(COLUMNS($AJ$7:BK17),$AJ$7:$BM$7,0)),\"\")","v":""},{"$f":"IFERROR(INDEX($AJ$10:$BM$29,MATCH(ROWS($AG$10:BJ20),$AG$10:$AG$116,0),MATCH(COLUMNS($AJ$7:BL17),$AJ$7:$BM$7,0)),\"\")","v":""},{"$f":"IFERROR(INDEX($AJ$10:$BM$29,MATCH(ROWS($AG$10:BK20),$AG$10:$AG$116,0),MATCH(COLUMNS($AJ$7:BM17),$AJ$7:$BM$7,0)),\"\")","v":""},null,{"$f":"IF(AH20=0,\"\",COUNTIF($AH$10:AH20,\"=1\"))","v":""},0,"شیگلا",{"$f":"SUMIFS(data!$H$3:$H$1499,data!$D$3:$D$1499,AI20,data!$G$3:$G$1499,\"مثبت\",data!$CS$3:$CS$1499,1)","v":0},{"$f":"SUMIFS(data!$I$3:$I$1499,data!$D$3:$D$1499,AI20,data!$G$3:$G$1499,\"مثبت\",data!$CS$3:$CS$1499,1)","v":0},{"$f":"SUMIFS(data!$J$3:$J$1499,data!$D$3:$D$1499,$AI20,data!$G$3:$G$1499,\"مثبت\",data!$CS$3:$CS$1499,1)","v":0},{"$f":"SUMIFS(data!$K$3:$K$1499,data!$D$3:$D$1499,$AI20,data!$G$3:$G$1499,\"مثبت\",data!$CS$3:$CS$1499,1)","v":0},{"$f":"SUMIFS(data!$L$3:$L$1499,data!$D$3:$D$1499,$AI20,data!$G$3:$G$1499,\"مثبت\",data!$CS$3:$CS$1499,1)","v":0},{"$f":"SUMIFS(data!$M$3:$M$1499,data!$D$3:$D$1499,$AI20,data!$G$3:$G$1499,\"مثبت\",data!$CS$3:$CS$1499,1)","v":0},{"$f":"SUMIFS(data!$N$3:$N$1499,data!$D$3:$D$1499,$AI20,data!$G$3:$G$1499,\"مثبت\",data!$CS$3:$CS$1499,1)","v":0},{"$f":"SUMIFS(data!$O$3:$O$1499,data!$D$3:$D$1499,$AI20,data!$G$3:$G$1499,\"مثبت\",data!$CS$3:$CS$1499,1)","v":0},{"$f":"SUMIFS(data!$P$3:$P$1499,data!$D$3:$D$1499,$AI20,data!$G$3:$G$1499,\"مثبت\",data!$CS$3:$CS$1499,1)","v":0},{"$f":"SUMIFS(data!$Q$3:$Q$1499,data!$D$3:$D$1499,$AI20,data!$G$3:$G$1499,\"مثبت\",data!$CS$3:$CS$1499,1)","v":0},{"$f":"SUMIFS(data!$R$3:$R$1499,data!$D$3:$D$1499,$AI20,data!$G$3:$G$1499,\"مثبت\",data!$CS$3:$CS$1499,1)","v":0},{"$f":"SUMIFS(data!$S$3:$S$1499,data!$D$3:$D$1499,$AI20,data!$G$3:$G$1499,\"مثبت\",data!$CS$3:$CS$1499,1)","v":0},{"$f":"SUMIFS(data!$T$3:$T$1499,data!$D$3:$D$1499,$AI20,data!$G$3:$G$1499,\"مثبت\",data!$CS$3:$CS$1499,1)","v":0},{"$f":"SUMIFS(data!$U$3:$U$1499,data!$D$3:$D$1499,$AI20,data!$G$3:$G$1499,\"مثبت\",data!$CS$3:$CS$1499,1)","v":0},{"$f":"SUMIFS(data!$V$3:$V$1499,data!$D$3:$D$1499,$AI20,data!$G$3:$G$1499,\"مثبت\",data!$CS$3:$CS$1499,1)","v":0},{"$f":"SUMIFS(data!$W$3:$W$1499,data!$D$3:$D$1499,$AI20,data!$G$3:$G$1499,\"مثبت\",data!$CS$3:$CS$1499,1)","v":0},{"$f":"SUMIFS(data!$X$3:$X$1499,data!$D$3:$D$1499,$AI20,data!$G$3:$G$1499,\"مثبت\",data!$CS$3:$CS$1499,1)","v":0},{"$f":"SUMIFS(data!$Y$3:$Y$1499,data!$D$3:$D$1499,$AI20,data!$G$3:$G$1499,\"مثبت\",data!$CS$3:$CS$1499,1)","v":0},{"$f":"SUMIFS(data!Z$3:Z$1499,data!$D$3:$D$1499,$AI20,data!$G$3:$G$1499,\"مثبت\",data!$CS$3:$CS$1499,1)","v":0},{"$f":"SUMIFS(data!AA$3:AA$1499,data!$D$3:$D$1499,$AI20,data!$G$3:$G$1499,\"مثبت\",data!$CS$3:$CS$1499,1)","v":0},{"$f":"SUMIFS(data!AB$3:AB$1499,data!$D$3:$D$1499,$AI20,data!$G$3:$G$1499,\"مثبت\",data!$CS$3:$CS$1499,1)","v":0},{"$f":"SUMIFS(data!AC$3:AC$1499,data!$D$3:$D$1499,$AI20,data!$G$3:$G$1499,\"مثبت\",data!$CS$3:$CS$1499,1)","v":0},{"$f":"SUMIFS(data!AD$3:AD$1499,data!$D$3:$D$1499,$AI20,data!$G$3:$G$1499,\"مثبت\",data!$CS$3:$CS$1499,1)","v":0},{"$f":"SUMIFS(data!AE$3:AE$1499,data!$D$3:$D$1499,$AI20,data!$G$3:$G$1499,\"مثبت\",data!$CS$3:$CS$1499,1)","v":0},{"$f":"SUMIFS(data!AF$3:AF$1499,data!$D$3:$D$1499,$AI20,data!$G$3:$G$1499,\"مثبت\",data!$CS$3:$CS$1499,1)","v":0},{"$f":"SUMIFS(data!AG$3:AG$1499,data!$D$3:$D$1499,$AI20,data!$G$3:$G$1499,\"مثبت\",data!$CS$3:$CS$1499,1)","v":0},{"$f":"SUMIFS(data!AH$3:AH$1499,data!$D$3:$D$1499,$AI20,data!$G$3:$G$1499,\"مثبت\",data!$CS$3:$CS$1499,1)","v":0},{"$f":"SUMIFS(data!AI$3:AI$1499,data!$D$3:$D$1499,$AI20,data!$G$3:$G$1499,\"مثبت\",data!$CS$3:$CS$1499,1)","v":0},{"$f":"SUMIFS(data!AJ$3:AJ$1499,data!$D$3:$D$1499,$AI20,data!$G$3:$G$1499,\"مثبت\",data!$CS$3:$CS$1499,1)","v":0},0]
[{"$f":"IFERROR(INDEX($AI$10:$AI$29,MATCH(ROWS($AG$10:AG21),$AG$10:$AG$116,0),1),\"\")","v":""},{"$f":"IFERROR(INDEX($AJ$10:$BM$29,MATCH(ROWS($AG$10:AH21),$AG$10:$AG$116,0),MATCH(COLUMNS($AJ$7:AJ18),$AJ$7:$BM$7,0)),\"\")","v":""},{"$f":"IFERROR(INDEX($AJ$10:$BM$29,MATCH(ROWS($AG$10:AI21),$AG$10:$AG$116,0),MATCH(COLUMNS($AJ$7:AK18),$AJ$7:$BM$7,0)),\"\")","v":""},{"$f":"IFERROR(INDEX($AJ$10:$BM$29,MATCH(ROWS($AG$10:AJ21),$AG$10:$AG$116,0),MATCH(COLUMNS($AJ$7:AL18),$AJ$7:$BM$7,0)),\"\")","v":""},{"$f":"IFERROR(INDEX($AJ$10:$BM$29,MATCH(ROWS($AG$10:AK21),$AG$10:$AG$116,0),MATCH(COLUMNS($AJ$7:AM18),$AJ$7:$BM$7,0)),\"\")","v":""},{"$f":"IFERROR(INDEX($AJ$10:$BM$29,MATCH(ROWS($AG$10:AL21),$AG$10:$AG$116,0),MATCH(COLUMNS($AJ$7:AN18),$AJ$7:$BM$7,0)),\"\")","v":""},{"$f":"IFERROR(INDEX($AJ$10:$BM$29,MATCH(ROWS($AG$10:AM21),$AG$10:$AG$116,0),MATCH(COLUMNS($AJ$7:AO18),$AJ$7:$BM$7,0)),\"\")","v":""},{"$f":"IFERROR(INDEX($AJ$10:$BM$29,MATCH(ROWS($AG$10:AN21),$AG$10:$AG$116,0),MATCH(COLUMNS($AJ$7:AP18),$AJ$7:$BM$7,0)),\"\")","v":""},{"$f":"IFERROR(INDEX($AJ$10:$BM$29,MATCH(ROWS($AG$10:AO21),$AG$10:$AG$116,0),MATCH(COLUMNS($AJ$7:AQ18),$AJ$7:$BM$7,0)),\"\")","v":""},{"$f":"IFERROR(INDEX($AJ$10:$BM$29,MATCH(ROWS($AG$10:AP21),$AG$10:$AG$116,0),MATCH(COLUMNS($AJ$7:AR18),$AJ$7:$BM$7,0)),\"\")","v":""},{"$f":"IFERROR(INDEX($AJ$10:$BM$29,MATCH(ROWS($AG$10:AQ21),$AG$10:$AG$116,0),MATCH(COLUMNS($AJ$7:AS18),$AJ$7:$BM$7,0)),\"\")","v":""},{"$f":"IFERROR(INDEX($AJ$10:$BM$29,MATCH(ROWS($AG$10:AR21),$AG$10:$AG$116,0),MATCH(COLUMNS($AJ$7:AT18),$AJ$7:$BM$7,0)),\"\")","v":""},{"$f":"IFERROR(INDEX($AJ$10:$BM$29,MATCH(ROWS($AG$10:AS21),$AG$10:$AG$116,0),MATCH(COLUMNS($AJ$7:AU18),$AJ$7:$BM$7,0)),\"\")","v":""},{"$f":"IFERROR(INDEX($AJ$10:$BM$29,MATCH(ROWS($AG$10:AT21),$AG$10:$AG$116,0),MATCH(COLUMNS($AJ$7:AV18),$AJ$7:$BM$7,0)),\"\")","v":""},{"$f":"IFERROR(INDEX($AJ$10:$BM$29,MATCH(ROWS($AG$10:AU21),$AG$10:$AG$116,0),MATCH(COLUMNS($AJ$7:AW18),$AJ$7:$BM$7,0)),\"\")","v":""},{"$f":"IFERROR(INDEX($AJ$10:$BM$29,MATCH(ROWS($AG$10:AV21),$AG$10:$AG$116,0),MATCH(COLUMNS($AJ$7:AX18),$AJ$7:$BM$7,0)),\"\")","v":""},{"$f":"IFERROR(INDEX($AJ$10:$BM$29,MATCH(ROWS($AG$10:AW21),$AG$10:$AG$116,0),MATCH(COLUMNS($AJ$7:AY18),$AJ$7:$BM$7,0)),\"\")","v":""},{"$f":"IFERROR(INDEX($AJ$10:$BM$29,MATCH(ROWS($AG$10:AX21),$AG$10:$AG$116,0),MATCH(COLUMNS($AJ$7:AZ18),$AJ$7:$BM$7,0)),\"\")","v":""},{"$f":"IFERROR(INDEX($AJ$10:$BM$29,MATCH(ROWS($AG$10:AY21),$AG$10:$AG$116,0),MATCH(COLUMNS($AJ$7:BA18),$AJ$7:$BM$7,0)),\"\")","v":""},{"$f":"IFERROR(INDEX($AJ$10:$BM$29,MATCH(ROWS($AG$10:AZ21),$AG$10:$AG$116,0),MATCH(COLUMNS($AJ$7:BB18),$AJ$7:$BM$7,0)),\"\")","v":""},{"$f":"IFERROR(INDEX($AJ$10:$BM$29,MATCH(ROWS($AG$10:BA21),$AG$10:$AG$116,0),MATCH(COLUMNS($AJ$7:BC18),$AJ$7:$BM$7,0)),\"\")","v":""},{"$f":"IFERROR(INDEX($AJ$10:$BM$29,MATCH(ROWS($AG$10:BB21),$AG$10:$AG$116,0),MATCH(COLUMNS($AJ$7:BD18),$AJ$7:$BM$7,0)),\"\")","v":""},{"$f":"IFERROR(INDEX($AJ$10:$BM$29,MATCH(ROWS($AG$10:BC21),$AG$10:$AG$116,0),MATCH(COLUMNS($AJ$7:BE18),$AJ$7:$BM$7,0)),\"\")","v":""},{"$f":"IFERROR(INDEX($AJ$10:$BM$29,MATCH(ROWS($AG$10:BD21),$AG$10:$AG$116,0),MATCH(COLUMNS($AJ$7:BF18),$AJ$7:$BM$7,0)),\"\")","v":""},{"$f":"IFERROR(INDEX($AJ$10:$BM$29,MATCH(ROWS($AG$10:BE21),$AG$10:$AG$116,0),MATCH(COLUMNS($AJ$7:BG18),$AJ$7:$BM$7,0)),\"\")","v":""},{"$f":"IFERROR(INDEX($AJ$10:$BM$29,MATCH(ROWS($AG$10:BF21),$AG$10:$AG$116,0),MATCH(COLUMNS($AJ$7:BH18),$AJ$7:$BM$7,0)),\"\")","v":""},{"$f":"IFERROR(INDEX($AJ$10:$BM$29,MATCH(ROWS($AG$10:BG21),$AG$10:$AG$116,0),MATCH(COLUMNS($AJ$7:BI18),$AJ$7:$BM$7,0)),\"\")","v":""},{"$f":"IFERROR(INDEX($AJ$10:$BM$29,MATCH(ROWS($AG$10:BH21),$AG$10:$AG$116,0),MATCH(COLUMNS($AJ$7:BJ18),$AJ$7:$BM$7,0)),\"\")","v":""},{"$f":"IFERROR(INDEX($AJ$10:$BM$29,MATCH(ROWS($AG$10:BI21),$AG$10:$AG$116,0),MATCH(COLUMNS($AJ$7:BK18),$AJ$7:$BM$7,0)),\"\")","v":""},{"$f":"IFERROR(INDEX($AJ$10:$BM$29,MATCH(ROWS($AG$10:BJ21),$AG$10:$AG$116,0),MATCH(COLUMNS($AJ$7:BL18),$AJ$7:$BM$7,0)),\"\")","v":""},{"$f":"IFERROR(INDEX($AJ$10:$BM$29,MATCH(ROWS($AG$10:BK21),$AG$10:$AG$116,0),MATCH(COLUMNS($AJ$7:BM18),$AJ$7:$BM$7,0)),\"\")","v":""},null,{"$f":"IF(AH21=0,\"\",COUNTIF($AH$10:AH21,\"=1\"))","v":""},0,"سراشیا",{"$f":"SUMIFS(data!$H$3:$H$1499,data!$D$3:$D$1499,AI21,data!$G$3:$G$1499,\"مثبت\",data!$CS$3:$CS$1499,1)","v":0},{"$f":"SUMIFS(data!$I$3:$I$1499,data!$D$3:$D$1499,AI21,data!$G$3:$G$1499,\"مثبت\",data!$CS$3:$CS$1499,1)","v":0},{"$f":"SUMIFS(data!$J$3:$J$1499,data!$D$3:$D$1499,$AI21,data!$G$3:$G$1499,\"مثبت\",data!$CS$3:$CS$1499,1)","v":0},{"$f":"SUMIFS(data!$K$3:$K$1499,data!$D$3:$D$1499,$AI21,data!$G$3:$G$1499,\"مثبت\",data!$CS$3:$CS$1499,1)","v":0},{"$f":"SUMIFS(data!$L$3:$L$1499,data!$D$3:$D$1499,$AI21,data!$G$3:$G$1499,\"مثبت\",data!$CS$3:$CS$1499,1)","v":0},{"$f":"SUMIFS(data!$M$3:$M$1499,data!$D$3:$D$1499,$AI21,data!$G$3:$G$1499,\"مثبت\",data!$CS$3:$CS$1499,1)","v":0},{"$f":"SUMIFS(data!$N$3:$N$1499,data!$D$3:$D$1499,$AI21,data!$G$3:$G$1499,\"مثبت\",data!$CS$3:$CS$1499,1)","v":0},{"$f":"SUMIFS(data!$O$3:$O$1499,data!$D$3:$D$1499,$AI21,data!$G$3:$G$1499,\"مثبت\",data!$CS$3:$CS$1499,1)","v":0},{"$f":"SUMIFS(data!$P$3:$P$1499,data!$D$3:$D$1499,$AI21,data!$G$3:$G$1499,\"مثبت\",data!$CS$3:$CS$1499,1)","v":0},{"$f":"SUMIFS(data!$Q$3:$Q$1499,data!$D$3:$D$1499,$AI21,data!$G$3:$G$1499,\"مثبت\",data!$CS$3:$CS$1499,1)","v":0},{"$f":"SUMIFS(data!$R$3:$R$1499,data!$D$3:$D$1499,$AI21,data!$G$3:$G$1499,\"مثبت\",data!$CS$3:$CS$1499,1)","v":0},{"$f":"SUMIFS(data!$S$3:$S$1499,data!$D$3:$D$1499,$AI21,data!$G$3:$G$1499,\"مثبت\",data!$CS$3:$CS$1499,1)","v":0},{"$f":"SUMIFS(data!$T$3:$T$1499,data!$D$3:$D$1499,$AI21,data!$G$3:$G$1499,\"مثبت\",data!$CS$3:$CS$1499,1)","v":0},{"$f":"SUMIFS(data!$U$3:$U$1499,data!$D$3:$D$1499,$AI21,data!$G$3:$G$1499,\"مثبت\",data!$CS$3:$CS$1499,1)","v":0},{"$f":"SUMIFS(data!$V$3:$V$1499,data!$D$3:$D$1499,$AI21,data!$G$3:$G$1499,\"مثبت\",data!$CS$3:$CS$1499,1)","v":0},{"$f":"SUMIFS(data!$W$3:$W$1499,data!$D$3:$D$1499,$AI21,data!$G$3:$G$1499,\"مثبت\",data!$CS$3:$CS$1499,1)","v":0},{"$f":"SUMIFS(data!$X$3:$X$1499,data!$D$3:$D$1499,$AI21,data!$G$3:$G$1499,\"مثبت\",data!$CS$3:$CS$1499,1)","v":0},{"$f":"SUMIFS(data!$Y$3:$Y$1499,data!$D$3:$D$1499,$AI21,data!$G$3:$G$1499,\"مثبت\",data!$CS$3:$CS$1499,1)","v":0},{"$f":"SUMIFS(data!Z$3:Z$1499,data!$D$3:$D$1499,$AI21,data!$G$3:$G$1499,\"مثبت\",data!$CS$3:$CS$1499,1)","v":0},{"$f":"SUMIFS(data!AA$3:AA$1499,data!$D$3:$D$1499,$AI21,data!$G$3:$G$1499,\"مثبت\",data!$CS$3:$CS$1499,1)","v":0},{"$f":"SUMIFS(data!AB$3:AB$1499,data!$D$3:$D$1499,$AI21,data!$G$3:$G$1499,\"مثبت\",data!$CS$3:$CS$1499,1)","v":0},{"$f":"SUMIFS(data!AC$3:AC$1499,data!$D$3:$D$1499,$AI21,data!$G$3:$G$1499,\"مثبت\",data!$CS$3:$CS$1499,1)","v":0},{"$f":"SUMIFS(data!AD$3:AD$1499,data!$D$3:$D$1499,$AI21,data!$G$3:$G$1499,\"مثبت\",data!$CS$3:$CS$1499,1)","v":0},{"$f":"SUMIFS(data!AE$3:AE$1499,data!$D$3:$D$1499,$AI21,data!$G$3:$G$1499,\"مثبت\",data!$CS$3:$CS$1499,1)","v":0},{"$f":"SUMIFS(data!AF$3:AF$1499,data!$D$3:$D$1499,$AI21,data!$G$3:$G$1499,\"مثبت\",data!$CS$3:$CS$1499,1)","v":0},{"$f":"SUMIFS(data!AG$3:AG$1499,data!$D$3:$D$1499,$AI21,data!$G$3:$G$1499,\"مثبت\",data!$CS$3:$CS$1499,1)","v":0},{"$f":"SUMIFS(data!AH$3:AH$1499,data!$D$3:$D$1499,$AI21,data!$G$3:$G$1499,\"مثبت\",data!$CS$3:$CS$1499,1)","v":0},{"$f":"SUMIFS(data!AI$3:AI$1499,data!$D$3:$D$1499,$AI21,data!$G$3:$G$1499,\"مثبت\",data!$CS$3:$CS$1499,1)","v":0},{"$f":"SUMIFS(data!AJ$3:AJ$1499,data!$D$3:$D$1499,$AI21,data!$G$3:$G$1499,\"مثبت\",data!$CS$3:$CS$1499,1)","v":0},0]
[{"$f":"IFERROR(INDEX($AI$10:$AI$29,MATCH(ROWS($AG$10:AG22),$AG$10:$AG$116,0),1),\"\")","v":""},{"$f":"IFERROR(INDEX($AJ$10:$BM$29,MATCH(ROWS($AG$10:AH22),$AG$10:$AG$116,0),MATCH(COLUMNS($AJ$7:AJ19),$AJ$7:$BM$7,0)),\"\")","v":""},{"$f":"IFERROR(INDEX($AJ$10:$BM$29,MATCH(ROWS($AG$10:AI22),$AG$10:$AG$116,0),MATCH(COLUMNS($AJ$7:AK19),$AJ$7:$BM$7,0)),\"\")","v":""},{"$f":"IFERROR(INDEX($AJ$10:$BM$29,MATCH(ROWS($AG$10:AJ22),$AG$10:$AG$116,0),MATCH(COLUMNS($AJ$7:AL19),$AJ$7:$BM$7,0)),\"\")","v":""},{"$f":"IFERROR(INDEX($AJ$10:$BM$29,MATCH(ROWS($AG$10:AK22),$AG$10:$AG$116,0),MATCH(COLUMNS($AJ$7:AM19),$AJ$7:$BM$7,0)),\"\")","v":""},{"$f":"IFERROR(INDEX($AJ$10:$BM$29,MATCH(ROWS($AG$10:AL22),$AG$10:$AG$116,0),MATCH(COLUMNS($AJ$7:AN19),$AJ$7:$BM$7,0)),\"\")","v":""},{"$f":"IFERROR(INDEX($AJ$10:$BM$29,MATCH(ROWS($AG$10:AM22),$AG$10:$AG$116,0),MATCH(COLUMNS($AJ$7:AO19),$AJ$7:$BM$7,0)),\"\")","v":""},{"$f":"IFERROR(INDEX($AJ$10:$BM$29,MATCH(ROWS($AG$10:AN22),$AG$10:$AG$116,0),MATCH(COLUMNS($AJ$7:AP19),$AJ$7:$BM$7,0)),\"\")","v":""},{"$f":"IFERROR(INDEX($AJ$10:$BM$29,MATCH(ROWS($AG$10:AO22),$AG$10:$AG$116,0),MATCH(COLUMNS($AJ$7:AQ19),$AJ$7:$BM$7,0)),\"\")","v":""},{"$f":"IFERROR(INDEX($AJ$10:$BM$29,MATCH(ROWS($AG$10:AP22),$AG$10:$AG$116,0),MATCH(COLUMNS($AJ$7:AR19),$AJ$7:$BM$7,0)),\"\")","v":""},{"$f":"IFERROR(INDEX($AJ$10:$BM$29,MATCH(ROWS($AG$10:AQ22),$AG$10:$AG$116,0),MATCH(COLUMNS($AJ$7:AS19),$AJ$7:$BM$7,0)),\"\")","v":""},{"$f":"IFERROR(INDEX($AJ$10:$BM$29,MATCH(ROWS($AG$10:AR22),$AG$10:$AG$116,0),MATCH(COLUMNS($AJ$7:AT19),$AJ$7:$BM$7,0)),\"\")","v":""},{"$f":"IFERROR(INDEX($AJ$10:$BM$29,MATCH(ROWS($AG$10:AS22),$AG$10:$AG$116,0),MATCH(COLUMNS($AJ$7:AU19),$AJ$7:$BM$7,0)),\"\")","v":""},{"$f":"IFERROR(INDEX($AJ$10:$BM$29,MATCH(ROWS($AG$10:AT22),$AG$10:$AG$116,0),MATCH(COLUMNS($AJ$7:AV19),$AJ$7:$BM$7,0)),\"\")","v":""},{"$f":"IFERROR(INDEX($AJ$10:$BM$29,MATCH(ROWS($AG$10:AU22),$AG$10:$AG$116,0),MATCH(COLUMNS($AJ$7:AW19),$AJ$7:$BM$7,0)),\"\")","v":""},{"$f":"IFERROR(INDEX($AJ$10:$BM$29,MATCH(ROWS($AG$10:AV22),$AG$10:$AG$116,0),MATCH(COLUMNS($AJ$7:AX19),$AJ$7:$BM$7,0)),\"\")","v":""},{"$f":"IFERROR(INDEX($AJ$10:$BM$29,MATCH(ROWS($AG$10:AW22),$AG$10:$AG$116,0),MATCH(COLUMNS($AJ$7:AY19),$AJ$7:$BM$7,0)),\"\")","v":""},{"$f":"IFERROR(INDEX($AJ$10:$BM$29,MATCH(ROWS($AG$10:AX22),$AG$10:$AG$116,0),MATCH(COLUMNS($AJ$7:AZ19),$AJ$7:$BM$7,0)),\"\")","v":""},{"$f":"IFERROR(INDEX($AJ$10:$BM$29,MATCH(ROWS($AG$10:AY22),$AG$10:$AG$116,0),MATCH(COLUMNS($AJ$7:BA19),$AJ$7:$BM$7,0)),\"\")","v":""},{"$f":"IFERROR(INDEX($AJ$10:$BM$29,MATCH(ROWS($AG$10:AZ22),$AG$10:$AG$116,0),MATCH(COLUMNS($AJ$7:BB19),$AJ$7:$BM$7,0)),\"\")","v":""},{"$f":"IFERROR(INDEX($AJ$10:$BM$29,MATCH(ROWS($AG$10:BA22),$AG$10:$AG$116,0),MATCH(COLUMNS($AJ$7:BC19),$AJ$7:$BM$7,0)),\"\")","v":""},{"$f":"IFERROR(INDEX($AJ$10:$BM$29,MATCH(ROWS($AG$10:BB22),$AG$10:$AG$116,0),MATCH(COLUMNS($AJ$7:BD19),$AJ$7:$BM$7,0)),\"\")","v":""},{"$f":"IFERROR(INDEX($AJ$10:$BM$29,MATCH(ROWS($AG$10:BC22),$AG$10:$AG$116,0),MATCH(COLUMNS($AJ$7:BE19),$AJ$7:$BM$7,0)),\"\")","v":""},{"$f":"IFERROR(INDEX($AJ$10:$BM$29,MATCH(ROWS($AG$10:BD22),$AG$10:$AG$116,0),MATCH(COLUMNS($AJ$7:BF19),$AJ$7:$BM$7,0)),\"\")","v":""},{"$f":"IFERROR(INDEX($AJ$10:$BM$29,MATCH(ROWS($AG$10:BE22),$AG$10:$AG$116,0),MATCH(COLUMNS($AJ$7:BG19),$AJ$7:$BM$7,0)),\"\")","v":""},{"$f":"IFERROR(INDEX($AJ$10:$BM$29,MATCH(ROWS($AG$10:BF22),$AG$10:$AG$116,0),MATCH(COLUMNS($AJ$7:BH19),$AJ$7:$BM$7,0)),\"\")","v":""},{"$f":"IFERROR(INDEX($AJ$10:$BM$29,MATCH(ROWS($AG$10:BG22),$AG$10:$AG$116,0),MATCH(COLUMNS($AJ$7:BI19),$AJ$7:$BM$7,0)),\"\")","v":""},{"$f":"IFERROR(INDEX($AJ$10:$BM$29,MATCH(ROWS($AG$10:BH22),$AG$10:$AG$116,0),MATCH(COLUMNS($AJ$7:BJ19),$AJ$7:$BM$7,0)),\"\")","v":""},{"$f":"IFERROR(INDEX($AJ$10:$BM$29,MATCH(ROWS($AG$10:BI22),$AG$10:$AG$116,0),MATCH(COLUMNS($AJ$7:BK19),$AJ$7:$BM$7,0)),\"\")","v":""},{"$f":"IFERROR(INDEX($AJ$10:$BM$29,MATCH(ROWS($AG$10:BJ22),$AG$10:$AG$116,0),MATCH(COLUMNS($AJ$7:BL19),$AJ$7:$BM$7,0)),\"\")","v":""},{"$f":"IFERROR(INDEX($AJ$10:$BM$29,MATCH(ROWS($AG$10:BK22),$AG$10:$AG$116,0),MATCH(COLUMNS($AJ$7:BM19),$AJ$7:$BM$7,0)),\"\")","v":""},null,{"$f":"IF(AH22=0,\"\",COUNTIF($AH$10:AH22,\"=1\"))","v":""},0,"سیتروباکتر",{"$f":"SUMIFS(data!$H$3:$H$1499,data!$D$3:$D$1499,AI22,data!$G$3:$G$1499,\"مثبت\",data!$CS$3:$CS$1499,1)","v":0},{"$f":"SUMIFS(data!$I$3:$I$1499,data!$D$3:$D$1499,AI22,data!$G$3:$G$1499,\"مثبت\",data!$CS$3:$CS$1499,1)","v":0},{"$f":"SUMIFS(data!$J$3:$J$1499,data!$D$3:$D$1499,$AI22,data!$G$3:$G$1499,\"مثبت\",data!$CS$3:$CS$1499,1)","v":0},{"$f":"SUMIFS(data!$K$3:$K$1499,data!$D$3:$D$1499,$AI22,data!$G$3:$G$1499,\"مثبت\",data!$CS$3:$CS$1499,1)","v":0},{"$f":"SUMIFS(data!$L$3:$L$1499,data!$D$3:$D$1499,$AI22,data!$G$3:$G$1499,\"مثبت\",data!$CS$3:$CS$1499,1)","v":0},{"$f":"SUMIFS(data!$M$3:$M$1499,data!$D$3:$D$1499,$AI22,data!$G$3:$G$1499,\"مثبت\",data!$CS$3:$CS$1499,1)","v":0},{"$f":"SUMIFS(data!$N$3:$N$1499,data!$D$3:$D$1499,$AI22,data!$G$3:$G$1499,\"مثبت\",data!$CS$3:$CS$1499,1)","v":0},{"$f":"SUMIFS(data!$O$3:$O$1499,data!$D$3:$D$1499,$AI22,data!$G$3:$G$1499,\"مثبت\",data!$CS$3:$CS$1499,1)","v":0},{"$f":"SUMIFS(data!$P$3:$P$1499,data!$D$3:$D$1499,$AI22,data!$G$3:$G$1499,\"مثبت\",data!$CS$3:$CS$1499,1)","v":0},{"$f":"SUMIFS(data!$Q$3:$Q$1499,data!$D$3:$D$1499,$AI22,data!$G$3:$G$1499,\"مثبت\",data!$CS$3:$CS$1499,1)","v":0},{"$f":"SUMIFS(data!$R$3:$R$1499,data!$D$3:$D$1499,$AI22,data!$G$3:$G$1499,\"مثبت\",data!$CS$3:$CS$1499,1)","v":0},{"$f":"SUMIFS(data!$S$3:$S$1499,data!$D$3:$D$1499,$AI22,data!$G$3:$G$1499,\"مثبت\",data!$CS$3:$CS$1499,1)","v":0},{"$f":"SUMIFS(data!$T$3:$T$1499,data!$D$3:$D$1499,$AI22,data!$G$3:$G$1499,\"مثبت\",data!$CS$3:$CS$1499,1)","v":0},{"$f":"SUMIFS(data!$U$3:$U$1499,data!$D$3:$D$1499,$AI22,data!$G$3:$G$1499,\"مثبت\",data!$CS$3:$CS$1499,1)","v":0},{"$f":"SUMIFS(data!$V$3:$V$1499,data!$D$3:$D$1499,$AI22,data!$G$3:$G$1499,\"مثبت\",data!$CS$3:$CS$1499,1)","v":0},{"$f":"SUMIFS(data!$W$3:$W$1499,data!$D$3:$D$1499,$AI22,data!$G$3:$G$1499,\"مثبت\",data!$CS$3:$CS$1499,1)","v":0},{"$f":"SUMIFS(data!$X$3:$X$1499,data!$D$3:$D$1499,$AI22,data!$G$3:$G$1499,\"مثبت\",data!$CS$3:$CS$1499,1)","v":0},{"$f":"SUMIFS(data!$Y$3:$Y$1499,data!$D$3:$D$1499,$AI22,data!$G$3:$G$1499,\"مثبت\",data!$CS$3:$CS$1499,1)","v":0},{"$f":"SUMIFS(data!Z$3:Z$1499,data!$D$3:$D$1499,$AI22,data!$G$3:$G$1499,\"مثبت\",data!$CS$3:$CS$1499,1)","v":0},{"$f":"SUMIFS(data!AA$3:AA$1499,data!$D$3:$D$1499,$AI22,data!$G$3:$G$1499,\"مثبت\",data!$CS$3:$CS$1499,1)","v":0},{"$f":"SUMIFS(data!AB$3:AB$1499,data!$D$3:$D$1499,$AI22,data!$G$3:$G$1499,\"مثبت\",data!$CS$3:$CS$1499,1)","v":0},{"$f":"SUMIFS(data!AC$3:AC$1499,data!$D$3:$D$1499,$AI22,data!$G$3:$G$1499,\"مثبت\",data!$CS$3:$CS$1499,1)","v":0},{"$f":"SUMIFS(data!AD$3:AD$1499,data!$D$3:$D$1499,$AI22,data!$G$3:$G$1499,\"مثبت\",data!$CS$3:$CS$1499,1)","v":0},{"$f":"SUMIFS(data!AE$3:AE$1499,data!$D$3:$D$1499,$AI22,data!$G$3:$G$1499,\"مثبت\",data!$CS$3:$CS$1499,1)","v":0},{"$f":"SUMIFS(data!AF$3:AF$1499,data!$D$3:$D$1499,$AI22,data!$G$3:$G$1499,\"مثبت\",data!$CS$3:$CS$1499,1)","v":0},{"$f":"SUMIFS(data!AG$3:AG$1499,data!$D$3:$D$1499,$AI22,data!$G$3:$G$1499,\"مثبت\",data!$CS$3:$CS$1499,1)","v":0},{"$f":"SUMIFS(data!AH$3:AH$1499,data!$D$3:$D$1499,$AI22,data!$G$3:$G$1499,\"مثبت\",data!$CS$3:$CS$1499,1)","v":0},{"$f":"SUMIFS(data!AI$3:AI$1499,data!$D$3:$D$1499,$AI22,data!$G$3:$G$1499,\"مثبت\",data!$CS$3:$CS$1499,1)","v":0},{"$f":"SUMIFS(data!AJ$3:AJ$1499,data!$D$3:$D$1499,$AI22,data!$G$3:$G$1499,\"مثبت\",data!$CS$3:$CS$1499,1)","v":0},0]
[{"$f":"IFERROR(INDEX($AI$10:$AI$29,MATCH(ROWS($AG$10:AG23),$AG$10:$AG$116,0),1),\"\")","v":""},{"$f":"IFERROR(INDEX($AJ$10:$BM$29,MATCH(ROWS($AG$10:AH23),$AG$10:$AG$116,0),MATCH(COLUMNS($AJ$7:AJ20),$AJ$7:$BM$7,0)),\"\")","v":""},{"$f":"IFERROR(INDEX($AJ$10:$BM$29,MATCH(ROWS($AG$10:AI23),$AG$10:$AG$116,0),MATCH(COLUMNS($AJ$7:AK20),$AJ$7:$BM$7,0)),\"\")","v":""},{"$f":"IFERROR(INDEX($AJ$10:$BM$29,MATCH(ROWS($AG$10:AJ23),$AG$10:$AG$116,0),MATCH(COLUMNS($AJ$7:AL20),$AJ$7:$BM$7,0)),\"\")","v":""},{"$f":"IFERROR(INDEX($AJ$10:$BM$29,MATCH(ROWS($AG$10:AK23),$AG$10:$AG$116,0),MATCH(COLUMNS($AJ$7:AM20),$AJ$7:$BM$7,0)),\"\")","v":""},{"$f":"IFERROR(INDEX($AJ$10:$BM$29,MATCH(ROWS($AG$10:AL23),$AG$10:$AG$116,0),MATCH(COLUMNS($AJ$7:AN20),$AJ$7:$BM$7,0)),\"\")","v":""},{"$f":"IFERROR(INDEX($AJ$10:$BM$29,MATCH(ROWS($AG$10:AM23),$AG$10:$AG$116,0),MATCH(COLUMNS($AJ$7:AO20),$AJ$7:$BM$7,0)),\"\")","v":""},{"$f":"IFERROR(INDEX($AJ$10:$BM$29,MATCH(ROWS($AG$10:AN23),$AG$10:$AG$116,0),MATCH(COLUMNS($AJ$7:AP20),$AJ$7:$BM$7,0)),\"\")","v":""},{"$f":"IFERROR(INDEX($AJ$10:$BM$29,MATCH(ROWS($AG$10:AO23),$AG$10:$AG$116,0),MATCH(COLUMNS($AJ$7:AQ20),$AJ$7:$BM$7,0)),\"\")","v":""},{"$f":"IFERROR(INDEX($AJ$10:$BM$29,MATCH(ROWS($AG$10:AP23),$AG$10:$AG$116,0),MATCH(COLUMNS($AJ$7:AR20),$AJ$7:$BM$7,0)),\"\")","v":""},{"$f":"IFERROR(INDEX($AJ$10:$BM$29,MATCH(ROWS($AG$10:AQ23),$AG$10:$AG$116,0),MATCH(COLUMNS($AJ$7:AS20),$AJ$7:$BM$7,0)),\"\")","v":""},{"$f":"IFERROR(INDEX($AJ$10:$BM$29,MATCH(ROWS($AG$10:AR23),$AG$10:$AG$116,0),MATCH(COLUMNS($AJ$7:AT20),$AJ$7:$BM$7,0)),\"\")","v":""},{"$f":"IFERROR(INDEX($AJ$10:$BM$29,MATCH(ROWS($AG$10:AS23),$AG$10:$AG$116,0),MATCH(COLUMNS($AJ$7:AU20),$AJ$7:$BM$7,0)),\"\")","v":""},{"$f":"IFERROR(INDEX($AJ$10:$BM$29,MATCH(ROWS($AG$10:AT23),$AG$10:$AG$116,0),MATCH(COLUMNS($AJ$7:AV20),$AJ$7:$BM$7,0)),\"\")","v":""},{"$f":"IFERROR(INDEX($AJ$10:$BM$29,MATCH(ROWS($AG$10:AU23),$AG$10:$AG$116,0),MATCH(COLUMNS($AJ$7:AW20),$AJ$7:$BM$7,0)),\"\")","v":""},{"$f":"IFERROR(INDEX($AJ$10:$BM$29,MATCH(ROWS($AG$10:AV23),$AG$10:$AG$116,0),MATCH(COLUMNS($AJ$7:AX20),$AJ$7:$BM$7,0)),\"\")","v":""},{"$f":"IFERROR(INDEX($AJ$10:$BM$29,MATCH(ROWS($AG$10:AW23),$AG$10:$AG$116,0),MATCH(COLUMNS($AJ$7:AY20),$AJ$7:$BM$7,0)),\"\")","v":""},{"$f":"IFERROR(INDEX($AJ$10:$BM$29,MATCH(ROWS($AG$10:AX23),$AG$10:$AG$116,0),MATCH(COLUMNS($AJ$7:AZ20),$AJ$7:$BM$7,0)),\"\")","v":""},{"$f":"IFERROR(INDEX($AJ$10:$BM$29,MATCH(ROWS($AG$10:AY23),$AG$10:$AG$116,0),MATCH(COLUMNS($AJ$7:BA20),$AJ$7:$BM$7,0)),\"\")","v":""},{"$f":"IFERROR(INDEX($AJ$10:$BM$29,MATCH(ROWS($AG$10:AZ23),$AG$10:$AG$116,0),MATCH(COLUMNS($AJ$7:BB20),$AJ$7:$BM$7,0)),\"\")","v":""},{"$f":"IFERROR(INDEX($AJ$10:$BM$29,MATCH(ROWS($AG$10:BA23),$AG$10:$AG$116,0),MATCH(COLUMNS($AJ$7:BC20),$AJ$7:$BM$7,0)),\"\")","v":""},{"$f":"IFERROR(INDEX($AJ$10:$BM$29,MATCH(ROWS($AG$10:BB23),$AG$10:$AG$116,0),MATCH(COLUMNS($AJ$7:BD20),$AJ$7:$BM$7,0)),\"\")","v":""},{"$f":"IFERROR(INDEX($AJ$10:$BM$29,MATCH(ROWS($AG$10:BC23),$AG$10:$AG$116,0),MATCH(COLUMNS($AJ$7:BE20),$AJ$7:$BM$7,0)),\"\")","v":""},{"$f":"IFERROR(INDEX($AJ$10:$BM$29,MATCH(ROWS($AG$10:BD23),$AG$10:$AG$116,0),MATCH(COLUMNS($AJ$7:BF20),$AJ$7:$BM$7,0)),\"\")","v":""},{"$f":"IFERROR(INDEX($AJ$10:$BM$29,MATCH(ROWS($AG$10:BE23),$AG$10:$AG$116,0),MATCH(COLUMNS($AJ$7:BG20),$AJ$7:$BM$7,0)),\"\")","v":""},{"$f":"IFERROR(INDEX($AJ$10:$BM$29,MATCH(ROWS($AG$10:BF23),$AG$10:$AG$116,0),MATCH(COLUMNS($AJ$7:BH20),$AJ$7:$BM$7,0)),\"\")","v":""},{"$f":"IFERROR(INDEX($AJ$10:$BM$29,MATCH(ROWS($AG$10:BG23),$AG$10:$AG$116,0),MATCH(COLUMNS($AJ$7:BI20),$AJ$7:$BM$7,0)),\"\")","v":""},{"$f":"IFERROR(INDEX($AJ$10:$BM$29,MATCH(ROWS($AG$10:BH23),$AG$10:$AG$116,0),MATCH(COLUMNS($AJ$7:BJ20),$AJ$7:$BM$7,0)),\"\")","v":""},{"$f":"IFERROR(INDEX($AJ$10:$BM$29,MATCH(ROWS($AG$10:BI23),$AG$10:$AG$116,0),MATCH(COLUMNS($AJ$7:BK20),$AJ$7:$BM$7,0)),\"\")","v":""},{"$f":"IFERROR(INDEX($AJ$10:$BM$29,MATCH(ROWS($AG$10:BJ23),$AG$10:$AG$116,0),MATCH(COLUMNS($AJ$7:BL20),$AJ$7:$BM$7,0)),\"\")","v":""},{"$f":"IFERROR(INDEX($AJ$10:$BM$29,MATCH(ROWS($AG$10:BK23),$AG$10:$AG$116,0),MATCH(COLUMNS($AJ$7:BM20),$AJ$7:$BM$7,0)),\"\")","v":""},null,{"$f":"IF(AH23=0,\"\",COUNTIF($AH$10:AH23,\"=1\"))","v":""},0,"پروتئوس",{"$f":"SUMIFS(data!$H$3:$H$1499,data!$D$3:$D$1499,AI23,data!$G$3:$G$1499,\"مثبت\",data!$CS$3:$CS$1499,1)","v":0},{"$f":"SUMIFS(data!$I$3:$I$1499,data!$D$3:$D$1499,AI23,data!$G$3:$G$1499,\"مثبت\",data!$CS$3:$CS$1499,1)","v":0},{"$f":"SUMIFS(data!$J$3:$J$1499,data!$D$3:$D$1499,$AI23,data!$G$3:$G$1499,\"مثبت\",data!$CS$3:$CS$1499,1)","v":0},{"$f":"SUMIFS(data!$K$3:$K$1499,data!$D$3:$D$1499,$AI23,data!$G$3:$G$1499,\"مثبت\",data!$CS$3:$CS$1499,1)","v":0},{"$f":"SUMIFS(data!$L$3:$L$1499,data!$D$3:$D$1499,$AI23,data!$G$3:$G$1499,\"مثبت\",data!$CS$3:$CS$1499,1)","v":0},{"$f":"SUMIFS(data!$M$3:$M$1499,data!$D$3:$D$1499,$AI23,data!$G$3:$G$1499,\"مثبت\",data!$CS$3:$CS$1499,1)","v":0},{"$f":"SUMIFS(data!$N$3:$N$1499,data!$D$3:$D$1499,$AI23,data!$G$3:$G$1499,\"مثبت\",data!$CS$3:$CS$1499,1)","v":0},{"$f":"SUMIFS(data!$O$3:$O$1499,data!$D$3:$D$1499,$AI23,data!$G$3:$G$1499,\"مثبت\",data!$CS$3:$CS$1499,1)","v":0},{"$f":"SUMIFS(data!$P$3:$P$1499,data!$D$3:$D$1499,$AI23,data!$G$3:$G$1499,\"مثبت\",data!$CS$3:$CS$1499,1)","v":0},{"$f":"SUMIFS(data!$Q$3:$Q$1499,data!$D$3:$D$1499,$AI23,data!$G$3:$G$1499,\"مثبت\",data!$CS$3:$CS$1499,1)","v":0},{"$f":"SUMIFS(data!$R$3:$R$1499,data!$D$3:$D$1499,$AI23,data!$G$3:$G$1499,\"مثبت\",data!$CS$3:$CS$1499,1)","v":0},{"$f":"SUMIFS(data!$S$3:$S$1499,data!$D$3:$D$1499,$AI23,data!$G$3:$G$1499,\"مثبت\",data!$CS$3:$CS$1499,1)","v":0},{"$f":"SUMIFS(data!$T$3:$T$1499,data!$D$3:$D$1499,$AI23,data!$G$3:$G$1499,\"مثبت\",data!$CS$3:$CS$1499,1)","v":0},{"$f":"SUMIFS(data!$U$3:$U$1499,data!$D$3:$D$1499,$AI23,data!$G$3:$G$1499,\"مثبت\",data!$CS$3:$CS$1499,1)","v":0},{"$f":"SUMIFS(data!$V$3:$V$1499,data!$D$3:$D$1499,$AI23,data!$G$3:$G$1499,\"مثبت\",data!$CS$3:$CS$1499,1)","v":0},{"$f":"SUMIFS(data!$W$3:$W$1499,data!$D$3:$D$1499,$AI23,data!$G$3:$G$1499,\"مثبت\",data!$CS$3:$CS$1499,1)","v":0},{"$f":"SUMIFS(data!$X$3:$X$1499,data!$D$3:$D$1499,$AI23,data!$G$3:$G$1499,\"مثبت\",data!$CS$3:$CS$1499,1)","v":0},{"$f":"SUMIFS(data!$Y$3:$Y$1499,data!$D$3:$D$1499,$AI23,data!$G$3:$G$1499,\"مثبت\",data!$CS$3:$CS$1499,1)","v":0},{"$f":"SUMIFS(data!Z$3:Z$1499,data!$D$3:$D$1499,$AI23,data!$G$3:$G$1499,\"مثبت\",data!$CS$3:$CS$1499,1)","v":0},{"$f":"SUMIFS(data!AA$3:AA$1499,data!$D$3:$D$1499,$AI23,data!$G$3:$G$1499,\"مثبت\",data!$CS$3:$CS$1499,1)","v":0},{"$f":"SUMIFS(data!AB$3:AB$1499,data!$D$3:$D$1499,$AI23,data!$G$3:$G$1499,\"مثبت\",data!$CS$3:$CS$1499,1)","v":0},{"$f":"SUMIFS(data!AC$3:AC$1499,data!$D$3:$D$1499,$AI23,data!$G$3:$G$1499,\"مثبت\",data!$CS$3:$CS$1499,1)","v":0},{"$f":"SUMIFS(data!AD$3:AD$1499,data!$D$3:$D$1499,$AI23,data!$G$3:$G$1499,\"مثبت\",data!$CS$3:$CS$1499,1)","v":0},{"$f":"SUMIFS(data!AE$3:AE$1499,data!$D$3:$D$1499,$AI23,data!$G$3:$G$1499,\"مثبت\",data!$CS$3:$CS$1499,1)","v":0},{"$f":"SUMIFS(data!AF$3:AF$1499,data!$D$3:$D$1499,$AI23,data!$G$3:$G$1499,\"مثبت\",data!$CS$3:$CS$1499,1)","v":0},{"$f":"SUMIFS(data!AG$3:AG$1499,data!$D$3:$D$1499,$AI23,data!$G$3:$G$1499,\"مثبت\",data!$CS$3:$CS$1499,1)","v":0},{"$f":"SUMIFS(data!AH$3:AH$1499,data!$D$3:$D$1499,$AI23,data!$G$3:$G$1499,\"مثبت\",data!$CS$3:$CS$1499,1)","v":0},{"$f":"SUMIFS(data!AI$3:AI$1499,data!$D$3:$D$1499,$AI23,data!$G$3:$G$1499,\"مثبت\",data!$CS$3:$CS$1499,1)","v":0},{"$f":"SUMIFS(data!AJ$3:AJ$1499,data!$D$3:$D$1499,$AI23,data!$G$3:$G$1499,\"مثبت\",data!$CS$3:$CS$1499,1)","v":0},0]
[{"$f":"IFERROR(INDEX($AI$10:$AI$29,MATCH(ROWS($AG$10:AG24),$AG$10:$AG$116,0),1),\"\")","v":""},{"$f":"IFERROR(INDEX($AJ$10:$BM$29,MATCH(ROWS($AG$10:AH24),$AG$10:$AG$116,0),MATCH(COLUMNS($AJ$7:AJ21),$AJ$7:$BM$7,0)),\"\")","v":""},{"$f":"IFERROR(INDEX($AJ$10:$BM$29,MATCH(ROWS($AG$10:AI24),$AG$10:$AG$116,0),MATCH(COLUMNS($AJ$7:AK21),$AJ$7:$BM$7,0)),\"\")","v":""},{"$f":"IFERROR(INDEX($AJ$10:$BM$29,MATCH(ROWS($AG$10:AJ24),$AG$10:$AG$116,0),MATCH(COLUMNS($AJ$7:AL21),$AJ$7:$BM$7,0)),\"\")","v":""},{"$f":"IFERROR(INDEX($AJ$10:$BM$29,MATCH(ROWS($AG$10:AK24),$AG$10:$AG$116,0),MATCH(COLUMNS($AJ$7:AM21),$AJ$7:$BM$7,0)),\"\")","v":""},{"$f":"IFERROR(INDEX($AJ$10:$BM$29,MATCH(ROWS($AG$10:AL24),$AG$10:$AG$116,0),MATCH(COLUMNS($AJ$7:AN21),$AJ$7:$BM$7,0)),\"\")","v":""},{"$f":"IFERROR(INDEX($AJ$10:$BM$29,MATCH(ROWS($AG$10:AM24),$AG$10:$AG$116,0),MATCH(COLUMNS($AJ$7:AO21),$AJ$7:$BM$7,0)),\"\")","v":""},{"$f":"IFERROR(INDEX($AJ$10:$BM$29,MATCH(ROWS($AG$10:AN24),$AG$10:$AG$116,0),MATCH(COLUMNS($AJ$7:AP21),$AJ$7:$BM$7,0)),\"\")","v":""},{"$f":"IFERROR(INDEX($AJ$10:$BM$29,MATCH(ROWS($AG$10:AO24),$AG$10:$AG$116,0),MATCH(COLUMNS($AJ$7:AQ21),$AJ$7:$BM$7,0)),\"\")","v":""},{"$f":"IFERROR(INDEX($AJ$10:$BM$29,MATCH(ROWS($AG$10:AP24),$AG$10:$AG$116,0),MATCH(COLUMNS($AJ$7:AR21),$AJ$7:$BM$7,0)),\"\")","v":""},{"$f":"IFERROR(INDEX($AJ$10:$BM$29,MATCH(ROWS($AG$10:AQ24),$AG$10:$AG$116,0),MATCH(COLUMNS($AJ$7:AS21),$AJ$7:$BM$7,0)),\"\")","v":""},{"$f":"IFERROR(INDEX($AJ$10:$BM$29,MATCH(ROWS($AG$10:AR24),$AG$10:$AG$116,0),MATCH(COLUMNS($AJ$7:AT21),$AJ$7:$BM$7,0)),\"\")","v":""},{"$f":"IFERROR(INDEX($AJ$10:$BM$29,MATCH(ROWS($AG$10:AS24),$AG$10:$AG$116,0),MATCH(COLUMNS($AJ$7:AU21),$AJ$7:$BM$7,0)),\"\")","v":""},{"$f":"IFERROR(INDEX($AJ$10:$BM$29,MATCH(ROWS($AG$10:AT24),$AG$10:$AG$116,0),MATCH(COLUMNS($AJ$7:AV21),$AJ$7:$BM$7,0)),\"\")","v":""},{"$f":"IFERROR(INDEX($AJ$10:$BM$29,MATCH(ROWS($AG$10:AU24),$AG$10:$AG$116,0),MATCH(COLUMNS($AJ$7:AW21),$AJ$7:$BM$7,0)),\"\")","v":""},{"$f":"IFERROR(INDEX($AJ$10:$BM$29,MATCH(ROWS($AG$10:AV24),$AG$10:$AG$116,0),MATCH(COLUMNS($AJ$7:AX21),$AJ$7:$BM$7,0)),\"\")","v":""},{"$f":"IFERROR(INDEX($AJ$10:$BM$29,MATCH(ROWS($AG$10:AW24),$AG$10:$AG$116,0),MATCH(COLUMNS($AJ$7:AY21),$AJ$7:$BM$7,0)),\"\")","v":""},{"$f":"IFERROR(INDEX($AJ$10:$BM$29,MATCH(ROWS($AG$10:AX24),$AG$10:$AG$116,0),MATCH(COLUMNS($AJ$7:AZ21),$AJ$7:$BM$7,0)),\"\")","v":""},{"$f":"IFERROR(INDEX($AJ$10:$BM$29,MATCH(ROWS($AG$10:AY24),$AG$10:$AG$116,0),MATCH(COLUMNS($AJ$7:BA21),$AJ$7:$BM$7,0)),\"\")","v":""},{"$f":"IFERROR(INDEX($AJ$10:$BM$29,MATCH(ROWS($AG$10:AZ24),$AG$10:$AG$116,0),MATCH(COLUMNS($AJ$7:BB21),$AJ$7:$BM$7,0)),\"\")","v":""},{"$f":"IFERROR(INDEX($AJ$10:$BM$29,MATCH(ROWS($AG$10:BA24),$AG$10:$AG$116,0),MATCH(COLUMNS($AJ$7:BC21),$AJ$7:$BM$7,0)),\"\")","v":""},{"$f":"IFERROR(INDEX($AJ$10:$BM$29,MATCH(ROWS($AG$10:BB24),$AG$10:$AG$116,0),MATCH(COLUMNS($AJ$7:BD21),$AJ$7:$BM$7,0)),\"\")","v":""},{"$f":"IFERROR(INDEX($AJ$10:$BM$29,MATCH(ROWS($AG$10:BC24),$AG$10:$AG$116,0),MATCH(COLUMNS($AJ$7:BE21),$AJ$7:$BM$7,0)),\"\")","v":""},{"$f":"IFERROR(INDEX($AJ$10:$BM$29,MATCH(ROWS($AG$10:BD24),$AG$10:$AG$116,0),MATCH(COLUMNS($AJ$7:BF21),$AJ$7:$BM$7,0)),\"\")","v":""},{"$f":"IFERROR(INDEX($AJ$10:$BM$29,MATCH(ROWS($AG$10:BE24),$AG$10:$AG$116,0),MATCH(COLUMNS($AJ$7:BG21),$AJ$7:$BM$7,0)),\"\")","v":""},{"$f":"IFERROR(INDEX($AJ$10:$BM$29,MATCH(ROWS($AG$10:BF24),$AG$10:$AG$116,0),MATCH(COLUMNS($AJ$7:BH21),$AJ$7:$BM$7,0)),\"\")","v":""},{"$f":"IFERROR(INDEX($AJ$10:$BM$29,MATCH(ROWS($AG$10:BG24),$AG$10:$AG$116,0),MATCH(COLUMNS($AJ$7:BI21),$AJ$7:$BM$7,0)),\"\")","v":""},{"$f":"IFERROR(INDEX($AJ$10:$BM$29,MATCH(ROWS($AG$10:BH24),$AG$10:$AG$116,0),MATCH(COLUMNS($AJ$7:BJ21),$AJ$7:$BM$7,0)),\"\")","v":""},{"$f":"IFERROR(INDEX($AJ$10:$BM$29,MATCH(ROWS($AG$10:BI24),$AG$10:$AG$116,0),MATCH(COLUMNS($AJ$7:BK21),$AJ$7:$BM$7,0)),\"\")","v":""},{"$f":"IFERROR(INDEX($AJ$10:$BM$29,MATCH(ROWS($AG$10:BJ24),$AG$10:$AG$116,0),MATCH(COLUMNS($AJ$7:BL21),$AJ$7:$BM$7,0)),\"\")","v":""},{"$f":"IFERROR(INDEX($AJ$10:$BM$29,MATCH(ROWS($AG$10:BK24),$AG$10:$AG$116,0),MATCH(COLUMNS($AJ$7:BM21),$AJ$7:$BM$7,0)),\"\")","v":""},null,{"$f":"IF(AH24=0,\"\",COUNTIF($AH$10:AH24,\"=1\"))","v":""},0,"آنتروکوک",{"$f":"SUMIFS(data!$H$3:$H$1499,data!$D$3:$D$1499,AI24,data!$G$3:$G$1499,\"مثبت\",data!$CS$3:$CS$1499,1)","v":0},{"$f":"SUMIFS(data!$I$3:$I$1499,data!$D$3:$D$1499,AI24,data!$G$3:$G$1499,\"مثبت\",data!$CS$3:$CS$1499,1)","v":0},{"$f":"SUMIFS(data!$J$3:$J$1499,data!$D$3:$D$1499,$AI24,data!$G$3:$G$1499,\"مثبت\",data!$CS$3:$CS$1499,1)","v":0},{"$f":"SUMIFS(data!$K$3:$K$1499,data!$D$3:$D$1499,$AI24,data!$G$3:$G$1499,\"مثبت\",data!$CS$3:$CS$1499,1)","v":0},{"$f":"SUMIFS(data!$L$3:$L$1499,data!$D$3:$D$1499,$AI24,data!$G$3:$G$1499,\"مثبت\",data!$CS$3:$CS$1499,1)","v":0},{"$f":"SUMIFS(data!$M$3:$M$1499,data!$D$3:$D$1499,$AI24,data!$G$3:$G$1499,\"مثبت\",data!$CS$3:$CS$1499,1)","v":0},{"$f":"SUMIFS(data!$N$3:$N$1499,data!$D$3:$D$1499,$AI24,data!$G$3:$G$1499,\"مثبت\",data!$CS$3:$CS$1499,1)","v":0},{"$f":"SUMIFS(data!$O$3:$O$1499,data!$D$3:$D$1499,$AI24,data!$G$3:$G$1499,\"مثبت\",data!$CS$3:$CS$1499,1)","v":0},{"$f":"SUMIFS(data!$P$3:$P$1499,data!$D$3:$D$1499,$AI24,data!$G$3:$G$1499,\"مثبت\",data!$CS$3:$CS$1499,1)","v":0},{"$f":"SUMIFS(data!$Q$3:$Q$1499,data!$D$3:$D$1499,$AI24,data!$G$3:$G$1499,\"مثبت\",data!$CS$3:$CS$1499,1)","v":0},{"$f":"SUMIFS(data!$R$3:$R$1499,data!$D$3:$D$1499,$AI24,data!$G$3:$G$1499,\"مثبت\",data!$CS$3:$CS$1499,1)","v":0},{"$f":"SUMIFS(data!$S$3:$S$1499,data!$D$3:$D$1499,$AI24,data!$G$3:$G$1499,\"مثبت\",data!$CS$3:$CS$1499,1)","v":0},{"$f":"SUMIFS(data!$T$3:$T$1499,data!$D$3:$D$1499,$AI24,data!$G$3:$G$1499,\"مثبت\",data!$CS$3:$CS$1499,1)","v":0},{"$f":"SUMIFS(data!$U$3:$U$1499,data!$D$3:$D$1499,$AI24,data!$G$3:$G$1499,\"مثبت\",data!$CS$3:$CS$1499,1)","v":0},{"$f":"SUMIFS(data!$V$3:$V$1499,data!$D$3:$D$1499,$AI24,data!$G$3:$G$1499,\"مثبت\",data!$CS$3:$CS$1499,1)","v":0},{"$f":"SUMIFS(data!$W$3:$W$1499,data!$D$3:$D$1499,$AI24,data!$G$3:$G$1499,\"مثبت\",data!$CS$3:$CS$1499,1)","v":0},{"$f":"SUMIFS(data!$X$3:$X$1499,data!$D$3:$D$1499,$AI24,data!$G$3:$G$1499,\"مثبت\",data!$CS$3:$CS$1499,1)","v":0},{"$f":"SUMIFS(data!$Y$3:$Y$1499,data!$D$3:$D$1499,$AI24,data!$G$3:$G$1499,\"مثبت\",data!$CS$3:$CS$1499,1)","v":0},{"$f":"SUMIFS(data!Z$3:Z$1499,data!$D$3:$D$1499,$AI24,data!$G$3:$G$1499,\"مثبت\",data!$CS$3:$CS$1499,1)","v":0},{"$f":"SUMIFS(data!AA$3:AA$1499,data!$D$3:$D$1499,$AI24,data!$G$3:$G$1499,\"مثبت\",data!$CS$3:$CS$1499,1)","v":0},{"$f":"SUMIFS(data!AB$3:AB$1499,data!$D$3:$D$1499,$AI24,data!$G$3:$G$1499,\"مثبت\",data!$CS$3:$CS$1499,1)","v":0},{"$f":"SUMIFS(data!AC$3:AC$1499,data!$D$3:$D$1499,$AI24,data!$G$3:$G$1499,\"مثبت\",data!$CS$3:$CS$1499,1)","v":0},{"$f":"SUMIFS(data!AD$3:AD$1499,data!$D$3:$D$1499,$AI24,data!$G$3:$G$1499,\"مثبت\",data!$CS$3:$CS$1499,1)","v":0},{"$f":"SUMIFS(data!AE$3:AE$1499,data!$D$3:$D$1499,$AI24,data!$G$3:$G$1499,\"مثبت\",data!$CS$3:$CS$1499,1)","v":0},{"$f":"SUMIFS(data!AF$3:AF$1499,data!$D$3:$D$1499,$AI24,data!$G$3:$G$1499,\"مثبت\",data!$CS$3:$CS$1499,1)","v":0},{"$f":"SUMIFS(data!AG$3:AG$1499,data!$D$3:$D$1499,$AI24,data!$G$3:$G$1499,\"مثبت\",data!$CS$3:$CS$1499,1)","v":0},{"$f":"SUMIFS(data!AH$3:AH$1499,data!$D$3:$D$1499,$AI24,data!$G$3:$G$1499,\"مثبت\",data!$CS$3:$CS$1499,1)","v":0},{"$f":"SUMIFS(data!AI$3:AI$1499,data!$D$3:$D$1499,$AI24,data!$G$3:$G$1499,\"مثبت\",data!$CS$3:$CS$1499,1)","v":0},{"$f":"SUMIFS(data!AJ$3:AJ$1499,data!$D$3:$D$1499,$AI24,data!$G$3:$G$1499,\"مثبت\",data!$CS$3:$CS$1499,1)","v":0},0]
[{"$f":"IFERROR(INDEX($AI$10:$AI$29,MATCH(ROWS($AG$10:AG25),$AG$10:$AG$116,0),1),\"\")","v":""},{"$f":"IFERROR(INDEX($AJ$10:$BM$29,MATCH(ROWS($AG$10:AH25),$AG$10:$AG$116,0),MATCH(COLUMNS($AJ$7:AJ22),$AJ$7:$BM$7,0)),\"\")","v":""},{"$f":"IFERROR(INDEX($AJ$10:$BM$29,MATCH(ROWS($AG$10:AI25),$AG$10:$AG$116,0),MATCH(COLUMNS($AJ$7:AK22),$AJ$7:$BM$7,0)),\"\")","v":""},{"$f":"IFERROR(INDEX($AJ$10:$BM$29,MATCH(ROWS($AG$10:AJ25),$AG$10:$AG$116,0),MATCH(COLUMNS($AJ$7:AL22),$AJ$7:$BM$7,0)),\"\")","v":""},{"$f":"IFERROR(INDEX($AJ$10:$BM$29,MATCH(ROWS($AG$10:AK25),$AG$10:$AG$116,0),MATCH(COLUMNS($AJ$7:AM22),$AJ$7:$BM$7,0)),\"\")","v":""},{"$f":"IFERROR(INDEX($AJ$10:$BM$29,MATCH(ROWS($AG$10:AL25),$AG$10:$AG$116,0),MATCH(COLUMNS($AJ$7:AN22),$AJ$7:$BM$7,0)),\"\")","v":""},{"$f":"IFERROR(INDEX($AJ$10:$BM$29,MATCH(ROWS($AG$10:AM25),$AG$10:$AG$116,0),MATCH(COLUMNS($AJ$7:AO22),$AJ$7:$BM$7,0)),\"\")","v":""},{"$f":"IFERROR(INDEX($AJ$10:$BM$29,MATCH(ROWS($AG$10:AN25),$AG$10:$AG$116,0),MATCH(COLUMNS($AJ$7:AP22),$AJ$7:$BM$7,0)),\"\")","v":""},{"$f":"IFERROR(INDEX($AJ$10:$BM$29,MATCH(ROWS($AG$10:AO25),$AG$10:$AG$116,0),MATCH(COLUMNS($AJ$7:AQ22),$AJ$7:$BM$7,0)),\"\")","v":""},{"$f":"IFERROR(INDEX($AJ$10:$BM$29,MATCH(ROWS($AG$10:AP25),$AG$10:$AG$116,0),MATCH(COLUMNS($AJ$7:AR22),$AJ$7:$BM$7,0)),\"\")","v":""},{"$f":"IFERROR(INDEX($AJ$10:$BM$29,MATCH(ROWS($AG$10:AQ25),$AG$10:$AG$116,0),MATCH(COLUMNS($AJ$7:AS22),$AJ$7:$BM$7,0)),\"\")","v":""},{"$f":"IFERROR(INDEX($AJ$10:$BM$29,MATCH(ROWS($AG$10:AR25),$AG$10:$AG$116,0),MATCH(COLUMNS($AJ$7:AT22),$AJ$7:$BM$7,0)),\"\")","v":""},{"$f":"IFERROR(INDEX($AJ$10:$BM$29,MATCH(ROWS($AG$10:AS25),$AG$10:$AG$116,0),MATCH(COLUMNS($AJ$7:AU22),$AJ$7:$BM$7,0)),\"\")","v":""},{"$f":"IFERROR(INDEX($AJ$10:$BM$29,MATCH(ROWS($AG$10:AT25),$AG$10:$AG$116,0),MATCH(COLUMNS($AJ$7:AV22),$AJ$7:$BM$7,0)),\"\")","v":""},{"$f":"IFERROR(INDEX($AJ$10:$BM$29,MATCH(ROWS($AG$10:AU25),$AG$10:$AG$116,0),MATCH(COLUMNS($AJ$7:AW22),$AJ$7:$BM$7,0)),\"\")","v":""},{"$f":"IFERROR(INDEX($AJ$10:$BM$29,MATCH(ROWS($AG$10:AV25),$AG$10:$AG$116,0),MATCH(COLUMNS($AJ$7:AX22),$AJ$7:$BM$7,0)),\"\")","v":""},{"$f":"IFERROR(INDEX($AJ$10:$BM$29,MATCH(ROWS($AG$10:AW25),$AG$10:$AG$116,0),MATCH(COLUMNS($AJ$7:AY22),$AJ$7:$BM$7,0)),\"\")","v":""},{"$f":"IFERROR(INDEX($AJ$10:$BM$29,MATCH(ROWS($AG$10:AX25),$AG$10:$AG$116,0),MATCH(COLUMNS($AJ$7:AZ22),$AJ$7:$BM$7,0)),\"\")","v":""},{"$f":"IFERROR(INDEX($AJ$10:$BM$29,MATCH(ROWS($AG$10:AY25),$AG$10:$AG$116,0),MATCH(COLUMNS($AJ$7:BA22),$AJ$7:$BM$7,0)),\"\")","v":""},{"$f":"IFERROR(INDEX($AJ$10:$BM$29,MATCH(ROWS($AG$10:AZ25),$AG$10:$AG$116,0),MATCH(COLUMNS($AJ$7:BB22),$AJ$7:$BM$7,0)),\"\")","v":""},{"$f":"IFERROR(INDEX($AJ$10:$BM$29,MATCH(ROWS($AG$10:BA25),$AG$10:$AG$116,0),MATCH(COLUMNS($AJ$7:BC22),$AJ$7:$BM$7,0)),\"\")","v":""},{"$f":"IFERROR(INDEX($AJ$10:$BM$29,MATCH(ROWS($AG$10:BB25),$AG$10:$AG$116,0),MATCH(COLUMNS($AJ$7:BD22),$AJ$7:$BM$7,0)),\"\")","v":""},{"$f":"IFERROR(INDEX($AJ$10:$BM$29,MATCH(ROWS($AG$10:BC25),$AG$10:$AG$116,0),MATCH(COLUMNS($AJ$7:BE22),$AJ$7:$BM$7,0)),\"\")","v":""},{"$f":"IFERROR(INDEX($AJ$10:$BM$29,MATCH(ROWS($AG$10:BD25),$AG$10:$AG$116,0),MATCH(COLUMNS($AJ$7:BF22),$AJ$7:$BM$7,0)),\"\")","v":""},{"$f":"IFERROR(INDEX($AJ$10:$BM$29,MATCH(ROWS($AG$10:BE25),$AG$10:$AG$116,0),MATCH(COLUMNS($AJ$7:BG22),$AJ$7:$BM$7,0)),\"\")","v":""},{"$f":"IFERROR(INDEX($AJ$10:$BM$29,MATCH(ROWS($AG$10:BF25),$AG$10:$AG$116,0),MATCH(COLUMNS($AJ$7:BH22),$AJ$7:$BM$7,0)),\"\")","v":""},{"$f":"IFERROR(INDEX($AJ$10:$BM$29,MATCH(ROWS($AG$10:BG25),$AG$10:$AG$116,0),MATCH(COLUMNS($AJ$7:BI22),$AJ$7:$BM$7,0)),\"\")","v":""},{"$f":"IFERROR(INDEX($AJ$10:$BM$29,MATCH(ROWS($AG$10:BH25),$AG$10:$AG$116,0),MATCH(COLUMNS($AJ$7:BJ22),$AJ$7:$BM$7,0)),\"\")","v":""},{"$f":"IFERROR(INDEX($AJ$10:$BM$29,MATCH(ROWS($AG$10:BI25),$AG$10:$AG$116,0),MATCH(COLUMNS($AJ$7:BK22),$AJ$7:$BM$7,0)),\"\")","v":""},{"$f":"IFERROR(INDEX($AJ$10:$BM$29,MATCH(ROWS($AG$10:BJ25),$AG$10:$AG$116,0),MATCH(COLUMNS($AJ$7:BL22),$AJ$7:$BM$7,0)),\"\")","v":""},{"$f":"IFERROR(INDEX($AJ$10:$BM$29,MATCH(ROWS($AG$10:BK25),$AG$10:$AG$116,0),MATCH(COLUMNS($AJ$7:BM22),$AJ$7:$BM$7,0)),\"\")","v":""},null,{"$f":"IF(AH25=0,\"\",COUNTIF($AH$10:AH25,\"=1\"))","v":""},0,"آسینتوباکتر",{"$f":"SUMIFS(data!$H$3:$H$1499,data!$D$3:$D$1499,AI25,data!$G$3:$G$1499,\"مثبت\",data!$CS$3:$CS$1499,1)","v":0},{"$f":"SUMIFS(data!$I$3:$I$1499,data!$D$3:$D$1499,AI25,data!$G$3:$G$1499,\"مثبت\",data!$CS$3:$CS$1499,1)","v":0},{"$f":"SUMIFS(data!$J$3:$J$1499,data!$D$3:$D$1499,$AI25,data!$G$3:$G$1499,\"مثبت\",data!$CS$3:$CS$1499,1)","v":0},{"$f":"SUMIFS(data!$K$3:$K$1499,data!$D$3:$D$1499,$AI25,data!$G$3:$G$1499,\"مثبت\",data!$CS$3:$CS$1499,1)","v":0},{"$f":"SUMIFS(data!$L$3:$L$1499,data!$D$3:$D$1499,$AI25,data!$G$3:$G$1499,\"مثبت\",data!$CS$3:$CS$1499,1)","v":0},{"$f":"SUMIFS(data!$M$3:$M$1499,data!$D$3:$D$1499,$AI25,data!$G$3:$G$1499,\"مثبت\",data!$CS$3:$CS$1499,1)","v":0},{"$f":"SUMIFS(data!$N$3:$N$1499,data!$D$3:$D$1499,$AI25,data!$G$3:$G$1499,\"مثبت\",data!$CS$3:$CS$1499,1)","v":0},{"$f":"SUMIFS(data!$O$3:$O$1499,data!$D$3:$D$1499,$AI25,data!$G$3:$G$1499,\"مثبت\",data!$CS$3:$CS$1499,1)","v":0},{"$f":"SUMIFS(data!$P$3:$P$1499,data!$D$3:$D$1499,$AI25,data!$G$3:$G$1499,\"مثبت\",data!$CS$3:$CS$1499,1)","v":0},{"$f":"SUMIFS(data!$Q$3:$Q$1499,data!$D$3:$D$1499,$AI25,data!$G$3:$G$1499,\"مثبت\",data!$CS$3:$CS$1499,1)","v":0},{"$f":"SUMIFS(data!$R$3:$R$1499,data!$D$3:$D$1499,$AI25,data!$G$3:$G$1499,\"مثبت\",data!$CS$3:$CS$1499,1)","v":0},{"$f":"SUMIFS(data!$S$3:$S$1499,data!$D$3:$D$1499,$AI25,data!$G$3:$G$1499,\"مثبت\",data!$CS$3:$CS$1499,1)","v":0},{"$f":"SUMIFS(data!$T$3:$T$1499,data!$D$3:$D$1499,$AI25,data!$G$3:$G$1499,\"مثبت\",data!$CS$3:$CS$1499,1)","v":0},{"$f":"SUMIFS(data!$U$3:$U$1499,data!$D$3:$D$1499,$AI25,data!$G$3:$G$1499,\"مثبت\",data!$CS$3:$CS$1499,1)","v":0},{"$f":"SUMIFS(data!$V$3:$V$1499,data!$D$3:$D$1499,$AI25,data!$G$3:$G$1499,\"مثبت\",data!$CS$3:$CS$1499,1)","v":0},{"$f":"SUMIFS(data!$W$3:$W$1499,data!$D$3:$D$1499,$AI25,data!$G$3:$G$1499,\"مثبت\",data!$CS$3:$CS$1499,1)","v":0},{"$f":"SUMIFS(data!$X$3:$X$1499,data!$D$3:$D$1499,$AI25,data!$G$3:$G$1499,\"مثبت\",data!$CS$3:$CS$1499,1)","v":0},{"$f":"SUMIFS(data!$Y$3:$Y$1499,data!$D$3:$D$1499,$AI25,data!$G$3:$G$1499,\"مثبت\",data!$CS$3:$CS$1499,1)","v":0},{"$f":"SUMIFS(data!Z$3:Z$1499,data!$D$3:$D$1499,$AI25,data!$G$3:$G$1499,\"مثبت\",data!$CS$3:$CS$1499,1)","v":0},{"$f":"SUMIFS(data!AA$3:AA$1499,data!$D$3:$D$1499,$AI25,data!$G$3:$G$1499,\"مثبت\",data!$CS$3:$CS$1499,1)","v":0},{"$f":"SUMIFS(data!AB$3:AB$1499,data!$D$3:$D$1499,$AI25,data!$G$3:$G$1499,\"مثبت\",data!$CS$3:$CS$1499,1)","v":0},{"$f":"SUMIFS(data!AC$3:AC$1499,data!$D$3:$D$1499,$AI25,data!$G$3:$G$1499,\"مثبت\",data!$CS$3:$CS$1499,1)","v":0},{"$f":"SUMIFS(data!AD$3:AD$1499,data!$D$3:$D$1499,$AI25,data!$G$3:$G$1499,\"مثبت\",data!$CS$3:$CS$1499,1)","v":0},{"$f":"SUMIFS(data!AE$3:AE$1499,data!$D$3:$D$1499,$AI25,data!$G$3:$G$1499,\"مثبت\",data!$CS$3:$CS$1499,1)","v":0},{"$f":"SUMIFS(data!AF$3:AF$1499,data!$D$3:$D$1499,$AI25,data!$G$3:$G$1499,\"مثبت\",data!$CS$3:$CS$1499,1)","v":0},{"$f":"SUMIFS(data!AG$3:AG$1499,data!$D$3:$D$1499,$AI25,data!$G$3:$G$1499,\"مثبت\",data!$CS$3:$CS$1499,1)","v":0},{"$f":"SUMIFS(data!AH$3:AH$1499,data!$D$3:$D$1499,$AI25,data!$G$3:$G$1499,\"مثبت\",data!$CS$3:$CS$1499,1)","v":0},{"$f":"SUMIFS(data!AI$3:AI$1499,data!$D$3:$D$1499,$AI25,data!$G$3:$G$1499,\"مثبت\",data!$CS$3:$CS$1499,1)","v":0},{"$f":"SUMIFS(data!AJ$3:AJ$1499,data!$D$3:$D$1499,$AI25,data!$G$3:$G$1499,\"مثبت\",data!$CS$3:$CS$1499,1)","v":0},0]
[{"$f":"IFERROR(INDEX($AI$10:$AI$29,MATCH(ROWS($AG$10:AG26),$AG$10:$AG$116,0),1),\"\")","v":""},{"$f":"IFERROR(INDEX($AJ$10:$BM$29,MATCH(ROWS($AG$10:AH26),$AG$10:$AG$116,0),MATCH(COLUMNS($AJ$7:AJ23),$AJ$7:$BM$7,0)),\"\")","v":""},{"$f":"IFERROR(INDEX($AJ$10:$BM$29,MATCH(ROWS($AG$10:AI26),$AG$10:$AG$116,0),MATCH(COLUMNS($AJ$7:AK23),$AJ$7:$BM$7,0)),\"\")","v":""},{"$f":"IFERROR(INDEX($AJ$10:$BM$29,MATCH(ROWS($AG$10:AJ26),$AG$10:$AG$116,0),MATCH(COLUMNS($AJ$7:AL23),$AJ$7:$BM$7,0)),\"\")","v":""},{"$f":"IFERROR(INDEX($AJ$10:$BM$29,MATCH(ROWS($AG$10:AK26),$AG$10:$AG$116,0),MATCH(COLUMNS($AJ$7:AM23),$AJ$7:$BM$7,0)),\"\")","v":""},{"$f":"IFERROR(INDEX($AJ$10:$BM$29,MATCH(ROWS($AG$10:AL26),$AG$10:$AG$116,0),MATCH(COLUMNS($AJ$7:AN23),$AJ$7:$BM$7,0)),\"\")","v":""},{"$f":"IFERROR(INDEX($AJ$10:$BM$29,MATCH(ROWS($AG$10:AM26),$AG$10:$AG$116,0),MATCH(COLUMNS($AJ$7:AO23),$AJ$7:$BM$7,0)),\"\")","v":""},{"$f":"IFERROR(INDEX($AJ$10:$BM$29,MATCH(ROWS($AG$10:AN26),$AG$10:$AG$116,0),MATCH(COLUMNS($AJ$7:AP23),$AJ$7:$BM$7,0)),\"\")","v":""},{"$f":"IFERROR(INDEX($AJ$10:$BM$29,MATCH(ROWS($AG$10:AO26),$AG$10:$AG$116,0),MATCH(COLUMNS($AJ$7:AQ23),$AJ$7:$BM$7,0)),\"\")","v":""},{"$f":"IFERROR(INDEX($AJ$10:$BM$29,MATCH(ROWS($AG$10:AP26),$AG$10:$AG$116,0),MATCH(COLUMNS($AJ$7:AR23),$AJ$7:$BM$7,0)),\"\")","v":""},{"$f":"IFERROR(INDEX($AJ$10:$BM$29,MATCH(ROWS($AG$10:AQ26),$AG$10:$AG$116,0),MATCH(COLUMNS($AJ$7:AS23),$AJ$7:$BM$7,0)),\"\")","v":""},{"$f":"IFERROR(INDEX($AJ$10:$BM$29,MATCH(ROWS($AG$10:AR26),$AG$10:$AG$116,0),MATCH(COLUMNS($AJ$7:AT23),$AJ$7:$BM$7,0)),\"\")","v":""},{"$f":"IFERROR(INDEX($AJ$10:$BM$29,MATCH(ROWS($AG$10:AS26),$AG$10:$AG$116,0),MATCH(COLUMNS($AJ$7:AU23),$AJ$7:$BM$7,0)),\"\")","v":""},{"$f":"IFERROR(INDEX($AJ$10:$BM$29,MATCH(ROWS($AG$10:AT26),$AG$10:$AG$116,0),MATCH(COLUMNS($AJ$7:AV23),$AJ$7:$BM$7,0)),\"\")","v":""},{"$f":"IFERROR(INDEX($AJ$10:$BM$29,MATCH(ROWS($AG$10:AU26),$AG$10:$AG$116,0),MATCH(COLUMNS($AJ$7:AW23),$AJ$7:$BM$7,0)),\"\")","v":""},{"$f":"IFERROR(INDEX($AJ$10:$BM$29,MATCH(ROWS($AG$10:AV26),$AG$10:$AG$116,0),MATCH(COLUMNS($AJ$7:AX23),$AJ$7:$BM$7,0)),\"\")","v":""},{"$f":"IFERROR(INDEX($AJ$10:$BM$29,MATCH(ROWS($AG$10:AW26),$AG$10:$AG$116,0),MATCH(COLUMNS($AJ$7:AY23),$AJ$7:$BM$7,0)),\"\")","v":""},{"$f":"IFERROR(INDEX($AJ$10:$BM$29,MATCH(ROWS($AG$10:AX26),$AG$10:$AG$116,0),MATCH(COLUMNS($AJ$7:AZ23),$AJ$7:$BM$7,0)),\"\")","v":""},{"$f":"IFERROR(INDEX($AJ$10:$BM$29,MATCH(ROWS($AG$10:AY26),$AG$10:$AG$116,0),MATCH(COLUMNS($AJ$7:BA23),$AJ$7:$BM$7,0)),\"\")","v":""},{"$f":"IFERROR(INDEX($AJ$10:$BM$29,MATCH(ROWS($AG$10:AZ26),$AG$10:$AG$116,0),MATCH(COLUMNS($AJ$7:BB23),$AJ$7:$BM$7,0)),\"\")","v":""},{"$f":"IFERROR(INDEX($AJ$10:$BM$29,MATCH(ROWS($AG$10:BA26),$AG$10:$AG$116,0),MATCH(COLUMNS($AJ$7:BC23),$AJ$7:$BM$7,0)),\"\")","v":""},{"$f":"IFERROR(INDEX($AJ$10:$BM$29,MATCH(ROWS($AG$10:BB26),$AG$10:$AG$116,0),MATCH(COLUMNS($AJ$7:BD23),$AJ$7:$BM$7,0)),\"\")","v":""},{"$f":"IFERROR(INDEX($AJ$10:$BM$29,MATCH(ROWS($AG$10:BC26),$AG$10:$AG$116,0),MATCH(COLUMNS($AJ$7:BE23),$AJ$7:$BM$7,0)),\"\")","v":""},{"$f":"IFERROR(INDEX($AJ$10:$BM$29,MATCH(ROWS($AG$10:BD26),$AG$10:$AG$116,0),MATCH(COLUMNS($AJ$7:BF23),$AJ$7:$BM$7,0)),\"\")","v":""},{"$f":"IFERROR(INDEX($AJ$10:$BM$29,MATCH(ROWS($AG$10:BE26),$AG$10:$AG$116,0),MATCH(COLUMNS($AJ$7:BG23),$AJ$7:$BM$7,0)),\"\")","v":""},{"$f":"IFERROR(INDEX($AJ$10:$BM$29,MATCH(ROWS($AG$10:BF26),$AG$10:$AG$116,0),MATCH(COLUMNS($AJ$7:BH23),$AJ$7:$BM$7,0)),\"\")","v":""},{"$f":"IFERROR(INDEX($AJ$10:$BM$29,MATCH(ROWS($AG$10:BG26),$AG$10:$AG$116,0),MATCH(COLUMNS($AJ$7:BI23),$AJ$7:$BM$7,0)),\"\")","v":""},{"$f":"IFERROR(INDEX($AJ$10:$BM$29,MATCH(ROWS($AG$10:BH26),$AG$10:$AG$116,0),MATCH(COLUMNS($AJ$7:BJ23),$AJ$7:$BM$7,0)),\"\")","v":""},{"$f":"IFERROR(INDEX($AJ$10:$BM$29,MATCH(ROWS($AG$10:BI26),$AG$10:$AG$116,0),MATCH(COLUMNS($AJ$7:BK23),$AJ$7:$BM$7,0)),\"\")","v":""},{"$f":"IFERROR(INDEX($AJ$10:$BM$29,MATCH(ROWS($AG$10:BJ26),$AG$10:$AG$116,0),MATCH(COLUMNS($AJ$7:BL23),$AJ$7:$BM$7,0)),\"\")","v":""},{"$f":"IFERROR(INDEX($AJ$10:$BM$29,MATCH(ROWS($AG$10:BK26),$AG$10:$AG$116,0),MATCH(COLUMNS($AJ$7:BM23),$AJ$7:$BM$7,0)),\"\")","v":""},null,{"$f":"IF(AH26=0,\"\",COUNTIF($AH$10:AH26,\"=1\"))","v":""},0,"سالمونلا",{"$f":"SUMIFS(data!$H$3:$H$1499,data!$D$3:$D$1499,AI26,data!$G$3:$G$1499,\"مثبت\",data!$CS$3:$CS$1499,1)","v":0},{"$f":"SUMIFS(data!$I$3:$I$1499,data!$D$3:$D$1499,AI26,data!$G$3:$G$1499,\"مثبت\",data!$CS$3:$CS$1499,1)","v":0},{"$f":"SUMIFS(data!$J$3:$J$1499,data!$D$3:$D$1499,$AI26,data!$G$3:$G$1499,\"مثبت\",data!$CS$3:$CS$1499,1)","v":0},{"$f":"SUMIFS(data!$K$3:$K$1499,data!$D$3:$D$1499,$AI26,data!$G$3:$G$1499,\"مثبت\",data!$CS$3:$CS$1499,1)","v":0},{"$f":"SUMIFS(data!$L$3:$L$1499,data!$D$3:$D$1499,$AI26,data!$G$3:$G$1499,\"مثبت\",data!$CS$3:$CS$1499,1)","v":0},{"$f":"SUMIFS(data!$M$3:$M$1499,data!$D$3:$D$1499,$AI26,data!$G$3:$G$1499,\"مثبت\",data!$CS$3:$CS$1499,1)","v":0},{"$f":"SUMIFS(data!$N$3:$N$1499,data!$D$3:$D$1499,$AI26,data!$G$3:$G$1499,\"مثبت\",data!$CS$3:$CS$1499,1)","v":0},{"$f":"SUMIFS(data!$O$3:$O$1499,data!$D$3:$D$1499,$AI26,data!$G$3:$G$1499,\"مثبت\",data!$CS$3:$CS$1499,1)","v":0},{"$f":"SUMIFS(data!$P$3:$P$1499,data!$D$3:$D$1499,$AI26,data!$G$3:$G$1499,\"مثبت\",data!$CS$3:$CS$1499,1)","v":0},{"$f":"SUMIFS(data!$Q$3:$Q$1499,data!$D$3:$D$1499,$AI26,data!$G$3:$G$1499,\"مثبت\",data!$CS$3:$CS$1499,1)","v":0},{"$f":"SUMIFS(data!$R$3:$R$1499,data!$D$3:$D$1499,$AI26,data!$G$3:$G$1499,\"مثبت\",data!$CS$3:$CS$1499,1)","v":0},{"$f":"SUMIFS(data!$S$3:$S$1499,data!$D$3:$D$1499,$AI26,data!$G$3:$G$1499,\"مثبت\",data!$CS$3:$CS$1499,1)","v":0},{"$f":"SUMIFS(data!$T$3:$T$1499,data!$D$3:$D$1499,$AI26,data!$G$3:$G$1499,\"مثبت\",data!$CS$3:$CS$1499,1)","v":0},{"$f":"SUMIFS(data!$U$3:$U$1499,data!$D$3:$D$1499,$AI26,data!$G$3:$G$1499,\"مثبت\",data!$CS$3:$CS$1499,1)","v":0},{"$f":"SUMIFS(data!$V$3:$V$1499,data!$D$3:$D$1499,$AI26,data!$G$3:$G$1499,\"مثبت\",data!$CS$3:$CS$1499,1)","v":0},{"$f":"SUMIFS(data!$W$3:$W$1499,data!$D$3:$D$1499,$AI26,data!$G$3:$G$1499,\"مثبت\",data!$CS$3:$CS$1499,1)","v":0},{"$f":"SUMIFS(data!$X$3:$X$1499,data!$D$3:$D$1499,$AI26,data!$G$3:$G$1499,\"مثبت\",data!$CS$3:$CS$1499,1)","v":0},{"$f":"SUMIFS(data!$Y$3:$Y$1499,data!$D$3:$D$1499,$AI26,data!$G$3:$G$1499,\"مثبت\",data!$CS$3:$CS$1499,1)","v":0},{"$f":"SUMIFS(data!Z$3:Z$1499,data!$D$3:$D$1499,$AI26,data!$G$3:$G$1499,\"مثبت\",data!$CS$3:$CS$1499,1)","v":0},{"$f":"SUMIFS(data!AA$3:AA$1499,data!$D$3:$D$1499,$AI26,data!$G$3:$G$1499,\"مثبت\",data!$CS$3:$CS$1499,1)","v":0},{"$f":"SUMIFS(data!AB$3:AB$1499,data!$D$3:$D$1499,$AI26,data!$G$3:$G$1499,\"مثبت\",data!$CS$3:$CS$1499,1)","v":0},{"$f":"SUMIFS(data!AC$3:AC$1499,data!$D$3:$D$1499,$AI26,data!$G$3:$G$1499,\"مثبت\",data!$CS$3:$CS$1499,1)","v":0},{"$f":"SUMIFS(data!AD$3:AD$1499,data!$D$3:$D$1499,$AI26,data!$G$3:$G$1499,\"مثبت\",data!$CS$3:$CS$1499,1)","v":0},{"$f":"SUMIFS(data!AE$3:AE$1499,data!$D$3:$D$1499,$AI26,data!$G$3:$G$1499,\"مثبت\",data!$CS$3:$CS$1499,1)","v":0},{"$f":"SUMIFS(data!AF$3:AF$1499,data!$D$3:$D$1499,$AI26,data!$G$3:$G$1499,\"مثبت\",data!$CS$3:$CS$1499,1)","v":0},{"$f":"SUMIFS(data!AG$3:AG$1499,data!$D$3:$D$1499,$AI26,data!$G$3:$G$1499,\"مثبت\",data!$CS$3:$CS$1499,1)","v":0},{"$f":"SUMIFS(data!AH$3:AH$1499,data!$D$3:$D$1499,$AI26,data!$G$3:$G$1499,\"مثبت\",data!$CS$3:$CS$1499,1)","v":0},{"$f":"SUMIFS(data!AI$3:AI$1499,data!$D$3:$D$1499,$AI26,data!$G$3:$G$1499,\"مثبت\",data!$CS$3:$CS$1499,1)","v":0},{"$f":"SUMIFS(data!AJ$3:AJ$1499,data!$D$3:$D$1499,$AI26,data!$G$3:$G$1499,\"مثبت\",data!$CS$3:$CS$1499,1)","v":0},0]
[{"$f":"IFERROR(INDEX($AI$10:$AI$29,MATCH(ROWS($AG$10:AG27),$AG$10:$AG$116,0),1),\"\")","v":""},{"$f":"IFERROR(INDEX($AJ$10:$BM$29,MATCH(ROWS($AG$10:AH27),$AG$10:$AG$116,0),MATCH(COLUMNS($AJ$7:AJ24),$AJ$7:$BM$7,0)),\"\")","v":""},{"$f":"IFERROR(INDEX($AJ$10:$BM$29,MATCH(ROWS($AG$10:AI27),$AG$10:$AG$116,0),MATCH(COLUMNS($AJ$7:AK24),$AJ$7:$BM$7,0)),\"\")","v":""},{"$f":"IFERROR(INDEX($AJ$10:$BM$29,MATCH(ROWS($AG$10:AJ27),$AG$10:$AG$116,0),MATCH(COLUMNS($AJ$7:AL24),$AJ$7:$BM$7,0)),\"\")","v":""},{"$f":"IFERROR(INDEX($AJ$10:$BM$29,MATCH(ROWS($AG$10:AK27),$AG$10:$AG$116,0),MATCH(COLUMNS($AJ$7:AM24),$AJ$7:$BM$7,0)),\"\")","v":""},{"$f":"IFERROR(INDEX($AJ$10:$BM$29,MATCH(ROWS($AG$10:AL27),$AG$10:$AG$116,0),MATCH(COLUMNS($AJ$7:AN24),$AJ$7:$BM$7,0)),\"\")","v":""},{"$f":"IFERROR(INDEX($AJ$10:$BM$29,MATCH(ROWS($AG$10:AM27),$AG$10:$AG$116,0),MATCH(COLUMNS($AJ$7:AO24),$AJ$7:$BM$7,0)),\"\")","v":""},{"$f":"IFERROR(INDEX($AJ$10:$BM$29,MATCH(ROWS($AG$10:AN27),$AG$10:$AG$116,0),MATCH(COLUMNS($AJ$7:AP24),$AJ$7:$BM$7,0)),\"\")","v":""},{"$f":"IFERROR(INDEX($AJ$10:$BM$29,MATCH(ROWS($AG$10:AO27),$AG$10:$AG$116,0),MATCH(COLUMNS($AJ$7:AQ24),$AJ$7:$BM$7,0)),\"\")","v":""},{"$f":"IFERROR(INDEX($AJ$10:$BM$29,MATCH(ROWS($AG$10:AP27),$AG$10:$AG$116,0),MATCH(COLUMNS($AJ$7:AR24),$AJ$7:$BM$7,0)),\"\")","v":""},{"$f":"IFERROR(INDEX($AJ$10:$BM$29,MATCH(ROWS($AG$10:AQ27),$AG$10:$AG$116,0),MATCH(COLUMNS($AJ$7:AS24),$AJ$7:$BM$7,0)),\"\")","v":""},{"$f":"IFERROR(INDEX($AJ$10:$BM$29,MATCH(ROWS($AG$10:AR27),$AG$10:$AG$116,0),MATCH(COLUMNS($AJ$7:AT24),$AJ$7:$BM$7,0)),\"\")","v":""},{"$f":"IFERROR(INDEX($AJ$10:$BM$29,MATCH(ROWS($AG$10:AS27),$AG$10:$AG$116,0),MATCH(COLUMNS($AJ$7:AU24),$AJ$7:$BM$7,0)),\"\")","v":""},{"$f":"IFERROR(INDEX($AJ$10:$BM$29,MATCH(ROWS($AG$10:AT27),$AG$10:$AG$116,0),MATCH(COLUMNS($AJ$7:AV24),$AJ$7:$BM$7,0)),\"\")","v":""},{"$f":"IFERROR(INDEX($AJ$10:$BM$29,MATCH(ROWS($AG$10:AU27),$AG$10:$AG$116,0),MATCH(COLUMNS($AJ$7:AW24),$AJ$7:$BM$7,0)),\"\")","v":""},{"$f":"IFERROR(INDEX($AJ$10:$BM$29,MATCH(ROWS($AG$10:AV27),$AG$10:$AG$116,0),MATCH(COLUMNS($AJ$7:AX24),$AJ$7:$BM$7,0)),\"\")","v":""},{"$f":"IFERROR(INDEX($AJ$10:$BM$29,MATCH(ROWS($AG$10:AW27),$AG$10:$AG$116,0),MATCH(COLUMNS($AJ$7:AY24),$AJ$7:$BM$7,0)),\"\")","v":""},{"$f":"IFERROR(INDEX($AJ$10:$BM$29,MATCH(ROWS($AG$10:AX27),$AG$10:$AG$116,0),MATCH(COLUMNS($AJ$7:AZ24),$AJ$7:$BM$7,0)),\"\")","v":""},{"$f":"IFERROR(INDEX($AJ$10:$BM$29,MATCH(ROWS($AG$10:AY27),$AG$10:$AG$116,0),MATCH(COLUMNS($AJ$7:BA24),$AJ$7:$BM$7,0)),\"\")","v":""},{"$f":"IFERROR(INDEX($AJ$10:$BM$29,MATCH(ROWS($AG$10:AZ27),$AG$10:$AG$116,0),MATCH(COLUMNS($AJ$7:BB24),$AJ$7:$BM$7,0)),\"\")","v":""},{"$f":"IFERROR(INDEX($AJ$10:$BM$29,MATCH(ROWS($AG$10:BA27),$AG$10:$AG$116,0),MATCH(COLUMNS($AJ$7:BC24),$AJ$7:$BM$7,0)),\"\")","v":""},{"$f":"IFERROR(INDEX($AJ$10:$BM$29,MATCH(ROWS($AG$10:BB27),$AG$10:$AG$116,0),MATCH(COLUMNS($AJ$7:BD24),$AJ$7:$BM$7,0)),\"\")","v":""},{"$f":"IFERROR(INDEX($AJ$10:$BM$29,MATCH(ROWS($AG$10:BC27),$AG$10:$AG$116,0),MATCH(COLUMNS($AJ$7:BE24),$AJ$7:$BM$7,0)),\"\")","v":""},{"$f":"IFERROR(INDEX($AJ$10:$BM$29,MATCH(ROWS($AG$10:BD27),$AG$10:$AG$116,0),MATCH(COLUMNS($AJ$7:BF24),$AJ$7:$BM$7,0)),\"\")","v":""},{"$f":"IFERROR(INDEX($AJ$10:$BM$29,MATCH(ROWS($AG$10:BE27),$AG$10:$AG$116,0),MATCH(COLUMNS($AJ$7:BG24),$AJ$7:$BM$7,0)),\"\")","v":""},{"$f":"IFERROR(INDEX($AJ$10:$BM$29,MATCH(ROWS($AG$10:BF27),$AG$10:$AG$116,0),MATCH(COLUMNS($AJ$7:BH24),$AJ$7:$BM$7,0)),\"\")","v":""},{"$f":"IFERROR(INDEX($AJ$10:$BM$29,MATCH(ROWS($AG$10:BG27),$AG$10:$AG$116,0),MATCH(COLUMNS($AJ$7:BI24),$AJ$7:$BM$7,0)),\"\")","v":""},{"$f":"IFERROR(INDEX($AJ$10:$BM$29,MATCH(ROWS($AG$10:BH27),$AG$10:$AG$116,0),MATCH(COLUMNS($AJ$7:BJ24),$AJ$7:$BM$7,0)),\"\")","v":""},{"$f":"IFERROR(INDEX($AJ$10:$BM$29,MATCH(ROWS($AG$10:BI27),$AG$10:$AG$116,0),MATCH(COLUMNS($AJ$7:BK24),$AJ$7:$BM$7,0)),\"\")","v":""},{"$f":"IFERROR(INDEX($AJ$10:$BM$29,MATCH(ROWS($AG$10:BJ27),$AG$10:$AG$116,0),MATCH(COLUMNS($AJ$7:BL24),$AJ$7:$BM$7,0)),\"\")","v":""},{"$f":"IFERROR(INDEX($AJ$10:$BM$29,MATCH(ROWS($AG$10:BK27),$AG$10:$AG$116,0),MATCH(COLUMNS($AJ$7:BM24),$AJ$7:$BM$7,0)),\"\")","v":""},null,{"$f":"IF(AH27=0,\"\",COUNTIF($AH$10:AH27,\"=1\"))","v":""},0,"کاندیدا",{"$f":"SUMIFS(data!$H$3:$H$1499,data!$D$3:$D$1499,AI27,data!$G$3:$G$1499,\"مثبت\",data!$CS$3:$CS$1499,1)","v":0},{"$f":"SUMIFS(data!$I$3:$I$1499,data!$D$3:$D$1499,AI27,data!$G$3:$G$1499,\"مثبت\",data!$CS$3:$CS$1499,1)","v":0},{"$f":"SUMIFS(data!$J$3:$J$1499,data!$D$3:$D$1499,$AI27,data!$G$3:$G$1499,\"مثبت\",data!$CS$3:$CS$1499,1)","v":0},{"$f":"SUMIFS(data!$K$3:$K$1499,data!$D$3:$D$1499,$AI27,data!$G$3:$G$1499,\"مثبت\",data!$CS$3:$CS$1499,1)","v":0},{"$f":"SUMIFS(data!$L$3:$L$1499,data!$D$3:$D$1499,$AI27,data!$G$3:$G$1499,\"مثبت\",data!$CS$3:$CS$1499,1)","v":0},{"$f":"SUMIFS(data!$M$3:$M$1499,data!$D$3:$D$1499,$AI27,data!$G$3:$G$1499,\"مثبت\",data!$CS$3:$CS$1499,1)","v":0},{"$f":"SUMIFS(data!$N$3:$N$1499,data!$D$3:$D$1499,$AI27,data!$G$3:$G$1499,\"مثبت\",data!$CS$3:$CS$1499,1)","v":0},{"$f":"SUMIFS(data!$O$3:$O$1499,data!$D$3:$D$1499,$AI27,data!$G$3:$G$1499,\"مثبت\",data!$CS$3:$CS$1499,1)","v":0},{"$f":"SUMIFS(data!$P$3:$P$1499,data!$D$3:$D$1499,$AI27,data!$G$3:$G$1499,\"مثبت\",data!$CS$3:$CS$1499,1)","v":0},{"$f":"SUMIFS(data!$Q$3:$Q$1499,data!$D$3:$D$1499,$AI27,data!$G$3:$G$1499,\"مثبت\",data!$CS$3:$CS$1499,1)","v":0},{"$f":"SUMIFS(data!$R$3:$R$1499,data!$D$3:$D$1499,$AI27,data!$G$3:$G$1499,\"مثبت\",data!$CS$3:$CS$1499,1)","v":0},{"$f":"SUMIFS(data!$S$3:$S$1499,data!$D$3:$D$1499,$AI27,data!$G$3:$G$1499,\"مثبت\",data!$CS$3:$CS$1499,1)","v":0},{"$f":"SUMIFS(data!$T$3:$T$1499,data!$D$3:$D$1499,$AI27,data!$G$3:$G$1499,\"مثبت\",data!$CS$3:$CS$1499,1)","v":0},{"$f":"SUMIFS(data!$U$3:$U$1499,data!$D$3:$D$1499,$AI27,data!$G$3:$G$1499,\"مثبت\",data!$CS$3:$CS$1499,1)","v":0},{"$f":"SUMIFS(data!$V$3:$V$1499,data!$D$3:$D$1499,$AI27,data!$G$3:$G$1499,\"مثبت\",data!$CS$3:$CS$1499,1)","v":0},{"$f":"SUMIFS(data!$W$3:$W$1499,data!$D$3:$D$1499,$AI27,data!$G$3:$G$1499,\"مثبت\",data!$CS$3:$CS$1499,1)","v":0},{"$f":"SUMIFS(data!$X$3:$X$1499,data!$D$3:$D$1499,$AI27,data!$G$3:$G$1499,\"مثبت\",data!$CS$3:$CS$1499,1)","v":0},{"$f":"SUMIFS(data!$Y$3:$Y$1499,data!$D$3:$D$1499,$AI27,data!$G$3:$G$1499,\"مثبت\",data!$CS$3:$CS$1499,1)","v":0},{"$f":"SUMIFS(data!Z$3:Z$1499,data!$D$3:$D$1499,$AI27,data!$G$3:$G$1499,\"مثبت\",data!$CS$3:$CS$1499,1)","v":0},{"$f":"SUMIFS(data!AA$3:AA$1499,data!$D$3:$D$1499,$AI27,data!$G$3:$G$1499,\"مثبت\",data!$CS$3:$CS$1499,1)","v":0},{"$f":"SUMIFS(data!AB$3:AB$1499,data!$D$3:$D$1499,$AI27,data!$G$3:$G$1499,\"مثبت\",data!$CS$3:$CS$1499,1)","v":0},{"$f":"SUMIFS(data!AC$3:AC$1499,data!$D$3:$D$1499,$AI27,data!$G$3:$G$1499,\"مثبت\",data!$CS$3:$CS$1499,1)","v":0},{"$f":"SUMIFS(data!AD$3:AD$1499,data!$D$3:$D$1499,$AI27,data!$G$3:$G$1499,\"مثبت\",data!$CS$3:$CS$1499,1)","v":0},{"$f":"SUMIFS(data!AE$3:AE$1499,data!$D$3:$D$1499,$AI27,data!$G$3:$G$1499,\"مثبت\",data!$CS$3:$CS$1499,1)","v":0},{"$f":"SUMIFS(data!AF$3:AF$1499,data!$D$3:$D$1499,$AI27,data!$G$3:$G$1499,\"مثبت\",data!$CS$3:$CS$1499,1)","v":0},{"$f":"SUMIFS(data!AG$3:AG$1499,data!$D$3:$D$1499,$AI27,data!$G$3:$G$1499,\"مثبت\",data!$CS$3:$CS$1499,1)","v":0},{"$f":"SUMIFS(data!AH$3:AH$1499,data!$D$3:$D$1499,$AI27,data!$G$3:$G$1499,\"مثبت\",data!$CS$3:$CS$1499,1)","v":0},{"$f":"SUMIFS(data!AI$3:AI$1499,data!$D$3:$D$1499,$AI27,data!$G$3:$G$1499,\"مثبت\",data!$CS$3:$CS$1499,1)","v":0},{"$f":"SUMIFS(data!AJ$3:AJ$1499,data!$D$3:$D$1499,$AI27,data!$G$3:$G$1499,\"مثبت\",data!$CS$3:$CS$1499,1)","v":0},0]
[{"$f":"IFERROR(INDEX($AI$10:$AI$29,MATCH(ROWS($AG$10:AG28),$AG$10:$AG$116,0),1),\"\")","v":""},{"$f":"IFERROR(INDEX($AJ$10:$BM$29,MATCH(ROWS($AG$10:AH28),$AG$10:$AG$116,0),MATCH(COLUMNS($AJ$7:AJ25),$AJ$7:$BM$7,0)),\"\")","v":""},{"$f":"IFERROR(INDEX($AJ$10:$BM$29,MATCH(ROWS($AG$10:AI28),$AG$10:$AG$116,0),MATCH(COLUMNS($AJ$7:AK25),$AJ$7:$BM$7,0)),\"\")","v":""},{"$f":"IFERROR(INDEX($AJ$10:$BM$29,MATCH(ROWS($AG$10:AJ28),$AG$10:$AG$116,0),MATCH(COLUMNS($AJ$7:AL25),$AJ$7:$BM$7,0)),\"\")","v":""},{"$f":"IFERROR(INDEX($AJ$10:$BM$29,MATCH(ROWS($AG$10:AK28),$AG$10:$AG$116,0),MATCH(COLUMNS($AJ$7:AM25),$AJ$7:$BM$7,0)),\"\")","v":""},{"$f":"IFERROR(INDEX($AJ$10:$BM$29,MATCH(ROWS($AG$10:AL28),$AG$10:$AG$116,0),MATCH(COLUMNS($AJ$7:AN25),$AJ$7:$BM$7,0)),\"\")","v":""},{"$f":"IFERROR(INDEX($AJ$10:$BM$29,MATCH(ROWS($AG$10:AM28),$AG$10:$AG$116,0),MATCH(COLUMNS($AJ$7:AO25),$AJ$7:$BM$7,0)),\"\")","v":""},{"$f":"IFERROR(INDEX($AJ$10:$BM$29,MATCH(ROWS($AG$10:AN28),$AG$10:$AG$116,0),MATCH(COLUMNS($AJ$7:AP25),$AJ$7:$BM$7,0)),\"\")","v":""},{"$f":"IFERROR(INDEX($AJ$10:$BM$29,MATCH(ROWS($AG$10:AO28),$AG$10:$AG$116,0),MATCH(COLUMNS($AJ$7:AQ25),$AJ$7:$BM$7,0)),\"\")","v":""},{"$f":"IFERROR(INDEX($AJ$10:$BM$29,MATCH(ROWS($AG$10:AP28),$AG$10:$AG$116,0),MATCH(COLUMNS($AJ$7:AR25),$AJ$7:$BM$7,0)),\"\")","v":""},{"$f":"IFERROR(INDEX($AJ$10:$BM$29,MATCH(ROWS($AG$10:AQ28),$AG$10:$AG$116,0),MATCH(COLUMNS($AJ$7:AS25),$AJ$7:$BM$7,0)),\"\")","v":""},{"$f":"IFERROR(INDEX($AJ$10:$BM$29,MATCH(ROWS($AG$10:AR28),$AG$10:$AG$116,0),MATCH(COLUMNS($AJ$7:AT25),$AJ$7:$BM$7,0)),\"\")","v":""},{"$f":"IFERROR(INDEX($AJ$10:$BM$29,MATCH(ROWS($AG$10:AS28),$AG$10:$AG$116,0),MATCH(COLUMNS($AJ$7:AU25),$AJ$7:$BM$7,0)),\"\")","v":""},{"$f":"IFERROR(INDEX($AJ$10:$BM$29,MATCH(ROWS($AG$10:AT28),$AG$10:$AG$116,0),MATCH(COLUMNS($AJ$7:AV25),$AJ$7:$BM$7,0)),\"\")","v":""},{"$f":"IFERROR(INDEX($AJ$10:$BM$29,MATCH(ROWS($AG$10:AU28),$AG$10:$AG$116,0),MATCH(COLUMNS($AJ$7:AW25),$AJ$7:$BM$7,0)),\"\")","v":""},{"$f":"IFERROR(INDEX($AJ$10:$BM$29,MATCH(ROWS($AG$10:AV28),$AG$10:$AG$116,0),MATCH(COLUMNS($AJ$7:AX25),$AJ$7:$BM$7,0)),\"\")","v":""},{"$f":"IFERROR(INDEX($AJ$10:$BM$29,MATCH(ROWS($AG$10:AW28),$AG$10:$AG$116,0),MATCH(COLUMNS($AJ$7:AY25),$AJ$7:$BM$7,0)),\"\")","v":""},{"$f":"IFERROR(INDEX($AJ$10:$BM$29,MATCH(ROWS($AG$10:AX28),$AG$10:$AG$116,0),MATCH(COLUMNS($AJ$7:AZ25),$AJ$7:$BM$7,0)),\"\")","v":""},{"$f":"IFERROR(INDEX($AJ$10:$BM$29,MATCH(ROWS($AG$10:AY28),$AG$10:$AG$116,0),MATCH(COLUMNS($AJ$7:BA25),$AJ$7:$BM$7,0)),\"\")","v":""},{"$f":"IFERROR(INDEX($AJ$10:$BM$29,MATCH(ROWS($AG$10:AZ28),$AG$10:$AG$116,0),MATCH(COLUMNS($AJ$7:BB25),$AJ$7:$BM$7,0)),\"\")","v":""},{"$f":"IFERROR(INDEX($AJ$10:$BM$29,MATCH(ROWS($AG$10:BA28),$AG$10:$AG$116,0),MATCH(COLUMNS($AJ$7:BC25),$AJ$7:$BM$7,0)),\"\")","v":""},{"$f":"IFERROR(INDEX($AJ$10:$BM$29,MATCH(ROWS($AG$10:BB28),$AG$10:$AG$116,0),MATCH(COLUMNS($AJ$7:BD25),$AJ$7:$BM$7,0)),\"\")","v":""},{"$f":"IFERROR(INDEX($AJ$10:$BM$29,MATCH(ROWS($AG$10:BC28),$AG$10:$AG$116,0),MATCH(COLUMNS($AJ$7:BE25),$AJ$7:$BM$7,0)),\"\")","v":""},{"$f":"IFERROR(INDEX($AJ$10:$BM$29,MATCH(ROWS($AG$10:BD28),$AG$10:$AG$116,0),MATCH(COLUMNS($AJ$7:BF25),$AJ$7:$BM$7,0)),\"\")","v":""},{"$f":"IFERROR(INDEX($AJ$10:$BM$29,MATCH(ROWS($AG$10:BE28),$AG$10:$AG$116,0),MATCH(COLUMNS($AJ$7:BG25),$AJ$7:$BM$7,0)),\"\")","v":""},{"$f":"IFERROR(INDEX($AJ$10:$BM$29,MATCH(ROWS($AG$10:BF28),$AG$10:$AG$116,0),MATCH(COLUMNS($AJ$7:BH25),$AJ$7:$BM$7,0)),\"\")","v":""},{"$f":"IFERROR(INDEX($AJ$10:$BM$29,MATCH(ROWS($AG$10:BG28),$AG$10:$AG$116,0),MATCH(COLUMNS($AJ$7:BI25),$AJ$7:$BM$7,0)),\"\")","v":""},{"$f":"IFERROR(INDEX($AJ$10:$BM$29,MATCH(ROWS($AG$10:BH28),$AG$10:$AG$116,0),MATCH(COLUMNS($AJ$7:BJ25),$AJ$7:$BM$7,0)),\"\")","v":""},{"$f":"IFERROR(INDEX($AJ$10:$BM$29,MATCH(ROWS($AG$10:BI28),$AG$10:$AG$116,0),MATCH(COLUMNS($AJ$7:BK25),$AJ$7:$BM$7,0)),\"\")","v":""},{"$f":"IFERROR(INDEX($AJ$10:$BM$29,MATCH(ROWS($AG$10:BJ28),$AG$10:$AG$116,0),MATCH(COLUMNS($AJ$7:BL25),$AJ$7:$BM$7,0)),\"\")","v":""},{"$f":"IFERROR(INDEX($AJ$10:$BM$29,MATCH(ROWS($AG$10:BK28),$AG$10:$AG$116,0),MATCH(COLUMNS($AJ$7:BM25),$AJ$7:$BM$7,0)),\"\")","v":""},null,{"$f":"IF(AH28=0,\"\",COUNTIF($AH$10:AH28,\"=1\"))","v":""},0,"استرپتوکوک",{"$f":"SUMIFS(data!$H$3:$H$1499,data!$D$3:$D$1499,AI28,data!$G$3:$G$1499,\"مثبت\",data!$CS$3:$CS$1499,1)","v":0},{"$f":"SUMIFS(data!$I$3:$I$1499,data!$D$3:$D$1499,AI28,data!$G$3:$G$1499,\"مثبت\",data!$CS$3:$CS$1499,1)","v":0},{"$f":"SUMIFS(data!$J$3:$J$1499,data!$D$3:$D$1499,$AI28,data!$G$3:$G$1499,\"مثبت\",data!$CS$3:$CS$1499,1)","v":0},{"$f":"SUMIFS(data!$K$3:$K$1499,data!$D$3:$D$1499,$AI28,data!$G$3:$G$1499,\"مثبت\",data!$CS$3:$CS$1499,1)","v":0},{"$f":"SUMIFS(data!$L$3:$L$1499,data!$D$3:$D$1499,$AI28,data!$G$3:$G$1499,\"مثبت\",data!$CS$3:$CS$1499,1)","v":0},{"$f":"SUMIFS(data!$M$3:$M$1499,data!$D$3:$D$1499,$AI28,data!$G$3:$G$1499,\"مثبت\",data!$CS$3:$CS$1499,1)","v":0},{"$f":"SUMIFS(data!$N$3:$N$1499,data!$D$3:$D$1499,$AI28,data!$G$3:$G$1499,\"مثبت\",data!$CS$3:$CS$1499,1)","v":0},{"$f":"SUMIFS(data!$O$3:$O$1499,data!$D$3:$D$1499,$AI28,data!$G$3:$G$1499,\"مثبت\",data!$CS$3:$CS$1499,1)","v":0},{"$f":"SUMIFS(data!$P$3:$P$1499,data!$D$3:$D$1499,$AI28,data!$G$3:$G$1499,\"مثبت\",data!$CS$3:$CS$1499,1)","v":0},{"$f":"SUMIFS(data!$Q$3:$Q$1499,data!$D$3:$D$1499,$AI28,data!$G$3:$G$1499,\"مثبت\",data!$CS$3:$CS$1499,1)","v":0},{"$f":"SUMIFS(data!$R$3:$R$1499,data!$D$3:$D$1499,$AI28,data!$G$3:$G$1499,\"مثبت\",data!$CS$3:$CS$1499,1)","v":0},{"$f":"SUMIFS(data!$S$3:$S$1499,data!$D$3:$D$1499,$AI28,data!$G$3:$G$1499,\"مثبت\",data!$CS$3:$CS$1499,1)","v":0},{"$f":"SUMIFS(data!$T$3:$T$1499,data!$D$3:$D$1499,$AI28,data!$G$3:$G$1499,\"مثبت\",data!$CS$3:$CS$1499,1)","v":0},{"$f":"SUMIFS(data!$U$3:$U$1499,data!$D$3:$D$1499,$AI28,data!$G$3:$G$1499,\"مثبت\",data!$CS$3:$CS$1499,1)","v":0},{"$f":"SUMIFS(data!$V$3:$V$1499,data!$D$3:$D$1499,$AI28,data!$G$3:$G$1499,\"مثبت\",data!$CS$3:$CS$1499,1)","v":0},{"$f":"SUMIFS(data!$W$3:$W$1499,data!$D$3:$D$1499,$AI28,data!$G$3:$G$1499,\"مثبت\",data!$CS$3:$CS$1499,1)","v":0},{"$f":"SUMIFS(data!$X$3:$X$1499,data!$D$3:$D$1499,$AI28,data!$G$3:$G$1499,\"مثبت\",data!$CS$3:$CS$1499,1)","v":0},{"$f":"SUMIFS(data!$Y$3:$Y$1499,data!$D$3:$D$1499,$AI28,data!$G$3:$G$1499,\"مثبت\",data!$CS$3:$CS$1499,1)","v":0},{"$f":"SUMIFS(data!Z$3:Z$1499,data!$D$3:$D$1499,$AI28,data!$G$3:$G$1499,\"مثبت\",data!$CS$3:$CS$1499,1)","v":0},{"$f":"SUMIFS(data!AA$3:AA$1499,data!$D$3:$D$1499,$AI28,data!$G$3:$G$1499,\"مثبت\",data!$CS$3:$CS$1499,1)","v":0},{"$f":"SUMIFS(data!AB$3:AB$1499,data!$D$3:$D$1499,$AI28,data!$G$3:$G$1499,\"مثبت\",data!$CS$3:$CS$1499,1)","v":0},{"$f":"SUMIFS(data!AC$3:AC$1499,data!$D$3:$D$1499,$AI28,data!$G$3:$G$1499,\"مثبت\",data!$CS$3:$CS$1499,1)","v":0},{"$f":"SUMIFS(data!AD$3:AD$1499,data!$D$3:$D$1499,$AI28,data!$G$3:$G$1499,\"مثبت\",data!$CS$3:$CS$1499,1)","v":0},{"$f":"SUMIFS(data!AE$3:AE$1499,data!$D$3:$D$1499,$AI28,data!$G$3:$G$1499,\"مثبت\",data!$CS$3:$CS$1499,1)","v":0},{"$f":"SUMIFS(data!AF$3:AF$1499,data!$D$3:$D$1499,$AI28,data!$G$3:$G$1499,\"مثبت\",data!$CS$3:$CS$1499,1)","v":0},{"$f":"SUMIFS(data!AG$3:AG$1499,data!$D$3:$D$1499,$AI28,data!$G$3:$G$1499,\"مثبت\",data!$CS$3:$CS$1499,1)","v":0},{"$f":"SUMIFS(data!AH$3:AH$1499,data!$D$3:$D$1499,$AI28,data!$G$3:$G$1499,\"مثبت\",data!$CS$3:$CS$1499,1)","v":0},{"$f":"SUMIFS(data!AI$3:AI$1499,data!$D$3:$D$1499,$AI28,data!$G$3:$G$1499,\"مثبت\",data!$CS$3:$CS$1499,1)","v":0},{"$f":"SUMIFS(data!AJ$3:AJ$1499,data!$D$3:$D$1499,$AI28,data!$G$3:$G$1499,\"مثبت\",data!$CS$3:$CS$1499,1)","v":0},0]
[{"$f":"IFERROR(INDEX($AI$10:$AI$29,MATCH(ROWS($AG$10:AG29),$AG$10:$AG$116,0),1),\"\")","v":""},{"$f":"IFERROR(INDEX($AJ$10:$BM$29,MATCH(ROWS($AG$10:AH29),$AG$10:$AG$116,0),MATCH(COLUMNS($AJ$7:AJ26),$AJ$7:$BM$7,0)),\"\")","v":""},{"$f":"IFERROR(INDEX($AJ$10:$BM$29,MATCH(ROWS($AG$10:AI29),$AG$10:$AG$116,0),MATCH(COLUMNS($AJ$7:AK26),$AJ$7:$BM$7,0)),\"\")","v":""},{"$f":"IFERROR(INDEX($AJ$10:$BM$29,MATCH(ROWS($AG$10:AJ29),$AG$10:$AG$116,0),MATCH(COLUMNS($AJ$7:AL26),$AJ$7:$BM$7,0)),\"\")","v":""},{"$f":"IFERROR(INDEX($AJ$10:$BM$29,MATCH(ROWS($AG$10:AK29),$AG$10:$AG$116,0),MATCH(COLUMNS($AJ$7:AM26),$AJ$7:$BM$7,0)),\"\")","v":""},{"$f":"IFERROR(INDEX($AJ$10:$BM$29,MATCH(ROWS($AG$10:AL29),$AG$10:$AG$116,0),MATCH(COLUMNS($AJ$7:AN26),$AJ$7:$BM$7,0)),\"\")","v":""},{"$f":"IFERROR(INDEX($AJ$10:$BM$29,MATCH(ROWS($AG$10:AM29),$AG$10:$AG$116,0),MATCH(COLUMNS($AJ$7:AO26),$AJ$7:$BM$7,0)),\"\")","v":""},{"$f":"IFERROR(INDEX($AJ$10:$BM$29,MATCH(ROWS($AG$10:AN29),$AG$10:$AG$116,0),MATCH(COLUMNS($AJ$7:AP26),$AJ$7:$BM$7,0)),\"\")","v":""},{"$f":"IFERROR(INDEX($AJ$10:$BM$29,MATCH(ROWS($AG$10:AO29),$AG$10:$AG$116,0),MATCH(COLUMNS($AJ$7:AQ26),$AJ$7:$BM$7,0)),\"\")","v":""},{"$f":"IFERROR(INDEX($AJ$10:$BM$29,MATCH(ROWS($AG$10:AP29),$AG$10:$AG$116,0),MATCH(COLUMNS($AJ$7:AR26),$AJ$7:$BM$7,0)),\"\")","v":""},{"$f":"IFERROR(INDEX($AJ$10:$BM$29,MATCH(ROWS($AG$10:AQ29),$AG$10:$AG$116,0),MATCH(COLUMNS($AJ$7:AS26),$AJ$7:$BM$7,0)),\"\")","v":""},{"$f":"IFERROR(INDEX($AJ$10:$BM$29,MATCH(ROWS($AG$10:AR29),$AG$10:$AG$116,0),MATCH(COLUMNS($AJ$7:AT26),$AJ$7:$BM$7,0)),\"\")","v":""},{"$f":"IFERROR(INDEX($AJ$10:$BM$29,MATCH(ROWS($AG$10:AS29),$AG$10:$AG$116,0),MATCH(COLUMNS($AJ$7:AU26),$AJ$7:$BM$7,0)),\"\")","v":""},{"$f":"IFERROR(INDEX($AJ$10:$BM$29,MATCH(ROWS($AG$10:AT29),$AG$10:$AG$116,0),MATCH(COLUMNS($AJ$7:AV26),$AJ$7:$BM$7,0)),\"\")","v":""},{"$f":"IFERROR(INDEX($AJ$10:$BM$29,MATCH(ROWS($AG$10:AU29),$AG$10:$AG$116,0),MATCH(COLUMNS($AJ$7:AW26),$AJ$7:$BM$7,0)),\"\")","v":""},{"$f":"IFERROR(INDEX($AJ$10:$BM$29,MATCH(ROWS($AG$10:AV29),$AG$10:$AG$116,0),MATCH(COLUMNS($AJ$7:AX26),$AJ$7:$BM$7,0)),\"\")","v":""},{"$f":"IFERROR(INDEX($AJ$10:$BM$29,MATCH(ROWS($AG$10:AW29),$AG$10:$AG$116,0),MATCH(COLUMNS($AJ$7:AY26),$AJ$7:$BM$7,0)),\"\")","v":""},{"$f":"IFERROR(INDEX($AJ$10:$BM$29,MATCH(ROWS($AG$10:AX29),$AG$10:$AG$116,0),MATCH(COLUMNS($AJ$7:AZ26),$AJ$7:$BM$7,0)),\"\")","v":""},{"$f":"IFERROR(INDEX($AJ$10:$BM$29,MATCH(ROWS($AG$10:AY29),$AG$10:$AG$116,0),MATCH(COLUMNS($AJ$7:BA26),$AJ$7:$BM$7,0)),\"\")","v":""},{"$f":"IFERROR(INDEX($AJ$10:$BM$29,MATCH(ROWS($AG$10:AZ29),$AG$10:$AG$116,0),MATCH(COLUMNS($AJ$7:BB26),$AJ$7:$BM$7,0)),\"\")","v":""},{"$f":"IFERROR(INDEX($AJ$10:$BM$29,MATCH(ROWS($AG$10:BA29),$AG$10:$AG$116,0),MATCH(COLUMNS($AJ$7:BC26),$AJ$7:$BM$7,0)),\"\")","v":""},{"$f":"IFERROR(INDEX($AJ$10:$BM$29,MATCH(ROWS($AG$10:BB29),$AG$10:$AG$116,0),MATCH(COLUMNS($AJ$7:BD26),$AJ$7:$BM$7,0)),\"\")","v":""},{"$f":"IFERROR(INDEX($AJ$10:$BM$29,MATCH(ROWS($AG$10:BC29),$AG$10:$AG$116,0),MATCH(COLUMNS($AJ$7:BE26),$AJ$7:$BM$7,0)),\"\")","v":""},{"$f":"IFERROR(INDEX($AJ$10:$BM$29,MATCH(ROWS($AG$10:BD29),$AG$10:$AG$116,0),MATCH(COLUMNS($AJ$7:BF26),$AJ$7:$BM$7,0)),\"\")","v":""},{"$f":"IFERROR(INDEX($AJ$10:$BM$29,MATCH(ROWS($AG$10:BE29),$AG$10:$AG$116,0),MATCH(COLUMNS($AJ$7:BG26),$AJ$7:$BM$7,0)),\"\")","v":""},{"$f":"IFERROR(INDEX($AJ$10:$BM$29,MATCH(ROWS($AG$10:BF29),$AG$10:$AG$116,0),MATCH(COLUMNS($AJ$7:BH26),$AJ$7:$BM$7,0)),\"\")","v":""},{"$f":"IFERROR(INDEX($AJ$10:$BM$29,MATCH(ROWS($AG$10:BG29),$AG$10:$AG$116,0),MATCH(COLUMNS($AJ$7:BI26),$AJ$7:$BM$7,0)),\"\")","v":""},{"$f":"IFERROR(INDEX($AJ$10:$BM$29,MATCH(ROWS($AG$10:BH29),$AG$10:$AG$116,0),MATCH(COLUMNS($AJ$7:BJ26),$AJ$7:$BM$7,0)),\"\")","v":""},{"$f":"IFERROR(INDEX($AJ$10:$BM$29,MATCH(ROWS($AG$10:BI29),$AG$10:$AG$116,0),MATCH(COLUMNS($AJ$7:BK26),$AJ$7:$BM$7,0)),\"\")","v":""},{"$f":"IFERROR(INDEX($AJ$10:$BM$29,MATCH(ROWS($AG$10:BJ29),$AG$10:$AG$116,0),MATCH(COLUMNS($AJ$7:BL26),$AJ$7:$BM$7,0)),\"\")","v":""},{"$f":"IFERROR(INDEX($AJ$10:$BM$29,MATCH(ROWS($AG$10:BK29),$AG$10:$AG$116,0),MATCH(COLUMNS($AJ$7:BM26),$AJ$7:$BM$7,0)),\"\")","v":""},null,{"$f":"IF(AH29=0,\"\",COUNTIF($AH$10:AH29,\"=1\"))","v":""},0,"جمع",{"$f":"SUM(AJ10:AJ28)","v":0},{"$f":"SUM(AK10:AK28)","v":0},0,0,0,0,0,0,0,0,0,0,0,0,0,0,0,0,{"$f":"SUM(BB10:BB28)","v":0},0,0,0,0,0,0,0,0,0,0,{"$f":"SUM(AJ29:BL29)","v":0}]
[]
[]
[]
[null,null,null,null,null,null,null,null,null,null,null,null,null,null,null,null,null,null,null,null,null,null,null,null,null,null,null,null,null,null,null,null,null,null,{"$f":"\"تعداد کشت مثبت و مقاوم در ماه \"&AP3&\" \"&AP4&\" \"&AP5&\" \"&AS3&\" \"&BD9&\" \"&AS5&\" \"&AV3&\" \"&AV4&\" \"&AV5&\" \"&AY3&\" \"&AY4&\" \"&AY5","v":"تعداد کشت مثبت و مقاوم در ماه     سپفیم       "}]
[null,null,null,null,null,null,null,null,null,null,null,null,null,null,null,null,null,null,null,null,null,null,null,null,null,null,null,null,null,null,null,null,null,null,"نوع باکتری","جنتامایسین","آمیکاسین","آمپی سیلین ","پنی سیلین ","ایمی پنم ","سفازولین ","سفوتاکسیم ","سفالوتین ","سفتریاکسون ","سفتیزوکسیم ","سیپروفلوکساسین ","کلیندامایسین ","کوتریموکسازول ","نالیدیک اسید ","ونکومایسین ","سفتازیدیم ","جمع"]
[null,null,null,null,null,null,null,null,null,null,null,null,null,null,null,null,null,null,null,null,null,null,null,null,null,null,null,null,null,null,null,null,null,null,"کلبسیلا",{"$f":"SUMIFS(data!$AN$3:$AN$1499,data!$D$3:$D$1499,AI35,data!$G$3:$G$1499,\"مثبت\",data!$CS$7:$CS$1503,1)","v":0},{"$f":"SUMIFS(data!$AO$3:$AO$1499,data!$D$3:$D$1499,AI35,data!$G$3:$G$1499,\"مثبت\",data!$CS$7:$CS$1503,1)","v":0},{"$f":"SUMIFS(data!$AP$3:$AP$1499,data!$D$3:$D$1499,$AI35,data!$G$3:$G$1499,\"مثبت\",data!$CS$7:$CS$1503,1)","v":0},{"$f":"SUMIFS(data!$AQ$3:$AQ$1499,data!$D$3:$D$1499,$AI35,data!$G$3:$G$1499,\"مثبت\",data!$CS$7:$CS$1503,1)","v":0},{"$f":"SUMIFS(data!$AR$3:$AR$1499,data!$D$3:$D$1499,$AI35,data!$G$3:$G$1499,\"مثبت\",data!$CS$7:$CS$1503,1)","v":0},{"$f":"SUMIFS(data!$AS$3:$AS$1499,data!$D$3:$D$1499,$AI35,data!$G$3:$G$1499,\"مثبت\",data!$CS$7:$CS$1503,1)","v":0},{"$f":"SUMIFS(data!$AT$3:$AT$1499,data!$D$3:$D$1499,$AI35,data!$G$3:$G$1499,\"مثبت\",data!$CS$7:$CS$1503,1)","v":0},{"$f":"SUMIFS(data!$AU$3:$AU$1499,data!$D$3:$D$1499,$AI35,data!$G$3:$G$1499,\"مثبت\",data!$CS$7:$CS$1503,1)","v":0},{"$f":"SUMIFS(data!$AV$3:$AV$1499,data!$D$3:$D$1499,$AI35,data!$G$3:$G$1499,\"مثبت\",data!$CS$7:$CS$1503,1)","v":0},{"$f":"SUMIFS(data!$AW$3:$AW$1499,data!$D$3:$D$1499,$AI35,data!$G$3:$G$1499,\"مثبت\",data!$CS$7:$CS$1503,1)","v":0},{"$f":"SUMIFS(data!$AX$3:$AX$1499,data!$D$3:$D$1499,$AI35,data!$G$3:$G$1499,\"مثبت\",data!$CS$7:$CS$1503,1)","v":0},{"$f":"SUMIFS(data!$AY$3:$AY$1499,data!$D$3:$D$1499,$AI35,data!$G$3:$G$1499,\"مثبت\",data!$CS$7:$CS$1503,1)","v":0},{"$f":"SUMIFS(data!$AZ$3:$AZ$1499,data!$D$3:$D$1499,$AI35,data!$G$3:$G$1499,\"مثبت\",data!$CS$7:$CS$1503,1)","v":0},{"$f":"SUMIFS(data!$BA$3:$BA$1499,data!$D$3:$D$1499,$AI35,data!$G$3:$G$1499,\"مثبت\",data!$CS$7:$CS$1503,1)","v":0},{"$f":"SUMIFS(data!$BB$3:$BB$1499,data!$D$3:$D$1499,$AI35,data!$G$3:$G$1499,\"مثبت\",data!$CS$7:$CS$1503,1)","v":0},{"$f":"SUMIFS(data!$BC$3:$BC$1499,data!$D$3:$D$1499,$AI35,data!$G$3:$G$1499,\"مثبت\",data!$CS$7:$CS$1503,1)","v":0},{"$f":"SUM(AJ35:AY35)","v":0}]
[null,null,null,null,null,null,null,null,null,null,null,null,null,null,null,null,null,null,null,null,null,null,null,null,null,null,null,null,null,null,null,null,null,null,"استاف اورئوس",{"$f":"SUMIFS(data!$AN$3:$AN$1499,data!$D$3:$D$1499,AI36,data!$G$3:$G$1499,\"مثبت\",data!$CS$7:$CS$1503,1)","v":0},{"$f":"SUMIFS(data!$AO$3:$AO$1499,data!$D$3:$D$1499,AI36,data!$G$3:$G$1499,\"مثبت\",data!$CS$7:$CS$1503,1)","v":0},{"$f":"SUMIFS(data!$AP$3:$AP$1499,data!$D$3:$D$1499,$AI36,data!$G$3:$G$1499,\"مثبت\",data!$CS$7:$CS$1503,1)","v":0},{"$f":"SUMIFS(data!$AQ$3:$AQ$1499,data!$D$3:$D$1499,$AI36,data!$G$3:$G$1499,\"مثبت\",data!$CS$7:$CS$1503,1)","v":0},{"$f":"SUMIFS(data!$AR$3:$AR$1499,data!$D$3:$D$1499,$AI36,data!$G$3:$G$1499,\"مثبت\",data!$CS$7:$CS$1503,1)","v":0},{"$f":"SUMIFS(data!$AS$3:$AS$1499,data!$D$3:$D$1499,$AI36,data!$G$3:$G$1499,\"مثبت\",data!$CS$7:$CS$1503,1)","v":0},{"$f":"SUMIFS(data!$AT$3:$AT$1499,data!$D$3:$D$1499,$AI36,data!$G$3:$G$1499,\"مثبت\",data!$CS$7:$CS$1503,1)","v":0},{"$f":"SUMIFS(data!$AU$3:$AU$1499,data!$D$3:$D$1499,$AI36,data!$G$3:$G$1499,\"مثبت\",data!$CS$7:$CS$1503,1)","v":0},{"$f":"SUMIFS(data!$AV$3:$AV$1499,data!$D$3:$D$1499,$AI36,data!$G$3:$G$1499,\"مثبت\",data!$CS$7:$CS$1503,1)","v":0},{"$f":"SUMIFS(data!$AW$3:$AW$1499,data!$D$3:$D$1499,$AI36,data!$G$3:$G$1499,\"مثبت\",data!$CS$7:$CS$1503,1)","v":0},{"$f":"SUMIFS(data!$AX$3:$AX$1499,data!$D$3:$D$1499,$AI36,data!$G$3:$G$1499,\"مثبت\",data!$CS$7:$CS$1503,1)","v":0},{"$f":"SUMIFS(data!$AY$3:$AY$1499,data!$D$3:$D$1499,$AI36,data!$G$3:$G$1499,\"مثبت\",data!$CS$7:$CS$1503,1)","v":0},{"$f":"SUMIFS(data!$AZ$3:$AZ$1499,data!$D$3:$D$1499,$AI36,data!$G$3:$G$1499,\"مثبت\",data!$CS$7:$CS$1503,1)","v":0},{"$f":"SUMIFS(data!$BA$3:$BA$1499,data!$D$3:$D$1499,$AI36,data!$G$3:$G$1499,\"مثبت\",data!$CS$7:$CS$1503,1)","v":0},{"$f":"SUMIFS(data!$BB$3:$BB$1499,data!$D$3:$D$1499,$AI36,data!$G$3:$G$1499,\"مثبت\",data!$CS$7:$CS$1503,1)","v":0},{"$f":"SUMIFS(data!$BC$3:$BC$1499,data!$D$3:$D$1499,$AI36,data!$G$3:$G$1499,\"مثبت\",data!$CS$7:$CS$1503,1)","v":0},{"$f":"SUM(AJ36:AY36)","v":0}]
[null,null,null,null,null,null,null,null,null,null,null,null,null,null,null,null,null,null,null,null,null,null,null,null,null,null,null,null,null,null,null,null,null,null,"اشرشیاکولای",{"$f":"SUMIFS(data!$AN$3:$AN$1499,data!$D$3:$D$1499,AI37,data!$G$3:$G$1499,\"مثبت\",data!$CS$7:$CS$1503,1)","v":0},{"$f":"SUMIFS(data!$AO$3:$AO$1499,data!$D$3:$D$1499,AI37,data!$G$3:$G$1499,\"مثبت\",data!$CS$7:$CS$1503,1)","v":0},{"$f":"SUMIFS(data!$AP$3:$AP$1499,data!$D$3:$D$1499,$AI37,data!$G$3:$G$1499,\"مثبت\",data!$CS$7:$CS$1503,1)","v":0},{"$f":"SUMIFS(data!$AQ$3:$AQ$1499,data!$D$3:$D$1499,$AI37,data!$G$3:$G$1499,\"مثبت\",data!$CS$7:$CS$1503,1)","v":0},{"$f":"SUMIFS(data!$AR$3:$AR$1499,data!$D$3:$D$1499,$AI37,data!$G$3:$G$1499,\"مثبت\",data!$CS$7:$CS$1503,1)","v":0},{"$f":"SUMIFS(data!$AS$3:$AS$1499,data!$D$3:$D$1499,$AI37,data!$G$3:$G$1499,\"مثبت\",data!$CS$7:$CS$1503,1)","v":0},{"$f":"SUMIFS(data!$AT$3:$AT$1499,data!$D$3:$D$1499,$AI37,data!$G$3:$G$1499,\"مثبت\",data!$CS$7:$CS$1503,1)","v":0},{"$f":"SUMIFS(data!$AU$3:$AU$1499,data!$D$3:$D$1499,$AI37,data!$G$3:$G$1499,\"مثبت\",data!$CS$7:$CS$1503,1)","v":0},{"$f":"SUMIFS(data!$AV$3:$AV$1499,data!$D$3:$D$1499,$AI37,data!$G$3:$G$1499,\"مثبت\",data!$CS$7:$CS$1503,1)","v":0},{"$f":"SUMIFS(data!$AW$3:$AW$1499,data!$D$3:$D$1499,$AI37,data!$G$3:$G$1499,\"مثبت\",data!$CS$7:$CS$1503,1)","v":0},{"$f":"SUMIFS(data!$AX$3:$AX$1499,data!$D$3:$D$1499,$AI37,data!$G$3:$G$1499,\"مثبت\",data!$CS$7:$CS$1503,1)","v":0},{"$f":"SUMIFS(data!$AY$3:$AY$1499,data!$D$3:$D$1499,$AI37,data!$G$3:$G$1499,\"مثبت\",data!$CS$7:$CS$1503,1)","v":0},{"$f":"SUMIFS(data!$AZ$3:$AZ$1499,data!$D$3:$D$1499,$AI37,data!$G$3:$G$1499,\"مثبت\",data!$CS$7:$CS$1503,1)","v":0},{"$f":"SUMIFS(data!$BA$3:$BA$1499,data!$D$3:$D$1499,$AI37,data!$G$3:$G$1499,\"مثبت\",data!$CS$7:$CS$1503,1)","v":0},{"$f":"SUMIFS(data!$BB$3:$BB$1499,data!$D$3:$D$1499,$AI37,data!$G$3:$G$1499,\"مثبت\",data!$CS$7:$CS$1503,1)","v":0},{"$f":"SUMIFS(data!$BC$3:$BC$1499,data!$D$3:$D$1499,$AI37,data!$G$3:$G$1499,\"مثبت\",data!$CS$7:$CS$1503,1)","v":0},0]
[null,null,null,null,null,null,null,null,null,null,null,null,null,null,null,null,null,null,null,null,null,null,null,null,null,null,null,null,null,null,null,null,null,null,"استاف کوآگولاز منفی",{"$f":"SUMIFS(data!$AN$3:$AN$1499,data!$D$3:$D$1499,AI38,data!$G$3:$G$1499,\"مثبت\",data!$CS$7:$CS$1503,1)","v":0},{"$f":"SUMIFS(data!$AO$3:$AO$1499,data!$D$3:$D$1499,AI38,data!$G$3:$G$1499,\"مثبت\",data!$CS$7:$CS$1503,1)","v":0},{"$f":"SUMIFS(data!$AP$3:$AP$1499,data!$D$3:$D$1499,$AI38,data!$G$3:$G$1499,\"مثبت\",data!$CS$7:$CS$1503,1)","v":0},{"$f":"SUMIFS(data!$AQ$3:$AQ$1499,data!$D$3:$D$1499,$AI38,data!$G$3:$G$1499,\"مثبت\",data!$CS$7:$CS$1503,1)","v":0},{"$f":"SUMIFS(data!$AR$3:$AR$1499,data!$D$3:$D$1499,$AI38,data!$G$3:$G$1499,\"مثبت\",data!$CS$7:$CS$1503,1)","v":0},{"$f":"SUMIFS(data!$AS$3:$AS$1499,data!$D$3:$D$1499,$AI38,data!$G$3:$G$1499,\"مثبت\",data!$CS$7:$CS$1503,1)","v":0},{"$f":"SUMIFS(data!$AT$3:$AT$1499,data!$D$3:$D$1499,$AI38,data!$G$3:$G$1499,\"مثبت\",data!$CS$7:$CS$1503,1)","v":0},{"$f":"SUMIFS(data!$AU$3:$AU$1499,data!$D$3:$D$1499,$AI38,data!$G$3:$G$1499,\"مثبت\",data!$CS$7:$CS$1503,1)","v":0},{"$f":"SUMIFS(data!$AV$3:$AV$1499,data!$D$3:$D$1499,$AI38,data!$G$3:$G$1499,\"مثبت\",data!$CS$7:$CS$1503,1)","v":0},{"$f":"SUMIFS(data!$AW$3:$AW$1499,data!$D$3:$D$1499,$AI38,data!$G$3:$G$1499,\"مثبت\",data!$CS$7:$CS$1503,1)","v":0},{"$f":"SUMIFS(data!$AX$3:$AX$1499,data!$D$3:$D$1499,$AI38,data!$G$3:$G$1499,\"مثبت\",data!$CS$7:$CS$1503,1)","v":0},{"$f":"SUMIFS(data!$AY$3:$AY$1499,data!$D$3:$D$1499,$AI38,data!$G$3:$G$1499,\"مثبت\",data!$CS$7:$CS$1503,1)","v":0},{"$f":"SUMIFS(data!$AZ$3:$AZ$1499,data!$D$3:$D$1499,$AI38,data!$G$3:$G$1499,\"مثبت\",data!$CS$7:$CS$1503,1)","v":0},{"$f":"SUMIFS(data!$BA$3:$BA$1499,data!$D$3:$D$1499,$AI38,data!$G$3:$G$1499,\"مثبت\",data!$CS$7:$CS$1503,1)","v":0},{"$f":"SUMIFS(data!$BB$3:$BB$1499,data!$D$3:$D$1499,$AI38,data!$G$3:$G$1499,\"مثبت\",data!$CS$7:$CS$1503,1)","v":0},{"$f":"SUMIFS(data!$BC$3:$BC$1499,data!$D$3:$D$1499,$AI38,data!$G$3:$G$1499,\"مثبت\",data!$CS$7:$CS$1503,1)","v":0},0]
[null,null,null,null,null,null,null,null,null,null,null,null,null,null,null,null,null,null,null,null,null,null,null,null,null,null,null,null,null,null,null,null,null,null,"استاف کوآگولاز مثبت",{"$f":"SUMIFS(data!$AN$3:$AN$1499,data!$D$3:$D$1499,AI39,data!$G$3:$G$1499,\"مثبت\",data!$CS$7:$CS$1503,1)","v":0},{"$f":"SUMIFS(data!$AO$3:$AO$1499,data!$D$3:$D$1499,AI39,data!$G$3:$G$1499,\"مثبت\",data!$CS$7:$CS$1503,1)","v":0},{"$f":"SUMIFS(data!$AP$3:$AP$1499,data!$D$3:$D$1499,$AI39,data!$G$3:$G$1499,\"مثبت\",data!$CS$7:$CS$1503,1)","v":0},{"$f":"SUMIFS(data!$AQ$3:$AQ$1499,data!$D$3:$D$1499,$AI39,data!$G$3:$G$1499,\"مثبت\",data!$CS$7:$CS$1503,1)","v":0},{"$f":"SUMIFS(data!$AR$3:$AR$1499,data!$D$3:$D$1499,$AI39,data!$G$3:$G$1499,\"مثبت\",data!$CS$7:$CS$1503,1)","v":0},{"$f":"SUMIFS(data!$AS$3:$AS$1499,data!$D$3:$D$1499,$AI39,data!$G$3:$G$1499,\"مثبت\",data!$CS$7:$CS$1503,1)","v":0},{"$f":"SUMIFS(data!$AT$3:$AT$1499,data!$D$3:$D$1499,$AI39,data!$G$3:$G$1499,\"مثبت\",data!$CS$7:$CS$1503,1)","v":0},{"$f":"SUMIFS(data!$AU$3:$AU$1499,data!$D$3:$D$1499,$AI39,data!$G$3:$G$1499,\"مثبت\",data!$CS$7:$CS$1503,1)","v":0},{"$f":"SUMIFS(data!$AV$3:$AV$1499,data!$D$3:$D$1499,$AI39,data!$G$3:$G$1499,\"مثبت\",data!$CS$7:$CS$1503,1)","v":0},{"$f":"SUMIFS(data!$AW$3:$AW$1499,data!$D$3:$D$1499,$AI39,data!$G$3:$G$1499,\"مثبت\",data!$CS$7:$CS$1503,1)","v":0},{"$f":"SUMIFS(data!$AX$3:$AX$1499,data!$D$3:$D$1499,$AI39,data!$G$3:$G$1499,\"مثبت\",data!$CS$7:$CS$1503,1)","v":0},{"$f":"SUMIFS(data!$AY$3:$AY$1499,data!$D$3:$D$1499,$AI39,data!$G$3:$G$1499,\"مثبت\",data!$CS$7:$CS$1503,1)","v":0},{"$f":"SUMIFS(data!$AZ$3:$AZ$1499,data!$D$3:$D$1499,$AI39,data!$G$3:$G$1499,\"مثبت\",data!$CS$7:$CS$1503,1)","v":0},{"$f":"SUMIFS(data!$BA$3:$BA$1499,data!$D$3:$D$1499,$AI39,data!$G$3:$G$1499,\"مثبت\",data!$CS$7:$CS$1503,1)","v":0},{"$f":"SUMIFS(data!$BB$3:$BB$1499,data!$D$3:$D$1499,$AI39,data!$G$3:$G$1499,\"مثبت\",data!$CS$7:$CS$1503,1)","v":0},{"$f":"SUMIFS(data!$BC$3:$BC$1499,data!$D$3:$D$1499,$AI39,data!$G$3:$G$1499,\"مثبت\",data!$CS$7:$CS$1503,1)","v":0},0]
[null,null,null,null,null,null,null,null,null,null,null,null,null,null,null,null,null,null,null,null,null,null,null,null,null,null,null,null,null,null,null,null,null,null,"سودومونا",{"$f":"SUMIFS(data!$AN$3:$AN$1499,data!$D$3:$D$1499,AI40,data!$G$3:$G$1499,\"مثبت\",data!$CS$7:$CS$1503,1)","v":0},{"$f":"SUMIFS(data!$AO$3:$AO$1499,data!$D$3:$D$1499,AI40,data!$G$3:$G$1499,\"مثبت\",data!$CS$7:$CS$1503,1)","v":0},{"$f":"SUMIFS(data!$AP$3:$AP$1499,data!$D$3:$D$1499,$AI40,data!$G$3:$G$1499,\"مثبت\",data!$CS$7:$CS$1503,1)","v":0},{"$f":"SUMIFS(data!$AQ$3:$AQ$1499,data!$D$3:$D$1499,$AI40,data!$G$3:$G$1499,\"مثبت\",data!$CS$7:$CS$1503,1)","v":0},{"$f":"SUMIFS(data!$AR$3:$AR$1499,data!$D$3:$D$1499,$AI40,data!$G$3:$G$1499,\"مثبت\",data!$CS$7:$CS$1503,1)","v":0},{"$f":"SUMIFS(data!$AS$3:$AS$1499,data!$D$3:$D$1499,$AI40,data!$G$3:$G$1499,\"مثبت\",data!$CS$7:$CS$1503,1)","v":0},{"$f":"SUMIFS(data!$AT$3:$AT$1499,data!$D$3:$D$1499,$AI40,data!$G$3:$G$1499,\"مثبت\",data!$CS$7:$CS$1503,1)","v":0},{"$f":"SUMIFS(data!$AU$3:$AU$1499,data!$D$3:$D$1499,$AI40,data!$G$3:$G$1499,\"مثبت\",data!$CS$7:$CS$1503,1)","v":0},{"$f":"SUMIFS(data!$AV$3:$AV$1499,data!$D$3:$D$1499,$AI40,data!$G$3:$G$1499,\"مثبت\",data!$CS$7:$CS$1503,1)","v":0},{"$f":"SUMIFS(data!$AW$3:$AW$1499,data!$D$3:$D$1499,$AI40,data!$G$3:$G$1499,\"مثبت\",data!$CS$7:$CS$1503,1)","v":0},{"$f":"SUMIFS(data!$AX$3:$AX$1499,data!$D$3:$D$1499,$AI40,data!$G$3:$G$1499,\"مثبت\",data!$CS$7:$CS$1503,1)","v":0},{"$f":"SUMIFS(data!$AY$3:$AY$1499,data!$D$3:$D$1499,$AI40,data!$G$3:$G$1499,\"مثبت\",data!$CS$7:$CS$1503,1)","v":0},{"$f":"SUMIFS(data!$AZ$3:$AZ$1499,data!$D$3:$D$1499,$AI40,data!$G$3:$G$1499,\"مثبت\",data!$CS$7:$CS$1503,1)","v":0},{"$f":"SUMIFS(data!$BA$3:$BA$1499,data!$D$3:$D$1499,$AI40,data!$G$3:$G$1499,\"مثبت\",data!$CS$7:$CS$1503,1)","v":0},{"$f":"SUMIFS(data!$BB$3:$BB$1499,data!$D$3:$D$1499,$AI40,data!$G$3:$G$1499,\"مثبت\",data!$CS$7:$CS$1503,1)","v":0},{"$f":"SUMIFS(data!$BC$3:$BC$1499,data!$D$3:$D$1499,$AI40,data!$G$3:$G$1499,\"مثبت\",data!$CS$7:$CS$1503,1)","v":0},0]
[null,null,null,null,null,null,null,null,null,null,null,null,null,null,null,null,null,null,null,null,null,null,null,null,null,null,null,null,null,null,null,null,null,null,"آنتروباکتر",{"$f":"SUMIFS(data!$AN$3:$AN$1499,data!$D$3:$D$1499,AI41,data!$G$3:$G$1499,\"مثبت\",data!$CS$7:$CS$1503,1)","v":0},{"$f":"SUMIFS(data!$AO$3:$AO$1499,data!$D$3:$D$1499,AI41,data!$G$3:$G$1499,\"مثبت\",data!$CS$7:$CS$1503,1)","v":0},{"$f":"SUMIFS(data!$AP$3:$AP$1499,data!$D$3:$D$1499,$AI41,data!$G$3:$G$1499,\"مثبت\",data!$CS$7:$CS$1503,1)","v":0},{"$f":"SUMIFS(data!$AQ$3:$AQ$1499,data!$D$3:$D$1499,$AI41,data!$G$3:$G$1499,\"مثبت\",data!$CS$7:$CS$1503,1)","v":0},{"$f":"SUMIFS(data!$AR$3:$AR$1499,data!$D$3:$D$1499,$AI41,data!$G$3:$G$1499,\"مثبت\",data!$CS$7:$CS$1503,1)","v":0},{"$f":"SUMIFS(data!$AS$3:$AS$1499,data!$D$3:$D$1499,$AI41,data!$G$3:$G$1499,\"مثبت\",data!$CS$7:$CS$1503,1)","v":0},{"$f":"SUMIFS(data!$AT$3:$AT$1499,data!$D$3:$D$1499,$AI41,data!$G$3:$G$1499,\"مثبت\",data!$CS$7:$CS$1503,1)","v":0},{"$f":"SUMIFS(data!$AU$3:$AU$1499,data!$D$3:$D$1499,$AI41,data!$G$3:$G$1499,\"مثبت\",data!$CS$7:$CS$1503,1)","v":0},{"$f":"SUMIFS(data!$AV$3:$AV$1499,data!$D$3:$D$1499,$AI41,data!$G$3:$G$1499,\"مثبت\",data!$CS$7:$CS$1503,1)","v":0},{"$f":"SUMIFS(data!$AW$3:$AW$1499,data!$D$3:$D$1499,$AI41,data!$G$3:$G$1499,\"مثبت\",data!$CS$7:$CS$1503,1)","v":0},{"$f":"SUMIFS(data!$AX$3:$AX$1499,data!$D$3:$D$1499,$AI41,data!$G$3:$G$1499,\"مثبت\",data!$CS$7:$CS$1503,1)","v":0},{"$f":"SUMIFS(data!$AY$3:$AY$1499,data!$D$3:$D$1499,$AI41,data!$G$3:$G$1499,\"مثبت\",data!$CS$7:$CS$1503,1)","v":0},{"$f":"SUMIFS(data!$AZ$3:$AZ$1499,data!$D$3:$D$1499,$AI41,data!$G$3:$G$1499,\"مثبت\",data!$CS$7:$CS$1503,1)","v":0},{"$f":"SUMIFS(data!$BA$3:$BA$1499,data!$D$3:$D$1499,$AI41,data!$G$3:$G$1499,\"مثبت\",data!$CS$7:$CS$1503,1)","v":0},{"$f":"SUMIFS(data!$BB$3:$BB$1499,data!$D$3:$D$1499,$AI41,data!$G$3:$G$1499,\"مثبت\",data!$CS$7:$CS$1503,1)","v":0},{"$f":"SUMIFS(data!$BC$3:$BC$1499,data!$D$3:$D$1499,$AI41,data!$G$3:$G$1499,\"مثبت\",data!$CS$7:$CS$1503,1)","v":0},0]
[null,null,null,null,null,null,null,null,null,null,null,null,null,null,null,null,null,null,null,null,null,null,null,null,null,null,null,null,null,null,null,null,null,null,"جمع",{"$f":"SUM(AJ35:AJ41)","v":0},{"$f":"SUM(AK35:AK41)","v":0},0,0,0,0,0,0,0,0,0,0,0,0,0,0,0]

{"sheet":"TABLE2","index":3,"n_rows":28,"n_cols":65,"rows_kept":28,"cut":false,"hidden":false,"merged":[]}
[]
[]
[null,null,null,null,null,null,null,null,null,null,null,null,null,null,null,null,null,null,null,null,null,null,null,null,null,null,null,null,null,null,null,null,null,null,null,{"$f":"IF(AJ4=0,\"\",COUNTIF(AJ4:$AJ$4,\"=1\"))","v":""},{"$f":"IF(AK4=0,\"\",COUNTIF($AJ4:AK$4,\"=1\"))","v":""},{"$f":"IF(AL4=0,\"\",COUNTIF($AJ4:AL$4,\"=1\"))","v":""},{"$f":"IF(AM4=0,\"\",COUNTIF($AJ4:AM$4,\"=1\"))","v":""},{"$f":"IF(AN4=0,\"\",COUNTIF($AJ4:AN$4,\"=1\"))","v":""},{"$f":"IF(AO4=0,\"\",COUNTIF($AJ4:AO$4,\"=1\"))","v":""},{"$f":"IF(AP4=0,\"\",COUNTIF($AJ4:AP$4,\"=1\"))","v":""},{"$f":"IF(AQ4=0,\"\",COUNTIF($AJ4:AQ$4,\"=1\"))","v":""},{"$f":"IF(AR4=0,\"\",COUNTIF($AJ4:AR$4,\"=1\"))","v":""},{"$f":"IF(AS4=0,\"\",COUNTIF($AJ4:AS$4,\"=1\"))","v":""},{"$f":"IF(AT4=0,\"\",COUNTIF($AJ4:AT$4,\"=1\"))","v":""},{"$f":"IF(AU4=0,\"\",COUNTIF($AJ4:AU$4,\"=1\"))","v":""},{"$f":"IF(AV4=0,\"\",COUNTIF($AJ4:AV$4,\"=1\"))","v":""},{"$f":"IF(AW4=0,\"\",COUNTIF($AJ4:AW$4,\"=1\"))","v":""},{"$f":"IF(AX4=0,\"\",COUNTIF($AJ4:AX$4,\"=1\"))","v":""},{"$f":"IF(AY4=0,\"\",COUNTIF($AJ4:AY$4,\"=1\"))","v":""},{"$f":"IF(AZ4=0,\"\",COUNTIF($AJ4:AZ$4,\"=1\"))","v":""},{"$f":"IF(BA4=0,\"\",COUNTIF($AJ4:BA$4,\"=1\"))","v":""},{"$f":"IF(BB4=0,\"\",COUNTIF($AJ4:BB$4,\"=1\"))","v":""},{"$f":"IF(BC4=0,\"\",COUNTIF($AJ4:BC$4,\"=1\"))","v":""},{"$f":"IF(BD4=0,\"\",COUNTIF($AJ4:BD$4,\"=1\"))","v":""},{"$f":"IF(BE4=0,\"\",COUNTIF($AJ4:BE$4,\"=1\"))","v":""},{"$f":"IF(BF4=0,\"\",COUNTIF($AJ4:BF$4,\"=1\"))","v":""},{"$f":"IF(BG4=0,\"\",COUNTIF($AJ4:BG$4,\"=1\"))","v":""},{"$f":"IF(BH4=0,\"\",COUNTIF($AJ4:BH$4,\"=1\"))","v":""},{"$f":"IF(BI4=0,\"\",COUNTIF($AJ4:BI$4,\"=1\"))","v":""},{"$f":"IF(BJ4=0,\"\",COUNTIF($AJ4:BJ$4,\"=1\"))","v":""},{"$f":"IF(BK4=0,\"\",COUNTIF($AJ4:BK$4,\"=1\"))","v":""},{"$f":"IF(BL4=0,\"\",COUNTIF($AJ4:BL$4,\"=1\"))","v":""},{"$f":"IF(BM4=0,\"\",COUNTIF($AJ4:BM$4,\"=1\"))","v":""}]
[{"$f":"\"تعداد کشت مثبت و مقاوم  \"&\"بخش \"&TABLE1!D5& \" در سال\"&TABLE1!D1&\" \"&TABLE1!AP3&\" \"&TABLE1!AP4&\" \"&TABLE1!AP5&\" \"&TABLE1!AS3&\" \"&TABLE1!AS4&\" \"&TABLE1!AS5&\" \"&TABLE1!AV3&\" \"&TABLE1!AV4&\" \"&TABLE1!AV5&\" \"&TABLE1!AY3&\" \"&TABLE1!AY4&\" \"&TABLE1!AY5","v":"تعداد کشت مثبت و مقاوم  بخش کل بخشها در سال1396            "},null,null,null,null,null,null,null,null,null,null,null,null,null,null,null,null,null,null,null,null,null,null,null,null,null,null,null,null,null,null,null,null,null,null,{"$f":"IF(AJ25>0,1,0)","v":0},0,0,0,0,0,0,0,0,0,0,0,0,0,0,0,0,0,0,0,0,0,0,0,0,0,0,0,0,0]
["نوع باکتری",{"$f":"IFERROR(INDEX($AJ$5:$BM$5,1,MATCH(COLUMNS($AJ$3:AJ3),$AJ$3:$BM$3,0)),\"\")","v":""},{"$f":"IFERROR(INDEX($AJ$5:$BM$5,1,MATCH(COLUMNS($AJ$3:AK3),$AJ$3:$BM$3,0)),\"\")","v":""},{"$f":"IFERROR(INDEX($AJ$5:$BM$5,1,MATCH(COLUMNS($AJ$3:AL3),$AJ$3:$BM$3,0)),\"\")","v":""},{"$f":"IFERROR(INDEX($AJ$5:$BM$5,1,MATCH(COLUMNS($AJ$3:AM3),$AJ$3:$BM$3,0)),\"\")","v":""},{"$f":"IFERROR(INDEX($AJ$5:$BM$5,1,MATCH(COLUMNS($AJ$3:AN3),$AJ$3:$BM$3,0)),\"\")","v":""},{"$f":"IFERROR(INDEX($AJ$5:$BM$5,1,MATCH(COLUMNS($AJ$3:AO3),$AJ$3:$BM$3,0)),\"\")","v":""},{"$f":"IFERROR(INDEX($AJ$5:$BM$5,1,MATCH(COLUMNS($AJ$3:AP3),$AJ$3:$BM$3,0)),\"\")","v":""},{"$f":"IFERROR(INDEX($AJ$5:$BM$5,1,MATCH(COLUMNS($AJ$3:AQ3),$AJ$3:$BM$3,0)),\"\")","v":""},{"$f":"IFERROR(INDEX($AJ$5:$BM$5,1,MATCH(COLUMNS($AJ$3:AR3),$AJ$3:$BM$3,0)),\"\")","v":""},{"$f":"IFERROR(INDEX($AJ$5:$BM$5,1,MATCH(COLUMNS($AJ$3:AS3),$AJ$3:$BM$3,0)),\"\")","v":""},{"$f":"IFERROR(INDEX($AJ$5:$BM$5,1,MATCH(COLUMNS($AJ$3:AT3),$AJ$3:$BM$3,0)),\"\")","v":""},{"$f":"IFERROR(INDEX($AJ$5:$BM$5,1,MATCH(COLUMNS($AJ$3:AU3),$AJ$3:$BM$3,0)),\"\")","v":""},{"$f":"IFERROR(INDEX($AJ$5:$BM$5,1,MATCH(COLUMNS($AJ$3:AV3),$AJ$3:$BM$3,0)),\"\")","v":""},{"$f":"IFERROR(INDEX($AJ$5:$BM$5,1,MATCH(COLUMNS($AJ$3:AW3),$AJ$3:$BM$3,0)),\"\")","v":""},{"$f":"IFERROR(INDEX($AJ$5:$BM$5,1,MATCH(COLUMNS($AJ$3:AX3),$AJ$3:$BM$3,0)),\"\")","v":""},{"$f":"IFERROR(INDEX($AJ$5:$BM$5,1,MATCH(COLUMNS($AJ$3:AY3),$AJ$3:$BM$3,0)),\"\")","v":""},{"$f":"IFERROR(INDEX($AJ$5:$BM$5,1,MATCH(COLUMNS($AJ$3:AZ3),$AJ$3:$BM$3,0)),\"\")","v":""},{"$f":"IFERROR(INDEX($AJ$5:$BM$5,1,MATCH(COLUMNS($AJ$3:BA3),$AJ$3:$BM$3,0)),\"\")","v":""},{"$f":"IFERROR(INDEX($AJ$5:$BM$5,1,MATCH(COLUMNS($AJ$3:BB3),$AJ$3:$BM$3,0)),\"\")","v":""},{"$f":"IFERROR(INDEX($AJ$5:$BM$5,1,MATCH(COLUMNS($AJ$3:BC3),$AJ$3:$BM$3,0)),\"\")","v":""},{"$f":"IFERROR(INDEX($AJ$5:$BM$5,1,MATCH(COLUMNS($AJ$3:BD3),$AJ$3:$BM$3,0)),\"\")","v":""},{"$f":"IFERROR(INDEX($AJ$5:$BM$5,1,MATCH(COLUMNS($AJ$3:BE3),$AJ$3:$BM$3,0)),\"\")","v":""},{"$f":"IFERROR(INDEX($AJ$5:$BM$5,1,MATCH(COLUMNS($AJ$3:BF3),$AJ$3:$BM$3,0)),\"\")","v":""},{"$f":"IFERROR(INDEX($AJ$5:$BM$5,1,MATCH(COLUMNS($AJ$3:BG3),$AJ$3:$BM$3,0)),\"\")","v":""},{"$f":"IFERROR(INDEX($AJ$5:$BM$5,1,MATCH(COLUMNS($AJ$3:BH3),$AJ$3:$BM$3,0)),\"\")","v":""},{"$f":"IFERROR(INDEX($AJ$5:$BM$5,1,MATCH(COLUMNS($AJ$3:BI3),$AJ$3:$BM$3,0)),\"\")","v":""},{"$f":"IFERROR(INDEX($AJ$5:$BM$5,1,MATCH(COLUMNS($AJ$3:BJ3),$AJ$3:$BM$3,0)),\"\")","v":""},{"$f":"IFERROR(INDEX($AJ$5:$BM$5,1,MATCH(COLUMNS($AJ$3:BK3),$AJ$3:$BM$3,0)),\"\")","v":""},{"$f":"IFERROR(INDEX($AJ$5:$BM$5,1,MATCH(COLUMNS($AJ$3:BL3),$AJ$3:$BM$3,0)),\"\")","v":""},{"$f":"IFERROR(INDEX($AJ$5:$BM$5,1,MATCH(COLUMNS($AJ$3:BM3),$AJ$3:$BM$3,0)),\"\")","v":""},null,null,null,"نوع باکتری","جنتامایسین","آمیکاسین","آمپی سیلین ","پنی سیلین ","ایمی پنم ","سفازولین ","سفوتاکسیم ","سفالوتین ","سفتریاکسون ","سفتیزوکسیم ","سیپروفلوکساسین ","کلیندامایسین ","کوتریموکسازول ","نالیدیک اسید ","ونکومایسین ","سفتازیدیم ","آموکسی سیلین","آزیترومایسین","کاربنی سیلین","سفالکسین","سپفیم","تتراسایکلین","نورفلوکساسین","نیتروفورانتوئین","مترونیدازول","مروپنم","کانامایسین","داکسی سایکلین","کلوگزایسلین","جمع"]
[{"$f":"IFERROR(INDEX($AI$6:$AI$25,MATCH(ROWS($AG$6:AG6),$AG$6:$AG$115,0),1),\"\")","v":""},{"$f":"IFERROR(INDEX($AJ$6:$BM$25,MATCH(ROWS($AG$6:AG6),$AG$6:$AG$25,0),MATCH(COLUMNS($AJ$3:AJ3),$AJ$3:$BM$3,0)),\"\")","v":""},{"$f":"IFERROR(INDEX($AJ$6:$BM$25,MATCH(ROWS($AG$6:AH6),$AG$6:$AG$25,0),MATCH(COLUMNS($AJ$3:AK3),$AJ$3:$BM$3,0)),\"\")","v":""},{"$f":"IFERROR(INDEX($AJ$6:$BM$25,MATCH(ROWS($AG$6:AI6),$AG$6:$AG$25,0),MATCH(COLUMNS($AJ$3:AL3),$AJ$3:$BM$3,0)),\"\")","v":""},{"$f":"IFERROR(INDEX($AJ$6:$BM$25,MATCH(ROWS($AG$6:AJ6),$AG$6:$AG$25,0),MATCH(COLUMNS($AJ$3:AM3),$AJ$3:$BM$3,0)),\"\")","v":""},{"$f":"IFERROR(INDEX($AJ$6:$BM$25,MATCH(ROWS($AG$6:AK6),$AG$6:$AG$25,0),MATCH(COLUMNS($AJ$3:AN3),$AJ$3:$BM$3,0)),\"\")","v":""},{"$f":"IFERROR(INDEX($AJ$6:$BM$25,MATCH(ROWS($AG$6:AL6),$AG$6:$AG$25,0),MATCH(COLUMNS($AJ$3:AO3),$AJ$3:$BM$3,0)),\"\")","v":""},{"$f":"IFERROR(INDEX($AJ$6:$BM$25,MATCH(ROWS($AG$6:AM6),$AG$6:$AG$25,0),MATCH(COLUMNS($AJ$3:AP3),$AJ$3:$BM$3,0)),\"\")","v":""},{"$f":"IFERROR(INDEX($AJ$6:$BM$25,MATCH(ROWS($AG$6:AN6),$AG$6:$AG$25,0),MATCH(COLUMNS($AJ$3:AQ3),$AJ$3:$BM$3,0)),\"\")","v":""},{"$f":"IFERROR(INDEX($AJ$6:$BM$25,MATCH(ROWS($AG$6:AO6),$AG$6:$AG$25,0),MATCH(COLUMNS($AJ$3:AR3),$AJ$3:$BM$3,0)),\"\")","v":""},{"$f":"IFERROR(INDEX($AJ$6:$BM$25,MATCH(ROWS($AG$6:AP6),$AG$6:$AG$25,0),MATCH(COLUMNS($AJ$3:AS3),$AJ$3:$BM$3,0)),\"\")","v":""},{"$f":"IFERROR(INDEX($AJ$6:$BM$25,MATCH(ROWS($AG$6:AQ6),$AG$6:$AG$25,0),MATCH(COLUMNS($AJ$3:AT3),$AJ$3:$BM$3,0)),\"\")","v":""},{"$f":"IFERROR(INDEX($AJ$6:$BM$25,MATCH(ROWS($AG$6:AR6),$AG$6:$AG$25,0),MATCH(COLUMNS($AJ$3:AU3),$AJ$3:$BM$3,0)),\"\")","v":""},{"$f":"IFERROR(INDEX($AJ$6:$BM$25,MATCH(ROWS($AG$6:AS6),$AG$6:$AG$25,0),MATCH(COLUMNS($AJ$3:AV3),$AJ$3:$BM$3,0)),\"\")","v":""},{"$f":"IFERROR(INDEX($AJ$6:$BM$25,MATCH(ROWS($AG$6:AT6),$AG$6:$AG$25,0),MATCH(COLUMNS($AJ$3:AW3),$AJ$3:$BM$3,0)),\"\")","v":""},{"$f":"IFERROR(INDEX($AJ$6:$BM$25,MATCH(ROWS($AG$6:AU6),$AG$6:$AG$25,0),MATCH(COLUMNS($AJ$3:AX3),$AJ$3:$BM$3,0)),\"\")","v":""},{"$f":"IFERROR(INDEX($AJ$6:$BM$25,MATCH(ROWS($AG$6:AV6),$AG$6:$AG$25,0),MATCH(COLUMNS($AJ$3:AY3),$AJ$3:$BM$3,0)),\"\")","v":""},{"$f":"IFERROR(INDEX($AJ$6:$BM$25,MATCH(ROWS($AG$6:AW6),$AG$6:$AG$25,0),MATCH(COLUMNS($AJ$3:AZ3),$AJ$3:$BM$3,0)),\"\")","v":""},{"$f":"IFERROR(INDEX($AJ$6:$BM$25,MATCH(ROWS($AG$6:AX6),$AG$6:$AG$25,0),MATCH(COLUMNS($AJ$3:BA3),$AJ$3:$BM$3,0)),\"\")","v":""},{"$f":"IFERROR(INDEX($AJ$6:$BM$25,MATCH(ROWS($AG$6:AY6),$AG$6:$AG$25,0),MATCH(COLUMNS($AJ$3:BB3),$AJ$3:$BM$3,0)),\"\")","v":""},{"$f":"IFERROR(INDEX($AJ$6:$BM$25,MATCH(ROWS($AG$6:AZ6),$AG$6:$AG$25,0),MATCH(COLUMNS($AJ$3:BC3),$AJ$3:$BM$3,0)),\"\")","v":""},{"$f":"IFERROR(INDEX($AJ$6:$BM$25,MATCH(ROWS($AG$6:BA6),$AG$6:$AG$25,0),MATCH(COLUMNS($AJ$3:BD3),$AJ$3:$BM$3,0)),\"\")","v":""},{"$f":"IFERROR(INDEX($AJ$6:$BM$25,MATCH(ROWS($AG$6:BB6),$AG$6:$AG$25,0),MATCH(COLUMNS($AJ$3:BE3),$AJ$3:$BM$3,0)),\"\")","v":""},{"$f":"IFERROR(INDEX($AJ$6:$BM$25,MATCH(ROWS($AG$6:BC6),$AG$6:$AG$25,0),MATCH(COLUMNS($AJ$3:BF3),$AJ$3:$BM$3,0)),\"\")","v":""},{"$f":"IFERROR(INDEX($AJ$6:$BM$25,MATCH(ROWS($AG$6:BD6),$AG$6:$AG$25,0),MATCH(COLUMNS($AJ$3:BG3),$AJ$3:$BM$3,0)),\"\")","v":""},{"$f":"IFERROR(INDEX($AJ$6:$BM$25,MATCH(ROWS($AG$6:BE6),$AG$6:$AG$25,0),MATCH(COLUMNS($AJ$3:BH3),$AJ$3:$BM$3,0)),\"\")","v":""},{"$f":"IFERROR(INDEX($AJ$6:$BM$25,MATCH(ROWS($AG$6:BF6),$AG$6:$AG$25,0),MATCH(COLUMNS($AJ$3:BI3),$AJ$3:$BM$3,0)),\"\")","v":""},{"$f":"IFERROR(INDEX($AJ$6:$BM$25,MATCH(ROWS($AG$6:BG6),$AG$6:$AG$25,0),MATCH(COLUMNS($AJ$3:BJ3),$AJ$3:$BM$3,0)),\"\")","v":""},{"$f":"IFERROR(INDEX($AJ$6:$BM$25,MATCH(ROWS($AG$6:BH6),$AG$6:$AG$25,0),MATCH(COLUMNS($AJ$3:BK3),$AJ$3:$BM$3,0)),\"\")","v":""},{"$f":"IFERROR(INDEX($AJ$6:$BM$25,MATCH(ROWS($AG$6:BI6),$AG$6:$AG$25,0),MATCH(COLUMNS($AJ$3:BL3),$AJ$3:$BM$3,0)),\"\")","v":""},{"$f":"IFERROR(INDEX($AJ$6:$BM$25,MATCH(ROWS($AG$6:BJ6),$AG$6:$AG$25,0),MATCH(COLUMNS($AJ$3:BM3),$AJ$3:$BM$3,0)),\"\")","v":""},null,{"$f":"IF(AH6=0,\"\",SUM($AH$6:AH6))","v":""},{"$f":"IF(BM6>0,1,0)","v":0},"کلبسیلا",{"$f":"SUMIFS(data!BN$3:BN$1499,data!$D$3:$D$1499,$AI6,data!$G$3:$G$1499,\"مثبت\",data!$CS$3:$CS$1499,1)","v":0},{"$f":"SUMIFS(data!BO$3:BO$1499,data!$D$3:$D$1499,$AI6,data!$G$3:$G$1499,\"مثبت\",data!$CS$3:$CS$1499,1)","v":0},{"$f":"SUMIFS(data!BP$3:BP$1499,data!$D$3:$D$1499,$AI6,data!$G$3:$G$1499,\"مثبت\",data!$CS$3:$CS$1499,1)","v":0},{"$f":"SUMIFS(data!BQ$3:BQ$1499,data!$D$3:$D$1499,$AI6,data!$G$3:$G$1499,\"مثبت\",data!$CS$3:$CS$1499,1)","v":0},{"$f":"SUMIFS(data!BR$3:BR$1499,data!$D$3:$D$1499,$AI6,data!$G$3:$G$1499,\"مثبت\",data!$CS$3:$CS$1499,1)","v":0},{"$f":"SUMIFS(data!BS$3:BS$1499,data!$D$3:$D$1499,$AI6,data!$G$3:$G$1499,\"مثبت\",data!$CS$3:$CS$1499,1)","v":0},{"$f":"SUMIFS(data!BT$3:BT$1499,data!$D$3:$D$1499,$AI6,data!$G$3:$G$1499,\"مثبت\",data!$CS$3:$CS$1499,1)","v":0},{"$f":"SUMIFS(data!BU$3:BU$1499,data!$D$3:$D$1499,$AI6,data!$G$3:$G$1499,\"مثبت\",data!$CS$3:$CS$1499,1)","v":0},{"$f":"SUMIFS(data!BV$3:BV$1499,data!$D$3:$D$1499,$AI6,data!$G$3:$G$1499,\"مثبت\",data!$CS$3:$CS$1499,1)","v":0},{"$f":"SUMIFS(data!BW$3:BW$1499,data!$D$3:$D$1499,$AI6,data!$G$3:$G$1499,\"مثبت\",data!$CS$3:$CS$1499,1)","v":0},{"$f":"SUMIFS(data!BX$3:BX$1499,data!$D$3:$D$1499,$AI6,data!$G$3:$G$1499,\"مثبت\",data!$CS$3:$CS$1499,1)","v":0},{"$f":"SUMIFS(data!BY$3:BY$1499,data!$D$3:$D$1499,$AI6,data!$G$3:$G$1499,\"مثبت\",data!$CS$3:$CS$1499,1)","v":0},{"$f":"SUMIFS(data!BZ$3:BZ$1499,data!$D$3:$D$1499,$AI6,data!$G$3:$G$1499,\"مثبت\",data!$CS$3:$CS$1499,1)","v":0},{"$f":"SUMIFS(data!CA$3:CA$1499,data!$D$3:$D$1499,$AI6,data!$G$3:$G$1499,\"مثبت\",data!$CS$3:$CS$1499,1)","v":0},{"$f":"SUMIFS(data!CB$3:CB$1499,data!$D$3:$D$1499,$AI6,data!$G$3:$G$1499,\"مثبت\",data!$CS$3:$CS$1499,1)","v":0},{"$f":"SUMIFS(data!CC$3:CC$1499,data!$D$3:$D$1499,$AI6,data!$G$3:$G$1499,\"مثبت\",data!$CS$3:$CS$1499,1)","v":0},{"$f":"SUMIFS(data!CD$3:CD$1499,data!$D$3:$D$1499,$AI6,data!$G$3:$G$1499,\"مثبت\",data!$CS$3:$CS$1499,1)","v":0},{"$f":"SUMIFS(data!CE$3:CE$1499,data!$D$3:$D$1499,$AI6,data!$G$3:$G$1499,\"مثبت\",data!$CS$3:$CS$1499,1)","v":0},{"$f":"SUMIFS(data!CF$3:CF$1499,data!$D$3:$D$1499,$AI6,data!$G$3:$G$1499,\"مثبت\",data!$CS$3:$CS$1499,1)","v":0},{"$f":"SUMIFS(data!CG$3:CG$1499,data!$D$3:$D$1499,$AI6,data!$G$3:$G$1499,\"مثبت\",data!$CS$3:$CS$1499,1)","v":0},{"$f":"SUMIFS(data!CH$3:CH$1499,data!$D$3:$D$1499,$AI6,data!$G$3:$G$1499,\"مثبت\",data!$CS$3:$CS$1499,1)","v":0},{"$f":"SUMIFS(data!CI$3:CI$1499,data!$D$3:$D$1499,$AI6,data!$G$3:$G$1499,\"مثبت\",data!$CS$3:$CS$1499,1)","v":0},{"$f":"SUMIFS(data!CJ$3:CJ$1499,data!$D$3:$D$1499,$AI6,data!$G$3:$G$1499,\"مثبت\",data!$CS$3:$CS$1499,1)","v":0},{"$f":"SUMIFS(data!CK$3:CK$1499,data!$D$3:$D$1499,$AI6,data!$G$3:$G$1499,\"مثبت\",data!$CS$3:$CS$1499,1)","v":0},{"$f":"SUMIFS(data!CL$3:CL$1499,data!$D$3:$D$1499,$AI6,data!$G$3:$G$1499,\"مثبت\",data!$CS$3:$CS$1499,1)","v":0},{"$f":"SUMIFS(data!CM$3:CM$1499,data!$D$3:$D$1499,$AI6,data!$G$3:$G$1499,\"مثبت\",data!$CS$3:$CS$1499,1)","v":0},{"$f":"SUMIFS(data!CN$3:CN$1499,data!$D$3:$D$1499,$AI6,data!$G$3:$G$1499,\"مثبت\",data!$CS$3:$CS$1499,1)","v":0},{"$f":"SUMIFS(data!CO$3:CO$1499,data!$D$3:$D$1499,$AI6,data!$G$3:$G$1499,\"مثبت\",data!$CS$3:$CS$1499,1)","v":0},{"$f":"SUMIFS(data!CP$3:CP$1499,data!$D$3:$D$1499,$AI6,data!$G$3:$G$1499,\"مثبت\",data!$CS$3:$CS$1499,1)","v":0},{"$f":"SUM(AJ6:BL6)","v":0}]
[{"$f":"IFERROR(INDEX($AI$6:$AI$25,MATCH(ROWS($AG$6:AG7),$AG$6:$AG$115,0),1),\"\")","v":""},{"$f":"IFERROR(INDEX($AJ$6:$BM$25,MATCH(ROWS($AG$6:AG7),$AG$6:$AG$25,0),MATCH(COLUMNS($AJ$3:AJ4),$AJ$3:$BM$3,0)),\"\")","v":""},{"$f":"IFERROR(INDEX($AJ$6:$BM$25,MATCH(ROWS($AG$6:AH7),$AG$6:$AG$25,0),MATCH(COLUMNS($AJ$3:AK4),$AJ$3:$BM$3,0)),\"\")","v":""},{"$f":"IFERROR(INDEX($AJ$6:$BM$25,MATCH(ROWS($AG$6:AI7),$AG$6:$AG$25,0),MATCH(COLUMNS($AJ$3:AL4),$AJ$3:$BM$3,0)),\"\")","v":""},{"$f":"IFERROR(INDEX($AJ$6:$BM$25,MATCH(ROWS($AG$6:AJ7),$AG$6:$AG$25,0),MATCH(COLUMNS($AJ$3:AM4),$AJ$3:$BM$3,0)),\"\")","v":""},{"$f":"IFERROR(INDEX($AJ$6:$BM$25,MATCH(ROWS($AG$6:AK7),$AG$6:$AG$25,0),MATCH(COLUMNS($AJ$3:AN4),$AJ$3:$BM$3,0)),\"\")","v":""},{"$f":"IFERROR(INDEX($AJ$6:$BM$25,MATCH(ROWS($AG$6:AL7),$AG$6:$AG$25,0),MATCH(COLUMNS($AJ$3:AO4),$AJ$3:$BM$3,0)),\"\")","v":""},{"$f":"IFERROR(INDEX($AJ$6:$BM$25,MATCH(ROWS($AG$6:AM7),$AG$6:$AG$25,0),MATCH(COLUMNS($AJ$3:AP4),$AJ$3:$BM$3,0)),\"\")","v":""},{"$f":"IFERROR(INDEX($AJ$6:$BM$25,MATCH(ROWS($AG$6:AN7),$AG$6:$AG$25,0),MATCH(COLUMNS($AJ$3:AQ4),$AJ$3:$BM$3,0)),\"\")","v":""},{"$f":"IFERROR(INDEX($AJ$6:$BM$25,MATCH(ROWS($AG$6:AO7),$AG$6:$AG$25,0),MATCH(COLUMNS($AJ$3:AR4),$AJ$3:$BM$3,0)),\"\")","v":""},{"$f":"IFERROR(INDEX($AJ$6:$BM$25,MATCH(ROWS($AG$6:AP7),$AG$6:$AG$25,0),MATCH(COLUMNS($AJ$3:AS4),$AJ$3:$BM$3,0)),\"\")","v":""},{"$f":"IFERROR(INDEX($AJ$6:$BM$25,MATCH(ROWS($AG$6:AQ7),$AG$6:$AG$25,0),MATCH(COLUMNS($AJ$3:AT4),$AJ$3:$BM$3,0)),\"\")","v":""},{"$f":"IFERROR(INDEX($AJ$6:$BM$25,MATCH(ROWS($AG$6:AR7),$AG$6:$AG$25,0),MATCH(COLUMNS($AJ$3:AU4),$AJ$3:$BM$3,0)),\"\")","v":""},{"$f":"IFERROR(INDEX($AJ$6:$BM$25,MATCH(ROWS($AG$6:AS7),$AG$6:$AG$25,0),MATCH(COLUMNS($AJ$3:AV4),$AJ$3:$BM$3,0)),\"\")","v":""},{"$f":"IFERROR(INDEX($AJ$6:$BM$25,MATCH(ROWS($AG$6:AT7),$AG$6:$AG$25,0),MATCH(COLUMNS($AJ$3:AW4),$AJ$3:$BM$3,0)),\"\")","v":""},{"$f":"IFERROR(INDEX($AJ$6:$BM$25,MATCH(ROWS($AG$6:AU7),$AG$6:$AG$25,0),MATCH(COLUMNS($AJ$3:AX4),$AJ$3:$BM$3,0)),\"\")","v":""},{"$f":"IFERROR(INDEX($AJ$6:$BM$25,MATCH(ROWS($AG$6:AV7),$AG$6:$AG$25,0),MATCH(COLUMNS($AJ$3:AY4),$AJ$3:$BM$3,0)),\"\")","v":""},{"$f":"IFERROR(INDEX($AJ$6:$BM$25,MATCH(ROWS($AG$6:AW7),$AG$6:$AG$25,0),MATCH(COLUMNS($AJ$3:AZ4),$AJ$3:$BM$3,0)),\"\")","v":""},{"$f":"IFERROR(INDEX($AJ$6:$BM$25,MATCH(ROWS($AG$6:AX7),$AG$6:$AG$25,0),MATCH(COLUMNS($AJ$3:BA4),$AJ$3:$BM$3,0)),\"\")","v":""},{"$f":"IFERROR(INDEX($AJ$6:$BM$25,MATCH(ROWS($AG$6:AY7),$AG$6:$AG$25,0),MATCH(COLUMNS($AJ$3:BB4),$AJ$3:$BM$3,0)),\"\")","v":""},{"$f":"IFERROR(INDEX($AJ$6:$BM$25,MATCH(ROWS($AG$6:AZ7),$AG$6:$AG$25,0),MATCH(COLUMNS($AJ$3:BC4),$AJ$3:$BM$3,0)),\"\")","v":""},{"$f":"IFERROR(INDEX($AJ$6:$BM$25,MATCH(ROWS($AG$6:BA7),$AG$6:$AG$25,0),MATCH(COLUMNS($AJ$3:BD4),$AJ$3:$BM$3,0)),\"\")","v":""},{"$f":"IFERROR(INDEX($AJ$6:$BM$25,MATCH(ROWS($AG$6:BB7),$AG$6:$AG$25,0),MATCH(COLUMNS($AJ$3:BE4),$AJ$3:$BM$3,0)),\"\")","v":""},{"$f":"IFERROR(INDEX($AJ$6:$BM$25,MATCH(ROWS($AG$6:BC7),$AG$6:$AG$25,0),MATCH(COLUMNS($AJ$3:BF4),$AJ$3:$BM$3,0)),\"\")","v":""},{"$f":"IFERROR(INDEX($AJ$6:$BM$25,MATCH(ROWS($AG$6:BD7),$AG$6:$AG$25,0),MATCH(COLUMNS($AJ$3:BG4),$AJ$3:$BM$3,0)),\"\")","v":""},{"$f":"IFERROR(INDEX($AJ$6:$BM$25,MATCH(ROWS($AG$6:BE7),$AG$6:$AG$25,0),MATCH(COLUMNS($AJ$3:BH4),$AJ$3:$BM$3,0)),\"\")","v":""},{"$f":"IFERROR(INDEX($AJ$6:$BM$25,MATCH(ROWS($AG$6:BF7),$AG$6:$AG$25,0),MATCH(COLUMNS($AJ$3:BI4),$AJ$3:$BM$3,0)),\"\")","v":""},{"$f":"IFERROR(INDEX($AJ$6:$BM$25,MATCH(ROWS($AG$6:BG7),$AG$6:$AG$25,0),MATCH(COLUMNS($AJ$3:BJ4),$AJ$3:$BM$3,0)),\"\")","v":""},{"$f":"IFERROR(INDEX($AJ$6:$BM$25,MATCH(ROWS($AG$6:BH7),$AG$6:$AG$25,0),MATCH(COLUMNS($AJ$3:BK4),$AJ$3:$BM$3,0)),\"\")","v":""},{"$f":"IFERROR(INDEX($AJ$6:$BM$25,MATCH(ROWS($AG$6:BI7),$AG$6:$AG$25,0),MATCH(COLUMNS($AJ$3:BL4),$AJ$3:$BM$3,0)),\"\")","v":""},{"$f":"IFERROR(INDEX($AJ$6:$BM$25,MATCH(ROWS($AG$6:BJ7),$AG$6:$AG$25,0),MATCH(COLUMNS($AJ$3:BM4),$AJ$3:$BM$3,0)),\"\")","v":""},null,{"$f":"IF(AH7=0,\"\",SUM($AH$6:AH7))","v":""},{"$f":"IF(BM7>0,1,0)","v":0},"استاف اورئوس",{"$f":"SUMIFS(data!BN$3:BN$1499,data!$D$3:$D$1499,$AI7,data!$G$3:$G$1499,\"مثبت\",data!$CS$3:$CS$1499,1)","v":0},{"$f":"SUMIFS(data!BO$3:BO$1499,data!$D$3:$D$1499,$AI7,data!$G$3:$G$1499,\"مثبت\",data!$CS$3:$CS$1499,1)","v":0},{"$f":"SUMIFS(data!BP$3:BP$1499,data!$D$3:$D$1499,$AI7,data!$G$3:$G$1499,\"مثبت\",data!$CS$3:$CS$1499,1)","v":0},{"$f":"SUMIFS(data!BQ$3:BQ$1499,data!$D$3:$D$1499,$AI7,data!$G$3:$G$1499,\"مثبت\",data!$CS$3:$CS$1499,1)","v":0},{"$f":"SUMIFS(data!BR$3:BR$1499,data!$D$3:$D$1499,$AI7,data!$G$3:$G$1499,\"مثبت\",data!$CS$3:$CS$1499,1)","v":0},{"$f":"SUMIFS(data!BS$3:BS$1499,data!$D$3:$D$1499,$AI7,data!$G$3:$G$1499,\"مثبت\",data!$CS$3:$CS$1499,1)","v":0},{"$f":"SUMIFS(data!BT$3:BT$1499,data!$D$3:$D$1499,$AI7,data!$G$3:$G$1499,\"مثبت\",data!$CS$3:$CS$1499,1)","v":0},{"$f":"SUMIFS(data!BU$3:BU$1499,data!$D$3:$D$1499,$AI7,data!$G$3:$G$1499,\"مثبت\",data!$CS$3:$CS$1499,1)","v":0},{"$f":"SUMIFS(data!BV$3:BV$1499,data!$D$3:$D$1499,$AI7,data!$G$3:$G$1499,\"مثبت\",data!$CS$3:$CS$1499,1)","v":0},{"$f":"SUMIFS(data!BW$3:BW$1499,data!$D$3:$D$1499,$AI7,data!$G$3:$G$1499,\"مثبت\",data!$CS$3:$CS$1499,1)","v":0},{"$f":"SUMIFS(data!BX$3:BX$1499,data!$D$3:$D$1499,$AI7,data!$G$3:$G$1499,\"مثبت\",data!$CS$3:$CS$1499,1)","v":0},{"$f":"SUMIFS(data!BY$3:BY$1499,data!$D$3:$D$1499,$AI7,data!$G$3:$G$1499,\"مثبت\",data!$CS$3:$CS$1499,1)","v":0},{"$f":"SUMIFS(data!BZ$3:BZ$1499,data!$D$3:$D$1499,$AI7,data!$G$3:$G$1499,\"مثبت\",data!$CS$3:$CS$1499,1)","v":0},{"$f":"SUMIFS(data!CA$3:CA$1499,data!$D$3:$D$1499,$AI7,data!$G$3:$G$1499,\"مثبت\",data!$CS$3:$CS$1499,1)","v":0},{"$f":"SUMIFS(data!CB$3:CB$1499,data!$D$3:$D$1499,$AI7,data!$G$3:$G$1499,\"مثبت\",data!$CS$3:$CS$1499,1)","v":0},{"$f":"SUMIFS(data!CC$3:CC$1499,data!$D$3:$D$1499,$AI7,data!$G$3:$G$1499,\"مثبت\",data!$CS$3:$CS$1499,1)","v":0},{"$f":"SUMIFS(data!CD$3:CD$1499,data!$D$3:$D$1499,$AI7,data!$G$3:$G$1499,\"مثبت\",data!$CS$3:$CS$1499,1)","v":0},{"$f":"SUMIFS(data!CE$3:CE$1499,data!$D$3:$D$1499,$AI7,data!$G$3:$G$1499,\"مثبت\",data!$CS$3:$CS$1499,1)","v":0},{"$f":"SUMIFS(data!CF$3:CF$1499,data!$D$3:$D$1499,$AI7,data!$G$3:$G$1499,\"مثبت\",data!$CS$3:$CS$1499,1)","v":0},{"$f":"SUMIFS(data!CG$3:CG$1499,data!$D$3:$D$1499,$AI7,data!$G$3:$G$1499,\"مثبت\",data!$CS$3:$CS$1499,1)","v":0},{"$f":"SUMIFS(data!CH$3:CH$1499,data!$D$3:$D$1499,$AI7,data!$G$3:$G$1499,\"مثبت\",data!$CS$3:$CS$1499,1)","v":0},{"$f":"SUMIFS(data!CI$3:CI$1499,data!$D$3:$D$1499,$AI7,data!$G$3:$G$1499,\"مثبت\",data!$CS$3:$CS$1499,1)","v":0},{"$f":"SUMIFS(data!CJ$3:CJ$1499,data!$D$3:$D$1499,$AI7,data!$G$3:$G$1499,\"مثبت\",data!$CS$3:$CS$1499,1)","v":0},{"$f":"SUMIFS(data!CK$3:CK$1499,data!$D$3:$D$1499,$AI7,data!$G$3:$G$1499,\"مثبت\",data!$CS$3:$CS$1499,1)","v":0},{"$f":"SUMIFS(data!CL$3:CL$1499,data!$D$3:$D$1499,$AI7,data!$G$3:$G$1499,\"مثبت\",data!$CS$3:$CS$1499,1)","v":0},{"$f":"SUMIFS(data!CM$3:CM$1499,data!$D$3:$D$1499,$AI7,data!$G$3:$G$1499,\"مثبت\",data!$CS$3:$CS$1499,1)","v":0},{"$f":"SUMIFS(data!CN$3:CN$1499,data!$D$3:$D$1499,$AI7,data!$G$3:$G$1499,\"مثبت\",data!$CS$3:$CS$1499,1)","v":0},{"$f":"SUMIFS(data!CO$3:CO$1499,data!$D$3:$D$1499,$AI7,data!$G$3:$G$1499,\"مثبت\",data!$CS$3:$CS$1499,1)","v":0},{"$f":"SUMIFS(data!CP$3:CP$1499,data!$D$3:$D$1499,$AI7,data!$G$3:$G$1499,\"مثبت\",data!$CS$3:$CS$1499,1)","v":0},0]
[{"$f":"IFERROR(INDEX($AI$6:$AI$25,MATCH(ROWS($AG$6:AG8),$AG$6:$AG$115,0),1),\"\")","v":""},{"$f":"IFERROR(INDEX($AJ$6:$BM$25,MATCH(ROWS($AG$6:AG8),$AG$6:$AG$25,0),MATCH(COLUMNS($AJ$3:AJ5),$AJ$3:$BM$3,0)),\"\")","v":""},{"$f":"IFERROR(INDEX($AJ$6:$BM$25,MATCH(ROWS($AG$6:AH8),$AG$6:$AG$25,0),MATCH(COLUMNS($AJ$3:AK5),$AJ$3:$BM$3,0)),\"\")","v":""},{"$f":"IFERROR(INDEX($AJ$6:$BM$25,MATCH(ROWS($AG$6:AI8),$AG$6:$AG$25,0),MATCH(COLUMNS($AJ$3:AL5),$AJ$3:$BM$3,0)),\"\")","v":""},{"$f":"IFERROR(INDEX($AJ$6:$BM$25,MATCH(ROWS($AG$6:AJ8),$AG$6:$AG$25,0),MATCH(COLUMNS($AJ$3:AM5),$AJ$3:$BM$3,0)),\"\")","v":""},{"$f":"IFERROR(INDEX($AJ$6:$BM$25,MATCH(ROWS($AG$6:AK8),$AG$6:$AG$25,0),MATCH(COLUMNS($AJ$3:AN5),$AJ$3:$BM$3,0)),\"\")","v":""},{"$f":"IFERROR(INDEX($AJ$6:$BM$25,MATCH(ROWS($AG$6:AL8),$AG$6:$AG$25,0),MATCH(COLUMNS($AJ$3:AO5),$AJ$3:$BM$3,0)),\"\")","v":""},{"$f":"IFERROR(INDEX($AJ$6:$BM$25,MATCH(ROWS($AG$6:AM8),$AG$6:$AG$25,0),MATCH(COLUMNS($AJ$3:AP5),$AJ$3:$BM$3,0)),\"\")","v":""},{"$f":"IFERROR(INDEX($AJ$6:$BM$25,MATCH(ROWS($AG$6:AN8),$AG$6:$AG$25,0),MATCH(COLUMNS($AJ$3:AQ5),$AJ$3:$BM$3,0)),\"\")","v":""},{"$f":"IFERROR(INDEX($AJ$6:$BM$25,MATCH(ROWS($AG$6:AO8),$AG$6:$AG$25,0),MATCH(COLUMNS($AJ$3:AR5),$AJ$3:$BM$3,0)),\"\")","v":""},{"$f":"IFERROR(INDEX($AJ$6:$BM$25,MATCH(ROWS($AG$6:AP8),$AG$6:$AG$25,0),MATCH(COLUMNS($AJ$3:AS5),$AJ$3:$BM$3,0)),\"\")","v":""},{"$f":"IFERROR(INDEX($AJ$6:$BM$25,MATCH(ROWS($AG$6:AQ8),$AG$6:$AG$25,0),MATCH(COLUMNS($AJ$3:AT5),$AJ$3:$BM$3,0)),\"\")","v":""},{"$f":"IFERROR(INDEX($AJ$6:$BM$25,MATCH(ROWS($AG$6:AR8),$AG$6:$AG$25,0),MATCH(COLUMNS($AJ$3:AU5),$AJ$3:$BM$3,0)),\"\")","v":""},{"$f":"IFERROR(INDEX($AJ$6:$BM$25,MATCH(ROWS($AG$6:AS8),$AG$6:$AG$25,0),MATCH(COLUMNS($AJ$3:AV5),$AJ$3:$BM$3,0)),\"\")","v":""},{"$f":"IFERROR(INDEX($AJ$6:$BM$25,MATCH(ROWS($AG$6:AT8),$AG$6:$AG$25,0),MATCH(COLUMNS($AJ$3:AW5),$AJ$3:$BM$3,0)),\"\")","v":""},{"$f":"IFERROR(INDEX($AJ$6:$BM$25,MATCH(ROWS($AG$6:AU8),$AG$6:$AG$25,0),MATCH(COLUMNS($AJ$3:AX5),$AJ$3:$BM$3,0)),\"\")","v":""},{"$f":"IFERROR(INDEX($AJ$6:$BM$25,MATCH(ROWS($AG$6:AV8),$AG$6:$AG$25,0),MATCH(COLUMNS($AJ$3:AY5),$AJ$3:$BM$3,0)),\"\")","v":""},{"$f":"IFERROR(INDEX($AJ$6:$BM$25,MATCH(ROWS($AG$6:AW8),$AG$6:$AG$25,0),MATCH(COLUMNS($AJ$3:AZ5),$AJ$3:$BM$3,0)),\"\")","v":""},{"$f":"IFERROR(INDEX($AJ$6:$BM$25,MATCH(ROWS($AG$6:AX8),$AG$6:$AG$25,0),MATCH(COLUMNS($AJ$3:BA5),$AJ$3:$BM$3,0)),\"\")","v":""},{"$f":"IFERROR(INDEX($AJ$6:$BM$25,MATCH(ROWS($AG$6:AY8),$AG$6:$AG$25,0),MATCH(COLUMNS($AJ$3:BB5),$AJ$3:$BM$3,0)),\"\")","v":""},{"$f":"IFERROR(INDEX($AJ$6:$BM$25,MATCH(ROWS($AG$6:AZ8),$AG$6:$AG$25,0),MATCH(COLUMNS($AJ$3:BC5),$AJ$3:$BM$3,0)),\"\")","v":""},{"$f":"IFERROR(INDEX($AJ$6:$BM$25,MATCH(ROWS($AG$6:BA8),$AG$6:$AG$25,0),MATCH(COLUMNS($AJ$3:BD5),$AJ$3:$BM$3,0)),\"\")","v":""},{"$f":"IFERROR(INDEX($AJ$6:$BM$25,MATCH(ROWS($AG$6:BB8),$AG$6:$AG$25,0),MATCH(COLUMNS($AJ$3:BE5),$AJ$3:$BM$3,0)),\"\")","v":""},{"$f":"IFERROR(INDEX($AJ$6:$BM$25,MATCH(ROWS($AG$6:BC8),$AG$6:$AG$25,0),MATCH(COLUMNS($AJ$3:BF5),$AJ$3:$BM$3,0)),\"\")","v":""},{"$f":"IFERROR(INDEX($AJ$6:$BM$25,MATCH(ROWS($AG$6:BD8),$AG$6:$AG$25,0),MATCH(COLUMNS($AJ$3:BG5),$AJ$3:$BM$3,0)),\"\")","v":""},{"$f":"IFERROR(INDEX($AJ$6:$BM$25,MATCH(ROWS($AG$6:BE8),$AG$6:$AG$25,0),MATCH(COLUMNS($AJ$3:BH5),$AJ$3:$BM$3,0)),\"\")","v":""},{"$f":"IFERROR(INDEX($AJ$6:$BM$25,MATCH(ROWS($AG$6:BF8),$AG$6:$AG$25,0),MATCH(COLUMNS($AJ$3:BI5),$AJ$3:$BM$3,0)),\"\")","v":""},{"$f":"IFERROR(INDEX($AJ$6:$BM$25,MATCH(ROWS($AG$6:BG8),$AG$6:$AG$25,0),MATCH(COLUMNS($AJ$3:BJ5),$AJ$3:$BM$3,0)),\"\")","v":""},{"$f":"IFERROR(INDEX($AJ$6:$BM$25,MATCH(ROWS($AG$6:BH8),$AG$6:$AG$25,0),MATCH(COLUMNS($AJ$3:BK5),$AJ$3:$BM$3,0)),\"\")","v":""},{"$f":"IFERROR(INDEX($AJ$6:$BM$25,MATCH(ROWS($AG$6:BI8),$AG$6:$AG$25,0),MATCH(COLUMNS($AJ$3:BL5),$AJ$3:$BM$3,0)),\"\")","v":""},{"$f":"IFERROR(INDEX($AJ$6:$BM$25,MATCH(ROWS($AG$6:BJ8),$AG$6:$AG$25,0),MATCH(COLUMNS($AJ$3:BM5),$AJ$3:$BM$3,0)),\"\")","v":""},null,{"$f":"IF(AH8=0,\"\",SUM($AH$6:AH8))","v":""},0,"اشرشیاکلای",{"$f":"SUMIFS(data!BN$3:BN$1499,data!$D$3:$D$1499,$AI8,data!$G$3:$G$1499,\"مثبت\",data!$CS$3:$CS$1499,1)","v":0},{"$f":"SUMIFS(data!BO$3:BO$1499,data!$D$3:$D$1499,$AI8,data!$G$3:$G$1499,\"مثبت\",data!$CS$3:$CS$1499,1)","v":0},{"$f":"SUMIFS(data!BP$3:BP$1499,data!$D$3:$D$1499,$AI8,data!$G$3:$G$1499,\"مثبت\",data!$CS$3:$CS$1499,1)","v":0},{"$f":"SUMIFS(data!BQ$3:BQ$1499,data!$D$3:$D$1499,$AI8,data!$G$3:$G$1499,\"مثبت\",data!$CS$3:$CS$1499,1)","v":0},{"$f":"SUMIFS(data!BR$3:BR$1499,data!$D$3:$D$1499,$AI8,data!$G$3:$G$1499,\"مثبت\",data!$CS$3:$CS$1499,1)","v":0},{"$f":"SUMIFS(data!BS$3:BS$1499,data!$D$3:$D$1499,$AI8,data!$G$3:$G$1499,\"مثبت\",data!$CS$3:$CS$1499,1)","v":0},{"$f":"SUMIFS(data!BT$3:BT$1499,data!$D$3:$D$1499,$AI8,data!$G$3:$G$1499,\"مثبت\",data!$CS$3:$CS$1499,1)","v":0},{"$f":"SUMIFS(data!BU$3:BU$1499,data!$D$3:$D$1499,$AI8,data!$G$3:$G$1499,\"مثبت\",data!$CS$3:$CS$1499,1)","v":0},{"$f":"SUMIFS(data!BV$3:BV$1499,data!$D$3:$D$1499,$AI8,data!$G$3:$G$1499,\"مثبت\",data!$CS$3:$CS$1499,1)","v":0},{"$f":"SUMIFS(data!BW$3:BW$1499,data!$D$3:$D$1499,$AI8,data!$G$3:$G$1499,\"مثبت\",data!$CS$3:$CS$1499,1)","v":0},{"$f":"SUMIFS(data!BX$3:BX$1499,data!$D$3:$D$1499,$AI8,data!$G$3:$G$1499,\"مثبت\",data!$CS$3:$CS$1499,1)","v":0},{"$f":"SUMIFS(data!BY$3:BY$1499,data!$D$3:$D$1499,$AI8,data!$G$3:$G$1499,\"مثبت\",data!$CS$3:$CS$1499,1)","v":0},{"$f":"SUMIFS(data!BZ$3:BZ$1499,data!$D$3:$D$1499,$AI8,data!$G$3:$G$1499,\"مثبت\",data!$CS$3:$CS$1499,1)","v":0},{"$f":"SUMIFS(data!CA$3:CA$1499,data!$D$3:$D$1499,$AI8,data!$G$3:$G$1499,\"مثبت\",data!$CS$3:$CS$1499,1)","v":0},{"$f":"SUMIFS(data!CB$3:CB$1499,data!$D$3:$D$1499,$AI8,data!$G$3:$G$1499,\"مثبت\",data!$CS$3:$CS$1499,1)","v":0},{"$f":"SUMIFS(data!CC$3:CC$1499,data!$D$3:$D$1499,$AI8,data!$G$3:$G$1499,\"مثبت\",data!$CS$3:$CS$1499,1)","v":0},{"$f":"SUMIFS(data!CD$3:CD$1499,data!$D$3:$D$1499,$AI8,data!$G$3:$G$1499,\"مثبت\",data!$CS$3:$CS$1499,1)","v":0},{"$f":"SUMIFS(data!CE$3:CE$1499,data!$D$3:$D$1499,$AI8,data!$G$3:$G$1499,\"مثبت\",data!$CS$3:$CS$1499,1)","v":0},{"$f":"SUMIFS(data!CF$3:CF$1499,data!$D$3:$D$1499,$AI8,data!$G$3:$G$1499,\"مثبت\",data!$CS$3:$CS$1499,1)","v":0},{"$f":"SUMIFS(data!CG$3:CG$1499,data!$D$3:$D$1499,$AI8,data!$G$3:$G$1499,\"مثبت\",data!$CS$3:$CS$1499,1)","v":0},{"$f":"SUMIFS(data!CH$3:CH$1499,data!$D$3:$D$1499,$AI8,data!$G$3:$G$1499,\"مثبت\",data!$CS$3:$CS$1499,1)","v":0},{"$f":"SUMIFS(data!CI$3:CI$1499,data!$D$3:$D$1499,$AI8,data!$G$3:$G$1499,\"مثبت\",data!$CS$3:$CS$1499,1)","v":0},{"$f":"SUMIFS(data!CJ$3:CJ$1499,data!$D$3:$D$1499,$AI8,data!$G$3:$G$1499,\"مثبت\",data!$CS$3:$CS$1499,1)","v":0},{"$f":"SUMIFS(data!CK$3:CK$1499,data!$D$3:$D$1499,$AI8,data!$G$3:$G$1499,\"مثبت\",data!$CS$3:$CS$1499,1)","v":0},{"$f":"SUMIFS(data!CL$3:CL$1499,data!$D$3:$D$1499,$AI8,data!$G$3:$G$1499,\"مثبت\",data!$CS$3:$CS$1499,1)","v":0},{"$f":"SUMIFS(data!CM$3:CM$1499,data!$D$3:$D$1499,$AI8,data!$G$3:$G$1499,\"مثبت\",data!$CS$3:$CS$1499,1)","v":0},{"$f":"SUMIFS(data!CN$3:CN$1499,data!$D$3:$D$1499,$AI8,data!$G$3:$G$1499,\"مثبت\",data!$CS$3:$CS$1499,1)","v":0},{"$f":"SUMIFS(data!CO$3:CO$1499,data!$D$3:$D$1499,$AI8,data!$G$3:$G$1499,\"مثبت\",data!$CS$3:$CS$1499,1)","v":0},{"$f":"SUMIFS(data!CP$3:CP$1499,data!$D$3:$D$1499,$AI8,data!$G$3:$G$1499,\"مثبت\",data!$CS$3:$CS$1499,1)","v":0},0]
[{"$f":"IFERROR(INDEX($AI$6:$AI$25,MATCH(ROWS($AG$6:AG9),$AG$6:$AG$115,0),1),\"\")","v":""},{"$f":"IFERROR(INDEX($AJ$6:$BM$25,MATCH(ROWS($AG$6:AG9),$AG$6:$AG$25,0),MATCH(COLUMNS($AJ$3:AJ6),$AJ$3:$BM$3,0)),\"\")","v":""},{"$f":"IFERROR(INDEX($AJ$6:$BM$25,MATCH(ROWS($AG$6:AH9),$AG$6:$AG$25,0),MATCH(COLUMNS($AJ$3:AK6),$AJ$3:$BM$3,0)),\"\")","v":""},{"$f":"IFERROR(INDEX($AJ$6:$BM$25,MATCH(ROWS($AG$6:AI9),$AG$6:$AG$25,0),MATCH(COLUMNS($AJ$3:AL6),$AJ$3:$BM$3,0)),\"\")","v":""},{"$f":"IFERROR(INDEX($AJ$6:$BM$25,MATCH(ROWS($AG$6:AJ9),$AG$6:$AG$25,0),MATCH(COLUMNS($AJ$3:AM6),$AJ$3:$BM$3,0)),\"\")","v":""},{"$f":"IFERROR(INDEX($AJ$6:$BM$25,MATCH(ROWS($AG$6:AK9),$AG$6:$AG$25,0),MATCH(COLUMNS($AJ$3:AN6),$AJ$3:$BM$3,0)),\"\")","v":""},{"$f":"IFERROR(INDEX($AJ$6:$BM$25,MATCH(ROWS($AG$6:AL9),$AG$6:$AG$25,0),MATCH(COLUMNS($AJ$3:AO6),$AJ$3:$BM$3,0)),\"\")","v":""},{"$f":"IFERROR(INDEX($AJ$6:$BM$25,MATCH(ROWS($AG$6:AM9),$AG$6:$AG$25,0),MATCH(COLUMNS($AJ$3:AP6),$AJ$3:$BM$3,0)),\"\")","v":""},{"$f":"IFERROR(INDEX($AJ$6:$BM$25,MATCH(ROWS($AG$6:AN9),$AG$6:$AG$25,0),MATCH(COLUMNS($AJ$3:AQ6),$AJ$3:$BM$3,0)),\"\")","v":""},{"$f":"IFERROR(INDEX($AJ$6:$BM$25,MATCH(ROWS($AG$6:AO9),$AG$6:$AG$25,0),MATCH(COLUMNS($AJ$3:AR6),$AJ$3:$BM$3,0)),\"\")","v":""},{"$f":"IFERROR(INDEX($AJ$6:$BM$25,MATCH(ROWS($AG$6:AP9),$AG$6:$AG$25,0),MATCH(COLUMNS($AJ$3:AS6),$AJ$3:$BM$3,0)),\"\")","v":""},{"$f":"IFERROR(INDEX($AJ$6:$BM$25,MATCH(ROWS($AG$6:AQ9),$AG$6:$AG$25,0),MATCH(COLUMNS($AJ$3:AT6),$AJ$3:$BM$3,0)),\"\")","v":""},{"$f":"IFERROR(INDEX($AJ$6:$BM$25,MATCH(ROWS($AG$6:AR9),$AG$6:$AG$25,0),MATCH(COLUMNS($AJ$3:AU6),$AJ$3:$BM$3,0)),\"\")","v":""},{"$f":"IFERROR(INDEX($AJ$6:$BM$25,MATCH(ROWS($AG$6:AS9),$AG$6:$AG$25,0),MATCH(COLUMNS($AJ$3:AV6),$AJ$3:$BM$3,0)),\"\")","v":""},{"$f":"IFERROR(INDEX($AJ$6:$BM$25,MATCH(ROWS($AG$6:AT9),$AG$6:$AG$25,0),MATCH(COLUMNS($AJ$3:AW6),$AJ$3:$BM$3,0)),\"\")","v":""},{"$f":"IFERROR(INDEX($AJ$6:$BM$25,MATCH(ROWS($AG$6:AU9),$AG$6:$AG$25,0),MATCH(COLUMNS($AJ$3:AX6),$AJ$3:$BM$3,0)),\"\")","v":""},{"$f":"IFERROR(INDEX($AJ$6:$BM$25,MATCH(ROWS($AG$6:AV9),$AG$6:$AG$25,0),MATCH(COLUMNS($AJ$3:AY6),$AJ$3:$BM$3,0)),\"\")","v":""},{"$f":"IFERROR(INDEX($AJ$6:$BM$25,MATCH(ROWS($AG$6:AW9),$AG$6:$AG$25,0),MATCH(COLUMNS($AJ$3:AZ6),$AJ$3:$BM$3,0)),\"\")","v":""},{"$f":"IFERROR(INDEX($AJ$6:$BM$25,MATCH(ROWS($AG$6:AX9),$AG$6:$AG$25,0),MATCH(COLUMNS($AJ$3:BA6),$AJ$3:$BM$3,0)),\"\")","v":""},{"$f":"IFERROR(INDEX($AJ$6:$BM$25,MATCH(ROWS($AG$6:AY9),$AG$6:$AG$25,0),MATCH(COLUMNS($AJ$3:BB6),$AJ$3:$BM$3,0)),\"\")","v":""},{"$f":"IFERROR(INDEX($AJ$6:$BM$25,MATCH(ROWS($AG$6:AZ9),$AG$6:$AG$25,0),MATCH(COLUMNS($AJ$3:BC6),$AJ$3:$BM$3,0)),\"\")","v":""},{"$f":"IFERROR(INDEX($AJ$6:$BM$25,MATCH(ROWS($AG$6:BA9),$AG$6:$AG$25,0),MATCH(COLUMNS($AJ$3:BD6),$AJ$3:$BM$3,0)),\"\")","v":""},{"$f":"IFERROR(INDEX($AJ$6:$BM$25,MATCH(ROWS($AG$6:BB9),$AG$6:$AG$25,0),MATCH(COLUMNS($AJ$3:BE6),$AJ$3:$BM$3,0)),\"\")","v":""},{"$f":"IFERROR(INDEX($AJ$6:$BM$25,MATCH(ROWS($AG$6:BC9),$AG$6:$AG$25,0),MATCH(COLUMNS($AJ$3:BF6),$AJ$3:$BM$3,0)),\"\")","v":""},{"$f":"IFERROR(INDEX($AJ$6:$BM$25,MATCH(ROWS($AG$6:BD9),$AG$6:$AG$25,0),MATCH(COLUMNS($AJ$3:BG6),$AJ$3:$BM$3,0)),\"\")","v":""},{"$f":"IFERROR(INDEX($AJ$6:$BM$25,MATCH(ROWS($AG$6:BE9),$AG$6:$AG$25,0),MATCH(COLUMNS($AJ$3:BH6),$AJ$3:$BM$3,0)),\"\")","v":""},{"$f":"IFERROR(INDEX($AJ$6:$BM$25,MATCH(ROWS($AG$6:BF9),$AG$6:$AG$25,0),MATCH(COLUMNS($AJ$3:BI6),$AJ$3:$BM$3,0)),\"\")","v":""},{"$f":"IFERROR(INDEX($AJ$6:$BM$25,MATCH(ROWS($AG$6:BG9),$AG$6:$AG$25,0),MATCH(COLUMNS($AJ$3:BJ6),$AJ$3:$BM$3,0)),\"\")","v":""},{"$f":"IFERROR(INDEX($AJ$6:$BM$25,MATCH(ROWS($AG$6:BH9),$AG$6:$AG$25,0),MATCH(COLUMNS($AJ$3:BK6),$AJ$3:$BM$3,0)),\"\")","v":""},{"$f":"IFERROR(INDEX($AJ$6:$BM$25,MATCH(ROWS($AG$6:BI9),$AG$6:$AG$25,0),MATCH(COLUMNS($AJ$3:BL6),$AJ$3:$BM$3,0)),\"\")","v":""},{"$f":"IFERROR(INDEX($AJ$6:$BM$25,MATCH(ROWS($AG$6:BJ9),$AG$6:$AG$25,0),MATCH(COLUMNS($AJ$3:BM6),$AJ$3:$BM$3,0)),\"\")","v":""},null,{"$f":"IF(AH9=0,\"\",SUM($AH$6:AH9))","v":""},0,"استاف کوآگولاز منفی",{"$f":"SUMIFS(data!BN$3:BN$1499,data!$D$3:$D$1499,$AI9,data!$G$3:$G$1499,\"مثبت\",data!$CS$3:$CS$1499,1)","v":0},{"$f":"SUMIFS(data!BO$3:BO$1499,data!$D$3:$D$1499,$AI9,data!$G$3:$G$1499,\"مثبت\",data!$CS$3:$CS$1499,1)","v":0},{"$f":"SUMIFS(data!BP$3:BP$1499,data!$D$3:$D$1499,$AI9,data!$G$3:$G$1499,\"مثبت\",data!$CS$3:$CS$1499,1)","v":0},{"$f":"SUMIFS(data!BQ$3:BQ$1499,data!$D$3:$D$1499,$AI9,data!$G$3:$G$1499,\"مثبت\",data!$CS$3:$CS$1499,1)","v":0},{"$f":"SUMIFS(data!BR$3:BR$1499,data!$D$3:$D$1499,$AI9,data!$G$3:$G$1499,\"مثبت\",data!$CS$3:$CS$1499,1)","v":0},{"$f":"SUMIFS(data!BS$3:BS$1499,data!$D$3:$D$1499,$AI9,data!$G$3:$G$1499,\"مثبت\",data!$CS$3:$CS$1499,1)","v":0},{"$f":"SUMIFS(data!BT$3:BT$1499,data!$D$3:$D$1499,$AI9,data!$G$3:$G$1499,\"مثبت\",data!$CS$3:$CS$1499,1)","v":0},{"$f":"SUMIFS(data!BU$3:BU$1499,data!$D$3:$D$1499,$AI9,data!$G$3:$G$1499,\"مثبت\",data!$CS$3:$CS$1499,1)","v":0},{"$f":"SUMIFS(data!BV$3:BV$1499,data!$D$3:$D$1499,$AI9,data!$G$3:$G$1499,\"مثبت\",data!$CS$3:$CS$1499,1)","v":0},{"$f":"SUMIFS(data!BW$3:BW$1499,data!$D$3:$D$1499,$AI9,data!$G$3:$G$1499,\"مثبت\",data!$CS$3:$CS$1499,1)","v":0},{"$f":"SUMIFS(data!BX$3:BX$1499,data!$D$3:$D$1499,$AI9,data!$G$3:$G$1499,\"مثبت\",data!$CS$3:$CS$1499,1)","v":0},{"$f":"SUMIFS(data!BY$3:BY$1499,data!$D$3:$D$1499,$AI9,data!$G$3:$G$1499,\"مثبت\",data!$CS$3:$CS$1499,1)","v":0},{"$f":"SUMIFS(data!BZ$3:BZ$1499,data!$D$3:$D$1499,$AI9,data!$G$3:$G$1499,\"مثبت\",data!$CS$3:$CS$1499,1)","v":0},{"$f":"SUMIFS(data!CA$3:CA$1499,data!$D$3:$D$1499,$AI9,data!$G$3:$G$1499,\"مثبت\",data!$CS$3:$CS$1499,1)","v":0},{"$f":"SUMIFS(data!CB$3:CB$1499,data!$D$3:$D$1499,$AI9,data!$G$3:$G$1499,\"مثبت\",data!$CS$3:$CS$1499,1)","v":0},{"$f":"SUMIFS(data!CC$3:CC$1499,data!$D$3:$D$1499,$AI9,data!$G$3:$G$1499,\"مثبت\",data!$CS$3:$CS$1499,1)","v":0},{"$f":"SUMIFS(data!CD$3:CD$1499,data!$D$3:$D$1499,$AI9,data!$G$3:$G$1499,\"مثبت\",data!$CS$3:$CS$1499,1)","v":0},{"$f":"SUMIFS(data!CE$3:CE$1499,data!$D$3:$D$1499,$AI9,data!$G$3:$G$1499,\"مثبت\",data!$CS$3:$CS$1499,1)","v":0},{"$f":"SUMIFS(data!CF$3:CF$1499,data!$D$3:$D$1499,$AI9,data!$G$3:$G$1499,\"مثبت\",data!$CS$3:$CS$1499,1)","v":0},{"$f":"SUMIFS(data!CG$3:CG$1499,data!$D$3:$D$1499,$AI9,data!$G$3:$G$1499,\"مثبت\",data!$CS$3:$CS$1499,1)","v":0},{"$f":"SUMIFS(data!CH$3:CH$1499,data!$D$3:$D$1499,$AI9,data!$G$3:$G$1499,\"مثبت\",data!$CS$3:$CS$1499,1)","v":0},{"$f":"SUMIFS(data!CI$3:CI$1499,data!$D$3:$D$1499,$AI9,data!$G$3:$G$1499,\"مثبت\",data!$CS$3:$CS$1499,1)","v":0},{"$f":"SUMIFS(data!CJ$3:CJ$1499,data!$D$3:$D$1499,$AI9,data!$G$3:$G$1499,\"مثبت\",data!$CS$3:$CS$1499,1)","v":0},{"$f":"SUMIFS(data!CK$3:CK$1499,data!$D$3:$D$1499,$AI9,data!$G$3:$G$1499,\"مثبت\",data!$CS$3:$CS$1499,1)","v":0},{"$f":"SUMIFS(data!CL$3:CL$1499,data!$D$3:$D$1499,$AI9,data!$G$3:$G$1499,\"مثبت\",data!$CS$3:$CS$1499,1)","v":0},{"$f":"SUMIFS(data!CM$3:CM$1499,data!$D$3:$D$1499,$AI9,data!$G$3:$G$1499,\"مثبت\",data!$CS$3:$CS$1499,1)","v":0},{"$f":"SUMIFS(data!CN$3:CN$1499,data!$D$3:$D$1499,$AI9,data!$G$3:$G$1499,\"مثبت\",data!$CS$3:$CS$1499,1)","v":0},{"$f":"SUMIFS(data!CO$3:CO$1499,data!$D$3:$D$1499,$AI9,data!$G$3:$G$1499,\"مثبت\",data!$CS$3:$CS$1499,1)","v":0},{"$f":"SUMIFS(data!CP$3:CP$1499,data!$D$3:$D$1499,$AI9,data!$G$3:$G$1499,\"مثبت\",data!$CS$3:$CS$1499,1)","v":0},0]
[{"$f":"IFERROR(INDEX($AI$6:$AI$25,MATCH(ROWS($AG$6:AG10),$AG$6:$AG$115,0),1),\"\")","v":""},{"$f":"IFERROR(INDEX($AJ$6:$BM$25,MATCH(ROWS($AG$6:AG10),$AG$6:$AG$25,0),MATCH(COLUMNS($AJ$3:AJ7),$AJ$3:$BM$3,0)),\"\")","v":""},{"$f":"IFERROR(INDEX($AJ$6:$BM$25,MATCH(ROWS($AG$6:AH10),$AG$6:$AG$25,0),MATCH(COLUMNS($AJ$3:AK7),$AJ$3:$BM$3,0)),\"\")","v":""},{"$f":"IFERROR(INDEX($AJ$6:$BM$25,MATCH(ROWS($AG$6:AI10),$AG$6:$AG$25,0),MATCH(COLUMNS($AJ$3:AL7),$AJ$3:$BM$3,0)),\"\")","v":""},{"$f":"IFERROR(INDEX($AJ$6:$BM$25,MATCH(ROWS($AG$6:AJ10),$AG$6:$AG$25,0),MATCH(COLUMNS($AJ$3:AM7),$AJ$3:$BM$3,0)),\"\")","v":""},{"$f":"IFERROR(INDEX($AJ$6:$BM$25,MATCH(ROWS($AG$6:AK10),$AG$6:$AG$25,0),MATCH(COLUMNS($AJ$3:AN7),$AJ$3:$BM$3,0)),\"\")","v":""},{"$f":"IFERROR(INDEX($AJ$6:$BM$25,MATCH(ROWS($AG$6:AL10),$AG$6:$AG$25,0),MATCH(COLUMNS($AJ$3:AO7),$AJ$3:$BM$3,0)),\"\")","v":""},{"$f":"IFERROR(INDEX($AJ$6:$BM$25,MATCH(ROWS($AG$6:AM10),$AG$6:$AG$25,0),MATCH(COLUMNS($AJ$3:AP7),$AJ$3:$BM$3,0)),\"\")","v":""},{"$f":"IFERROR(INDEX($AJ$6:$BM$25,MATCH(ROWS($AG$6:AN10),$AG$6:$AG$25,0),MATCH(COLUMNS($AJ$3:AQ7),$AJ$3:$BM$3,0)),\"\")","v":""},{"$f":"IFERROR(INDEX($AJ$6:$BM$25,MATCH(ROWS($AG$6:AO10),$AG$6:$AG$25,0),MATCH(COLUMNS($AJ$3:AR7),$AJ$3:$BM$3,0)),\"\")","v":""},{"$f":"IFERROR(INDEX($AJ$6:$BM$25,MATCH(ROWS($AG$6:AP10),$AG$6:$AG$25,0),MATCH(COLUMNS($AJ$3:AS7),$AJ$3:$BM$3,0)),\"\")","v":""},{"$f":"IFERROR(INDEX($AJ$6:$BM$25,MATCH(ROWS($AG$6:AQ10),$AG$6:$AG$25,0),MATCH(COLUMNS($AJ$3:AT7),$AJ$3:$BM$3,0)),\"\")","v":""},{"$f":"IFERROR(INDEX($AJ$6:$BM$25,MATCH(ROWS($AG$6:AR10),$AG$6:$AG$25,0),MATCH(COLUMNS($AJ$3:AU7),$AJ$3:$BM$3,0)),\"\")","v":""},{"$f":"IFERROR(INDEX($AJ$6:$BM$25,MATCH(ROWS($AG$6:AS10),$AG$6:$AG$25,0),MATCH(COLUMNS($AJ$3:AV7),$AJ$3:$BM$3,0)),\"\")","v":""},{"$f":"IFERROR(INDEX($AJ$6:$BM$25,MATCH(ROWS($AG$6:AT10),$AG$6:$AG$25,0),MATCH(COLUMNS($AJ$3:AW7),$AJ$3:$BM$3,0)),\"\")","v":""},{"$f":"IFERROR(INDEX($AJ$6:$BM$25,MATCH(ROWS($AG$6:AU10),$AG$6:$AG$25,0),MATCH(COLUMNS($AJ$3:AX7),$AJ$3:$BM$3,0)),\"\")","v":""},{"$f":"IFERROR(INDEX($AJ$6:$BM$25,MATCH(ROWS($AG$6:AV10),$AG$6:$AG$25,0),MATCH(COLUMNS($AJ$3:AY7),$AJ$3:$BM$3,0)),\"\")","v":""},{"$f":"IFERROR(INDEX($AJ$6:$BM$25,MATCH(ROWS($AG$6:AW10),$AG$6:$AG$25,0),MATCH(COLUMNS($AJ$3:AZ7),$AJ$3:$BM$3,0)),\"\")","v":""},{"$f":"IFERROR(INDEX($AJ$6:$BM$25,MATCH(ROWS($AG$6:AX10),$AG$6:$AG$25,0),MATCH(COLUMNS($AJ$3:BA7),$AJ$3:$BM$3,0)),\"\")","v":""},{"$f":"IFERROR(INDEX($AJ$6:$BM$25,MATCH(ROWS($AG$6:AY10),$AG$6:$AG$25,0),MATCH(COLUMNS($AJ$3:BB7),$AJ$3:$BM$3,0)),\"\")","v":""},{"$f":"IFERROR(INDEX($AJ$6:$BM$25,MATCH(ROWS($AG$6:AZ10),$AG$6:$AG$25,0),MATCH(COLUMNS($AJ$3:BC7),$AJ$3:$BM$3,0)),\"\")","v":""},{"$f":"IFERROR(INDEX($AJ$6:$BM$25,MATCH(ROWS($AG$6:BA10),$AG$6:$AG$25,0),MATCH(COLUMNS($AJ$3:BD7),$AJ$3:$BM$3,0)),\"\")","v":""},{"$f":"IFERROR(INDEX($AJ$6:$BM$25,MATCH(ROWS($AG$6:BB10),$AG$6:$AG$25,0),MATCH(COLUMNS($AJ$3:BE7),$AJ$3:$BM$3,0)),\"\")","v":""},{"$f":"IFERROR(INDEX($AJ$6:$BM$25,MATCH(ROWS($AG$6:BC10),$AG$6:$AG$25,0),MATCH(COLUMNS($AJ$3:BF7),$AJ$3:$BM$3,0)),\"\")","v":""},{"$f":"IFERROR(INDEX($AJ$6:$BM$25,MATCH(ROWS($AG$6:BD10),$AG$6:$AG$25,0),MATCH(COLUMNS($AJ$3:BG7),$AJ$3:$BM$3,0)),\"\")","v":""},{"$f":"IFERROR(INDEX($AJ$6:$BM$25,MATCH(ROWS($AG$6:BE10),$AG$6:$AG$25,0),MATCH(COLUMNS($AJ$3:BH7),$AJ$3:$BM$3,0)),\"\")","v":""},{"$f":"IFERROR(INDEX($AJ$6:$BM$25,MATCH(ROWS($AG$6:BF10),$AG$6:$AG$25,0),MATCH(COLUMNS($AJ$3:BI7),$AJ$3:$BM$3,0)),\"\")","v":""},{"$f":"IFERROR(INDEX($AJ$6:$BM$25,MATCH(ROWS($AG$6:BG10),$AG$6:$AG$25,0),MATCH(COLUMNS($AJ$3:BJ7),$AJ$3:$BM$3,0)),\"\")","v":""},{"$f":"IFERROR(INDEX($AJ$6:$BM$25,MATCH(ROWS($AG$6:BH10),$AG$6:$AG$25,0),MATCH(COLUMNS($AJ$3:BK7),$AJ$3:$BM$3,0)),\"\")","v":""},{"$f":"IFERROR(INDEX($AJ$6:$BM$25,MATCH(ROWS($AG$6:BI10),$AG$6:$AG$25,0),MATCH(COLUMNS($AJ$3:BL7),$AJ$3:$BM$3,0)),\"\")","v":""},{"$f":"IFERROR(INDEX($AJ$6:$BM$25,MATCH(ROWS($AG$6:BJ10),$AG$6:$AG$25,0),MATCH(COLUMNS($AJ$3:BM7),$AJ$3:$BM$3,0)),\"\")","v":""},null,{"$f":"IF(AH10=0,\"\",SUM($AH$6:AH10))","v":""},0,"استاف کوآگولاز مثبت",{"$f":"SUMIFS(data!BN$3:BN$1499,data!$D$3:$D$1499,$AI10,data!$G$3:$G$1499,\"مثبت\",data!$CS$3:$CS$1499,1)","v":0},{"$f":"SUMIFS(data!BO$3:BO$1499,data!$D$3:$D$1499,$AI10,data!$G$3:$G$1499,\"مثبت\",data!$CS$3:$CS$1499,1)","v":0},{"$f":"SUMIFS(data!BP$3:BP$1499,data!$D$3:$D$1499,$AI10,data!$G$3:$G$1499,\"مثبت\",data!$CS$3:$CS$1499,1)","v":0},{"$f":"SUMIFS(data!BQ$3:BQ$1499,data!$D$3:$D$1499,$AI10,data!$G$3:$G$1499,\"مثبت\",data!$CS$3:$CS$1499,1)","v":0},{"$f":"SUMIFS(data!BR$3:BR$1499,data!$D$3:$D$1499,$AI10,data!$G$3:$G$1499,\"مثبت\",data!$CS$3:$CS$1499,1)","v":0},{"$f":"SUMIFS(data!BS$3:BS$1499,data!$D$3:$D$1499,$AI10,data!$G$3:$G$1499,\"مثبت\",data!$CS$3:$CS$1499,1)","v":0},{"$f":"SUMIFS(data!BT$3:BT$1499,data!$D$3:$D$1499,$AI10,data!$G$3:$G$1499,\"مثبت\",data!$CS$3:$CS$1499,1)","v":0},{"$f":"SUMIFS(data!BU$3:BU$1499,data!$D$3:$D$1499,$AI10,data!$G$3:$G$1499,\"مثبت\",data!$CS$3:$CS$1499,1)","v":0},{"$f":"SUMIFS(data!BV$3:BV$1499,data!$D$3:$D$1499,$AI10,data!$G$3:$G$1499,\"مثبت\",data!$CS$3:$CS$1499,1)","v":0},{"$f":"SUMIFS(data!BW$3:BW$1499,data!$D$3:$D$1499,$AI10,data!$G$3:$G$1499,\"مثبت\",data!$CS$3:$CS$1499,1)","v":0},{"$f":"SUMIFS(data!BX$3:BX$1499,data!$D$3:$D$1499,$AI10,data!$G$3:$G$1499,\"مثبت\",data!$CS$3:$CS$1499,1)","v":0},{"$f":"SUMIFS(data!BY$3:BY$1499,data!$D$3:$D$1499,$AI10,data!$G$3:$G$1499,\"مثبت\",data!$CS$3:$CS$1499,1)","v":0},{"$f":"SUMIFS(data!BZ$3:BZ$1499,data!$D$3:$D$1499,$AI10,data!$G$3:$G$1499,\"مثبت\",data!$CS$3:$CS$1499,1)","v":0},{"$f":"SUMIFS(data!CA$3:CA$1499,data!$D$3:$D$1499,$AI10,data!$G$3:$G$1499,\"مثبت\",data!$CS$3:$CS$1499,1)","v":0},{"$f":"SUMIFS(data!CB$3:CB$1499,data!$D$3:$D$1499,$AI10,data!$G$3:$G$1499,\"مثبت\",data!$CS$3:$CS$1499,1)","v":0},{"$f":"SUMIFS(data!CC$3:CC$1499,data!$D$3:$D$1499,$AI10,data!$G$3:$G$1499,\"مثبت\",data!$CS$3:$CS$1499,1)","v":0},{"$f":"SUMIFS(data!CD$3:CD$1499,data!$D$3:$D$1499,$AI10,data!$G$3:$G$1499,\"مثبت\",data!$CS$3:$CS$1499,1)","v":0},{"$f":"SUMIFS(data!CE$3:CE$1499,data!$D$3:$D$1499,$AI10,data!$G$3:$G$1499,\"مثبت\",data!$CS$3:$CS$1499,1)","v":0},{"$f":"SUMIFS(data!CF$3:CF$1499,data!$D$3:$D$1499,$AI10,data!$G$3:$G$1499,\"مثبت\",data!$CS$3:$CS$1499,1)","v":0},{"$f":"SUMIFS(data!CG$3:CG$1499,data!$D$3:$D$1499,$AI10,data!$G$3:$G$1499,\"مثبت\",data!$CS$3:$CS$1499,1)","v":0},{"$f":"SUMIFS(data!CH$3:CH$1499,data!$D$3:$D$1499,$AI10,data!$G$3:$G$1499,\"مثبت\",data!$CS$3:$CS$1499,1)","v":0},{"$f":"SUMIFS(data!CI$3:CI$1499,data!$D$3:$D$1499,$AI10,data!$G$3:$G$1499,\"مثبت\",data!$CS$3:$CS$1499,1)","v":0},{"$f":"SUMIFS(data!CJ$3:CJ$1499,data!$D$3:$D$1499,$AI10,data!$G$3:$G$1499,\"مثبت\",data!$CS$3:$CS$1499,1)","v":0},{"$f":"SUMIFS(data!CK$3:CK$1499,data!$D$3:$D$1499,$AI10,data!$G$3:$G$1499,\"مثبت\",data!$CS$3:$CS$1499,1)","v":0},{"$f":"SUMIFS(data!CL$3:CL$1499,data!$D$3:$D$1499,$AI10,data!$G$3:$G$1499,\"مثبت\",data!$CS$3:$CS$1499,1)","v":0},{"$f":"SUMIFS(data!CM$3:CM$1499,data!$D$3:$D$1499,$AI10,data!$G$3:$G$1499,\"مثبت\",data!$CS$3:$CS$1499,1)","v":0},{"$f":"SUMIFS(data!CN$3:CN$1499,data!$D$3:$D$1499,$AI10,data!$G$3:$G$1499,\"مثبت\",data!$CS$3:$CS$1499,1)","v":0},{"$f":"SUMIFS(data!CO$3:CO$1499,data!$D$3:$D$1499,$AI10,data!$G$3:$G$1499,\"مثبت\",data!$CS$3:$CS$1499,1)","v":0},{"$f":"SUMIFS(data!CP$3:CP$1499,data!$D$3:$D$1499,$AI10,data!$G$3:$G$1499,\"مثبت\",data!$CS$3:$CS$1499,1)","v":0},0]
[{"$f":"IFERROR(INDEX($AI$6:$AI$25,MATCH(ROWS($AG$6:AG11),$AG$6:$AG$115,0),1),\"\")","v":""},{"$f":"IFERROR(INDEX($AJ$6:$BM$25,MATCH(ROWS($AG$6:AG11),$AG$6:$AG$25,0),MATCH(COLUMNS($AJ$3:AJ8),$AJ$3:$BM$3,0)),\"\")","v":""},{"$f":"IFERROR(INDEX($AJ$6:$BM$25,MATCH(ROWS($AG$6:AH11),$AG$6:$AG$25,0),MATCH(COLUMNS($AJ$3:AK8),$AJ$3:$BM$3,0)),\"\")","v":""},{"$f":"IFERROR(INDEX($AJ$6:$BM$25,MATCH(ROWS($AG$6:AI11),$AG$6:$AG$25,0),MATCH(COLUMNS($AJ$3:AL8),$AJ$3:$BM$3,0)),\"\")","v":""},{"$f":"IFERROR(INDEX($AJ$6:$BM$25,MATCH(ROWS($AG$6:AJ11),$AG$6:$AG$25,0),MATCH(COLUMNS($AJ$3:AM8),$AJ$3:$BM$3,0)),\"\")","v":""},{"$f":"IFERROR(INDEX($AJ$6:$BM$25,MATCH(ROWS($AG$6:AK11),$AG$6:$AG$25,0),MATCH(COLUMNS($AJ$3:AN8),$AJ$3:$BM$3,0)),\"\")","v":""},{"$f":"IFERROR(INDEX($AJ$6:$BM$25,MATCH(ROWS($AG$6:AL11),$AG$6:$AG$25,0),MATCH(COLUMNS($AJ$3:AO8),$AJ$3:$BM$3,0)),\"\")","v":""},{"$f":"IFERROR(INDEX($AJ$6:$BM$25,MATCH(ROWS($AG$6:AM11),$AG$6:$AG$25,0),MATCH(COLUMNS($AJ$3:AP8),$AJ$3:$BM$3,0)),\"\")","v":""},{"$f":"IFERROR(INDEX($AJ$6:$BM$25,MATCH(ROWS($AG$6:AN11),$AG$6:$AG$25,0),MATCH(COLUMNS($AJ$3:AQ8),$AJ$3:$BM$3,0)),\"\")","v":""},{"$f":"IFERROR(INDEX($AJ$6:$BM$25,MATCH(ROWS($AG$6:AO11),$AG$6:$AG$25,0),MATCH(COLUMNS($AJ$3:AR8),$AJ$3:$BM$3,0)),\"\")","v":""},{"$f":"IFERROR(INDEX($AJ$6:$BM$25,MATCH(ROWS($AG$6:AP11),$AG$6:$AG$25,0),MATCH(COLUMNS($AJ$3:AS8),$AJ$3:$BM$3,0)),\"\")","v":""},{"$f":"IFERROR(INDEX($AJ$6:$BM$25,MATCH(ROWS($AG$6:AQ11),$AG$6:$AG$25,0),MATCH(COLUMNS($AJ$3:AT8),$AJ$3:$BM$3,0)),\"\")","v":""},{"$f":"IFERROR(INDEX($AJ$6:$BM$25,MATCH(ROWS($AG$6:AR11),$AG$6:$AG$25,0),MATCH(COLUMNS($AJ$3:AU8),$AJ$3:$BM$3,0)),\"\")","v":""},{"$f":"IFERROR(INDEX($AJ$6:$BM$25,MATCH(ROWS($AG$6:AS11),$AG$6:$AG$25,0),MATCH(COLUMNS($AJ$3:AV8),$AJ$3:$BM$3,0)),\"\")","v":""},{"$f":"IFERROR(INDEX($AJ$6:$BM$25,MATCH(ROWS($AG$6:AT11),$AG$6:$AG$25,0),MATCH(COLUMNS($AJ$3:AW8),$AJ$3:$BM$3,0)),\"\")","v":""},{"$f":"IFERROR(INDEX($AJ$6:$BM$25,MATCH(ROWS($AG$6:AU11),$AG$6:$AG$25,0),MATCH(COLUMNS($AJ$3:AX8),$AJ$3:$BM$3,0)),\"\")","v":""},{"$f":"IFERROR(INDEX($AJ$6:$BM$25,MATCH(ROWS($AG$6:AV11),$AG$6:$AG$25,0),MATCH(COLUMNS($AJ$3:AY8),$AJ$3:$BM$3,0)),\"\")","v":""},{"$f":"IFERROR(INDEX($AJ$6:$BM$25,MATCH(ROWS($AG$6:AW11),$AG$6:$AG$25,0),MATCH(COLUMNS($AJ$3:AZ8),$AJ$3:$BM$3,0)),\"\")","v":""},{"$f":"IFERROR(INDEX($AJ$6:$BM$25,MATCH(ROWS($AG$6:AX11),$AG$6:$AG$25,0),MATCH(COLUMNS($AJ$3:BA8),$AJ$3:$BM$3,0)),\"\")","v":""},{"$f":"IFERROR(INDEX($AJ$6:$BM$25,MATCH(ROWS($AG$6:AY11),$AG$6:$AG$25,0),MATCH(COLUMNS($AJ$3:BB8),$AJ$3:$BM$3,0)),\"\")","v":""},{"$f":"IFERROR(INDEX($AJ$6:$BM$25,MATCH(ROWS($AG$6:AZ11),$AG$6:$AG$25,0),MATCH(COLUMNS($AJ$3:BC8),$AJ$3:$BM$3,0)),\"\")","v":""},{"$f":"IFERROR(INDEX($AJ$6:$BM$25,MATCH(ROWS($AG$6:BA11),$AG$6:$AG$25,0),MATCH(COLUMNS($AJ$3:BD8),$AJ$3:$BM$3,0)),\"\")","v":""},{"$f":"IFERROR(INDEX($AJ$6:$BM$25,MATCH(ROWS($AG$6:BB11),$AG$6:$AG$25,0),MATCH(COLUMNS($AJ$3:BE8),$AJ$3:$BM$3,0)),\"\")","v":""},{"$f":"IFERROR(INDEX($AJ$6:$BM$25,MATCH(ROWS($AG$6:BC11),$AG$6:$AG$25,0),MATCH(COLUMNS($AJ$3:BF8),$AJ$3:$BM$3,0)),\"\")","v":""},{"$f":"IFERROR(INDEX($AJ$6:$BM$25,MATCH(ROWS($AG$6:BD11),$AG$6:$AG$25,0),MATCH(COLUMNS($AJ$3:BG8),$AJ$3:$BM$3,0)),\"\")","v":""},{"$f":"IFERROR(INDEX($AJ$6:$BM$25,MATCH(ROWS($AG$6:BE11),$AG$6:$AG$25,0),MATCH(COLUMNS($AJ$3:BH8),$AJ$3:$BM$3,0)),\"\")","v":""},{"$f":"IFERROR(INDEX($AJ$6:$BM$25,MATCH(ROWS($AG$6:BF11),$AG$6:$AG$25,0),MATCH(COLUMNS($AJ$3:BI8),$AJ$3:$BM$3,0)),\"\")","v":""},{"$f":"IFERROR(INDEX($AJ$6:$BM$25,MATCH(ROWS($AG$6:BG11),$AG$6:$AG$25,0),MATCH(COLUMNS($AJ$3:BJ8),$AJ$3:$BM$3,0)),\"\")","v":""},{"$f":"IFERROR(INDEX($AJ$6:$BM$25,MATCH(ROWS($AG$6:BH11),$AG$6:$AG$25,0),MATCH(COLUMNS($AJ$3:BK8),$AJ$3:$BM$3,0)),\"\")","v":""},{"$f":"IFERROR(INDEX($AJ$6:$BM$25,MATCH(ROWS($AG$6:BI11),$AG$6:$AG$25,0),MATCH(COLUMNS($AJ$3:BL8),$AJ$3:$BM$3,0)),\"\")","v":""},{"$f":"IFERROR(INDEX($AJ$6:$BM$25,MATCH(ROWS($AG$6:BJ11),$AG$6:$AG$25,0),MATCH(COLUMNS($AJ$3:BM8),$AJ$3:$BM$3,0)),\"\")","v":""},null,{"$f":"IF(AH11=0,\"\",SUM($AH$6:AH11))","v":""},0,"سودومونا",{"$f":"SUMIFS(data!BN$3:BN$1499,data!$D$3:$D$1499,$AI11,data!$G$3:$G$1499,\"مثبت\",data!$CS$3:$CS$1499,1)","v":0},{"$f":"SUMIFS(data!BO$3:BO$1499,data!$D$3:$D$1499,$AI11,data!$G$3:$G$1499,\"مثبت\",data!$CS$3:$CS$1499,1)","v":0},{"$f":"SUMIFS(data!BP$3:BP$1499,data!$D$3:$D$1499,$AI11,data!$G$3:$G$1499,\"مثبت\",data!$CS$3:$CS$1499,1)","v":0},{"$f":"SUMIFS(data!BQ$3:BQ$1499,data!$D$3:$D$1499,$AI11,data!$G$3:$G$1499,\"مثبت\",data!$CS$3:$CS$1499,1)","v":0},{"$f":"SUMIFS(data!BR$3:BR$1499,data!$D$3:$D$1499,$AI11,data!$G$3:$G$1499,\"مثبت\",data!$CS$3:$CS$1499,1)","v":0},{"$f":"SUMIFS(data!BS$3:BS$1499,data!$D$3:$D$1499,$AI11,data!$G$3:$G$1499,\"مثبت\",data!$CS$3:$CS$1499,1)","v":0},{"$f":"SUMIFS(data!BT$3:BT$1499,data!$D$3:$D$1499,$AI11,data!$G$3:$G$1499,\"مثبت\",data!$CS$3:$CS$1499,1)","v":0},{"$f":"SUMIFS(data!BU$3:BU$1499,data!$D$3:$D$1499,$AI11,data!$G$3:$G$1499,\"مثبت\",data!$CS$3:$CS$1499,1)","v":0},{"$f":"SUMIFS(data!BV$3:BV$1499,data!$D$3:$D$1499,$AI11,data!$G$3:$G$1499,\"مثبت\",data!$CS$3:$CS$1499,1)","v":0},{"$f":"SUMIFS(data!BW$3:BW$1499,data!$D$3:$D$1499,$AI11,data!$G$3:$G$1499,\"مثبت\",data!$CS$3:$CS$1499,1)","v":0},{"$f":"SUMIFS(data!BX$3:BX$1499,data!$D$3:$D$1499,$AI11,data!$G$3:$G$1499,\"مثبت\",data!$CS$3:$CS$1499,1)","v":0},{"$f":"SUMIFS(data!BY$3:BY$1499,data!$D$3:$D$1499,$AI11,data!$G$3:$G$1499,\"مثبت\",data!$CS$3:$CS$1499,1)","v":0},{"$f":"SUMIFS(data!BZ$3:BZ$1499,data!$D$3:$D$1499,$AI11,data!$G$3:$G$1499,\"مثبت\",data!$CS$3:$CS$1499,1)","v":0},{"$f":"SUMIFS(data!CA$3:CA$1499,data!$D$3:$D$1499,$AI11,data!$G$3:$G$1499,\"مثبت\",data!$CS$3:$CS$1499,1)","v":0},{"$f":"SUMIFS(data!CB$3:CB$1499,data!$D$3:$D$1499,$AI11,data!$G$3:$G$1499,\"مثبت\",data!$CS$3:$CS$1499,1)","v":0},{"$f":"SUMIFS(data!CC$3:CC$1499,data!$D$3:$D$1499,$AI11,data!$G$3:$G$1499,\"مثبت\",data!$CS$3:$CS$1499,1)","v":0},{"$f":"SUMIFS(data!CD$3:CD$1499,data!$D$3:$D$1499,$AI11,data!$G$3:$G$1499,\"مثبت\",data!$CS$3:$CS$1499,1)","v":0},{"$f":"SUMIFS(data!CE$3:CE$1499,data!$D$3:$D$1499,$AI11,data!$G$3:$G$1499,\"مثبت\",data!$CS$3:$CS$1499,1)","v":0},{"$f":"SUMIFS(data!CF$3:CF$1499,data!$D$3:$D$1499,$AI11,data!$G$3:$G$1499,\"مثبت\",data!$CS$3:$CS$1499,1)","v":0},{"$f":"SUMIFS(data!CG$3:CG$1499,data!$D$3:$D$1499,$AI11,data!$G$3:$G$1499,\"مثبت\",data!$CS$3:$CS$1499,1)","v":0},{"$f":"SUMIFS(data!CH$3:CH$1499,data!$D$3:$D$1499,$AI11,data!$G$3:$G$1499,\"مثبت\",data!$CS$3:$CS$1499,1)","v":0},{"$f":"SUMIFS(data!CI$3:CI$1499,data!$D$3:$D$1499,$AI11,data!$G$3:$G$1499,\"مثبت\",data!$CS$3:$CS$1499,1)","v":0},{"$f":"SUMIFS(data!CJ$3:CJ$1499,data!$D$3:$D$1499,$AI11,data!$G$3:$G$1499,\"مثبت\",data!$CS$3:$CS$1499,1)","v":0},{"$f":"SUMIFS(data!CK$3:CK$1499,data!$D$3:$D$1499,$AI11,data!$G$3:$G$1499,\"مثبت\",data!$CS$3:$CS$1499,1)","v":0},{"$f":"SUMIFS(data!CL$3:CL$1499,data!$D$3:$D$1499,$AI11,data!$G$3:$G$1499,\"مثبت\",data!$CS$3:$CS$1499,1)","v":0},{"$f":"SUMIFS(data!CM$3:CM$1499,data!$D$3:$D$1499,$AI11,data!$G$3:$G$1499,\"مثبت\",data!$CS$3:$CS$1499,1)","v":0},{"$f":"SUMIFS(data!CN$3:CN$1499,data!$D$3:$D$1499,$AI11,data!$G$3:$G$1499,\"مثبت\",data!$CS$3:$CS$1499,1)","v":0},{"$f":"SUMIFS(data!CO$3:CO$1499,data!$D$3:$D$1499,$AI11,data!$G$3:$G$1499,\"مثبت\",data!$CS$3:$CS$1499,1)","v":0},{"$f":"SUMIFS(data!CP$3:CP$1499,data!$D$3:$D$1499,$AI11,data!$G$3:$G$1499,\"مثبت\",data!$CS$3:$CS$1499,1)","v":0},0]
[{"$f":"IFERROR(INDEX($AI$6:$AI$25,MATCH(ROWS($AG$6:AG12),$AG$6:$AG$115,0),1),\"\")","v":""},{"$f":"IFERROR(INDEX($AJ$6:$BM$25,MATCH(ROWS($AG$6:AG12),$AG$6:$AG$25,0),MATCH(COLUMNS($AJ$3:AJ9),$AJ$3:$BM$3,0)),\"\")","v":""},{"$f":"IFERROR(INDEX($AJ$6:$BM$25,MATCH(ROWS($AG$6:AH12),$AG$6:$AG$25,0),MATCH(COLUMNS($AJ$3:AK9),$AJ$3:$BM$3,0)),\"\")","v":""},{"$f":"IFERROR(INDEX($AJ$6:$BM$25,MATCH(ROWS($AG$6:AI12),$AG$6:$AG$25,0),MATCH(COLUMNS($AJ$3:AL9),$AJ$3:$BM$3,0)),\"\")","v":""},{"$f":"IFERROR(INDEX($AJ$6:$BM$25,MATCH(ROWS($AG$6:AJ12),$AG$6:$AG$25,0),MATCH(COLUMNS($AJ$3:AM9),$AJ$3:$BM$3,0)),\"\")","v":""},{"$f":"IFERROR(INDEX($AJ$6:$BM$25,MATCH(ROWS($AG$6:AK12),$AG$6:$AG$25,0),MATCH(COLUMNS($AJ$3:AN9),$AJ$3:$BM$3,0)),\"\")","v":""},{"$f":"IFERROR(INDEX($AJ$6:$BM$25,MATCH(ROWS($AG$6:AL12),$AG$6:$AG$25,0),MATCH(COLUMNS($AJ$3:AO9),$AJ$3:$BM$3,0)),\"\")","v":""},{"$f":"IFERROR(INDEX($AJ$6:$BM$25,MATCH(ROWS($AG$6:AM12),$AG$6:$AG$25,0),MATCH(COLUMNS($AJ$3:AP9),$AJ$3:$BM$3,0)),\"\")","v":""},{"$f":"IFERROR(INDEX($AJ$6:$BM$25,MATCH(ROWS($AG$6:AN12),$AG$6:$AG$25,0),MATCH(COLUMNS($AJ$3:AQ9),$AJ$3:$BM$3,0)),\"\")","v":""},{"$f":"IFERROR(INDEX($AJ$6:$BM$25,MATCH(ROWS($AG$6:AO12),$AG$6:$AG$25,0),MATCH(COLUMNS($AJ$3:AR9),$AJ$3:$BM$3,0)),\"\")","v":""},{"$f":"IFERROR(INDEX($AJ$6:$BM$25,MATCH(ROWS($AG$6:AP12),$AG$6:$AG$25,0),MATCH(COLUMNS($AJ$3:AS9),$AJ$3:$BM$3,0)),\"\")","v":""},{"$f":"IFERROR(INDEX($AJ$6:$BM$25,MATCH(ROWS($AG$6:AQ12),$AG$6:$AG$25,0),MATCH(COLUMNS($AJ$3:AT9),$AJ$3:$BM$3,0)),\"\")","v":""},{"$f":"IFERROR(INDEX($AJ$6:$BM$25,MATCH(ROWS($AG$6:AR12),$AG$6:$AG$25,0),MATCH(COLUMNS($AJ$3:AU9),$AJ$3:$BM$3,0)),\"\")","v":""},{"$f":"IFERROR(INDEX($AJ$6:$BM$25,MATCH(ROWS($AG$6:AS12),$AG$6:$AG$25,0),MATCH(COLUMNS($AJ$3:AV9),$AJ$3:$BM$3,0)),\"\")","v":""},{"$f":"IFERROR(INDEX($AJ$6:$BM$25,MATCH(ROWS($AG$6:AT12),$AG$6:$AG$25,0),MATCH(COLUMNS($AJ$3:AW9),$AJ$3:$BM$3,0)),\"\")","v":""},{"$f":"IFERROR(INDEX($AJ$6:$BM$25,MATCH(ROWS($AG$6:AU12),$AG$6:$AG$25,0),MATCH(COLUMNS($AJ$3:AX9),$AJ$3:$BM$3,0)),\"\")","v":""},{"$f":"IFERROR(INDEX($AJ$6:$BM$25,MATCH(ROWS($AG$6:AV12),$AG$6:$AG$25,0),MATCH(COLUMNS($AJ$3:AY9),$AJ$3:$BM$3,0)),\"\")","v":""},{"$f":"IFERROR(INDEX($AJ$6:$BM$25,MATCH(ROWS($AG$6:AW12),$AG$6:$AG$25,0),MATCH(COLUMNS($AJ$3:AZ9),$AJ$3:$BM$3,0)),\"\")","v":""},{"$f":"IFERROR(INDEX($AJ$6:$BM$25,MATCH(ROWS($AG$6:AX12),$AG$6:$AG$25,0),MATCH(COLUMNS($AJ$3:BA9),$AJ$3:$BM$3,0)),\"\")","v":""},{"$f":"IFERROR(INDEX($AJ$6:$BM$25,MATCH(ROWS($AG$6:AY12),$AG$6:$AG$25,0),MATCH(COLUMNS($AJ$3:BB9),$AJ$3:$BM$3,0)),\"\")","v":""},{"$f":"IFERROR(INDEX($AJ$6:$BM$25,MATCH(ROWS($AG$6:AZ12),$AG$6:$AG$25,0),MATCH(COLUMNS($AJ$3:BC9),$AJ$3:$BM$3,0)),\"\")","v":""},{"$f":"IFERROR(INDEX($AJ$6:$BM$25,MATCH(ROWS($AG$6:BA12),$AG$6:$AG$25,0),MATCH(COLUMNS($AJ$3:BD9),$AJ$3:$BM$3,0)),\"\")","v":""},{"$f":"IFERROR(INDEX($AJ$6:$BM$25,MATCH(ROWS($AG$6:BB12),$AG$6:$AG$25,0),MATCH(COLUMNS($AJ$3:BE9),$AJ$3:$BM$3,0)),\"\")","v":""},{"$f":"IFERROR(INDEX($AJ$6:$BM$25,MATCH(ROWS($AG$6:BC12),$AG$6:$AG$25,0),MATCH(COLUMNS($AJ$3:BF9),$AJ$3:$BM$3,0)),\"\")","v":""},{"$f":"IFERROR(INDEX($AJ$6:$BM$25,MATCH(ROWS($AG$6:BD12),$AG$6:$AG$25,0),MATCH(COLUMNS($AJ$3:BG9),$AJ$3:$BM$3,0)),\"\")","v":""},{"$f":"IFERROR(INDEX($AJ$6:$BM$25,MATCH(ROWS($AG$6:BE12),$AG$6:$AG$25,0),MATCH(COLUMNS($AJ$3:BH9),$AJ$3:$BM$3,0)),\"\")","v":""},{"$f":"IFERROR(INDEX($AJ$6:$BM$25,MATCH(ROWS($AG$6:BF12),$AG$6:$AG$25,0),MATCH(COLUMNS($AJ$3:BI9),$AJ$3:$BM$3,0)),\"\")","v":""},{"$f":"IFERROR(INDEX($AJ$6:$BM$25,MATCH(ROWS($AG$6:BG12),$AG$6:$AG$25,0),MATCH(COLUMNS($AJ$3:BJ9),$AJ$3:$BM$3,0)),\"\")","v":""},{"$f":"IFERROR(INDEX($AJ$6:$BM$25,MATCH(ROWS($AG$6:BH12),$AG$6:$AG$25,0),MATCH(COLUMNS($AJ$3:BK9),$AJ$3:$BM$3,0)),\"\")","v":""},{"$f":"IFERROR(INDEX($AJ$6:$BM$25,MATCH(ROWS($AG$6:BI12),$AG$6:$AG$25,0),MATCH(COLUMNS($AJ$3:BL9),$AJ$3:$BM$3,0)),\"\")","v":""},{"$f":"IFERROR(INDEX($AJ$6:$BM$25,MATCH(ROWS($AG$6:BJ12),$AG$6:$AG$25,0),MATCH(COLUMNS($AJ$3:BM9),$AJ$3:$BM$3,0)),\"\")","v":""},null,{"$f":"IF(AH12=0,\"\",SUM($AH$6:AH12))","v":""},0,"آنترباکتر",{"$f":"SUMIFS(data!BN$3:BN$1499,data!$D$3:$D$1499,$AI12,data!$G$3:$G$1499,\"مثبت\",data!$CS$3:$CS$1499,1)","v":0},{"$f":"SUMIFS(data!BO$3:BO$1499,data!$D$3:$D$1499,$AI12,data!$G$3:$G$1499,\"مثبت\",data!$CS$3:$CS$1499,1)","v":0},{"$f":"SUMIFS(data!BP$3:BP$1499,data!$D$3:$D$1499,$AI12,data!$G$3:$G$1499,\"مثبت\",data!$CS$3:$CS$1499,1)","v":0},{"$f":"SUMIFS(data!BQ$3:BQ$1499,data!$D$3:$D$1499,$AI12,data!$G$3:$G$1499,\"مثبت\",data!$CS$3:$CS$1499,1)","v":0},{"$f":"SUMIFS(data!BR$3:BR$1499,data!$D$3:$D$1499,$AI12,data!$G$3:$G$1499,\"مثبت\",data!$CS$3:$CS$1499,1)","v":0},{"$f":"SUMIFS(data!BS$3:BS$1499,data!$D$3:$D$1499,$AI12,data!$G$3:$G$1499,\"مثبت\",data!$CS$3:$CS$1499,1)","v":0},{"$f":"SUMIFS(data!BT$3:BT$1499,data!$D$3:$D$1499,$AI12,data!$G$3:$G$1499,\"مثبت\",data!$CS$3:$CS$1499,1)","v":0},{"$f":"SUMIFS(data!BU$3:BU$1499,data!$D$3:$D$1499,$AI12,data!$G$3:$G$1499,\"مثبت\",data!$CS$3:$CS$1499,1)","v":0},{"$f":"SUMIFS(data!BV$3:BV$1499,data!$D$3:$D$1499,$AI12,data!$G$3:$G$1499,\"مثبت\",data!$CS$3:$CS$1499,1)","v":0},{"$f":"SUMIFS(data!BW$3:BW$1499,data!$D$3:$D$1499,$AI12,data!$G$3:$G$1499,\"مثبت\",data!$CS$3:$CS$1499,1)","v":0},{"$f":"SUMIFS(data!BX$3:BX$1499,data!$D$3:$D$1499,$AI12,data!$G$3:$G$1499,\"مثبت\",data!$CS$3:$CS$1499,1)","v":0},{"$f":"SUMIFS(data!BY$3:BY$1499,data!$D$3:$D$1499,$AI12,data!$G$3:$G$1499,\"مثبت\",data!$CS$3:$CS$1499,1)","v":0},{"$f":"SUMIFS(data!BZ$3:BZ$1499,data!$D$3:$D$1499,$AI12,data!$G$3:$G$1499,\"مثبت\",data!$CS$3:$CS$1499,1)","v":0},{"$f":"SUMIFS(data!CA$3:CA$1499,data!$D$3:$D$1499,$AI12,data!$G$3:$G$1499,\"مثبت\",data!$CS$3:$CS$1499,1)","v":0},{"$f":"SUMIFS(data!CB$3:CB$1499,data!$D$3:$D$1499,$AI12,data!$G$3:$G$1499,\"مثبت\",data!$CS$3:$CS$1499,1)","v":0},{"$f":"SUMIFS(data!CC$3:CC$1499,data!$D$3:$D$1499,$AI12,data!$G$3:$G$1499,\"مثبت\",data!$CS$3:$CS$1499,1)","v":0},{"$f":"SUMIFS(data!CD$3:CD$1499,data!$D$3:$D$1499,$AI12,data!$G$3:$G$1499,\"مثبت\",data!$CS$3:$CS$1499,1)","v":0},{"$f":"SUMIFS(data!CE$3:CE$1499,data!$D$3:$D$1499,$AI12,data!$G$3:$G$1499,\"مثبت\",data!$CS$3:$CS$1499,1)","v":0},{"$f":"SUMIFS(data!CF$3:CF$1499,data!$D$3:$D$1499,$AI12,data!$G$3:$G$1499,\"مثبت\",data!$CS$3:$CS$1499,1)","v":0},{"$f":"SUMIFS(data!CG$3:CG$1499,data!$D$3:$D$1499,$AI12,data!$G$3:$G$1499,\"مثبت\",data!$CS$3:$CS$1499,1)","v":0},{"$f":"SUMIFS(data!CH$3:CH$1499,data!$D$3:$D$1499,$AI12,data!$G$3:$G$1499,\"مثبت\",data!$CS$3:$CS$1499,1)","v":0},{"$f":"SUMIFS(data!CI$3:CI$1499,data!$D$3:$D$1499,$AI12,data!$G$3:$G$1499,\"مثبت\",data!$CS$3:$CS$1499,1)","v":0},{"$f":"SUMIFS(data!CJ$3:CJ$1499,data!$D$3:$D$1499,$AI12,data!$G$3:$G$1499,\"مثبت\",data!$CS$3:$CS$1499,1)","v":0},{"$f":"SUMIFS(data!CK$3:CK$1499,data!$D$3:$D$1499,$AI12,data!$G$3:$G$1499,\"مثبت\",data!$CS$3:$CS$1499,1)","v":0},{"$f":"SUMIFS(data!CL$3:CL$1499,data!$D$3:$D$1499,$AI12,data!$G$3:$G$1499,\"مثبت\",data!$CS$3:$CS$1499,1)","v":0},{"$f":"SUMIFS(data!CM$3:CM$1499,data!$D$3:$D$1499,$AI12,data!$G$3:$G$1499,\"مثبت\",data!$CS$3:$CS$1499,1)","v":0},{"$f":"SUMIFS(data!CN$3:CN$1499,data!$D$3:$D$1499,$AI12,data!$G$3:$G$1499,\"مثبت\",data!$CS$3:$CS$1499,1)","v":0},{"$f":"SUMIFS(data!CO$3:CO$1499,data!$D$3:$D$1499,$AI12,data!$G$3:$G$1499,\"مثبت\",data!$CS$3:$CS$1499,1)","v":0},{"$f":"SUMIFS(data!CP$3:CP$1499,data!$D$3:$D$1499,$AI12,data!$G$3:$G$1499,\"مثبت\",data!$CS$3:$CS$1499,1)","v":0},0]
[{"$f":"IFERROR(INDEX($AI$6:$AI$25,MATCH(ROWS($AG$6:AG13),$AG$6:$AG$115,0),1),\"\")","v":""},{"$f":"IFERROR(INDEX($AJ$6:$BM$25,MATCH(ROWS($AG$6:AG13),$AG$6:$AG$25,0),MATCH(COLUMNS($AJ$3:AJ10),$AJ$3:$BM$3,0)),\"\")","v":""},{"$f":"IFERROR(INDEX($AJ$6:$BM$25,MATCH(ROWS($AG$6:AH13),$AG$6:$AG$25,0),MATCH(COLUMNS($AJ$3:AK10),$AJ$3:$BM$3,0)),\"\")","v":""},{"$f":"IFERROR(INDEX($AJ$6:$BM$25,MATCH(ROWS($AG$6:AI13),$AG$6:$AG$25,0),MATCH(COLUMNS($AJ$3:AL10),$AJ$3:$BM$3,0)),\"\")","v":""},{"$f":"IFERROR(INDEX($AJ$6:$BM$25,MATCH(ROWS($AG$6:AJ13),$AG$6:$AG$25,0),MATCH(COLUMNS($AJ$3:AM10),$AJ$3:$BM$3,0)),\"\")","v":""},{"$f":"IFERROR(INDEX($AJ$6:$BM$25,MATCH(ROWS($AG$6:AK13),$AG$6:$AG$25,0),MATCH(COLUMNS($AJ$3:AN10),$AJ$3:$BM$3,0)),\"\")","v":""},{"$f":"IFERROR(INDEX($AJ$6:$BM$25,MATCH(ROWS($AG$6:AL13),$AG$6:$AG$25,0),MATCH(COLUMNS($AJ$3:AO10),$AJ$3:$BM$3,0)),\"\")","v":""},{"$f":"IFERROR(INDEX($AJ$6:$BM$25,MATCH(ROWS($AG$6:AM13),$AG$6:$AG$25,0),MATCH(COLUMNS($AJ$3:AP10),$AJ$3:$BM$3,0)),\"\")","v":""},{"$f":"IFERROR(INDEX($AJ$6:$BM$25,MATCH(ROWS($AG$6:AN13),$AG$6:$AG$25,0),MATCH(COLUMNS($AJ$3:AQ10),$AJ$3:$BM$3,0)),\"\")","v":""},{"$f":"IFERROR(INDEX($AJ$6:$BM$25,MATCH(ROWS($AG$6:AO13),$AG$6:$AG$25,0),MATCH(COLUMNS($AJ$3:AR10),$AJ$3:$BM$3,0)),\"\")","v":""},{"$f":"IFERROR(INDEX($AJ$6:$BM$25,MATCH(ROWS($AG$6:AP13),$AG$6:$AG$25,0),MATCH(COLUMNS($AJ$3:AS10),$AJ$3:$BM$3,0)),\"\")","v":""},{"$f":"IFERROR(INDEX($AJ$6:$BM$25,MATCH(ROWS($AG$6:AQ13),$AG$6:$AG$25,0),MATCH(COLUMNS($AJ$3:AT10),$AJ$3:$BM$3,0)),\"\")","v":""},{"$f":"IFERROR(INDEX($AJ$6:$BM$25,MATCH(ROWS($AG$6:AR13),$AG$6:$AG$25,0),MATCH(COLUMNS($AJ$3:AU10),$AJ$3:$BM$3,0)),\"\")","v":""},{"$f":"IFERROR(INDEX($AJ$6:$BM$25,MATCH(ROWS($AG$6:AS13),$AG$6:$AG$25,0),MATCH(COLUMNS($AJ$3:AV10),$AJ$3:$BM$3,0)),\"\")","v":""},{"$f":"IFERROR(INDEX($AJ$6:$BM$25,MATCH(ROWS($AG$6:AT13),$AG$6:$AG$25,0),MATCH(COLUMNS($AJ$3:AW10),$AJ$3:$BM$3,0)),\"\")","v":""},{"$f":"IFERROR(INDEX($AJ$6:$BM$25,MATCH(ROWS($AG$6:AU13),$AG$6:$AG$25,0),MATCH(COLUMNS($AJ$3:AX10),$AJ$3:$BM$3,0)),\"\")","v":""},{"$f":"IFERROR(INDEX($AJ$6:$BM$25,MATCH(ROWS($AG$6:AV13),$AG$6:$AG$25,0),MATCH(COLUMNS($AJ$3:AY10),$AJ$3:$BM$3,0)),\"\")","v":""},{"$f":"IFERROR(INDEX($AJ$6:$BM$25,MATCH(ROWS($AG$6:AW13),$AG$6:$AG$25,0),MATCH(COLUMNS($AJ$3:AZ10),$AJ$3:$BM$3,0)),\"\")","v":""},{"$f":"IFERROR(INDEX($AJ$6:$BM$25,MATCH(ROWS($AG$6:AX13),$AG$6:$AG$25,0),MATCH(COLUMNS($AJ$3:BA10),$AJ$3:$BM$3,0)),\"\")","v":""},{"$f":"IFERROR(INDEX($AJ$6:$BM$25,MATCH(ROWS($AG$6:AY13),$AG$6:$AG$25,0),MATCH(COLUMNS($AJ$3:BB10),$AJ$3:$BM$3,0)),\"\")","v":""},{"$f":"IFERROR(INDEX($AJ$6:$BM$25,MATCH(ROWS($AG$6:AZ13),$AG$6:$AG$25,0),MATCH(COLUMNS($AJ$3:BC10),$AJ$3:$BM$3,0)),\"\")","v":""},{"$f":"IFERROR(INDEX($AJ$6:$BM$25,MATCH(ROWS($AG$6:BA13),$AG$6:$AG$25,0),MATCH(COLUMNS($AJ$3:BD10),$AJ$3:$BM$3,0)),\"\")","v":""},{"$f":"IFERROR(INDEX($AJ$6:$BM$25,MATCH(ROWS($AG$6:BB13),$AG$6:$AG$25,0),MATCH(COLUMNS($AJ$3:BE10),$AJ$3:$BM$3,0)),\"\")","v":""},{"$f":"IFERROR(INDEX($AJ$6:$BM$25,MATCH(ROWS($AG$6:BC13),$AG$6:$AG$25,0),MATCH(COLUMNS($AJ$3:BF10),$AJ$3:$BM$3,0)),\"\")","v":""},{"$f":"IFERROR(INDEX($AJ$6:$BM$25,MATCH(ROWS($AG$6:BD13),$AG$6:$AG$25,0),MATCH(COLUMNS($AJ$3:BG10),$AJ$3:$BM$3,0)),\"\")","v":""},{"$f":"IFERROR(INDEX($AJ$6:$BM$25,MATCH(ROWS($AG$6:BE13),$AG$6:$AG$25,0),MATCH(COLUMNS($AJ$3:BH10),$AJ$3:$BM$3,0)),\"\")","v":""},{"$f":"IFERROR(INDEX($AJ$6:$BM$25,MATCH(ROWS($AG$6:BF13),$AG$6:$AG$25,0),MATCH(COLUMNS($AJ$3:BI10),$AJ$3:$BM$3,0)),\"\")","v":""},{"$f":"IFERROR(INDEX($AJ$6:$BM$25,MATCH(ROWS($AG$6:BG13),$AG$6:$AG$25,0),MATCH(COLUMNS($AJ$3:BJ10),$AJ$3:$BM$3,0)),\"\")","v":""},{"$f":"IFERROR(INDEX($AJ$6:$BM$25,MATCH(ROWS($AG$6:BH13),$AG$6:$AG$25,0),MATCH(COLUMNS($AJ$3:BK10),$AJ$3:$BM$3,0)),\"\")","v":""},{"$f":"IFERROR(INDEX($AJ$6:$BM$25,MATCH(ROWS($AG$6:BI13),$AG$6:$AG$25,0),MATCH(COLUMNS($AJ$3:BL10),$AJ$3:$BM$3,0)),\"\")","v":""},{"$f":"IFERROR(INDEX($AJ$6:$BM$25,MATCH(ROWS($AG$6:BJ13),$AG$6:$AG$25,0),MATCH(COLUMNS($AJ$3:BM10),$AJ$3:$BM$3,0)),\"\")","v":""},null,{"$f":"IF(AH13=0,\"\",SUM($AH$6:AH13))","v":""},0,"میکروکوک",{"$f":"SUMIFS(data!BN$3:BN$1499,data!$D$3:$D$1499,$AI13,data!$G$3:$G$1499,\"مثبت\",data!$CS$3:$CS$1499,1)","v":0},{"$f":"SUMIFS(data!BO$3:BO$1499,data!$D$3:$D$1499,$AI13,data!$G$3:$G$1499,\"مثبت\",data!$CS$3:$CS$1499,1)","v":0},{"$f":"SUMIFS(data!BP$3:BP$1499,data!$D$3:$D$1499,$AI13,data!$G$3:$G$1499,\"مثبت\",data!$CS$3:$CS$1499,1)","v":0},{"$f":"SUMIFS(data!BQ$3:BQ$1499,data!$D$3:$D$1499,$AI13,data!$G$3:$G$1499,\"مثبت\",data!$CS$3:$CS$1499,1)","v":0},{"$f":"SUMIFS(data!BR$3:BR$1499,data!$D$3:$D$1499,$AI13,data!$G$3:$G$1499,\"مثبت\",data!$CS$3:$CS$1499,1)","v":0},{"$f":"SUMIFS(data!BS$3:BS$1499,data!$D$3:$D$1499,$AI13,data!$G$3:$G$1499,\"مثبت\",data!$CS$3:$CS$1499,1)","v":0},{"$f":"SUMIFS(data!BT$3:BT$1499,data!$D$3:$D$1499,$AI13,data!$G$3:$G$1499,\"مثبت\",data!$CS$3:$CS$1499,1)","v":0},{"$f":"SUMIFS(data!BU$3:BU$1499,data!$D$3:$D$1499,$AI13,data!$G$3:$G$1499,\"مثبت\",data!$CS$3:$CS$1499,1)","v":0},{"$f":"SUMIFS(data!BV$3:BV$1499,data!$D$3:$D$1499,$AI13,data!$G$3:$G$1499,\"مثبت\",data!$CS$3:$CS$1499,1)","v":0},{"$f":"SUMIFS(data!BW$3:BW$1499,data!$D$3:$D$1499,$AI13,data!$G$3:$G$1499,\"مثبت\",data!$CS$3:$CS$1499,1)","v":0},{"$f":"SUMIFS(data!BX$3:BX$1499,data!$D$3:$D$1499,$AI13,data!$G$3:$G$1499,\"مثبت\",data!$CS$3:$CS$1499,1)","v":0},{"$f":"SUMIFS(data!BY$3:BY$1499,data!$D$3:$D$1499,$AI13,data!$G$3:$G$1499,\"مثبت\",data!$CS$3:$CS$1499,1)","v":0},{"$f":"SUMIFS(data!BZ$3:BZ$1499,data!$D$3:$D$1499,$AI13,data!$G$3:$G$1499,\"مثبت\",data!$CS$3:$CS$1499,1)","v":0},{"$f":"SUMIFS(data!CA$3:CA$1499,data!$D$3:$D$1499,$AI13,data!$G$3:$G$1499,\"مثبت\",data!$CS$3:$CS$1499,1)","v":0},{"$f":"SUMIFS(data!CB$3:CB$1499,data!$D$3:$D$1499,$AI13,data!$G$3:$G$1499,\"مثبت\",data!$CS$3:$CS$1499,1)","v":0},{"$f":"SUMIFS(data!CC$3:CC$1499,data!$D$3:$D$1499,$AI13,data!$G$3:$G$1499,\"مثبت\",data!$CS$3:$CS$1499,1)","v":0},{"$f":"SUMIFS(data!CD$3:CD$1499,data!$D$3:$D$1499,$AI13,data!$G$3:$G$1499,\"مثبت\",data!$CS$3:$CS$1499,1)","v":0},{"$f":"SUMIFS(data!CE$3:CE$1499,data!$D$3:$D$1499,$AI13,data!$G$3:$G$1499,\"مثبت\",data!$CS$3:$CS$1499,1)","v":0},{"$f":"SUMIFS(data!CF$3:CF$1499,data!$D$3:$D$1499,$AI13,data!$G$3:$G$1499,\"مثبت\",data!$CS$3:$CS$1499,1)","v":0},{"$f":"SUMIFS(data!CG$3:CG$1499,data!$D$3:$D$1499,$AI13,data!$G$3:$G$1499,\"مثبت\",data!$CS$3:$CS$1499,1)","v":0},{"$f":"SUMIFS(data!CH$3:CH$1499,data!$D$3:$D$1499,$AI13,data!$G$3:$G$1499,\"مثبت\",data!$CS$3:$CS$1499,1)","v":0},{"$f":"SUMIFS(data!CI$3:CI$1499,data!$D$3:$D$1499,$AI13,data!$G$3:$G$1499,\"مثبت\",data!$CS$3:$CS$1499,1)","v":0},{"$f":"SUMIFS(data!CJ$3:CJ$1499,data!$D$3:$D$1499,$AI13,data!$G$3:$G$1499,\"مثبت\",data!$CS$3:$CS$1499,1)","v":0},{"$f":"SUMIFS(data!CK$3:CK$1499,data!$D$3:$D$1499,$AI13,data!$G$3:$G$1499,\"مثبت\",data!$CS$3:$CS$1499,1)","v":0},{"$f":"SUMIFS(data!CL$3:CL$1499,data!$D$3:$D$1499,$AI13,data!$G$3:$G$1499,\"مثبت\",data!$CS$3:$CS$1499,1)","v":0},{"$f":"SUMIFS(data!CM$3:CM$1499,data!$D$3:$D$1499,$AI13,data!$G$3:$G$1499,\"مثبت\",data!$CS$3:$CS$1499,1)","v":0},{"$f":"SUMIFS(data!CN$3:CN$1499,data!$D$3:$D$1499,$AI13,data!$G$3:$G$1499,\"مثبت\",data!$CS$3:$CS$1499,1)","v":0},{"$f":"SUMIFS(data!CO$3:CO$1499,data!$D$3:$D$1499,$AI13,data!$G$3:$G$1499,\"مثبت\",data!$CS$3:$CS$1499,1)","v":0},{"$f":"SUMIFS(data!CP$3:CP$1499,data!$D$3:$D$1499,$AI13,data!$G$3:$G$1499,\"مثبت\",data!$CS$3:$CS$1499,1)","v":0},0]
[{"$f":"IFERROR(INDEX($AI$6:$AI$25,MATCH(ROWS($AG$6:AG14),$AG$6:$AG$115,0),1),\"\")","v":""},{"$f":"IFERROR(INDEX($AJ$6:$BM$25,MATCH(ROWS($AG$6:AG14),$AG$6:$AG$25,0),MATCH(COLUMNS($AJ$3:AJ11),$AJ$3:$BM$3,0)),\"\")","v":""},{"$f":"IFERROR(INDEX($AJ$6:$BM$25,MATCH(ROWS($AG$6:AH14),$AG$6:$AG$25,0),MATCH(COLUMNS($AJ$3:AK11),$AJ$3:$BM$3,0)),\"\")","v":""},{"$f":"IFERROR(INDEX($AJ$6:$BM$25,MATCH(ROWS($AG$6:AI14),$AG$6:$AG$25,0),MATCH(COLUMNS($AJ$3:AL11),$AJ$3:$BM$3,0)),\"\")","v":""},{"$f":"IFERROR(INDEX($AJ$6:$BM$25,MATCH(ROWS($AG$6:AJ14),$AG$6:$AG$25,0),MATCH(COLUMNS($AJ$3:AM11),$AJ$3:$BM$3,0)),\"\")","v":""},{"$f":"IFERROR(INDEX($AJ$6:$BM$25,MATCH(ROWS($AG$6:AK14),$AG$6:$AG$25,0),MATCH(COLUMNS($AJ$3:AN11),$AJ$3:$BM$3,0)),\"\")","v":""},{"$f":"IFERROR(INDEX($AJ$6:$BM$25,MATCH(ROWS($AG$6:AL14),$AG$6:$AG$25,0),MATCH(COLUMNS($AJ$3:AO11),$AJ$3:$BM$3,0)),\"\")","v":""},{"$f":"IFERROR(INDEX($AJ$6:$BM$25,MATCH(ROWS($AG$6:AM14),$AG$6:$AG$25,0),MATCH(COLUMNS($AJ$3:AP11),$AJ$3:$BM$3,0)),\"\")","v":""},{"$f":"IFERROR(INDEX($AJ$6:$BM$25,MATCH(ROWS($AG$6:AN14),$AG$6:$AG$25,0),MATCH(COLUMNS($AJ$3:AQ11),$AJ$3:$BM$3,0)),\"\")","v":""},{"$f":"IFERROR(INDEX($AJ$6:$BM$25,MATCH(ROWS($AG$6:AO14),$AG$6:$AG$25,0),MATCH(COLUMNS($AJ$3:AR11),$AJ$3:$BM$3,0)),\"\")","v":""},{"$f":"IFERROR(INDEX($AJ$6:$BM$25,MATCH(ROWS($AG$6:AP14),$AG$6:$AG$25,0),MATCH(COLUMNS($AJ$3:AS11),$AJ$3:$BM$3,0)),\"\")","v":""},{"$f":"IFERROR(INDEX($AJ$6:$BM$25,MATCH(ROWS($AG$6:AQ14),$AG$6:$AG$25,0),MATCH(COLUMNS($AJ$3:AT11),$AJ$3:$BM$3,0)),\"\")","v":""},{"$f":"IFERROR(INDEX($AJ$6:$BM$25,MATCH(ROWS($AG$6:AR14),$AG$6:$AG$25,0),MATCH(COLUMNS($AJ$3:AU11),$AJ$3:$BM$3,0)),\"\")","v":""},{"$f":"IFERROR(INDEX($AJ$6:$BM$25,MATCH(ROWS($AG$6:AS14),$AG$6:$AG$25,0),MATCH(COLUMNS($AJ$3:AV11),$AJ$3:$BM$3,0)),\"\")","v":""},{"$f":"IFERROR(INDEX($AJ$6:$BM$25,MATCH(ROWS($AG$6:AT14),$AG$6:$AG$25,0),MATCH(COLUMNS($AJ$3:AW11),$AJ$3:$BM$3,0)),\"\")","v":""},{"$f":"IFERROR(INDEX($AJ$6:$BM$25,MATCH(ROWS($AG$6:AU14),$AG$6:$AG$25,0),MATCH(COLUMNS($AJ$3:AX11),$AJ$3:$BM$3,0)),\"\")","v":""},{"$f":"IFERROR(INDEX($AJ$6:$BM$25,MATCH(ROWS($AG$6:AV14),$AG$6:$AG$25,0),MATCH(COLUMNS($AJ$3:AY11),$AJ$3:$BM$3,0)),\"\")","v":""},{"$f":"IFERROR(INDEX($AJ$6:$BM$25,MATCH(ROWS($AG$6:AW14),$AG$6:$AG$25,0),MATCH(COLUMNS($AJ$3:AZ11),$AJ$3:$BM$3,0)),\"\")","v":""},{"$f":"IFERROR(INDEX($AJ$6:$BM$25,MATCH(ROWS($AG$6:AX14),$AG$6:$AG$25,0),MATCH(COLUMNS($AJ$3:BA11),$AJ$3:$BM$3,0)),\"\")","v":""},{"$f":"IFERROR(INDEX($AJ$6:$BM$25,MATCH(ROWS($AG$6:AY14),$AG$6:$AG$25,0),MATCH(COLUMNS($AJ$3:BB11),$AJ$3:$BM$3,0)),\"\")","v":""},{"$f":"IFERROR(INDEX($AJ$6:$BM$25,MATCH(ROWS($AG$6:AZ14),$AG$6:$AG$25,0),MATCH(COLUMNS($AJ$3:BC11),$AJ$3:$BM$3,0)),\"\")","v":""},{"$f":"IFERROR(INDEX($AJ$6:$BM$25,MATCH(ROWS($AG$6:BA14),$AG$6:$AG$25,0),MATCH(COLUMNS($AJ$3:BD11),$AJ$3:$BM$3,0)),\"\")","v":""},{"$f":"IFERROR(INDEX($AJ$6:$BM$25,MATCH(ROWS($AG$6:BB14),$AG$6:$AG$25,0),MATCH(COLUMNS($AJ$3:BE11),$AJ$3:$BM$3,0)),\"\")","v":""},{"$f":"IFERROR(INDEX($AJ$6:$BM$25,MATCH(ROWS($AG$6:BC14),$AG$6:$AG$25,0),MATCH(COLUMNS($AJ$3:BF11),$AJ$3:$BM$3,0)),\"\")","v":""},{"$f":"IFERROR(INDEX($AJ$6:$BM$25,MATCH(ROWS($AG$6:BD14),$AG$6:$AG$25,0),MATCH(COLUMNS($AJ$3:BG11),$AJ$3:$BM$3,0)),\"\")","v":""},{"$f":"IFERROR(INDEX($AJ$6:$BM$25,MATCH(ROWS($AG$6:BE14),$AG$6:$AG$25,0),MATCH(COLUMNS($AJ$3:BH11),$AJ$3:$BM$3,0)),\"\")","v":""},{"$f":"IFERROR(INDEX($AJ$6:$BM$25,MATCH(ROWS($AG$6:BF14),$AG$6:$AG$25,0),MATCH(COLUMNS($AJ$3:BI11),$AJ$3:$BM$3,0)),\"\")","v":""},{"$f":"IFERROR(INDEX($AJ$6:$BM$25,MATCH(ROWS($AG$6:BG14),$AG$6:$AG$25,0),MATCH(COLUMNS($AJ$3:BJ11),$AJ$3:$BM$3,0)),\"\")","v":""},{"$f":"IFERROR(INDEX($AJ$6:$BM$25,MATCH(ROWS($AG$6:BH14),$AG$6:$AG$25,0),MATCH(COLUMNS($AJ$3:BK11),$AJ$3:$BM$3,0)),\"\")","v":""},{"$f":"IFERROR(INDEX($AJ$6:$BM$25,MATCH(ROWS($AG$6:BI14),$AG$6:$AG$25,0),MATCH(COLUMNS($AJ$3:BL11),$AJ$3:$BM$3,0)),\"\")","v":""},{"$f":"IFERROR(INDEX($AJ$6:$BM$25,MATCH(ROWS($AG$6:BJ14),$AG$6:$AG$25,0),MATCH(COLUMNS($AJ$3:BM11),$AJ$3:$BM$3,0)),\"\")","v":""},null,{"$f":"IF(AH14=0,\"\",SUM($AH$6:AH14))","v":""},0,"استاف سایروفیت",{"$f":"SUMIFS(data!BN$3:BN$1499,data!$D$3:$D$1499,$AI14,data!$G$3:$G$1499,\"مثبت\",data!$CS$3:$CS$1499,1)","v":0},{"$f":"SUMIFS(data!BO$3:BO$1499,data!$D$3:$D$1499,$AI14,data!$G$3:$G$1499,\"مثبت\",data!$CS$3:$CS$1499,1)","v":0},{"$f":"SUMIFS(data!BP$3:BP$1499,data!$D$3:$D$1499,$AI14,data!$G$3:$G$1499,\"مثبت\",data!$CS$3:$CS$1499,1)","v":0},{"$f":"SUMIFS(data!BQ$3:BQ$1499,data!$D$3:$D$1499,$AI14,data!$G$3:$G$1499,\"مثبت\",data!$CS$3:$CS$1499,1)","v":0},{"$f":"SUMIFS(data!BR$3:BR$1499,data!$D$3:$D$1499,$AI14,data!$G$3:$G$1499,\"مثبت\",data!$CS$3:$CS$1499,1)","v":0},{"$f":"SUMIFS(data!BS$3:BS$1499,data!$D$3:$D$1499,$AI14,data!$G$3:$G$1499,\"مثبت\",data!$CS$3:$CS$1499,1)","v":0},{"$f":"SUMIFS(data!BT$3:BT$1499,data!$D$3:$D$1499,$AI14,data!$G$3:$G$1499,\"مثبت\",data!$CS$3:$CS$1499,1)","v":0},{"$f":"SUMIFS(data!BU$3:BU$1499,data!$D$3:$D$1499,$AI14,data!$G$3:$G$1499,\"مثبت\",data!$CS$3:$CS$1499,1)","v":0},{"$f":"SUMIFS(data!BV$3:BV$1499,data!$D$3:$D$1499,$AI14,data!$G$3:$G$1499,\"مثبت\",data!$CS$3:$CS$1499,1)","v":0},{"$f":"SUMIFS(data!BW$3:BW$1499,data!$D$3:$D$1499,$AI14,data!$G$3:$G$1499,\"مثبت\",data!$CS$3:$CS$1499,1)","v":0},{"$f":"SUMIFS(data!BX$3:BX$1499,data!$D$3:$D$1499,$AI14,data!$G$3:$G$1499,\"مثبت\",data!$CS$3:$CS$1499,1)","v":0},{"$f":"SUMIFS(data!BY$3:BY$1499,data!$D$3:$D$1499,$AI14,data!$G$3:$G$1499,\"مثبت\",data!$CS$3:$CS$1499,1)","v":0},{"$f":"SUMIFS(data!BZ$3:BZ$1499,data!$D$3:$D$1499,$AI14,data!$G$3:$G$1499,\"مثبت\",data!$CS$3:$CS$1499,1)","v":0},{"$f":"SUMIFS(data!CA$3:CA$1499,data!$D$3:$D$1499,$AI14,data!$G$3:$G$1499,\"مثبت\",data!$CS$3:$CS$1499,1)","v":0},{"$f":"SUMIFS(data!CB$3:CB$1499,data!$D$3:$D$1499,$AI14,data!$G$3:$G$1499,\"مثبت\",data!$CS$3:$CS$1499,1)","v":0},{"$f":"SUMIFS(data!CC$3:CC$1499,data!$D$3:$D$1499,$AI14,data!$G$3:$G$1499,\"مثبت\",data!$CS$3:$CS$1499,1)","v":0},{"$f":"SUMIFS(data!CD$3:CD$1499,data!$D$3:$D$1499,$AI14,data!$G$3:$G$1499,\"مثبت\",data!$CS$3:$CS$1499,1)","v":0},{"$f":"SUMIFS(data!CE$3:CE$1499,data!$D$3:$D$1499,$AI14,data!$G$3:$G$1499,\"مثبت\",data!$CS$3:$CS$1499,1)","v":0},{"$f":"SUMIFS(data!CF$3:CF$1499,data!$D$3:$D$1499,$AI14,data!$G$3:$G$1499,\"مثبت\",data!$CS$3:$CS$1499,1)","v":0},{"$f":"SUMIFS(data!CG$3:CG$1499,data!$D$3:$D$1499,$AI14,data!$G$3:$G$1499,\"مثبت\",data!$CS$3:$CS$1499,1)","v":0},{"$f":"SUMIFS(data!CH$3:CH$1499,data!$D$3:$D$1499,$AI14,data!$G$3:$G$1499,\"مثبت\",data!$CS$3:$CS$1499,1)","v":0},{"$f":"SUMIFS(data!CI$3:CI$1499,data!$D$3:$D$1499,$AI14,data!$G$3:$G$1499,\"مثبت\",data!$CS$3:$CS$1499,1)","v":0},{"$f":"SUMIFS(data!CJ$3:CJ$1499,data!$D$3:$D$1499,$AI14,data!$G$3:$G$1499,\"مثبت\",data!$CS$3:$CS$1499,1)","v":0},{"$f":"SUMIFS(data!CK$3:CK$1499,data!$D$3:$D$1499,$AI14,data!$G$3:$G$1499,\"مثبت\",data!$CS$3:$CS$1499,1)","v":0},{"$f":"SUMIFS(data!CL$3:CL$1499,data!$D$3:$D$1499,$AI14,data!$G$3:$G$1499,\"مثبت\",data!$CS$3:$CS$1499,1)","v":0},{"$f":"SUMIFS(data!CM$3:CM$1499,data!$D$3:$D$1499,$AI14,data!$G$3:$G$1499,\"مثبت\",data!$CS$3:$CS$1499,1)","v":0},{"$f":"SUMIFS(data!CN$3:CN$1499,data!$D$3:$D$1499,$AI14,data!$G$3:$G$1499,\"مثبت\",data!$CS$3:$CS$1499,1)","v":0},{"$f":"SUMIFS(data!CO$3:CO$1499,data!$D$3:$D$1499,$AI14,data!$G$3:$G$1499,\"مثبت\",data!$CS$3:$CS$1499,1)","v":0},{"$f":"SUMIFS(data!CP$3:CP$1499,data!$D$3:$D$1499,$AI14,data!$G$3:$G$1499,\"مثبت\",data!$CS$3:$CS$1499,1)","v":0},0]
[{"$f":"IFERROR(INDEX($AI$6:$AI$25,MATCH(ROWS($AG$6:AG15),$AG$6:$AG$115,0),1),\"\")","v":""},{"$f":"IFERROR(INDEX($AJ$6:$BM$25,MATCH(ROWS($AG$6:AG15),$AG$6:$AG$25,0),MATCH(COLUMNS($AJ$3:AJ12),$AJ$3:$BM$3,0)),\"\")","v":""},{"$f":"IFERROR(INDEX($AJ$6:$BM$25,MATCH(ROWS($AG$6:AH15),$AG$6:$AG$25,0),MATCH(COLUMNS($AJ$3:AK12),$AJ$3:$BM$3,0)),\"\")","v":""},{"$f":"IFERROR(INDEX($AJ$6:$BM$25,MATCH(ROWS($AG$6:AI15),$AG$6:$AG$25,0),MATCH(COLUMNS($AJ$3:AL12),$AJ$3:$BM$3,0)),\"\")","v":""},{"$f":"IFERROR(INDEX($AJ$6:$BM$25,MATCH(ROWS($AG$6:AJ15),$AG$6:$AG$25,0),MATCH(COLUMNS($AJ$3:AM12),$AJ$3:$BM$3,0)),\"\")","v":""},{"$f":"IFERROR(INDEX($AJ$6:$BM$25,MATCH(ROWS($AG$6:AK15),$AG$6:$AG$25,0),MATCH(COLUMNS($AJ$3:AN12),$AJ$3:$BM$3,0)),\"\")","v":""},{"$f":"IFERROR(INDEX($AJ$6:$BM$25,MATCH(ROWS($AG$6:AL15),$AG$6:$AG$25,0),MATCH(COLUMNS($AJ$3:AO12),$AJ$3:$BM$3,0)),\"\")","v":""},{"$f":"IFERROR(INDEX($AJ$6:$BM$25,MATCH(ROWS($AG$6:AM15),$AG$6:$AG$25,0),MATCH(COLUMNS($AJ$3:AP12),$AJ$3:$BM$3,0)),\"\")","v":""},{"$f":"IFERROR(INDEX($AJ$6:$BM$25,MATCH(ROWS($AG$6:AN15),$AG$6:$AG$25,0),MATCH(COLUMNS($AJ$3:AQ12),$AJ$3:$BM$3,0)),\"\")","v":""},{"$f":"IFERROR(INDEX($AJ$6:$BM$25,MATCH(ROWS($AG$6:AO15),$AG$6:$AG$25,0),MATCH(COLUMNS($AJ$3:AR12),$AJ$3:$BM$3,0)),\"\")","v":""},{"$f":"IFERROR(INDEX($AJ$6:$BM$25,MATCH(ROWS($AG$6:AP15),$AG$6:$AG$25,0),MATCH(COLUMNS($AJ$3:AS12),$AJ$3:$BM$3,0)),\"\")","v":""},{"$f":"IFERROR(INDEX($AJ$6:$BM$25,MATCH(ROWS($AG$6:AQ15),$AG$6:$AG$25,0),MATCH(COLUMNS($AJ$3:AT12),$AJ$3:$BM$3,0)),\"\")","v":""},{"$f":"IFERROR(INDEX($AJ$6:$BM$25,MATCH(ROWS($AG$6:AR15),$AG$6:$AG$25,0),MATCH(COLUMNS($AJ$3:AU12),$AJ$3:$BM$3,0)),\"\")","v":""},{"$f":"IFERROR(INDEX($AJ$6:$BM$25,MATCH(ROWS($AG$6:AS15),$AG$6:$AG$25,0),MATCH(COLUMNS($AJ$3:AV12),$AJ$3:$BM$3,0)),\"\")","v":""},{"$f":"IFERROR(INDEX($AJ$6:$BM$25,MATCH(ROWS($AG$6:AT15),$AG$6:$AG$25,0),MATCH(COLUMNS($AJ$3:AW12),$AJ$3:$BM$3,0)),\"\")","v":""},{"$f":"IFERROR(INDEX($AJ$6:$BM$25,MATCH(ROWS($AG$6:AU15),$AG$6:$AG$25,0),MATCH(COLUMNS($AJ$3:AX12),$AJ$3:$BM$3,0)),\"\")","v":""},{"$f":"IFERROR(INDEX($AJ$6:$BM$25,MATCH(ROWS($AG$6:AV15),$AG$6:$AG$25,0),MATCH(COLUMNS($AJ$3:AY12),$AJ$3:$BM$3,0)),\"\")","v":""},{"$f":"IFERROR(INDEX($AJ$6:$BM$25,MATCH(ROWS($AG$6:AW15),$AG$6:$AG$25,0),MATCH(COLUMNS($AJ$3:AZ12),$AJ$3:$BM$3,0)),\"\")","v":""},{"$f":"IFERROR(INDEX($AJ$6:$BM$25,MATCH(ROWS($AG$6:AX15),$AG$6:$AG$25,0),MATCH(COLUMNS($AJ$3:BA12),$AJ$3:$BM$3,0)),\"\")","v":""},{"$f":"IFERROR(INDEX($AJ$6:$BM$25,MATCH(ROWS($AG$6:AY15),$AG$6:$AG$25,0),MATCH(COLUMNS($AJ$3:BB12),$AJ$3:$BM$3,0)),\"\")","v":""},{"$f":"IFERROR(INDEX($AJ$6:$BM$25,MATCH(ROWS($AG$6:AZ15),$AG$6:$AG$25,0),MATCH(COLUMNS($AJ$3:BC12),$AJ$3:$BM$3,0)),\"\")","v":""},{"$f":"IFERROR(INDEX($AJ$6:$BM$25,MATCH(ROWS($AG$6:BA15),$AG$6:$AG$25,0),MATCH(COLUMNS($AJ$3:BD12),$AJ$3:$BM$3,0)),\"\")","v":""},{"$f":"IFERROR(INDEX($AJ$6:$BM$25,MATCH(ROWS($AG$6:BB15),$AG$6:$AG$25,0),MATCH(COLUMNS($AJ$3:BE12),$AJ$3:$BM$3,0)),\"\")","v":""},{"$f":"IFERROR(INDEX($AJ$6:$BM$25,MATCH(ROWS($AG$6:BC15),$AG$6:$AG$25,0),MATCH(COLUMNS($AJ$3:BF12),$AJ$3:$BM$3,0)),\"\")","v":""},{"$f":"IFERROR(INDEX($AJ$6:$BM$25,MATCH(ROWS($AG$6:BD15),$AG$6:$AG$25,0),MATCH(COLUMNS($AJ$3:BG12),$AJ$3:$BM$3,0)),\"\")","v":""},{"$f":"IFERROR(INDEX($AJ$6:$BM$25,MATCH(ROWS($AG$6:BE15),$AG$6:$AG$25,0),MATCH(COLUMNS($AJ$3:BH12),$AJ$3:$BM$3,0)),\"\")","v":""},{"$f":"IFERROR(INDEX($AJ$6:$BM$25,MATCH(ROWS($AG$6:BF15),$AG$6:$AG$25,0),MATCH(COLUMNS($AJ$3:BI12),$AJ$3:$BM$3,0)),\"\")","v":""},{"$f":"IFERROR(INDEX($AJ$6:$BM$25,MATCH(ROWS($AG$6:BG15),$AG$6:$AG$25,0),MATCH(COLUMNS($AJ$3:BJ12),$AJ$3:$BM$3,0)),\"\")","v":""},{"$f":"IFERROR(INDEX($AJ$6:$BM$25,MATCH(ROWS($AG$6:BH15),$AG$6:$AG$25,0),MATCH(COLUMNS($AJ$3:BK12),$AJ$3:$BM$3,0)),\"\")","v":""},{"$f":"IFERROR(INDEX($AJ$6:$BM$25,MATCH(ROWS($AG$6:BI15),$AG$6:$AG$25,0),MATCH(COLUMNS($AJ$3:BL12),$AJ$3:$BM$3,0)),\"\")","v":""},{"$f":"IFERROR(INDEX($AJ$6:$BM$25,MATCH(ROWS($AG$6:BJ15),$AG$6:$AG$25,0),MATCH(COLUMNS($AJ$3:BM12),$AJ$3:$BM$3,0)),\"\")","v":""},null,{"$f":"IF(AH15=0,\"\",SUM($AH$6:AH15))","v":""},0,"استاف اپیدرمیدیس",{"$f":"SUMIFS(data!BN$3:BN$1499,data!$D$3:$D$1499,$AI15,data!$G$3:$G$1499,\"مثبت\",data!$CS$3:$CS$1499,1)","v":0},{"$f":"SUMIFS(data!BO$3:BO$1499,data!$D$3:$D$1499,$AI15,data!$G$3:$G$1499,\"مثبت\",data!$CS$3:$CS$1499,1)","v":0},{"$f":"SUMIFS(data!BP$3:BP$1499,data!$D$3:$D$1499,$AI15,data!$G$3:$G$1499,\"مثبت\",data!$CS$3:$CS$1499,1)","v":0},{"$f":"SUMIFS(data!BQ$3:BQ$1499,data!$D$3:$D$1499,$AI15,data!$G$3:$G$1499,\"مثبت\",data!$CS$3:$CS$1499,1)","v":0},{"$f":"SUMIFS(data!BR$3:BR$1499,data!$D$3:$D$1499,$AI15,data!$G$3:$G$1499,\"مثبت\",data!$CS$3:$CS$1499,1)","v":0},{"$f":"SUMIFS(data!BS$3:BS$1499,data!$D$3:$D$1499,$AI15,data!$G$3:$G$1499,\"مثبت\",data!$CS$3:$CS$1499,1)","v":0},{"$f":"SUMIFS(data!BT$3:BT$1499,data!$D$3:$D$1499,$AI15,data!$G$3:$G$1499,\"مثبت\",data!$CS$3:$CS$1499,1)","v":0},{"$f":"SUMIFS(data!BU$3:BU$1499,data!$D$3:$D$1499,$AI15,data!$G$3:$G$1499,\"مثبت\",data!$CS$3:$CS$1499,1)","v":0},{"$f":"SUMIFS(data!BV$3:BV$1499,data!$D$3:$D$1499,$AI15,data!$G$3:$G$1499,\"مثبت\",data!$CS$3:$CS$1499,1)","v":0},{"$f":"SUMIFS(data!BW$3:BW$1499,data!$D$3:$D$1499,$AI15,data!$G$3:$G$1499,\"مثبت\",data!$CS$3:$CS$1499,1)","v":0},{"$f":"SUMIFS(data!BX$3:BX$1499,data!$D$3:$D$1499,$AI15,data!$G$3:$G$1499,\"مثبت\",data!$CS$3:$CS$1499,1)","v":0},{"$f":"SUMIFS(data!BY$3:BY$1499,data!$D$3:$D$1499,$AI15,data!$G$3:$G$1499,\"مثبت\",data!$CS$3:$CS$1499,1)","v":0},{"$f":"SUMIFS(data!BZ$3:BZ$1499,data!$D$3:$D$1499,$AI15,data!$G$3:$G$1499,\"مثبت\",data!$CS$3:$CS$1499,1)","v":0},{"$f":"SUMIFS(data!CA$3:CA$1499,data!$D$3:$D$1499,$AI15,data!$G$3:$G$1499,\"مثبت\",data!$CS$3:$CS$1499,1)","v":0},{"$f":"SUMIFS(data!CB$3:CB$1499,data!$D$3:$D$1499,$AI15,data!$G$3:$G$1499,\"مثبت\",data!$CS$3:$CS$1499,1)","v":0},{"$f":"SUMIFS(data!CC$3:CC$1499,data!$D$3:$D$1499,$AI15,data!$G$3:$G$1499,\"مثبت\",data!$CS$3:$CS$1499,1)","v":0},{"$f":"SUMIFS(data!CD$3:CD$1499,data!$D$3:$D$1499,$AI15,data!$G$3:$G$1499,\"مثبت\",data!$CS$3:$CS$1499,1)","v":0},{"$f":"SUMIFS(data!CE$3:CE$1499,data!$D$3:$D$1499,$AI15,data!$G$3:$G$1499,\"مثبت\",data!$CS$3:$CS$1499,1)","v":0},{"$f":"SUMIFS(data!CF$3:CF$1499,data!$D$3:$D$1499,$AI15,data!$G$3:$G$1499,\"مثبت\",data!$CS$3:$CS$1499,1)","v":0},{"$f":"SUMIFS(data!CG$3:CG$1499,data!$D$3:$D$1499,$AI15,data!$G$3:$G$1499,\"مثبت\",data!$CS$3:$CS$1499,1)","v":0},{"$f":"SUMIFS(data!CH$3:CH$1499,data!$D$3:$D$1499,$AI15,data!$G$3:$G$1499,\"مثبت\",data!$CS$3:$CS$1499,1)","v":0},{"$f":"SUMIFS(data!CI$3:CI$1499,data!$D$3:$D$1499,$AI15,data!$G$3:$G$1499,\"مثبت\",data!$CS$3:$CS$1499,1)","v":0},{"$f":"SUMIFS(data!CJ$3:CJ$1499,data!$D$3:$D$1499,$AI15,data!$G$3:$G$1499,\"مثبت\",data!$CS$3:$CS$1499,1)","v":0},{"$f":"SUMIFS(data!CK$3:CK$1499,data!$D$3:$D$1499,$AI15,data!$G$3:$G$1499,\"مثبت\",data!$CS$3:$CS$1499,1)","v":0},{"$f":"SUMIFS(data!CL$3:CL$1499,data!$D$3:$D$1499,$AI15,data!$G$3:$G$1499,\"مثبت\",data!$CS$3:$CS$1499,1)","v":0},{"$f":"SUMIFS(data!CM$3:CM$1499,data!$D$3:$D$1499,$AI15,data!$G$3:$G$1499,\"مثبت\",data!$CS$3:$CS$1499,1)","v":0},{"$f":"SUMIFS(data!CN$3:CN$1499,data!$D$3:$D$1499,$AI15,data!$G$3:$G$1499,\"مثبت\",data!$CS$3:$CS$1499,1)","v":0},{"$f":"SUMIFS(data!CO$3:CO$1499,data!$D$3:$D$1499,$AI15,data!$G$3:$G$1499,\"مثبت\",data!$CS$3:$CS$1499,1)","v":0},{"$f":"SUMIFS(data!CP$3:CP$1499,data!$D$3:$D$1499,$AI15,data!$G$3:$G$1499,\"مثبت\",data!$CS$3:$CS$1499,1)","v":0},0]
[{"$f":"IFERROR(INDEX($AI$6:$AI$25,MATCH(ROWS($AG$6:AG16),$AG$6:$AG$115,0),1),\"\")","v":""},{"$f":"IFERROR(INDEX($AJ$6:$BM$25,MATCH(ROWS($AG$6:AG16),$AG$6:$AG$25,0),MATCH(COLUMNS($AJ$3:AJ13),$AJ$3:$BM$3,0)),\"\")","v":""},{"$f":"IFERROR(INDEX($AJ$6:$BM$25,MATCH(ROWS($AG$6:AH16),$AG$6:$AG$25,0),MATCH(COLUMNS($AJ$3:AK13),$AJ$3:$BM$3,0)),\"\")","v":""},{"$f":"IFERROR(INDEX($AJ$6:$BM$25,MATCH(ROWS($AG$6:AI16),$AG$6:$AG$25,0),MATCH(COLUMNS($AJ$3:AL13),$AJ$3:$BM$3,0)),\"\")","v":""},{"$f":"IFERROR(INDEX($AJ$6:$BM$25,MATCH(ROWS($AG$6:AJ16),$AG$6:$AG$25,0),MATCH(COLUMNS($AJ$3:AM13),$AJ$3:$BM$3,0)),\"\")","v":""},{"$f":"IFERROR(INDEX($AJ$6:$BM$25,MATCH(ROWS($AG$6:AK16),$AG$6:$AG$25,0),MATCH(COLUMNS($AJ$3:AN13),$AJ$3:$BM$3,0)),\"\")","v":""},{"$f":"IFERROR(INDEX($AJ$6:$BM$25,MATCH(ROWS($AG$6:AL16),$AG$6:$AG$25,0),MATCH(COLUMNS($AJ$3:AO13),$AJ$3:$BM$3,0)),\"\")","v":""},{"$f":"IFERROR(INDEX($AJ$6:$BM$25,MATCH(ROWS($AG$6:AM16),$AG$6:$AG$25,0),MATCH(COLUMNS($AJ$3:AP13),$AJ$3:$BM$3,0)),\"\")","v":""},{"$f":"IFERROR(INDEX($AJ$6:$BM$25,MATCH(ROWS($AG$6:AN16),$AG$6:$AG$25,0),MATCH(COLUMNS($AJ$3:AQ13),$AJ$3:$BM$3,0)),\"\")","v":""},{"$f":"IFERROR(INDEX($AJ$6:$BM$25,MATCH(ROWS($AG$6:AO16),$AG$6:$AG$25,0),MATCH(COLUMNS($AJ$3:AR13),$AJ$3:$BM$3,0)),\"\")","v":""},{"$f":"IFERROR(INDEX($AJ$6:$BM$25,MATCH(ROWS($AG$6:AP16),$AG$6:$AG$25,0),MATCH(COLUMNS($AJ$3:AS13),$AJ$3:$BM$3,0)),\"\")","v":""},{"$f":"IFERROR(INDEX($AJ$6:$BM$25,MATCH(ROWS($AG$6:AQ16),$AG$6:$AG$25,0),MATCH(COLUMNS($AJ$3:AT13),$AJ$3:$BM$3,0)),\"\")","v":""},{"$f":"IFERROR(INDEX($AJ$6:$BM$25,MATCH(ROWS($AG$6:AR16),$AG$6:$AG$25,0),MATCH(COLUMNS($AJ$3:AU13),$AJ$3:$BM$3,0)),\"\")","v":""},{"$f":"IFERROR(INDEX($AJ$6:$BM$25,MATCH(ROWS($AG$6:AS16),$AG$6:$AG$25,0),MATCH(COLUMNS($AJ$3:AV13),$AJ$3:$BM$3,0)),\"\")","v":""},{"$f":"IFERROR(INDEX($AJ$6:$BM$25,MATCH(ROWS($AG$6:AT16),$AG$6:$AG$25,0),MATCH(COLUMNS($AJ$3:AW13),$AJ$3:$BM$3,0)),\"\")","v":""},{"$f":"IFERROR(INDEX($AJ$6:$BM$25,MATCH(ROWS($AG$6:AU16),$AG$6:$AG$25,0),MATCH(COLUMNS($AJ$3:AX13),$AJ$3:$BM$3,0)),\"\")","v":""},{"$f":"IFERROR(INDEX($AJ$6:$BM$25,MATCH(ROWS($AG$6:AV16),$AG$6:$AG$25,0),MATCH(COLUMNS($AJ$3:AY13),$AJ$3:$BM$3,0)),\"\")","v":""},{"$f":"IFERROR(INDEX($AJ$6:$BM$25,MATCH(ROWS($AG$6:AW16),$AG$6:$AG$25,0),MATCH(COLUMNS($AJ$3:AZ13),$AJ$3:$BM$3,0)),\"\")","v":""},{"$f":"IFERROR(INDEX($AJ$6:$BM$25,MATCH(ROWS($AG$6:AX16),$AG$6:$AG$25,0),MATCH(COLUMNS($AJ$3:BA13),$AJ$3:$BM$3,0)),\"\")","v":""},{"$f":"IFERROR(INDEX($AJ$6:$BM$25,MATCH(ROWS($AG$6:AY16),$AG$6:$AG$25,0),MATCH(COLUMNS($AJ$3:BB13),$AJ$3:$BM$3,0)),\"\")","v":""},{"$f":"IFERROR(INDEX($AJ$6:$BM$25,MATCH(ROWS($AG$6:AZ16),$AG$6:$AG$25,0),MATCH(COLUMNS($AJ$3:BC13),$AJ$3:$BM$3,0)),\"\")","v":""},{"$f":"IFERROR(INDEX($AJ$6:$BM$25,MATCH(ROWS($AG$6:BA16),$AG$6:$AG$25,0),MATCH(COLUMNS($AJ$3:BD13),$AJ$3:$BM$3,0)),\"\")","v":""},{"$f":"IFERROR(INDEX($AJ$6:$BM$25,MATCH(ROWS($AG$6:BB16),$AG$6:$AG$25,0),MATCH(COLUMNS($AJ$3:BE13),$AJ$3:$BM$3,0)),\"\")","v":""},{"$f":"IFERROR(INDEX($AJ$6:$BM$25,MATCH(ROWS($AG$6:BC16),$AG$6:$AG$25,0),MATCH(COLUMNS($AJ$3:BF13),$AJ$3:$BM$3,0)),\"\")","v":""},{"$f":"IFERROR(INDEX($AJ$6:$BM$25,MATCH(ROWS($AG$6:BD16),$AG$6:$AG$25,0),MATCH(COLUMNS($AJ$3:BG13),$AJ$3:$BM$3,0)),\"\")","v":""},{"$f":"IFERROR(INDEX($AJ$6:$BM$25,MATCH(ROWS($AG$6:BE16),$AG$6:$AG$25,0),MATCH(COLUMNS($AJ$3:BH13),$AJ$3:$BM$3,0)),\"\")","v":""},{"$f":"IFERROR(INDEX($AJ$6:$BM$25,MATCH(ROWS($AG$6:BF16),$AG$6:$AG$25,0),MATCH(COLUMNS($AJ$3:BI13),$AJ$3:$BM$3,0)),\"\")","v":""},{"$f":"IFERROR(INDEX($AJ$6:$BM$25,MATCH(ROWS($AG$6:BG16),$AG$6:$AG$25,0),MATCH(COLUMNS($AJ$3:BJ13),$AJ$3:$BM$3,0)),\"\")","v":""},{"$f":"IFERROR(INDEX($AJ$6:$BM$25,MATCH(ROWS($AG$6:BH16),$AG$6:$AG$25,0),MATCH(COLUMNS($AJ$3:BK13),$AJ$3:$BM$3,0)),\"\")","v":""},{"$f":"IFERROR(INDEX($AJ$6:$BM$25,MATCH(ROWS($AG$6:BI16),$AG$6:$AG$25,0),MATCH(COLUMNS($AJ$3:BL13),$AJ$3:$BM$3,0)),\"\")","v":""},{"$f":"IFERROR(INDEX($AJ$6:$BM$25,MATCH(ROWS($AG$6:BJ16),$AG$6:$AG$25,0),MATCH(COLUMNS($AJ$3:BM13),$AJ$3:$BM$3,0)),\"\")","v":""},null,{"$f":"IF(AH16=0,\"\",SUM($AH$6:AH16))","v":""},0,"شیگلا",{"$f":"SUMIFS(data!BN$3:BN$1499,data!$D$3:$D$1499,$AI16,data!$G$3:$G$1499,\"مثبت\",data!$CS$3:$CS$1499,1)","v":0},{"$f":"SUMIFS(data!BO$3:BO$1499,data!$D$3:$D$1499,$AI16,data!$G$3:$G$1499,\"مثبت\",data!$CS$3:$CS$1499,1)","v":0},{"$f":"SUMIFS(data!BP$3:BP$1499,data!$D$3:$D$1499,$AI16,data!$G$3:$G$1499,\"مثبت\",data!$CS$3:$CS$1499,1)","v":0},{"$f":"SUMIFS(data!BQ$3:BQ$1499,data!$D$3:$D$1499,$AI16,data!$G$3:$G$1499,\"مثبت\",data!$CS$3:$CS$1499,1)","v":0},{"$f":"SUMIFS(data!BR$3:BR$1499,data!$D$3:$D$1499,$AI16,data!$G$3:$G$1499,\"مثبت\",data!$CS$3:$CS$1499,1)","v":0},{"$f":"SUMIFS(data!BS$3:BS$1499,data!$D$3:$D$1499,$AI16,data!$G$3:$G$1499,\"مثبت\",data!$CS$3:$CS$1499,1)","v":0},{"$f":"SUMIFS(data!BT$3:BT$1499,data!$D$3:$D$1499,$AI16,data!$G$3:$G$1499,\"مثبت\",data!$CS$3:$CS$1499,1)","v":0},{"$f":"SUMIFS(data!BU$3:BU$1499,data!$D$3:$D$1499,$AI16,data!$G$3:$G$1499,\"مثبت\",data!$CS$3:$CS$1499,1)","v":0},{"$f":"SUMIFS(data!BV$3:BV$1499,data!$D$3:$D$1499,$AI16,data!$G$3:$G$1499,\"مثبت\",data!$CS$3:$CS$1499,1)","v":0},{"$f":"SUMIFS(data!BW$3:BW$1499,data!$D$3:$D$1499,$AI16,data!$G$3:$G$1499,\"مثبت\",data!$CS$3:$CS$1499,1)","v":0},{"$f":"SUMIFS(data!BX$3:BX$1499,data!$D$3:$D$1499,$AI16,data!$G$3:$G$1499,\"مثبت\",data!$CS$3:$CS$1499,1)","v":0},{"$f":"SUMIFS(data!BY$3:BY$1499,data!$D$3:$D$1499,$AI16,data!$G$3:$G$1499,\"مثبت\",data!$CS$3:$CS$1499,1)","v":0},{"$f":"SUMIFS(data!BZ$3:BZ$1499,data!$D$3:$D$1499,$AI16,data!$G$3:$G$1499,\"مثبت\",data!$CS$3:$CS$1499,1)","v":0},{"$f":"SUMIFS(data!CA$3:CA$1499,data!$D$3:$D$1499,$AI16,data!$G$3:$G$1499,\"مثبت\",data!$CS$3:$CS$1499,1)","v":0},{"$f":"SUMIFS(data!CB$3:CB$1499,data!$D$3:$D$1499,$AI16,data!$G$3:$G$1499,\"مثبت\",data!$CS$3:$CS$1499,1)","v":0},{"$f":"SUMIFS(data!CC$3:CC$1499,data!$D$3:$D$1499,$AI16,data!$G$3:$G$1499,\"مثبت\",data!$CS$3:$CS$1499,1)","v":0},{"$f":"SUMIFS(data!CD$3:CD$1499,data!$D$3:$D$1499,$AI16,data!$G$3:$G$1499,\"مثبت\",data!$CS$3:$CS$1499,1)","v":0},{"$f":"SUMIFS(data!CE$3:CE$1499,data!$D$3:$D$1499,$AI16,data!$G$3:$G$1499,\"مثبت\",data!$CS$3:$CS$1499,1)","v":0},{"$f":"SUMIFS(data!CF$3:CF$1499,data!$D$3:$D$1499,$AI16,data!$G$3:$G$1499,\"مثبت\",data!$CS$3:$CS$1499,1)","v":0},{"$f":"SUMIFS(data!CG$3:CG$1499,data!$D$3:$D$1499,$AI16,data!$G$3:$G$1499,\"مثبت\",data!$CS$3:$CS$1499,1)","v":0},{"$f":"SUMIFS(data!CH$3:CH$1499,data!$D$3:$D$1499,$AI16,data!$G$3:$G$1499,\"مثبت\",data!$CS$3:$CS$1499,1)","v":0},{"$f":"SUMIFS(data!CI$3:CI$1499,data!$D$3:$D$1499,$AI16,data!$G$3:$G$1499,\"مثبت\",data!$CS$3:$CS$1499,1)","v":0},{"$f":"SUMIFS(data!CJ$3:CJ$1499,data!$D$3:$D$1499,$AI16,data!$G$3:$G$1499,\"مثبت\",data!$CS$3:$CS$1499,1)","v":0},{"$f":"SUMIFS(data!CK$3:CK$1499,data!$D$3:$D$1499,$AI16,data!$G$3:$G$1499,\"مثبت\",data!$CS$3:$CS$1499,1)","v":0},{"$f":"SUMIFS(data!CL$3:CL$1499,data!$D$3:$D$1499,$AI16,data!$G$3:$G$1499,\"مثبت\",data!$CS$3:$CS$1499,1)","v":0},{"$f":"SUMIFS(data!CM$3:CM$1499,data!$D$3:$D$1499,$AI16,data!$G$3:$G$1499,\"مثبت\",data!$CS$3:$CS$1499,1)","v":0},{"$f":"SUMIFS(data!CN$3:CN$1499,data!$D$3:$D$1499,$AI16,data!$G$3:$G$1499,\"مثبت\",data!$CS$3:$CS$1499,1)","v":0},{"$f":"SUMIFS(data!CO$3:CO$1499,data!$D$3:$D$1499,$AI16,data!$G$3:$G$1499,\"مثبت\",data!$CS$3:$CS$1499,1)","v":0},{"$f":"SUMIFS(data!CP$3:CP$1499,data!$D$3:$D$1499,$AI16,data!$G$3:$G$1499,\"مثبت\",data!$CS$3:$CS$1499,1)","v":0},0]
[{"$f":"IFERROR(INDEX($AI$6:$AI$25,MATCH(ROWS($AG$6:AG17),$AG$6:$AG$115,0),1),\"\")","v":""},{"$f":"IFERROR(INDEX($AJ$6:$BM$25,MATCH(ROWS($AG$6:AG17),$AG$6:$AG$25,0),MATCH(COLUMNS($AJ$3:AJ14),$AJ$3:$BM$3,0)),\"\")","v":""},{"$f":"IFERROR(INDEX($AJ$6:$BM$25,MATCH(ROWS($AG$6:AH17),$AG$6:$AG$25,0),MATCH(COLUMNS($AJ$3:AK14),$AJ$3:$BM$3,0)),\"\")","v":""},{"$f":"IFERROR(INDEX($AJ$6:$BM$25,MATCH(ROWS($AG$6:AI17),$AG$6:$AG$25,0),MATCH(COLUMNS($AJ$3:AL14),$AJ$3:$BM$3,0)),\"\")","v":""},{"$f":"IFERROR(INDEX($AJ$6:$BM$25,MATCH(ROWS($AG$6:AJ17),$AG$6:$AG$25,0),MATCH(COLUMNS($AJ$3:AM14),$AJ$3:$BM$3,0)),\"\")","v":""},{"$f":"IFERROR(INDEX($AJ$6:$BM$25,MATCH(ROWS($AG$6:AK17),$AG$6:$AG$25,0),MATCH(COLUMNS($AJ$3:AN14),$AJ$3:$BM$3,0)),\"\")","v":""},{"$f":"IFERROR(INDEX($AJ$6:$BM$25,MATCH(ROWS($AG$6:AL17),$AG$6:$AG$25,0),MATCH(COLUMNS($AJ$3:AO14),$AJ$3:$BM$3,0)),\"\")","v":""},{"$f":"IFERROR(INDEX($AJ$6:$BM$25,MATCH(ROWS($AG$6:AM17),$AG$6:$AG$25,0),MATCH(COLUMNS($AJ$3:AP14),$AJ$3:$BM$3,0)),\"\")","v":""},{"$f":"IFERROR(INDEX($AJ$6:$BM$25,MATCH(ROWS($AG$6:AN17),$AG$6:$AG$25,0),MATCH(COLUMNS($AJ$3:AQ14),$AJ$3:$BM$3,0)),\"\")","v":""},{"$f":"IFERROR(INDEX($AJ$6:$BM$25,MATCH(ROWS($AG$6:AO17),$AG$6:$AG$25,0),MATCH(COLUMNS($AJ$3:AR14),$AJ$3:$BM$3,0)),\"\")","v":""},{"$f":"IFERROR(INDEX($AJ$6:$BM$25,MATCH(ROWS($AG$6:AP17),$AG$6:$AG$25,0),MATCH(COLUMNS($AJ$3:AS14),$AJ$3:$BM$3,0)),\"\")","v":""},{"$f":"IFERROR(INDEX($AJ$6:$BM$25,MATCH(ROWS($AG$6:AQ17),$AG$6:$AG$25,0),MATCH(COLUMNS($AJ$3:AT14),$AJ$3:$BM$3,0)),\"\")","v":""},{"$f":"IFERROR(INDEX($AJ$6:$BM$25,MATCH(ROWS($AG$6:AR17),$AG$6:$AG$25,0),MATCH(COLUMNS($AJ$3:AU14),$AJ$3:$BM$3,0)),\"\")","v":""},{"$f":"IFERROR(INDEX($AJ$6:$BM$25,MATCH(ROWS($AG$6:AS17),$AG$6:$AG$25,0),MATCH(COLUMNS($AJ$3:AV14),$AJ$3:$BM$3,0)),\"\")","v":""},{"$f":"IFERROR(INDEX($AJ$6:$BM$25,MATCH(ROWS($AG$6:AT17),$AG$6:$AG$25,0),MATCH(COLUMNS($AJ$3:AW14),$AJ$3:$BM$3,0)),\"\")","v":""},{"$f":"IFERROR(INDEX($AJ$6:$BM$25,MATCH(ROWS($AG$6:AU17),$AG$6:$AG$25,0),MATCH(COLUMNS($AJ$3:AX14),$AJ$3:$BM$3,0)),\"\")","v":""},{"$f":"IFERROR(INDEX($AJ$6:$BM$25,MATCH(ROWS($AG$6:AV17),$AG$6:$AG$25,0),MATCH(COLUMNS($AJ$3:AY14),$AJ$3:$BM$3,0)),\"\")","v":""},{"$f":"IFERROR(INDEX($AJ$6:$BM$25,MATCH(ROWS($AG$6:AW17),$AG$6:$AG$25,0),MATCH(COLUMNS($AJ$3:AZ14),$AJ$3:$BM$3,0)),\"\")","v":""},{"$f":"IFERROR(INDEX($AJ$6:$BM$25,MATCH(ROWS($AG$6:AX17),$AG$6:$AG$25,0),MATCH(COLUMNS($AJ$3:BA14),$AJ$3:$BM$3,0)),\"\")","v":""},{"$f":"IFERROR(INDEX($AJ$6:$BM$25,MATCH(ROWS($AG$6:AY17),$AG$6:$AG$25,0),MATCH(COLUMNS($AJ$3:BB14),$AJ$3:$BM$3,0)),\"\")","v":""},{"$f":"IFERROR(INDEX($AJ$6:$BM$25,MATCH(ROWS($AG$6:AZ17),$AG$6:$AG$25,0),MATCH(COLUMNS($AJ$3:BC14),$AJ$3:$BM$3,0)),\"\")","v":""},{"$f":"IFERROR(INDEX($AJ$6:$BM$25,MATCH(ROWS($AG$6:BA17),$AG$6:$AG$25,0),MATCH(COLUMNS($AJ$3:BD14),$AJ$3:$BM$3,0)),\"\")","v":""},{"$f":"IFERROR(INDEX($AJ$6:$BM$25,MATCH(ROWS($AG$6:BB17),$AG$6:$AG$25,0),MATCH(COLUMNS($AJ$3:BE14),$AJ$3:$BM$3,0)),\"\")","v":""},{"$f":"IFERROR(INDEX($AJ$6:$BM$25,MATCH(ROWS($AG$6:BC17),$AG$6:$AG$25,0),MATCH(COLUMNS($AJ$3:BF14),$AJ$3:$BM$3,0)),\"\")","v":""},{"$f":"IFERROR(INDEX($AJ$6:$BM$25,MATCH(ROWS($AG$6:BD17),$AG$6:$AG$25,0),MATCH(COLUMNS($AJ$3:BG14),$AJ$3:$BM$3,0)),\"\")","v":""},{"$f":"IFERROR(INDEX($AJ$6:$BM$25,MATCH(ROWS($AG$6:BE17),$AG$6:$AG$25,0),MATCH(COLUMNS($AJ$3:BH14),$AJ$3:$BM$3,0)),\"\")","v":""},{"$f":"IFERROR(INDEX($AJ$6:$BM$25,MATCH(ROWS($AG$6:BF17),$AG$6:$AG$25,0),MATCH(COLUMNS($AJ$3:BI14),$AJ$3:$BM$3,0)),\"\")","v":""},{"$f":"IFERROR(INDEX($AJ$6:$BM$25,MATCH(ROWS($AG$6:BG17),$AG$6:$AG$25,0),MATCH(COLUMNS($AJ$3:BJ14),$AJ$3:$BM$3,0)),\"\")","v":""},{"$f":"IFERROR(INDEX($AJ$6:$BM$25,MATCH(ROWS($AG$6:BH17),$AG$6:$AG$25,0),MATCH(COLUMNS($AJ$3:BK14),$AJ$3:$BM$3,0)),\"\")","v":""},{"$f":"IFERROR(INDEX($AJ$6:$BM$25,MATCH(ROWS($AG$6:BI17),$AG$6:$AG$25,0),MATCH(COLUMNS($AJ$3:BL14),$AJ$3:$BM$3,0)),\"\")","v":""},{"$f":"IFERROR(INDEX($AJ$6:$BM$25,MATCH(ROWS($AG$6:BJ17),$AG$6:$AG$25,0),MATCH(COLUMNS($AJ$3:BM14),$AJ$3:$BM$3,0)),\"\")","v":""},null,{"$f":"IF(AH17=0,\"\",SUM($AH$6:AH17))","v":""},0,"سراشیا",{"$f":"SUMIFS(data!BN$3:BN$1499,data!$D$3:$D$1499,$AI17,data!$G$3:$G$1499,\"مثبت\",data!$CS$3:$CS$1499,1)","v":0},{"$f":"SUMIFS(data!BO$3:BO$1499,data!$D$3:$D$1499,$AI17,data!$G$3:$G$1499,\"مثبت\",data!$CS$3:$CS$1499,1)","v":0},{"$f":"SUMIFS(data!BP$3:BP$1499,data!$D$3:$D$1499,$AI17,data!$G$3:$G$1499,\"مثبت\",data!$CS$3:$CS$1499,1)","v":0},{"$f":"SUMIFS(data!BQ$3:BQ$1499,data!$D$3:$D$1499,$AI17,data!$G$3:$G$1499,\"مثبت\",data!$CS$3:$CS$1499,1)","v":0},{"$f":"SUMIFS(data!BR$3:BR$1499,data!$D$3:$D$1499,$AI17,data!$G$3:$G$1499,\"مثبت\",data!$CS$3:$CS$1499,1)","v":0},{"$f":"SUMIFS(data!BS$3:BS$1499,data!$D$3:$D$1499,$AI17,data!$G$3:$G$1499,\"مثبت\",data!$CS$3:$CS$1499,1)","v":0},{"$f":"SUMIFS(data!BT$3:BT$1499,data!$D$3:$D$1499,$AI17,data!$G$3:$G$1499,\"مثبت\",data!$CS$3:$CS$1499,1)","v":0},{"$f":"SUMIFS(data!BU$3:BU$1499,data!$D$3:$D$1499,$AI17,data!$G$3:$G$1499,\"مثبت\",data!$CS$3:$CS$1499,1)","v":0},{"$f":"SUMIFS(data!BV$3:BV$1499,data!$D$3:$D$1499,$AI17,data!$G$3:$G$1499,\"مثبت\",data!$CS$3:$CS$1499,1)","v":0},{"$f":"SUMIFS(data!BW$3:BW$1499,data!$D$3:$D$1499,$AI17,data!$G$3:$G$1499,\"مثبت\",data!$CS$3:$CS$1499,1)","v":0},{"$f":"SUMIFS(data!BX$3:BX$1499,data!$D$3:$D$1499,$AI17,data!$G$3:$G$1499,\"مثبت\",data!$CS$3:$CS$1499,1)","v":0},{"$f":"SUMIFS(data!BY$3:BY$1499,data!$D$3:$D$1499,$AI17,data!$G$3:$G$1499,\"مثبت\",data!$CS$3:$CS$1499,1)","v":0},{"$f":"SUMIFS(data!BZ$3:BZ$1499,data!$D$3:$D$1499,$AI17,data!$G$3:$G$1499,\"مثبت\",data!$CS$3:$CS$1499,1)","v":0},{"$f":"SUMIFS(data!CA$3:CA$1499,data!$D$3:$D$1499,$AI17,data!$G$3:$G$1499,\"مثبت\",data!$CS$3:$CS$1499,1)","v":0},{"$f":"SUMIFS(data!CB$3:CB$1499,data!$D$3:$D$1499,$AI17,data!$G$3:$G$1499,\"مثبت\",data!$CS$3:$CS$1499,1)","v":0},{"$f":"SUMIFS(data!CC$3:CC$1499,data!$D$3:$D$1499,$AI17,data!$G$3:$G$1499,\"مثبت\",data!$CS$3:$CS$1499,1)","v":0},{"$f":"SUMIFS(data!CD$3:CD$1499,data!$D$3:$D$1499,$AI17,data!$G$3:$G$1499,\"مثبت\",data!$CS$3:$CS$1499,1)","v":0},{"$f":"SUMIFS(data!CE$3:CE$1499,data!$D$3:$D$1499,$AI17,data!$G$3:$G$1499,\"مثبت\",data!$CS$3:$CS$1499,1)","v":0},{"$f":"SUMIFS(data!CF$3:CF$1499,data!$D$3:$D$1499,$AI17,data!$G$3:$G$1499,\"مثبت\",data!$CS$3:$CS$1499,1)","v":0},{"$f":"SUMIFS(data!CG$3:CG$1499,data!$D$3:$D$1499,$AI17,data!$G$3:$G$1499,\"مثبت\",data!$CS$3:$CS$1499,1)","v":0},{"$f":"SUMIFS(data!CH$3:CH$1499,data!$D$3:$D$1499,$AI17,data!$G$3:$G$1499,\"مثبت\",data!$CS$3:$CS$1499,1)","v":0},{"$f":"SUMIFS(data!CI$3:CI$1499,data!$D$3:$D$1499,$AI17,data!$G$3:$G$1499,\"مثبت\",data!$CS$3:$CS$1499,1)","v":0},{"$f":"SUMIFS(data!CJ$3:CJ$1499,data!$D$3:$D$1499,$AI17,data!$G$3:$G$1499,\"مثبت\",data!$CS$3:$CS$1499,1)","v":0},{"$f":"SUMIFS(data!CK$3:CK$1499,data!$D$3:$D$1499,$AI17,data!$G$3:$G$1499,\"مثبت\",data!$CS$3:$CS$1499,1)","v":0},{"$f":"SUMIFS(data!CL$3:CL$1499,data!$D$3:$D$1499,$AI17,data!$G$3:$G$1499,\"مثبت\",data!$CS$3:$CS$1499,1)","v":0},{"$f":"SUMIFS(data!CM$3:CM$1499,data!$D$3:$D$1499,$AI17,data!$G$3:$G$1499,\"مثبت\",data!$CS$3:$CS$1499,1)","v":0},{"$f":"SUMIFS(data!CN$3:CN$1499,data!$D$3:$D$1499,$AI17,data!$G$3:$G$1499,\"مثبت\",data!$CS$3:$CS$1499,1)","v":0},{"$f":"SUMIFS(data!CO$3:CO$1499,data!$D$3:$D$1499,$AI17,data!$G$3:$G$1499,\"مثبت\",data!$CS$3:$CS$1499,1)","v":0},{"$f":"SUMIFS(data!CP$3:CP$1499,data!$D$3:$D$1499,$AI17,data!$G$3:$G$1499,\"مثبت\",data!$CS$3:$CS$1499,1)","v":0},0]
[{"$f":"IFERROR(INDEX($AI$6:$AI$25,MATCH(ROWS($AG$6:AG18),$AG$6:$AG$115,0),1),\"\")","v":""},{"$f":"IFERROR(INDEX($AJ$6:$BM$25,MATCH(ROWS($AG$6:AG18),$AG$6:$AG$25,0),MATCH(COLUMNS($AJ$3:AJ15),$AJ$3:$BM$3,0)),\"\")","v":""},{"$f":"IFERROR(INDEX($AJ$6:$BM$25,MATCH(ROWS($AG$6:AH18),$AG$6:$AG$25,0),MATCH(COLUMNS($AJ$3:AK15),$AJ$3:$BM$3,0)),\"\")","v":""},{"$f":"IFERROR(INDEX($AJ$6:$BM$25,MATCH(ROWS($AG$6:AI18),$AG$6:$AG$25,0),MATCH(COLUMNS($AJ$3:AL15),$AJ$3:$BM$3,0)),\"\")","v":""},{"$f":"IFERROR(INDEX($AJ$6:$BM$25,MATCH(ROWS($AG$6:AJ18),$AG$6:$AG$25,0),MATCH(COLUMNS($AJ$3:AM15),$AJ$3:$BM$3,0)),\"\")","v":""},{"$f":"IFERROR(INDEX($AJ$6:$BM$25,MATCH(ROWS($AG$6:AK18),$AG$6:$AG$25,0),MATCH(COLUMNS($AJ$3:AN15),$AJ$3:$BM$3,0)),\"\")","v":""},{"$f":"IFERROR(INDEX($AJ$6:$BM$25,MATCH(ROWS($AG$6:AL18),$AG$6:$AG$25,0),MATCH(COLUMNS($AJ$3:AO15),$AJ$3:$BM$3,0)),\"\")","v":""},{"$f":"IFERROR(INDEX($AJ$6:$BM$25,MATCH(ROWS($AG$6:AM18),$AG$6:$AG$25,0),MATCH(COLUMNS($AJ$3:AP15),$AJ$3:$BM$3,0)),\"\")","v":""},{"$f":"IFERROR(INDEX($AJ$6:$BM$25,MATCH(ROWS($AG$6:AN18),$AG$6:$AG$25,0),MATCH(COLUMNS($AJ$3:AQ15),$AJ$3:$BM$3,0)),\"\")","v":""},{"$f":"IFERROR(INDEX($AJ$6:$BM$25,MATCH(ROWS($AG$6:AO18),$AG$6:$AG$25,0),MATCH(COLUMNS($AJ$3:AR15),$AJ$3:$BM$3,0)),\"\")","v":""},{"$f":"IFERROR(INDEX($AJ$6:$BM$25,MATCH(ROWS($AG$6:AP18),$AG$6:$AG$25,0),MATCH(COLUMNS($AJ$3:AS15),$AJ$3:$BM$3,0)),\"\")","v":""},{"$f":"IFERROR(INDEX($AJ$6:$BM$25,MATCH(ROWS($AG$6:AQ18),$AG$6:$AG$25,0),MATCH(COLUMNS($AJ$3:AT15),$AJ$3:$BM$3,0)),\"\")","v":""},{"$f":"IFERROR(INDEX($AJ$6:$BM$25,MATCH(ROWS($AG$6:AR18),$AG$6:$AG$25,0),MATCH(COLUMNS($AJ$3:AU15),$AJ$3:$BM$3,0)),\"\")","v":""},{"$f":"IFERROR(INDEX($AJ$6:$BM$25,MATCH(ROWS($AG$6:AS18),$AG$6:$AG$25,0),MATCH(COLUMNS($AJ$3:AV15),$AJ$3:$BM$3,0)),\"\")","v":""},{"$f":"IFERROR(INDEX($AJ$6:$BM$25,MATCH(ROWS($AG$6:AT18),$AG$6:$AG$25,0),MATCH(COLUMNS($AJ$3:AW15),$AJ$3:$BM$3,0)),\"\")","v":""},{"$f":"IFERROR(INDEX($AJ$6:$BM$25,MATCH(ROWS($AG$6:AU18),$AG$6:$AG$25,0),MATCH(COLUMNS($AJ$3:AX15),$AJ$3:$BM$3,0)),\"\")","v":""},{"$f":"IFERROR(INDEX($AJ$6:$BM$25,MATCH(ROWS($AG$6:AV18),$AG$6:$AG$25,0),MATCH(COLUMNS($AJ$3:AY15),$AJ$3:$BM$3,0)),\"\")","v":""},{"$f":"IFERROR(INDEX($AJ$6:$BM$25,MATCH(ROWS($AG$6:AW18),$AG$6:$AG$25,0),MATCH(COLUMNS($AJ$3:AZ15),$AJ$3:$BM$3,0)),\"\")","v":""},{"$f":"IFERROR(INDEX($AJ$6:$BM$25,MATCH(ROWS($AG$6:AX18),$AG$6:$AG$25,0),MATCH(COLUMNS($AJ$3:BA15),$AJ$3:$BM$3,0)),\"\")","v":""},{"$f":"IFERROR(INDEX($AJ$6:$BM$25,MATCH(ROWS($AG$6:AY18),$AG$6:$AG$25,0),MATCH(COLUMNS($AJ$3:BB15),$AJ$3:$BM$3,0)),\"\")","v":""},{"$f":"IFERROR(INDEX($AJ$6:$BM$25,MATCH(ROWS($AG$6:AZ18),$AG$6:$AG$25,0),MATCH(COLUMNS($AJ$3:BC15),$AJ$3:$BM$3,0)),\"\")","v":""},{"$f":"IFERROR(INDEX($AJ$6:$BM$25,MATCH(ROWS($AG$6:BA18),$AG$6:$AG$25,0),MATCH(COLUMNS($AJ$3:BD15),$AJ$3:$BM$3,0)),\"\")","v":""},{"$f":"IFERROR(INDEX($AJ$6:$BM$25,MATCH(ROWS($AG$6:BB18),$AG$6:$AG$25,0),MATCH(COLUMNS($AJ$3:BE15),$AJ$3:$BM$3,0)),\"\")","v":""},{"$f":"IFERROR(INDEX($AJ$6:$BM$25,MATCH(ROWS($AG$6:BC18),$AG$6:$AG$25,0),MATCH(COLUMNS($AJ$3:BF15),$AJ$3:$BM$3,0)),\"\")","v":""},{"$f":"IFERROR(INDEX($AJ$6:$BM$25,MATCH(ROWS($AG$6:BD18),$AG$6:$AG$25,0),MATCH(COLUMNS($AJ$3:BG15),$AJ$3:$BM$3,0)),\"\")","v":""},{"$f":"IFERROR(INDEX($AJ$6:$BM$25,MATCH(ROWS($AG$6:BE18),$AG$6:$AG$25,0),MATCH(COLUMNS($AJ$3:BH15),$AJ$3:$BM$3,0)),\"\")","v":""},{"$f":"IFERROR(INDEX($AJ$6:$BM$25,MATCH(ROWS($AG$6:BF18),$AG$6:$AG$25,0),MATCH(COLUMNS($AJ$3:BI15),$AJ$3:$BM$3,0)),\"\")","v":""},{"$f":"IFERROR(INDEX($AJ$6:$BM$25,MATCH(ROWS($AG$6:BG18),$AG$6:$AG$25,0),MATCH(COLUMNS($AJ$3:BJ15),$AJ$3:$BM$3,0)),\"\")","v":""},{"$f":"IFERROR(INDEX($AJ$6:$BM$25,MATCH(ROWS($AG$6:BH18),$AG$6:$AG$25,0),MATCH(COLUMNS($AJ$3:BK15),$AJ$3:$BM$3,0)),\"\")","v":""},{"$f":"IFERROR(INDEX($AJ$6:$BM$25,MATCH(ROWS($AG$6:BI18),$AG$6:$AG$25,0),MATCH(COLUMNS($AJ$3:BL15),$AJ$3:$BM$3,0)),\"\")","v":""},{"$f":"IFERROR(INDEX($AJ$6:$BM$25,MATCH(ROWS($AG$6:BJ18),$AG$6:$AG$25,0),MATCH(COLUMNS($AJ$3:BM15),$AJ$3:$BM$3,0)),\"\")","v":""},null,{"$f":"IF(AH18=0,\"\",SUM($AH$6:AH18))","v":""},0,"سیتروباکتر",{"$f":"SUMIFS(data!BN$3:BN$1499,data!$D$3:$D$1499,$AI18,data!$G$3:$G$1499,\"مثبت\",data!$CS$3:$CS$1499,1)","v":0},{"$f":"SUMIFS(data!BO$3:BO$1499,data!$D$3:$D$1499,$AI18,data!$G$3:$G$1499,\"مثبت\",data!$CS$3:$CS$1499,1)","v":0},{"$f":"SUMIFS(data!BP$3:BP$1499,data!$D$3:$D$1499,$AI18,data!$G$3:$G$1499,\"مثبت\",data!$CS$3:$CS$1499,1)","v":0},{"$f":"SUMIFS(data!BQ$3:BQ$1499,data!$D$3:$D$1499,$AI18,data!$G$3:$G$1499,\"مثبت\",data!$CS$3:$CS$1499,1)","v":0},{"$f":"SUMIFS(data!BR$3:BR$1499,data!$D$3:$D$1499,$AI18,data!$G$3:$G$1499,\"مثبت\",data!$CS$3:$CS$1499,1)","v":0},{"$f":"SUMIFS(data!BS$3:BS$1499,data!$D$3:$D$1499,$AI18,data!$G$3:$G$1499,\"مثبت\",data!$CS$3:$CS$1499,1)","v":0},{"$f":"SUMIFS(data!BT$3:BT$1499,data!$D$3:$D$1499,$AI18,data!$G$3:$G$1499,\"مثبت\",data!$CS$3:$CS$1499,1)","v":0},{"$f":"SUMIFS(data!BU$3:BU$1499,data!$D$3:$D$1499,$AI18,data!$G$3:$G$1499,\"مثبت\",data!$CS$3:$CS$1499,1)","v":0},{"$f":"SUMIFS(data!BV$3:BV$1499,data!$D$3:$D$1499,$AI18,data!$G$3:$G$1499,\"مثبت\",data!$CS$3:$CS$1499,1)","v":0},{"$f":"SUMIFS(data!BW$3:BW$1499,data!$D$3:$D$1499,$AI18,data!$G$3:$G$1499,\"مثبت\",data!$CS$3:$CS$1499,1)","v":0},{"$f":"SUMIFS(data!BX$3:BX$1499,data!$D$3:$D$1499,$AI18,data!$G$3:$G$1499,\"مثبت\",data!$CS$3:$CS$1499,1)","v":0},{"$f":"SUMIFS(data!BY$3:BY$1499,data!$D$3:$D$1499,$AI18,data!$G$3:$G$1499,\"مثبت\",data!$CS$3:$CS$1499,1)","v":0},{"$f":"SUMIFS(data!BZ$3:BZ$1499,data!$D$3:$D$1499,$AI18,data!$G$3:$G$1499,\"مثبت\",data!$CS$3:$CS$1499,1)","v":0},{"$f":"SUMIFS(data!CA$3:CA$1499,data!$D$3:$D$1499,$AI18,data!$G$3:$G$1499,\"مثبت\",data!$CS$3:$CS$1499,1)","v":0},{"$f":"SUMIFS(data!CB$3:CB$1499,data!$D$3:$D$1499,$AI18,data!$G$3:$G$1499,\"مثبت\",data!$CS$3:$CS$1499,1)","v":0},{"$f":"SUMIFS(data!CC$3:CC$1499,data!$D$3:$D$1499,$AI18,data!$G$3:$G$1499,\"مثبت\",data!$CS$3:$CS$1499,1)","v":0},{"$f":"SUMIFS(data!CD$3:CD$1499,data!$D$3:$D$1499,$AI18,data!$G$3:$G$1499,\"مثبت\",data!$CS$3:$CS$1499,1)","v":0},{"$f":"SUMIFS(data!CE$3:CE$1499,data!$D$3:$D$1499,$AI18,data!$G$3:$G$1499,\"مثبت\",data!$CS$3:$CS$1499,1)","v":0},{"$f":"SUMIFS(data!CF$3:CF$1499,data!$D$3:$D$1499,$AI18,data!$G$3:$G$1499,\"مثبت\",data!$CS$3:$CS$1499,1)","v":0},{"$f":"SUMIFS(data!CG$3:CG$1499,data!$D$3:$D$1499,$AI18,data!$G$3:$G$1499,\"مثبت\",data!$CS$3:$CS$1499,1)","v":0},{"$f":"SUMIFS(data!CH$3:CH$1499,data!$D$3:$D$1499,$AI18,data!$G$3:$G$1499,\"مثبت\",data!$CS$3:$CS$1499,1)","v":0},{"$f":"SUMIFS(data!CI$3:CI$1499,data!$D$3:$D$1499,$AI18,data!$G$3:$G$1499,\"مثبت\",data!$CS$3:$CS$1499,1)","v":0},{"$f":"SUMIFS(data!CJ$3:CJ$1499,data!$D$3:$D$1499,$AI18,data!$G$3:$G$1499,\"مثبت\",data!$CS$3:$CS$1499,1)","v":0},{"$f":"SUMIFS(data!CK$3:CK$1499,data!$D$3:$D$1499,$AI18,data!$G$3:$G$1499,\"مثبت\",data!$CS$3:$CS$1499,1)","v":0},{"$f":"SUMIFS(data!CL$3:CL$1499,data!$D$3:$D$1499,$AI18,data!$G$3:$G$1499,\"مثبت\",data!$CS$3:$CS$1499,1)","v":0},{"$f":"SUMIFS(data!CM$3:CM$1499,data!$D$3:$D$1499,$AI18,data!$G$3:$G$1499,\"مثبت\",data!$CS$3:$CS$1499,1)","v":0},{"$f":"SUMIFS(data!CN$3:CN$1499,data!$D$3:$D$1499,$AI18,data!$G$3:$G$1499,\"مثبت\",data!$CS$3:$CS$1499,1)","v":0},{"$f":"SUMIFS(data!CO$3:CO$1499,data!$D$3:$D$1499,$AI18,data!$G$3:$G$1499,\"مثبت\",data!$CS$3:$CS$1499,1)","v":0},{"$f":"SUMIFS(data!CP$3:CP$1499,data!$D$3:$D$1499,$AI18,data!$G$3:$G$1499,\"مثبت\",data!$CS$3:$CS$1499,1)","v":0},0]
[{"$f":"IFERROR(INDEX($AI$6:$AI$25,MATCH(ROWS($AG$6:AG19),$AG$6:$AG$115,0),1),\"\")","v":""},{"$f":"IFERROR(INDEX($AJ$6:$BM$25,MATCH(ROWS($AG$6:AG19),$AG$6:$AG$25,0),MATCH(COLUMNS($AJ$3:AJ16),$AJ$3:$BM$3,0)),\"\")","v":""},{"$f":"IFERROR(INDEX($AJ$6:$BM$25,MATCH(ROWS($AG$6:AH19),$AG$6:$AG$25,0),MATCH(COLUMNS($AJ$3:AK16),$AJ$3:$BM$3,0)),\"\")","v":""},{"$f":"IFERROR(INDEX($AJ$6:$BM$25,MATCH(ROWS($AG$6:AI19),$AG$6:$AG$25,0),MATCH(COLUMNS($AJ$3:AL16),$AJ$3:$BM$3,0)),\"\")","v":""},{"$f":"IFERROR(INDEX($AJ$6:$BM$25,MATCH(ROWS($AG$6:AJ19),$AG$6:$AG$25,0),MATCH(COLUMNS($AJ$3:AM16),$AJ$3:$BM$3,0)),\"\")","v":""},{"$f":"IFERROR(INDEX($AJ$6:$BM$25,MATCH(ROWS($AG$6:AK19),$AG$6:$AG$25,0),MATCH(COLUMNS($AJ$3:AN16),$AJ$3:$BM$3,0)),\"\")","v":""},{"$f":"IFERROR(INDEX($AJ$6:$BM$25,MATCH(ROWS($AG$6:AL19),$AG$6:$AG$25,0),MATCH(COLUMNS($AJ$3:AO16),$AJ$3:$BM$3,0)),\"\")","v":""},{"$f":"IFERROR(INDEX($AJ$6:$BM$25,MATCH(ROWS($AG$6:AM19),$AG$6:$AG$25,0),MATCH(COLUMNS($AJ$3:AP16),$AJ$3:$BM$3,0)),\"\")","v":""},{"$f":"IFERROR(INDEX($AJ$6:$BM$25,MATCH(ROWS($AG$6:AN19),$AG$6:$AG$25,0),MATCH(COLUMNS($AJ$3:AQ16),$AJ$3:$BM$3,0)),\"\")","v":""},{"$f":"IFERROR(INDEX($AJ$6:$BM$25,MATCH(ROWS($AG$6:AO19),$AG$6:$AG$25,0),MATCH(COLUMNS($AJ$3:AR16),$AJ$3:$BM$3,0)),\"\")","v":""},{"$f":"IFERROR(INDEX($AJ$6:$BM$25,MATCH(ROWS($AG$6:AP19),$AG$6:$AG$25,0),MATCH(COLUMNS($AJ$3:AS16),$AJ$3:$BM$3,0)),\"\")","v":""},{"$f":"IFERROR(INDEX($AJ$6:$BM$25,MATCH(ROWS($AG$6:AQ19),$AG$6:$AG$25,0),MATCH(COLUMNS($AJ$3:AT16),$AJ$3:$BM$3,0)),\"\")","v":""},{"$f":"IFERROR(INDEX($AJ$6:$BM$25,MATCH(ROWS($AG$6:AR19),$AG$6:$AG$25,0),MATCH(COLUMNS($AJ$3:AU16),$AJ$3:$BM$3,0)),\"\")","v":""},{"$f":"IFERROR(INDEX($AJ$6:$BM$25,MATCH(ROWS($AG$6:AS19),$AG$6:$AG$25,0),MATCH(COLUMNS($AJ$3:AV16),$AJ$3:$BM$3,0)),\"\")","v":""},{"$f":"IFERROR(INDEX($AJ$6:$BM$25,MATCH(ROWS($AG$6:AT19),$AG$6:$AG$25,0),MATCH(COLUMNS($AJ$3:AW16),$AJ$3:$BM$3,0)),\"\")","v":""},{"$f":"IFERROR(INDEX($AJ$6:$BM$25,MATCH(ROWS($AG$6:AU19),$AG$6:$AG$25,0),MATCH(COLUMNS($AJ$3:AX16),$AJ$3:$BM$3,0)),\"\")","v":""},{"$f":"IFERROR(INDEX($AJ$6:$BM$25,MATCH(ROWS($AG$6:AV19),$AG$6:$AG$25,0),MATCH(COLUMNS($AJ$3:AY16),$AJ$3:$BM$3,0)),\"\")","v":""},{"$f":"IFERROR(INDEX($AJ$6:$BM$25,MATCH(ROWS($AG$6:AW19),$AG$6:$AG$25,0),MATCH(COLUMNS($AJ$3:AZ16),$AJ$3:$BM$3,0)),\"\")","v":""},{"$f":"IFERROR(INDEX($AJ$6:$BM$25,MATCH(ROWS($AG$6:AX19),$AG$6:$AG$25,0),MATCH(COLUMNS($AJ$3:BA16),$AJ$3:$BM$3,0)),\"\")","v":""},{"$f":"IFERROR(INDEX($AJ$6:$BM$25,MATCH(ROWS($AG$6:AY19),$AG$6:$AG$25,0),MATCH(COLUMNS($AJ$3:BB16),$AJ$3:$BM$3,0)),\"\")","v":""},{"$f":"IFERROR(INDEX($AJ$6:$BM$25,MATCH(ROWS($AG$6:AZ19),$AG$6:$AG$25,0),MATCH(COLUMNS($AJ$3:BC16),$AJ$3:$BM$3,0)),\"\")","v":""},{"$f":"IFERROR(INDEX($AJ$6:$BM$25,MATCH(ROWS($AG$6:BA19),$AG$6:$AG$25,0),MATCH(COLUMNS($AJ$3:BD16),$AJ$3:$BM$3,0)),\"\")","v":""},{"$f":"IFERROR(INDEX($AJ$6:$BM$25,MATCH(ROWS($AG$6:BB19),$AG$6:$AG$25,0),MATCH(COLUMNS($AJ$3:BE16),$AJ$3:$BM$3,0)),\"\")","v":""},{"$f":"IFERROR(INDEX($AJ$6:$BM$25,MATCH(ROWS($AG$6:BC19),$AG$6:$AG$25,0),MATCH(COLUMNS($AJ$3:BF16),$AJ$3:$BM$3,0)),\"\")","v":""},{"$f":"IFERROR(INDEX($AJ$6:$BM$25,MATCH(ROWS($AG$6:BD19),$AG$6:$AG$25,0),MATCH(COLUMNS($AJ$3:BG16),$AJ$3:$BM$3,0)),\"\")","v":""},{"$f":"IFERROR(INDEX($AJ$6:$BM$25,MATCH(ROWS($AG$6:BE19),$AG$6:$AG$25,0),MATCH(COLUMNS($AJ$3:BH16),$AJ$3:$BM$3,0)),\"\")","v":""},{"$f":"IFERROR(INDEX($AJ$6:$BM$25,MATCH(ROWS($AG$6:BF19),$AG$6:$AG$25,0),MATCH(COLUMNS($AJ$3:BI16),$AJ$3:$BM$3,0)),\"\")","v":""},{"$f":"IFERROR(INDEX($AJ$6:$BM$25,MATCH(ROWS($AG$6:BG19),$AG$6:$AG$25,0),MATCH(COLUMNS($AJ$3:BJ16),$AJ$3:$BM$3,0)),\"\")","v":""},{"$f":"IFERROR(INDEX($AJ$6:$BM$25,MATCH(ROWS($AG$6:BH19),$AG$6:$AG$25,0),MATCH(COLUMNS($AJ$3:BK16),$AJ$3:$BM$3,0)),\"\")","v":""},{"$f":"IFERROR(INDEX($AJ$6:$BM$25,MATCH(ROWS($AG$6:BI19),$AG$6:$AG$25,0),MATCH(COLUMNS($AJ$3:BL16),$AJ$3:$BM$3,0)),\"\")","v":""},{"$f":"IFERROR(INDEX($AJ$6:$BM$25,MATCH(ROWS($AG$6:BJ19),$AG$6:$AG$25,0),MATCH(COLUMNS($AJ$3:BM16),$AJ$3:$BM$3,0)),\"\")","v":""},null,{"$f":"IF(AH19=0,\"\",SUM($AH$6:AH19))","v":""},0,"پروتئوس",{"$f":"SUMIFS(data!BN$3:BN$1499,data!$D$3:$D$1499,$AI19,data!$G$3:$G$1499,\"مثبت\",data!$CS$3:$CS$1499,1)","v":0},{"$f":"SUMIFS(data!BO$3:BO$1499,data!$D$3:$D$1499,$AI19,data!$G$3:$G$1499,\"مثبت\",data!$CS$3:$CS$1499,1)","v":0},{"$f":"SUMIFS(data!BP$3:BP$1499,data!$D$3:$D$1499,$AI19,data!$G$3:$G$1499,\"مثبت\",data!$CS$3:$CS$1499,1)","v":0},{"$f":"SUMIFS(data!BQ$3:BQ$1499,data!$D$3:$D$1499,$AI19,data!$G$3:$G$1499,\"مثبت\",data!$CS$3:$CS$1499,1)","v":0},{"$f":"SUMIFS(data!BR$3:BR$1499,data!$D$3:$D$1499,$AI19,data!$G$3:$G$1499,\"مثبت\",data!$CS$3:$CS$1499,1)","v":0},{"$f":"SUMIFS(data!BS$3:BS$1499,data!$D$3:$D$1499,$AI19,data!$G$3:$G$1499,\"مثبت\",data!$CS$3:$CS$1499,1)","v":0},{"$f":"SUMIFS(data!BT$3:BT$1499,data!$D$3:$D$1499,$AI19,data!$G$3:$G$1499,\"مثبت\",data!$CS$3:$CS$1499,1)","v":0},{"$f":"SUMIFS(data!BU$3:BU$1499,data!$D$3:$D$1499,$AI19,data!$G$3:$G$1499,\"مثبت\",data!$CS$3:$CS$1499,1)","v":0},{"$f":"SUMIFS(data!BV$3:BV$1499,data!$D$3:$D$1499,$AI19,data!$G$3:$G$1499,\"مثبت\",data!$CS$3:$CS$1499,1)","v":0},{"$f":"SUMIFS(data!BW$3:BW$1499,data!$D$3:$D$1499,$AI19,data!$G$3:$G$1499,\"مثبت\",data!$CS$3:$CS$1499,1)","v":0},{"$f":"SUMIFS(data!BX$3:BX$1499,data!$D$3:$D$1499,$AI19,data!$G$3:$G$1499,\"مثبت\",data!$CS$3:$CS$1499,1)","v":0},{"$f":"SUMIFS(data!BY$3:BY$1499,data!$D$3:$D$1499,$AI19,data!$G$3:$G$1499,\"مثبت\",data!$CS$3:$CS$1499,1)","v":0},{"$f":"SUMIFS(data!BZ$3:BZ$1499,data!$D$3:$D$1499,$AI19,data!$G$3:$G$1499,\"مثبت\",data!$CS$3:$CS$1499,1)","v":0},{"$f":"SUMIFS(data!CA$3:CA$1499,data!$D$3:$D$1499,$AI19,data!$G$3:$G$1499,\"مثبت\",data!$CS$3:$CS$1499,1)","v":0},{"$f":"SUMIFS(data!CB$3:CB$1499,data!$D$3:$D$1499,$AI19,data!$G$3:$G$1499,\"مثبت\",data!$CS$3:$CS$1499,1)","v":0},{"$f":"SUMIFS(data!CC$3:CC$1499,data!$D$3:$D$1499,$AI19,data!$G$3:$G$1499,\"مثبت\",data!$CS$3:$CS$1499,1)","v":0},{"$f":"SUMIFS(data!CD$3:CD$1499,data!$D$3:$D$1499,$AI19,data!$G$3:$G$1499,\"مثبت\",data!$CS$3:$CS$1499,1)","v":0},{"$f":"SUMIFS(data!CE$3:CE$1499,data!$D$3:$D$1499,$AI19,data!$G$3:$G$1499,\"مثبت\",data!$CS$3:$CS$1499,1)","v":0},{"$f":"SUMIFS(data!CF$3:CF$1499,data!$D$3:$D$1499,$AI19,data!$G$3:$G$1499,\"مثبت\",data!$CS$3:$CS$1499,1)","v":0},{"$f":"SUMIFS(data!CG$3:CG$1499,data!$D$3:$D$1499,$AI19,data!$G$3:$G$1499,\"مثبت\",data!$CS$3:$CS$1499,1)","v":0},{"$f":"SUMIFS(data!CH$3:CH$1499,data!$D$3:$D$1499,$AI19,data!$G$3:$G$1499,\"مثبت\",data!$CS$3:$CS$1499,1)","v":0},{"$f":"SUMIFS(data!CI$3:CI$1499,data!$D$3:$D$1499,$AI19,data!$G$3:$G$1499,\"مثبت\",data!$CS$3:$CS$1499,1)","v":0},{"$f":"SUMIFS(data!CJ$3:CJ$1499,data!$D$3:$D$1499,$AI19,data!$G$3:$G$1499,\"مثبت\",data!$CS$3:$CS$1499,1)","v":0},{"$f":"SUMIFS(data!CK$3:CK$1499,data!$D$3:$D$1499,$AI19,data!$G$3:$G$1499,\"مثبت\",data!$CS$3:$CS$1499,1)","v":0},{"$f":"SUMIFS(data!CL$3:CL$1499,data!$D$3:$D$1499,$AI19,data!$G$3:$G$1499,\"مثبت\",data!$CS$3:$CS$1499,1)","v":0},{"$f":"SUMIFS(data!CM$3:CM$1499,data!$D$3:$D$1499,$AI19,data!$G$3:$G$1499,\"مثبت\",data!$CS$3:$CS$1499,1)","v":0},{"$f":"SUMIFS(data!CN$3:CN$1499,data!$D$3:$D$1499,$AI19,data!$G$3:$G$1499,\"مثبت\",data!$CS$3:$CS$1499,1)","v":0},{"$f":"SUMIFS(data!CO$3:CO$1499,data!$D$3:$D$1499,$AI19,data!$G$3:$G$1499,\"مثبت\",data!$CS$3:$CS$1499,1)","v":0},{"$f":"SUMIFS(data!CP$3:CP$1499,data!$D$3:$D$1499,$AI19,data!$G$3:$G$1499,\"مثبت\",data!$CS$3:$CS$1499,1)","v":0},0]
[{"$f":"IFERROR(INDEX($AI$6:$AI$25,MATCH(ROWS($AG$6:AG20),$AG$6:$AG$115,0),1),\"\")","v":""},{"$f":"IFERROR(INDEX($AJ$6:$BM$25,MATCH(ROWS($AG$6:AG20),$AG$6:$AG$25,0),MATCH(COLUMNS($AJ$3:AJ17),$AJ$3:$BM$3,0)),\"\")","v":""},{"$f":"IFERROR(INDEX($AJ$6:$BM$25,MATCH(ROWS($AG$6:AH20),$AG$6:$AG$25,0),MATCH(COLUMNS($AJ$3:AK17),$AJ$3:$BM$3,0)),\"\")","v":""},{"$f":"IFERROR(INDEX($AJ$6:$BM$25,MATCH(ROWS($AG$6:AI20),$AG$6:$AG$25,0),MATCH(COLUMNS($AJ$3:AL17),$AJ$3:$BM$3,0)),\"\")","v":""},{"$f":"IFERROR(INDEX($AJ$6:$BM$25,MATCH(ROWS($AG$6:AJ20),$AG$6:$AG$25,0),MATCH(COLUMNS($AJ$3:AM17),$AJ$3:$BM$3,0)),\"\")","v":""},{"$f":"IFERROR(INDEX($AJ$6:$BM$25,MATCH(ROWS($AG$6:AK20),$AG$6:$AG$25,0),MATCH(COLUMNS($AJ$3:AN17),$AJ$3:$BM$3,0)),\"\")","v":""},{"$f":"IFERROR(INDEX($AJ$6:$BM$25,MATCH(ROWS($AG$6:AL20),$AG$6:$AG$25,0),MATCH(COLUMNS($AJ$3:AO17),$AJ$3:$BM$3,0)),\"\")","v":""},{"$f":"IFERROR(INDEX($AJ$6:$BM$25,MATCH(ROWS($AG$6:AM20),$AG$6:$AG$25,0),MATCH(COLUMNS($AJ$3:AP17),$AJ$3:$BM$3,0)),\"\")","v":""},{"$f":"IFERROR(INDEX($AJ$6:$BM$25,MATCH(ROWS($AG$6:AN20),$AG$6:$AG$25,0),MATCH(COLUMNS($AJ$3:AQ17),$AJ$3:$BM$3,0)),\"\")","v":""},{"$f":"IFERROR(INDEX($AJ$6:$BM$25,MATCH(ROWS($AG$6:AO20),$AG$6:$AG$25,0),MATCH(COLUMNS($AJ$3:AR17),$AJ$3:$BM$3,0)),\"\")","v":""},{"$f":"IFERROR(INDEX($AJ$6:$BM$25,MATCH(ROWS($AG$6:AP20),$AG$6:$AG$25,0),MATCH(COLUMNS($AJ$3:AS17),$AJ$3:$BM$3,0)),\"\")","v":""},{"$f":"IFERROR(INDEX($AJ$6:$BM$25,MATCH(ROWS($AG$6:AQ20),$AG$6:$AG$25,0),MATCH(COLUMNS($AJ$3:AT17),$AJ$3:$BM$3,0)),\"\")","v":""},{"$f":"IFERROR(INDEX($AJ$6:$BM$25,MATCH(ROWS($AG$6:AR20),$AG$6:$AG$25,0),MATCH(COLUMNS($AJ$3:AU17),$AJ$3:$BM$3,0)),\"\")","v":""},{"$f":"IFERROR(INDEX($AJ$6:$BM$25,MATCH(ROWS($AG$6:AS20),$AG$6:$AG$25,0),MATCH(COLUMNS($AJ$3:AV17),$AJ$3:$BM$3,0)),\"\")","v":""},{"$f":"IFERROR(INDEX($AJ$6:$BM$25,MATCH(ROWS($AG$6:AT20),$AG$6:$AG$25,0),MATCH(COLUMNS($AJ$3:AW17),$AJ$3:$BM$3,0)),\"\")","v":""},{"$f":"IFERROR(INDEX($AJ$6:$BM$25,MATCH(ROWS($AG$6:AU20),$AG$6:$AG$25,0),MATCH(COLUMNS($AJ$3:AX17),$AJ$3:$BM$3,0)),\"\")","v":""},{"$f":"IFERROR(INDEX($AJ$6:$BM$25,MATCH(ROWS($AG$6:AV20),$AG$6:$AG$25,0),MATCH(COLUMNS($AJ$3:AY17),$AJ$3:$BM$3,0)),\"\")","v":""},{"$f":"IFERROR(INDEX($AJ$6:$BM$25,MATCH(ROWS($AG$6:AW20),$AG$6:$AG$25,0),MATCH(COLUMNS($AJ$3:AZ17),$AJ$3:$BM$3,0)),\"\")","v":""},{"$f":"IFERROR(INDEX($AJ$6:$BM$25,MATCH(ROWS($AG$6:AX20),$AG$6:$AG$25,0),MATCH(COLUMNS($AJ$3:BA17),$AJ$3:$BM$3,0)),\"\")","v":""},{"$f":"IFERROR(INDEX($AJ$6:$BM$25,MATCH(ROWS($AG$6:AY20),$AG$6:$AG$25,0),MATCH(COLUMNS($AJ$3:BB17),$AJ$3:$BM$3,0)),\"\")","v":""},{"$f":"IFERROR(INDEX($AJ$6:$BM$25,MATCH(ROWS($AG$6:AZ20),$AG$6:$AG$25,0),MATCH(COLUMNS($AJ$3:BC17),$AJ$3:$BM$3,0)),\"\")","v":""},{"$f":"IFERROR(INDEX($AJ$6:$BM$25,MATCH(ROWS($AG$6:BA20),$AG$6:$AG$25,0),MATCH(COLUMNS($AJ$3:BD17),$AJ$3:$BM$3,0)),\"\")","v":""},{"$f":"IFERROR(INDEX($AJ$6:$BM$25,MATCH(ROWS($AG$6:BB20),$AG$6:$AG$25,0),MATCH(COLUMNS($AJ$3:BE17),$AJ$3:$BM$3,0)),\"\")","v":""},{"$f":"IFERROR(INDEX($AJ$6:$BM$25,MATCH(ROWS($AG$6:BC20),$AG$6:$AG$25,0),MATCH(COLUMNS($AJ$3:BF17),$AJ$3:$BM$3,0)),\"\")","v":""},{"$f":"IFERROR(INDEX($AJ$6:$BM$25,MATCH(ROWS($AG$6:BD20),$AG$6:$AG$25,0),MATCH(COLUMNS($AJ$3:BG17),$AJ$3:$BM$3,0)),\"\")","v":""},{"$f":"IFERROR(INDEX($AJ$6:$BM$25,MATCH(ROWS($AG$6:BE20),$AG$6:$AG$25,0),MATCH(COLUMNS($AJ$3:BH17),$AJ$3:$BM$3,0)),\"\")","v":""},{"$f":"IFERROR(INDEX($AJ$6:$BM$25,MATCH(ROWS($AG$6:BF20),$AG$6:$AG$25,0),MATCH(COLUMNS($AJ$3:BI17),$AJ$3:$BM$3,0)),\"\")","v":""},{"$f":"IFERROR(INDEX($AJ$6:$BM$25,MATCH(ROWS($AG$6:BG20),$AG$6:$AG$25,0),MATCH(COLUMNS($AJ$3:BJ17),$AJ$3:$BM$3,0)),\"\")","v":""},{"$f":"IFERROR(INDEX($AJ$6:$BM$25,MATCH(ROWS($AG$6:BH20),$AG$6:$AG$25,0),MATCH(COLUMNS($AJ$3:BK17),$AJ$3:$BM$3,0)),\"\")","v":""},{"$f":"IFERROR(INDEX($AJ$6:$BM$25,MATCH(ROWS($AG$6:BI20),$AG$6:$AG$25,0),MATCH(COLUMNS($AJ$3:BL17),$AJ$3:$BM$3,0)),\"\")","v":""},{"$f":"IFERROR(INDEX($AJ$6:$BM$25,MATCH(ROWS($AG$6:BJ20),$AG$6:$AG$25,0),MATCH(COLUMNS($AJ$3:BM17),$AJ$3:$BM$3,0)),\"\")","v":""},null,{"$f":"IF(AH20=0,\"\",SUM($AH$6:AH20))","v":""},0,"آنتروکوک",{"$f":"SUMIFS(data!BN$3:BN$1499,data!$D$3:$D$1499,$AI20,data!$G$3:$G$1499,\"مثبت\",data!$CS$3:$CS$1499,1)","v":0},{"$f":"SUMIFS(data!BO$3:BO$1499,data!$D$3:$D$1499,$AI20,data!$G$3:$G$1499,\"مثبت\",data!$CS$3:$CS$1499,1)","v":0},{"$f":"SUMIFS(data!BP$3:BP$1499,data!$D$3:$D$1499,$AI20,data!$G$3:$G$1499,\"مثبت\",data!$CS$3:$CS$1499,1)","v":0},{"$f":"SUMIFS(data!BQ$3:BQ$1499,data!$D$3:$D$1499,$AI20,data!$G$3:$G$1499,\"مثبت\",data!$CS$3:$CS$1499,1)","v":0},{"$f":"SUMIFS(data!BR$3:BR$1499,data!$D$3:$D$1499,$AI20,data!$G$3:$G$1499,\"مثبت\",data!$CS$3:$CS$1499,1)","v":0},{"$f":"SUMIFS(data!BS$3:BS$1499,data!$D$3:$D$1499,$AI20,data!$G$3:$G$1499,\"مثبت\",data!$CS$3:$CS$1499,1)","v":0},{"$f":"SUMIFS(data!BT$3:BT$1499,data!$D$3:$D$1499,$AI20,data!$G$3:$G$1499,\"مثبت\",data!$CS$3:$CS$1499,1)","v":0},{"$f":"SUMIFS(data!BU$3:BU$1499,data!$D$3:$D$1499,$AI20,data!$G$3:$G$1499,\"مثبت\",data!$CS$3:$CS$1499,1)","v":0},{"$f":"SUMIFS(data!BV$3:BV$1499,data!$D$3:$D$1499,$AI20,data!$G$3:$G$1499,\"مثبت\",data!$CS$3:$CS$1499,1)","v":0},{"$f":"SUMIFS(data!BW$3:BW$1499,data!$D$3:$D$1499,$AI20,data!$G$3:$G$1499,\"مثبت\",data!$CS$3:$CS$1499,1)","v":0},{"$f":"SUMIFS(data!BX$3:BX$1499,data!$D$3:$D$1499,$AI20,data!$G$3:$G$1499,\"مثبت\",data!$CS$3:$CS$1499,1)","v":0},{"$f":"SUMIFS(data!BY$3:BY$1499,data!$D$3:$D$1499,$AI20,data!$G$3:$G$1499,\"مثبت\",data!$CS$3:$CS$1499,1)","v":0},{"$f":"SUMIFS(data!BZ$3:BZ$1499,data!$D$3:$D$1499,$AI20,data!$G$3:$G$1499,\"مثبت\",data!$CS$3:$CS$1499,1)","v":0},{"$f":"SUMIFS(data!CA$3:CA$1499,data!$D$3:$D$1499,$AI20,data!$G$3:$G$1499,\"مثبت\",data!$CS$3:$CS$1499,1)","v":0},{"$f":"SUMIFS(data!CB$3:CB$1499,data!$D$3:$D$1499,$AI20,data!$G$3:$G$1499,\"مثبت\",data!$CS$3:$CS$1499,1)","v":0},{"$f":"SUMIFS(data!CC$3:CC$1499,data!$D$3:$D$1499,$AI20,data!$G$3:$G$1499,\"مثبت\",data!$CS$3:$CS$1499,1)","v":0},{"$f":"SUMIFS(data!CD$3:CD$1499,data!$D$3:$D$1499,$AI20,data!$G$3:$G$1499,\"مثبت\",data!$CS$3:$CS$1499,1)","v":0},{"$f":"SUMIFS(data!CE$3:CE$1499,data!$D$3:$D$1499,$AI20,data!$G$3:$G$1499,\"مثبت\",data!$CS$3:$CS$1499,1)","v":0},{"$f":"SUMIFS(data!CF$3:CF$1499,data!$D$3:$D$1499,$AI20,data!$G$3:$G$1499,\"مثبت\",data!$CS$3:$CS$1499,1)","v":0},{"$f":"SUMIFS(data!CG$3:CG$1499,data!$D$3:$D$1499,$AI20,data!$G$3:$G$1499,\"مثبت\",data!$CS$3:$CS$1499,1)","v":0},{"$f":"SUMIFS(data!CH$3:CH$1499,data!$D$3:$D$1499,$AI20,data!$G$3:$G$1499,\"مثبت\",data!$CS$3:$CS$1499,1)","v":0},{"$f":"SUMIFS(data!CI$3:CI$1499,data!$D$3:$D$1499,$AI20,data!$G$3:$G$1499,\"مثبت\",data!$CS$3:$CS$1499,1)","v":0},{"$f":"SUMIFS(data!CJ$3:CJ$1499,data!$D$3:$D$1499,$AI20,data!$G$3:$G$1499,\"مثبت\",data!$CS$3:$CS$1499,1)","v":0},{"$f":"SUMIFS(data!CK$3:CK$1499,data!$D$3:$D$1499,$AI20,data!$G$3:$G$1499,\"مثبت\",data!$CS$3:$CS$1499,1)","v":0},{"$f":"SUMIFS(data!CL$3:CL$1499,data!$D$3:$D$1499,$AI20,data!$G$3:$G$1499,\"مثبت\",data!$CS$3:$CS$1499,1)","v":0},{"$f":"SUMIFS(data!CM$3:CM$1499,data!$D$3:$D$1499,$AI20,data!$G$3:$G$1499,\"مثبت\",data!$CS$3:$CS$1499,1)","v":0},{"$f":"SUMIFS(data!CN$3:CN$1499,data!$D$3:$D$1499,$AI20,data!$G$3:$G$1499,\"مثبت\",data!$CS$3:$CS$1499,1)","v":0},{"$f":"SUMIFS(data!CO$3:CO$1499,data!$D$3:$D$1499,$AI20,data!$G$3:$G$1499,\"مثبت\",data!$CS$3:$CS$1499,1)","v":0},{"$f":"SUMIFS(data!CP$3:CP$1499,data!$D$3:$D$1499,$AI20,data!$G$3:$G$1499,\"مثبت\",data!$CS$3:$CS$1499,1)","v":0},0]
[{"$f":"IFERROR(INDEX($AI$6:$AI$25,MATCH(ROWS($AG$6:AG21),$AG$6:$AG$115,0),1),\"\")","v":""},{"$f":"IFERROR(INDEX($AJ$6:$BM$25,MATCH(ROWS($AG$6:AG21),$AG$6:$AG$25,0),MATCH(COLUMNS($AJ$3:AJ18),$AJ$3:$BM$3,0)),\"\")","v":""},{"$f":"IFERROR(INDEX($AJ$6:$BM$25,MATCH(ROWS($AG$6:AH21),$AG$6:$AG$25,0),MATCH(COLUMNS($AJ$3:AK18),$AJ$3:$BM$3,0)),\"\")","v":""},{"$f":"IFERROR(INDEX($AJ$6:$BM$25,MATCH(ROWS($AG$6:AI21),$AG$6:$AG$25,0),MATCH(COLUMNS($AJ$3:AL18),$AJ$3:$BM$3,0)),\"\")","v":""},{"$f":"IFERROR(INDEX($AJ$6:$BM$25,MATCH(ROWS($AG$6:AJ21),$AG$6:$AG$25,0),MATCH(COLUMNS($AJ$3:AM18),$AJ$3:$BM$3,0)),\"\")","v":""},{"$f":"IFERROR(INDEX($AJ$6:$BM$25,MATCH(ROWS($AG$6:AK21),$AG$6:$AG$25,0),MATCH(COLUMNS($AJ$3:AN18),$AJ$3:$BM$3,0)),\"\")","v":""},{"$f":"IFERROR(INDEX($AJ$6:$BM$25,MATCH(ROWS($AG$6:AL21),$AG$6:$AG$25,0),MATCH(COLUMNS($AJ$3:AO18),$AJ$3:$BM$3,0)),\"\")","v":""},{"$f":"IFERROR(INDEX($AJ$6:$BM$25,MATCH(ROWS($AG$6:AM21),$AG$6:$AG$25,0),MATCH(COLUMNS($AJ$3:AP18),$AJ$3:$BM$3,0)),\"\")","v":""},{"$f":"IFERROR(INDEX($AJ$6:$BM$25,MATCH(ROWS($AG$6:AN21),$AG$6:$AG$25,0),MATCH(COLUMNS($AJ$3:AQ18),$AJ$3:$BM$3,0)),\"\")","v":""},{"$f":"IFERROR(INDEX($AJ$6:$BM$25,MATCH(ROWS($AG$6:AO21),$AG$6:$AG$25,0),MATCH(COLUMNS($AJ$3:AR18),$AJ$3:$BM$3,0)),\"\")","v":""},{"$f":"IFERROR(INDEX($AJ$6:$BM$25,MATCH(ROWS($AG$6:AP21),$AG$6:$AG$25,0),MATCH(COLUMNS($AJ$3:AS18),$AJ$3:$BM$3,0)),\"\")","v":""},{"$f":"IFERROR(INDEX($AJ$6:$BM$25,MATCH(ROWS($AG$6:AQ21),$AG$6:$AG$25,0),MATCH(COLUMNS($AJ$3:AT18),$AJ$3:$BM$3,0)),\"\")","v":""},{"$f":"IFERROR(INDEX($AJ$6:$BM$25,MATCH(ROWS($AG$6:AR21),$AG$6:$AG$25,0),MATCH(COLUMNS($AJ$3:AU18),$AJ$3:$BM$3,0)),\"\")","v":""},{"$f":"IFERROR(INDEX($AJ$6:$BM$25,MATCH(ROWS($AG$6:AS21),$AG$6:$AG$25,0),MATCH(COLUMNS($AJ$3:AV18),$AJ$3:$BM$3,0)),\"\")","v":""},{"$f":"IFERROR(INDEX($AJ$6:$BM$25,MATCH(ROWS($AG$6:AT21),$AG$6:$AG$25,0),MATCH(COLUMNS($AJ$3:AW18),$AJ$3:$BM$3,0)),\"\")","v":""},{"$f":"IFERROR(INDEX($AJ$6:$BM$25,MATCH(ROWS($AG$6:AU21),$AG$6:$AG$25,0),MATCH(COLUMNS($AJ$3:AX18),$AJ$3:$BM$3,0)),\"\")","v":""},{"$f":"IFERROR(INDEX($AJ$6:$BM$25,MATCH(ROWS($AG$6:AV21),$AG$6:$AG$25,0),MATCH(COLUMNS($AJ$3:AY18),$AJ$3:$BM$3,0)),\"\")","v":""},{"$f":"IFERROR(INDEX($AJ$6:$BM$25,MATCH(ROWS($AG$6:AW21),$AG$6:$AG$25,0),MATCH(COLUMNS($AJ$3:AZ18),$AJ$3:$BM$3,0)),\"\")","v":""},{"$f":"IFERROR(INDEX($AJ$6:$BM$25,MATCH(ROWS($AG$6:AX21),$AG$6:$AG$25,0),MATCH(COLUMNS($AJ$3:BA18),$AJ$3:$BM$3,0)),\"\")","v":""},{"$f":"IFERROR(INDEX($AJ$6:$BM$25,MATCH(ROWS($AG$6:AY21),$AG$6:$AG$25,0),MATCH(COLUMNS($AJ$3:BB18),$AJ$3:$BM$3,0)),\"\")","v":""},{"$f":"IFERROR(INDEX($AJ$6:$BM$25,MATCH(ROWS($AG$6:AZ21),$AG$6:$AG$25,0),MATCH(COLUMNS($AJ$3:BC18),$AJ$3:$BM$3,0)),\"\")","v":""},{"$f":"IFERROR(INDEX($AJ$6:$BM$25,MATCH(ROWS($AG$6:BA21),$AG$6:$AG$25,0),MATCH(COLUMNS($AJ$3:BD18),$AJ$3:$BM$3,0)),\"\")","v":""},{"$f":"IFERROR(INDEX($AJ$6:$BM$25,MATCH(ROWS($AG$6:BB21),$AG$6:$AG$25,0),MATCH(COLUMNS($AJ$3:BE18),$AJ$3:$BM$3,0)),\"\")","v":""},{"$f":"IFERROR(INDEX($AJ$6:$BM$25,MATCH(ROWS($AG$6:BC21),$AG$6:$AG$25,0),MATCH(COLUMNS($AJ$3:BF18),$AJ$3:$BM$3,0)),\"\")","v":""},{"$f":"IFERROR(INDEX($AJ$6:$BM$25,MATCH(ROWS($AG$6:BD21),$AG$6:$AG$25,0),MATCH(COLUMNS($AJ$3:BG18),$AJ$3:$BM$3,0)),\"\")","v":""},{"$f":"IFERROR(INDEX($AJ$6:$BM$25,MATCH(ROWS($AG$6:BE21),$AG$6:$AG$25,0),MATCH(COLUMNS($AJ$3:BH18),$AJ$3:$BM$3,0)),\"\")","v":""},{"$f":"IFERROR(INDEX($AJ$6:$BM$25,MATCH(ROWS($AG$6:BF21),$AG$6:$AG$25,0),MATCH(COLUMNS($AJ$3:BI18),$AJ$3:$BM$3,0)),\"\")","v":""},{"$f":"IFERROR(INDEX($AJ$6:$BM$25,MATCH(ROWS($AG$6:BG21),$AG$6:$AG$25,0),MATCH(COLUMNS($AJ$3:BJ18),$AJ$3:$BM$3,0)),\"\")","v":""},{"$f":"IFERROR(INDEX($AJ$6:$BM$25,MATCH(ROWS($AG$6:BH21),$AG$6:$AG$25,0),MATCH(COLUMNS($AJ$3:BK18),$AJ$3:$BM$3,0)),\"\")","v":""},{"$f":"IFERROR(INDEX($AJ$6:$BM$25,MATCH(ROWS($AG$6:BI21),$AG$6:$AG$25,0),MATCH(COLUMNS($AJ$3:BL18),$AJ$3:$BM$3,0)),\"\")","v":""},{"$f":"IFERROR(INDEX($AJ$6:$BM$25,MATCH(ROWS($AG$6:BJ21),$AG$6:$AG$25,0),MATCH(COLUMNS($AJ$3:BM18),$AJ$3:$BM$3,0)),\"\")","v":""},null,{"$f":"IF(AH21=0,\"\",SUM($AH$6:AH21))","v":""},0,"آسینتوباکتر",{"$f":"SUMIFS(data!BN$3:BN$1499,data!$D$3:$D$1499,$AI21,data!$G$3:$G$1499,\"مثبت\",data!$CS$3:$CS$1499,1)","v":0},{"$f":"SUMIFS(data!BO$3:BO$1499,data!$D$3:$D$1499,$AI21,data!$G$3:$G$1499,\"مثبت\",data!$CS$3:$CS$1499,1)","v":0},{"$f":"SUMIFS(data!BP$3:BP$1499,data!$D$3:$D$1499,$AI21,data!$G$3:$G$1499,\"مثبت\",data!$CS$3:$CS$1499,1)","v":0},{"$f":"SUMIFS(data!BQ$3:BQ$1499,data!$D$3:$D$1499,$AI21,data!$G$3:$G$1499,\"مثبت\",data!$CS$3:$CS$1499,1)","v":0},{"$f":"SUMIFS(data!BR$3:BR$1499,data!$D$3:$D$1499,$AI21,data!$G$3:$G$1499,\"مثبت\",data!$CS$3:$CS$1499,1)","v":0},{"$f":"SUMIFS(data!BS$3:BS$1499,data!$D$3:$D$1499,$AI21,data!$G$3:$G$1499,\"مثبت\",data!$CS$3:$CS$1499,1)","v":0},{"$f":"SUMIFS(data!BT$3:BT$1499,data!$D$3:$D$1499,$AI21,data!$G$3:$G$1499,\"مثبت\",data!$CS$3:$CS$1499,1)","v":0},{"$f":"SUMIFS(data!BU$3:BU$1499,data!$D$3:$D$1499,$AI21,data!$G$3:$G$1499,\"مثبت\",data!$CS$3:$CS$1499,1)","v":0},{"$f":"SUMIFS(data!BV$3:BV$1499,data!$D$3:$D$1499,$AI21,data!$G$3:$G$1499,\"مثبت\",data!$CS$3:$CS$1499,1)","v":0},{"$f":"SUMIFS(data!BW$3:BW$1499,data!$D$3:$D$1499,$AI21,data!$G$3:$G$1499,\"مثبت\",data!$CS$3:$CS$1499,1)","v":0},{"$f":"SUMIFS(data!BX$3:BX$1499,data!$D$3:$D$1499,$AI21,data!$G$3:$G$1499,\"مثبت\",data!$CS$3:$CS$1499,1)","v":0},{"$f":"SUMIFS(data!BY$3:BY$1499,data!$D$3:$D$1499,$AI21,data!$G$3:$G$1499,\"مثبت\",data!$CS$3:$CS$1499,1)","v":0},{"$f":"SUMIFS(data!BZ$3:BZ$1499,data!$D$3:$D$1499,$AI21,data!$G$3:$G$1499,\"مثبت\",data!$CS$3:$CS$1499,1)","v":0},{"$f":"SUMIFS(data!CA$3:CA$1499,data!$D$3:$D$1499,$AI21,data!$G$3:$G$1499,\"مثبت\",data!$CS$3:$CS$1499,1)","v":0},{"$f":"SUMIFS(data!CB$3:CB$1499,data!$D$3:$D$1499,$AI21,data!$G$3:$G$1499,\"مثبت\",data!$CS$3:$CS$1499,1)","v":0},{"$f":"SUMIFS(data!CC$3:CC$1499,data!$D$3:$D$1499,$AI21,data!$G$3:$G$1499,\"مثبت\",data!$CS$3:$CS$1499,1)","v":0},{"$f":"SUMIFS(data!CD$3:CD$1499,data!$D$3:$D$1499,$AI21,data!$G$3:$G$1499,\"مثبت\",data!$CS$3:$CS$1499,1)","v":0},{"$f":"SUMIFS(data!CE$3:CE$1499,data!$D$3:$D$1499,$AI21,data!$G$3:$G$1499,\"مثبت\",data!$CS$3:$CS$1499,1)","v":0},{"$f":"SUMIFS(data!CF$3:CF$1499,data!$D$3:$D$1499,$AI21,data!$G$3:$G$1499,\"مثبت\",data!$CS$3:$CS$1499,1)","v":0},{"$f":"SUMIFS(data!CG$3:CG$1499,data!$D$3:$D$1499,$AI21,data!$G$3:$G$1499,\"مثبت\",data!$CS$3:$CS$1499,1)","v":0},{"$f":"SUMIFS(data!CH$3:CH$1499,data!$D$3:$D$1499,$AI21,data!$G$3:$G$1499,\"مثبت\",data!$CS$3:$CS$1499,1)","v":0},{"$f":"SUMIFS(data!CI$3:CI$1499,data!$D$3:$D$1499,$AI21,data!$G$3:$G$1499,\"مثبت\",data!$CS$3:$CS$1499,1)","v":0},{"$f":"SUMIFS(data!CJ$3:CJ$1499,data!$D$3:$D$1499,$AI21,data!$G$3:$G$1499,\"مثبت\",data!$CS$3:$CS$1499,1)","v":0},{"$f":"SUMIFS(data!CK$3:CK$1499,data!$D$3:$D$1499,$AI21,data!$G$3:$G$1499,\"مثبت\",data!$CS$3:$CS$1499,1)","v":0},{"$f":"SUMIFS(data!CL$3:CL$1499,data!$D$3:$D$1499,$AI21,data!$G$3:$G$1499,\"مثبت\",data!$CS$3:$CS$1499,1)","v":0},{"$f":"SUMIFS(data!CM$3:CM$1499,data!$D$3:$D$1499,$AI21,data!$G$3:$G$1499,\"مثبت\",data!$CS$3:$CS$1499,1)","v":0},{"$f":"SUMIFS(data!CN$3:CN$1499,data!$D$3:$D$1499,$AI21,data!$G$3:$G$1499,\"مثبت\",data!$CS$3:$CS$1499,1)","v":0},{"$f":"SUMIFS(data!CO$3:CO$1499,data!$D$3:$D$1499,$AI21,data!$G$3:$G$1499,\"مثبت\",data!$CS$3:$CS$1499,1)","v":0},{"$f":"SUMIFS(data!CP$3:CP$1499,data!$D$3:$D$1499,$AI21,data!$G$3:$G$1499,\"مثبت\",data!$CS$3:$CS$1499,1)","v":0},0]
[{"$f":"IFERROR(INDEX($AI$6:$AI$25,MATCH(ROWS($AG$6:AG22),$AG$6:$AG$115,0),1),\"\")","v":""},{"$f":"IFERROR(INDEX($AJ$6:$BM$25,MATCH(ROWS($AG$6:AG22),$AG$6:$AG$25,0),MATCH(COLUMNS($AJ$3:AJ19),$AJ$3:$BM$3,0)),\"\")","v":""},{"$f":"IFERROR(INDEX($AJ$6:$BM$25,MATCH(ROWS($AG$6:AH22),$AG$6:$AG$25,0),MATCH(COLUMNS($AJ$3:AK19),$AJ$3:$BM$3,0)),\"\")","v":""},{"$f":"IFERROR(INDEX($AJ$6:$BM$25,MATCH(ROWS($AG$6:AI22),$AG$6:$AG$25,0),MATCH(COLUMNS($AJ$3:AL19),$AJ$3:$BM$3,0)),\"\")","v":""},{"$f":"IFERROR(INDEX($AJ$6:$BM$25,MATCH(ROWS($AG$6:AJ22),$AG$6:$AG$25,0),MATCH(COLUMNS($AJ$3:AM19),$AJ$3:$BM$3,0)),\"\")","v":""},{"$f":"IFERROR(INDEX($AJ$6:$BM$25,MATCH(ROWS($AG$6:AK22),$AG$6:$AG$25,0),MATCH(COLUMNS($AJ$3:AN19),$AJ$3:$BM$3,0)),\"\")","v":""},{"$f":"IFERROR(INDEX($AJ$6:$BM$25,MATCH(ROWS($AG$6:AL22),$AG$6:$AG$25,0),MATCH(COLUMNS($AJ$3:AO19),$AJ$3:$BM$3,0)),\"\")","v":""},{"$f":"IFERROR(INDEX($AJ$6:$BM$25,MATCH(ROWS($AG$6:AM22),$AG$6:$AG$25,0),MATCH(COLUMNS($AJ$3:AP19),$AJ$3:$BM$3,0)),\"\")","v":""},{"$f":"IFERROR(INDEX($AJ$6:$BM$25,MATCH(ROWS($AG$6:AN22),$AG$6:$AG$25,0),MATCH(COLUMNS($AJ$3:AQ19),$AJ$3:$BM$3,0)),\"\")","v":""},{"$f":"IFERROR(INDEX($AJ$6:$BM$25,MATCH(ROWS($AG$6:AO22),$AG$6:$AG$25,0),MATCH(COLUMNS($AJ$3:AR19),$AJ$3:$BM$3,0)),\"\")","v":""},{"$f":"IFERROR(INDEX($AJ$6:$BM$25,MATCH(ROWS($AG$6:AP22),$AG$6:$AG$25,0),MATCH(COLUMNS($AJ$3:AS19),$AJ$3:$BM$3,0)),\"\")","v":""},{"$f":"IFERROR(INDEX($AJ$6:$BM$25,MATCH(ROWS($AG$6:AQ22),$AG$6:$AG$25,0),MATCH(COLUMNS($AJ$3:AT19),$AJ$3:$BM$3,0)),\"\")","v":""},{"$f":"IFERROR(INDEX($AJ$6:$BM$25,MATCH(ROWS($AG$6:AR22),$AG$6:$AG$25,0),MATCH(COLUMNS($AJ$3:AU19),$AJ$3:$BM$3,0)),\"\")","v":""},{"$f":"IFERROR(INDEX($AJ$6:$BM$25,MATCH(ROWS($AG$6:AS22),$AG$6:$AG$25,0),MATCH(COLUMNS($AJ$3:AV19),$AJ$3:$BM$3,0)),\"\")","v":""},{"$f":"IFERROR(INDEX($AJ$6:$BM$25,MATCH(ROWS($AG$6:AT22),$AG$6:$AG$25,0),MATCH(COLUMNS($AJ$3:AW19),$AJ$3:$BM$3,0)),\"\")","v":""},{"$f":"IFERROR(INDEX($AJ$6:$BM$25,MATCH(ROWS($AG$6:AU22),$AG$6:$AG$25,0),MATCH(COLUMNS($AJ$3:AX19),$AJ$3:$BM$3,0)),\"\")","v":""},{"$f":"IFERROR(INDEX($AJ$6:$BM$25,MATCH(ROWS($AG$6:AV22),$AG$6:$AG$25,0),MATCH(COLUMNS($AJ$3:AY19),$AJ$3:$BM$3,0)),\"\")","v":""},{"$f":"IFERROR(INDEX($AJ$6:$BM$25,MATCH(ROWS($AG$6:AW22),$AG$6:$AG$25,0),MATCH(COLUMNS($AJ$3:AZ19),$AJ$3:$BM$3,0)),\"\")","v":""},{"$f":"IFERROR(INDEX($AJ$6:$BM$25,MATCH(ROWS($AG$6:AX22),$AG$6:$AG$25,0),MATCH(COLUMNS($AJ$3:BA19),$AJ$3:$BM$3,0)),\"\")","v":""},{"$f":"IFERROR(INDEX($AJ$6:$BM$25,MATCH(ROWS($AG$6:AY22),$AG$6:$AG$25,0),MATCH(COLUMNS($AJ$3:BB19),$AJ$3:$BM$3,0)),\"\")","v":""},{"$f":"IFERROR(INDEX($AJ$6:$BM$25,MATCH(ROWS($AG$6:AZ22),$AG$6:$AG$25,0),MATCH(COLUMNS($AJ$3:BC19),$AJ$3:$BM$3,0)),\"\")","v":""},{"$f":"IFERROR(INDEX($AJ$6:$BM$25,MATCH(ROWS($AG$6:BA22),$AG$6:$AG$25,0),MATCH(COLUMNS($AJ$3:BD19),$AJ$3:$BM$3,0)),\"\")","v":""},{"$f":"IFERROR(INDEX($AJ$6:$BM$25,MATCH(ROWS($AG$6:BB22),$AG$6:$AG$25,0),MATCH(COLUMNS($AJ$3:BE19),$AJ$3:$BM$3,0)),\"\")","v":""},{"$f":"IFERROR(INDEX($AJ$6:$BM$25,MATCH(ROWS($AG$6:BC22),$AG$6:$AG$25,0),MATCH(COLUMNS($AJ$3:BF19),$AJ$3:$BM$3,0)),\"\")","v":""},{"$f":"IFERROR(INDEX($AJ$6:$BM$25,MATCH(ROWS($AG$6:BD22),$AG$6:$AG$25,0),MATCH(COLUMNS($AJ$3:BG19),$AJ$3:$BM$3,0)),\"\")","v":""},{"$f":"IFERROR(INDEX($AJ$6:$BM$25,MATCH(ROWS($AG$6:BE22),$AG$6:$AG$25,0),MATCH(COLUMNS($AJ$3:BH19),$AJ$3:$BM$3,0)),\"\")","v":""},{"$f":"IFERROR(INDEX($AJ$6:$BM$25,MATCH(ROWS($AG$6:BF22),$AG$6:$AG$25,0),MATCH(COLUMNS($AJ$3:BI19),$AJ$3:$BM$3,0)),\"\")","v":""},{"$f":"IFERROR(INDEX($AJ$6:$BM$25,MATCH(ROWS($AG$6:BG22),$AG$6:$AG$25,0),MATCH(COLUMNS($AJ$3:BJ19),$AJ$3:$BM$3,0)),\"\")","v":""},{"$f":"IFERROR(INDEX($AJ$6:$BM$25,MATCH(ROWS($AG$6:BH22),$AG$6:$AG$25,0),MATCH(COLUMNS($AJ$3:BK19),$AJ$3:$BM$3,0)),\"\")","v":""},{"$f":"IFERROR(INDEX($AJ$6:$BM$25,MATCH(ROWS($AG$6:BI22),$AG$6:$AG$25,0),MATCH(COLUMNS($AJ$3:BL19),$AJ$3:$BM$3,0)),\"\")","v":""},{"$f":"IFERROR(INDEX($AJ$6:$BM$25,MATCH(ROWS($AG$6:BJ22),$AG$6:$AG$25,0),MATCH(COLUMNS($AJ$3:BM19),$AJ$3:$BM$3,0)),\"\")","v":""},null,{"$f":"IF(AH22=0,\"\",SUM($AH$6:AH22))","v":""},0,"سالمونلا",{"$f":"SUMIFS(data!BN$3:BN$1499,data!$D$3:$D$1499,$AI22,data!$G$3:$G$1499,\"مثبت\",data!$CS$3:$CS$1499,1)","v":0},{"$f":"SUMIFS(data!BO$3:BO$1499,data!$D$3:$D$1499,$AI22,data!$G$3:$G$1499,\"مثبت\",data!$CS$3:$CS$1499,1)","v":0},{"$f":"SUMIFS(data!BP$3:BP$1499,data!$D$3:$D$1499,$AI22,data!$G$3:$G$1499,\"مثبت\",data!$CS$3:$CS$1499,1)","v":0},{"$f":"SUMIFS(data!BQ$3:BQ$1499,data!$D$3:$D$1499,$AI22,data!$G$3:$G$1499,\"مثبت\",data!$CS$3:$CS$1499,1)","v":0},{"$f":"SUMIFS(data!BR$3:BR$1499,data!$D$3:$D$1499,$AI22,data!$G$3:$G$1499,\"مثبت\",data!$CS$3:$CS$1499,1)","v":0},{"$f":"SUMIFS(data!BS$3:BS$1499,data!$D$3:$D$1499,$AI22,data!$G$3:$G$1499,\"مثبت\",data!$CS$3:$CS$1499,1)","v":0},{"$f":"SUMIFS(data!BT$3:BT$1499,data!$D$3:$D$1499,$AI22,data!$G$3:$G$1499,\"مثبت\",data!$CS$3:$CS$1499,1)","v":0},{"$f":"SUMIFS(data!BU$3:BU$1499,data!$D$3:$D$1499,$AI22,data!$G$3:$G$1499,\"مثبت\",data!$CS$3:$CS$1499,1)","v":0},{"$f":"SUMIFS(data!BV$3:BV$1499,data!$D$3:$D$1499,$AI22,data!$G$3:$G$1499,\"مثبت\",data!$CS$3:$CS$1499,1)","v":0},{"$f":"SUMIFS(data!BW$3:BW$1499,data!$D$3:$D$1499,$AI22,data!$G$3:$G$1499,\"مثبت\",data!$CS$3:$CS$1499,1)","v":0},{"$f":"SUMIFS(data!BX$3:BX$1499,data!$D$3:$D$1499,$AI22,data!$G$3:$G$1499,\"مثبت\",data!$CS$3:$CS$1499,1)","v":0},{"$f":"SUMIFS(data!BY$3:BY$1499,data!$D$3:$D$1499,$AI22,data!$G$3:$G$1499,\"مثبت\",data!$CS$3:$CS$1499,1)","v":0},{"$f":"SUMIFS(data!BZ$3:BZ$1499,data!$D$3:$D$1499,$AI22,data!$G$3:$G$1499,\"مثبت\",data!$CS$3:$CS$1499,1)","v":0},{"$f":"SUMIFS(data!CA$3:CA$1499,data!$D$3:$D$1499,$AI22,data!$G$3:$G$1499,\"مثبت\",data!$CS$3:$CS$1499,1)","v":0},{"$f":"SUMIFS(data!CB$3:CB$1499,data!$D$3:$D$1499,$AI22,data!$G$3:$G$1499,\"مثبت\",data!$CS$3:$CS$1499,1)","v":0},{"$f":"SUMIFS(data!CC$3:CC$1499,data!$D$3:$D$1499,$AI22,data!$G$3:$G$1499,\"مثبت\",data!$CS$3:$CS$1499,1)","v":0},{"$f":"SUMIFS(data!CD$3:CD$1499,data!$D$3:$D$1499,$AI22,data!$G$3:$G$1499,\"مثبت\",data!$CS$3:$CS$1499,1)","v":0},{"$f":"SUMIFS(data!CE$3:CE$1499,data!$D$3:$D$1499,$AI22,data!$G$3:$G$1499,\"مثبت\",data!$CS$3:$CS$1499,1)","v":0},{"$f":"SUMIFS(data!CF$3:CF$1499,data!$D$3:$D$1499,$AI22,data!$G$3:$G$1499,\"مثبت\",data!$CS$3:$CS$1499,1)","v":0},{"$f":"SUMIFS(data!CG$3:CG$1499,data!$D$3:$D$1499,$AI22,data!$G$3:$G$1499,\"مثبت\",data!$CS$3:$CS$1499,1)","v":0},{"$f":"SUMIFS(data!CH$3:CH$1499,data!$D$3:$D$1499,$AI22,data!$G$3:$G$1499,\"مثبت\",data!$CS$3:$CS$1499,1)","v":0},{"$f":"SUMIFS(data!CI$3:CI$1499,data!$D$3:$D$1499,$AI22,data!$G$3:$G$1499,\"مثبت\",data!$CS$3:$CS$1499,1)","v":0},{"$f":"SUMIFS(data!CJ$3:CJ$1499,data!$D$3:$D$1499,$AI22,data!$G$3:$G$1499,\"مثبت\",data!$CS$3:$CS$1499,1)","v":0},{"$f":"SUMIFS(data!CK$3:CK$1499,data!$D$3:$D$1499,$AI22,data!$G$3:$G$1499,\"مثبت\",data!$CS$3:$CS$1499,1)","v":0},{"$f":"SUMIFS(data!CL$3:CL$1499,data!$D$3:$D$1499,$AI22,data!$G$3:$G$1499,\"مثبت\",data!$CS$3:$CS$1499,1)","v":0},{"$f":"SUMIFS(data!CM$3:CM$1499,data!$D$3:$D$1499,$AI22,data!$G$3:$G$1499,\"مثبت\",data!$CS$3:$CS$1499,1)","v":0},{"$f":"SUMIFS(data!CN$3:CN$1499,data!$D$3:$D$1499,$AI22,data!$G$3:$G$1499,\"مثبت\",data!$CS$3:$CS$1499,1)","v":0},{"$f":"SUMIFS(data!CO$3:CO$1499,data!$D$3:$D$1499,$AI22,data!$G$3:$G$1499,\"مثبت\",data!$CS$3:$CS$1499,1)","v":0},{"$f":"SUMIFS(data!CP$3:CP$1499,data!$D$3:$D$1499,$AI22,data!$G$3:$G$1499,\"مثبت\",data!$CS$3:$CS$1499,1)","v":0},0]
[{"$f":"IFERROR(INDEX($AI$6:$AI$25,MATCH(ROWS($AG$6:AG23),$AG$6:$AG$115,0),1),\"\")","v":""},{"$f":"IFERROR(INDEX($AJ$6:$BM$25,MATCH(ROWS($AG$6:AG23),$AG$6:$AG$25,0),MATCH(COLUMNS($AJ$3:AJ20),$AJ$3:$BM$3,0)),\"\")","v":""},{"$f":"IFERROR(INDEX($AJ$6:$BM$25,MATCH(ROWS($AG$6:AH23),$AG$6:$AG$25,0),MATCH(COLUMNS($AJ$3:AK20),$AJ$3:$BM$3,0)),\"\")","v":""},{"$f":"IFERROR(INDEX($AJ$6:$BM$25,MATCH(ROWS($AG$6:AI23),$AG$6:$AG$25,0),MATCH(COLUMNS($AJ$3:AL20),$AJ$3:$BM$3,0)),\"\")","v":""},{"$f":"IFERROR(INDEX($AJ$6:$BM$25,MATCH(ROWS($AG$6:AJ23),$AG$6:$AG$25,0),MATCH(COLUMNS($AJ$3:AM20),$AJ$3:$BM$3,0)),\"\")","v":""},{"$f":"IFERROR(INDEX($AJ$6:$BM$25,MATCH(ROWS($AG$6:AK23),$AG$6:$AG$25,0),MATCH(COLUMNS($AJ$3:AN20),$AJ$3:$BM$3,0)),\"\")","v":""},{"$f":"IFERROR(INDEX($AJ$6:$BM$25,MATCH(ROWS($AG$6:AL23),$AG$6:$AG$25,0),MATCH(COLUMNS($AJ$3:AO20),$AJ$3:$BM$3,0)),\"\")","v":""},{"$f":"IFERROR(INDEX($AJ$6:$BM$25,MATCH(ROWS($AG$6:AM23),$AG$6:$AG$25,0),MATCH(COLUMNS($AJ$3:AP20),$AJ$3:$BM$3,0)),\"\")","v":""},{"$f":"IFERROR(INDEX($AJ$6:$BM$25,MATCH(ROWS($AG$6:AN23),$AG$6:$AG$25,0),MATCH(COLUMNS($AJ$3:AQ20),$AJ$3:$BM$3,0)),\"\")","v":""},{"$f":"IFERROR(INDEX($AJ$6:$BM$25,MATCH(ROWS($AG$6:AO23),$AG$6:$AG$25,0),MATCH(COLUMNS($AJ$3:AR20),$AJ$3:$BM$3,0)),\"\")","v":""},{"$f":"IFERROR(INDEX($AJ$6:$BM$25,MATCH(ROWS($AG$6:AP23),$AG$6:$AG$25,0),MATCH(COLUMNS($AJ$3:AS20),$AJ$3:$BM$3,0)),\"\")","v":""},{"$f":"IFERROR(INDEX($AJ$6:$BM$25,MATCH(ROWS($AG$6:AQ23),$AG$6:$AG$25,0),MATCH(COLUMNS($AJ$3:AT20),$AJ$3:$BM$3,0)),\"\")","v":""},{"$f":"IFERROR(INDEX($AJ$6:$BM$25,MATCH(ROWS($AG$6:AR23),$AG$6:$AG$25,0),MATCH(COLUMNS($AJ$3:AU20),$AJ$3:$BM$3,0)),\"\")","v":""},{"$f":"IFERROR(INDEX($AJ$6:$BM$25,MATCH(ROWS($AG$6:AS23),$AG$6:$AG$25,0),MATCH(COLUMNS($AJ$3:AV20),$AJ$3:$BM$3,0)),\"\")","v":""},{"$f":"IFERROR(INDEX($AJ$6:$BM$25,MATCH(ROWS($AG$6:AT23),$AG$6:$AG$25,0),MATCH(COLUMNS($AJ$3:AW20),$AJ$3:$BM$3,0)),\"\")","v":""},{"$f":"IFERROR(INDEX($AJ$6:$BM$25,MATCH(ROWS($AG$6:AU23),$AG$6:$AG$25,0),MATCH(COLUMNS($AJ$3:AX20),$AJ$3:$BM$3,0)),\"\")","v":""},{"$f":"IFERROR(INDEX($AJ$6:$BM$25,MATCH(ROWS($AG$6:AV23),$AG$6:$AG$25,0),MATCH(COLUMNS($AJ$3:AY20),$AJ$3:$BM$3,0)),\"\")","v":""},{"$f":"IFERROR(INDEX($AJ$6:$BM$25,MATCH(ROWS($AG$6:AW23),$AG$6:$AG$25,0),MATCH(COLUMNS($AJ$3:AZ20),$AJ$3:$BM$3,0)),\"\")","v":""},{"$f":"IFERROR(INDEX($AJ$6:$BM$25,MATCH(ROWS($AG$6:AX23),$AG$6:$AG$25,0),MATCH(COLUMNS($AJ$3:BA20),$AJ$3:$BM$3,0)),\"\")","v":""},{"$f":"IFERROR(INDEX($AJ$6:$BM$25,MATCH(ROWS($AG$6:AY23),$AG$6:$AG$25,0),MATCH(COLUMNS($AJ$3:BB20),$AJ$3:$BM$3,0)),\"\")","v":""},{"$f":"IFERROR(INDEX($AJ$6:$BM$25,MATCH(ROWS($AG$6:AZ23),$AG$6:$AG$25,0),MATCH(COLUMNS($AJ$3:BC20),$AJ$3:$BM$3,0)),\"\")","v":""},{"$f":"IFERROR(INDEX($AJ$6:$BM$25,MATCH(ROWS($AG$6:BA23),$AG$6:$AG$25,0),MATCH(COLUMNS($AJ$3:BD20),$AJ$3:$BM$3,0)),\"\")","v":""},{"$f":"IFERROR(INDEX($AJ$6:$BM$25,MATCH(ROWS($AG$6:BB23),$AG$6:$AG$25,0),MATCH(COLUMNS($AJ$3:BE20),$AJ$3:$BM$3,0)),\"\")","v":""},{"$f":"IFERROR(INDEX($AJ$6:$BM$25,MATCH(ROWS($AG$6:BC23),$AG$6:$AG$25,0),MATCH(COLUMNS($AJ$3:BF20),$AJ$3:$BM$3,0)),\"\")","v":""},{"$f":"IFERROR(INDEX($AJ$6:$BM$25,MATCH(ROWS($AG$6:BD23),$AG$6:$AG$25,0),MATCH(COLUMNS($AJ$3:BG20),$AJ$3:$BM$3,0)),\"\")","v":""},{"$f":"IFERROR(INDEX($AJ$6:$BM$25,MATCH(ROWS($AG$6:BE23),$AG$6:$AG$25,0),MATCH(COLUMNS($AJ$3:BH20),$AJ$3:$BM$3,0)),\"\")","v":""},{"$f":"IFERROR(INDEX($AJ$6:$BM$25,MATCH(ROWS($AG$6:BF23),$AG$6:$AG$25,0),MATCH(COLUMNS($AJ$3:BI20),$AJ$3:$BM$3,0)),\"\")","v":""},{"$f":"IFERROR(INDEX($AJ$6:$BM$25,MATCH(ROWS($AG$6:BG23),$AG$6:$AG$25,0),MATCH(COLUMNS($AJ$3:BJ20),$AJ$3:$BM$3,0)),\"\")","v":""},{"$f":"IFERROR(INDEX($AJ$6:$BM$25,MATCH(ROWS($AG$6:BH23),$AG$6:$AG$25,0),MATCH(COLUMNS($AJ$3:BK20),$AJ$3:$BM$3,0)),\"\")","v":""},{"$f":"IFERROR(INDEX($AJ$6:$BM$25,MATCH(ROWS($AG$6:BI23),$AG$6:$AG$25,0),MATCH(COLUMNS($AJ$3:BL20),$AJ$3:$BM$3,0)),\"\")","v":""},{"$f":"IFERROR(INDEX($AJ$6:$BM$25,MATCH(ROWS($AG$6:BJ23),$AG$6:$AG$25,0),MATCH(COLUMNS($AJ$3:BM20),$AJ$3:$BM$3,0)),\"\")","v":""},null,{"$f":"IF(AH23=0,\"\",SUM($AH$6:AH23))","v":""},0,"کاندیدا",{"$f":"SUMIFS(data!BN$3:BN$1499,data!$D$3:$D$1499,$AI23,data!$G$3:$G$1499,\"مثبت\",data!$CS$3:$CS$1499,1)","v":0},{"$f":"SUMIFS(data!BO$3:BO$1499,data!$D$3:$D$1499,$AI23,data!$G$3:$G$1499,\"مثبت\",data!$CS$3:$CS$1499,1)","v":0},{"$f":"SUMIFS(data!BP$3:BP$1499,data!$D$3:$D$1499,$AI23,data!$G$3:$G$1499,\"مثبت\",data!$CS$3:$CS$1499,1)","v":0},{"$f":"SUMIFS(data!BQ$3:BQ$1499,data!$D$3:$D$1499,$AI23,data!$G$3:$G$1499,\"مثبت\",data!$CS$3:$CS$1499,1)","v":0},{"$f":"SUMIFS(data!BR$3:BR$1499,data!$D$3:$D$1499,$AI23,data!$G$3:$G$1499,\"مثبت\",data!$CS$3:$CS$1499,1)","v":0},{"$f":"SUMIFS(data!BS$3:BS$1499,data!$D$3:$D$1499,$AI23,data!$G$3:$G$1499,\"مثبت\",data!$CS$3:$CS$1499,1)","v":0},{"$f":"SUMIFS(data!BT$3:BT$1499,data!$D$3:$D$1499,$AI23,data!$G$3:$G$1499,\"مثبت\",data!$CS$3:$CS$1499,1)","v":0},{"$f":"SUMIFS(data!BU$3:BU$1499,data!$D$3:$D$1499,$AI23,data!$G$3:$G$1499,\"مثبت\",data!$CS$3:$CS$1499,1)","v":0},{"$f":"SUMIFS(data!BV$3:BV$1499,data!$D$3:$D$1499,$AI23,data!$G$3:$G$1499,\"مثبت\",data!$CS$3:$CS$1499,1)","v":0},{"$f":"SUMIFS(data!BW$3:BW$1499,data!$D$3:$D$1499,$AI23,data!$G$3:$G$1499,\"مثبت\",data!$CS$3:$CS$1499,1)","v":0},{"$f":"SUMIFS(data!BX$3:BX$1499,data!$D$3:$D$1499,$AI23,data!$G$3:$G$1499,\"مثبت\",data!$CS$3:$CS$1499,1)","v":0},{"$f":"SUMIFS(data!BY$3:BY$1499,data!$D$3:$D$1499,$AI23,data!$G$3:$G$1499,\"مثبت\",data!$CS$3:$CS$1499,1)","v":0},{"$f":"SUMIFS(data!BZ$3:BZ$1499,data!$D$3:$D$1499,$AI23,data!$G$3:$G$1499,\"مثبت\",data!$CS$3:$CS$1499,1)","v":0},{"$f":"SUMIFS(data!CA$3:CA$1499,data!$D$3:$D$1499,$AI23,data!$G$3:$G$1499,\"مثبت\",data!$CS$3:$CS$1499,1)","v":0},{"$f":"SUMIFS(data!CB$3:CB$1499,data!$D$3:$D$1499,$AI23,data!$G$3:$G$1499,\"مثبت\",data!$CS$3:$CS$1499,1)","v":0},{"$f":"SUMIFS(data!CC$3:CC$1499,data!$D$3:$D$1499,$AI23,data!$G$3:$G$1499,\"مثبت\",data!$CS$3:$CS$1499,1)","v":0},{"$f":"SUMIFS(data!CD$3:CD$1499,data!$D$3:$D$1499,$AI23,data!$G$3:$G$1499,\"مثبت\",data!$CS$3:$CS$1499,1)","v":0},{"$f":"SUMIFS(data!CE$3:CE$1499,data!$D$3:$D$1499,$AI23,data!$G$3:$G$1499,\"مثبت\",data!$CS$3:$CS$1499,1)","v":0},{"$f":"SUMIFS(data!CF$3:CF$1499,data!$D$3:$D$1499,$AI23,data!$G$3:$G$1499,\"مثبت\",data!$CS$3:$CS$1499,1)","v":0},{"$f":"SUMIFS(data!CG$3:CG$1499,data!$D$3:$D$1499,$AI23,data!$G$3:$G$1499,\"مثبت\",data!$CS$3:$CS$1499,1)","v":0},{"$f":"SUMIFS(data!CH$3:CH$1499,data!$D$3:$D$1499,$AI23,data!$G$3:$G$1499,\"مثبت\",data!$CS$3:$CS$1499,1)","v":0},{"$f":"SUMIFS(data!CI$3:CI$1499,data!$D$3:$D$1499,$AI23,data!$G$3:$G$1499,\"مثبت\",data!$CS$3:$CS$1499,1)","v":0},{"$f":"SUMIFS(data!CJ$3:CJ$1499,data!$D$3:$D$1499,$AI23,data!$G$3:$G$1499,\"مثبت\",data!$CS$3:$CS$1499,1)","v":0},{"$f":"SUMIFS(data!CK$3:CK$1499,data!$D$3:$D$1499,$AI23,data!$G$3:$G$1499,\"مثبت\",data!$CS$3:$CS$1499,1)","v":0},{"$f":"SUMIFS(data!CL$3:CL$1499,data!$D$3:$D$1499,$AI23,data!$G$3:$G$1499,\"مثبت\",data!$CS$3:$CS$1499,1)","v":0},{"$f":"SUMIFS(data!CM$3:CM$1499,data!$D$3:$D$1499,$AI23,data!$G$3:$G$1499,\"مثبت\",data!$CS$3:$CS$1499,1)","v":0},{"$f":"SUMIFS(data!CN$3:CN$1499,data!$D$3:$D$1499,$AI23,data!$G$3:$G$1499,\"مثبت\",data!$CS$3:$CS$1499,1)","v":0},{"$f":"SUMIFS(data!CO$3:CO$1499,data!$D$3:$D$1499,$AI23,data!$G$3:$G$1499,\"مثبت\",data!$CS$3:$CS$1499,1)","v":0},{"$f":"SUMIFS(data!CP$3:CP$1499,data!$D$3:$D$1499,$AI23,data!$G$3:$G$1499,\"مثبت\",data!$CS$3:$CS$1499,1)","v":0},0]
[{"$f":"IFERROR(INDEX($AI$6:$AI$25,MATCH(ROWS($AG$6:AG24),$AG$6:$AG$115,0),1),\"\")","v":""},{"$f":"IFERROR(INDEX($AJ$6:$BM$25,MATCH(ROWS($AG$6:AG24),$AG$6:$AG$25,0),MATCH(COLUMNS($AJ$3:AJ21),$AJ$3:$BM$3,0)),\"\")","v":""},{"$f":"IFERROR(INDEX($AJ$6:$BM$25,MATCH(ROWS($AG$6:AH24),$AG$6:$AG$25,0),MATCH(COLUMNS($AJ$3:AK21),$AJ$3:$BM$3,0)),\"\")","v":""},{"$f":"IFERROR(INDEX($AJ$6:$BM$25,MATCH(ROWS($AG$6:AI24),$AG$6:$AG$25,0),MATCH(COLUMNS($AJ$3:AL21),$AJ$3:$BM$3,0)),\"\")","v":""},{"$f":"IFERROR(INDEX($AJ$6:$BM$25,MATCH(ROWS($AG$6:AJ24),$AG$6:$AG$25,0),MATCH(COLUMNS($AJ$3:AM21),$AJ$3:$BM$3,0)),\"\")","v":""},{"$f":"IFERROR(INDEX($AJ$6:$BM$25,MATCH(ROWS($AG$6:AK24),$AG$6:$AG$25,0),MATCH(COLUMNS($AJ$3:AN21),$AJ$3:$BM$3,0)),\"\")","v":""},{"$f":"IFERROR(INDEX($AJ$6:$BM$25,MATCH(ROWS($AG$6:AL24),$AG$6:$AG$25,0),MATCH(COLUMNS($AJ$3:AO21),$AJ$3:$BM$3,0)),\"\")","v":""},{"$f":"IFERROR(INDEX($AJ$6:$BM$25,MATCH(ROWS($AG$6:AM24),$AG$6:$AG$25,0),MATCH(COLUMNS($AJ$3:AP21),$AJ$3:$BM$3,0)),\"\")","v":""},{"$f":"IFERROR(INDEX($AJ$6:$BM$25,MATCH(ROWS($AG$6:AN24),$AG$6:$AG$25,0),MATCH(COLUMNS($AJ$3:AQ21),$AJ$3:$BM$3,0)),\"\")","v":""},{"$f":"IFERROR(INDEX($AJ$6:$BM$25,MATCH(ROWS($AG$6:AO24),$AG$6:$AG$25,0),MATCH(COLUMNS($AJ$3:AR21),$AJ$3:$BM$3,0)),\"\")","v":""},{"$f":"IFERROR(INDEX($AJ$6:$BM$25,MATCH(ROWS($AG$6:AP24),$AG$6:$AG$25,0),MATCH(COLUMNS($AJ$3:AS21),$AJ$3:$BM$3,0)),\"\")","v":""},{"$f":"IFERROR(INDEX($AJ$6:$BM$25,MATCH(ROWS($AG$6:AQ24),$AG$6:$AG$25,0),MATCH(COLUMNS($AJ$3:AT21),$AJ$3:$BM$3,0)),\"\")","v":""},{"$f":"IFERROR(INDEX($AJ$6:$BM$25,MATCH(ROWS($AG$6:AR24),$AG$6:$AG$25,0),MATCH(COLUMNS($AJ$3:AU21),$AJ$3:$BM$3,0)),\"\")","v":""},{"$f":"IFERROR(INDEX($AJ$6:$BM$25,MATCH(ROWS($AG$6:AS24),$AG$6:$AG$25,0),MATCH(COLUMNS($AJ$3:AV21),$AJ$3:$BM$3,0)),\"\")","v":""},{"$f":"IFERROR(INDEX($AJ$6:$BM$25,MATCH(ROWS($AG$6:AT24),$AG$6:$AG$25,0),MATCH(COLUMNS($AJ$3:AW21),$AJ$3:$BM$3,0)),\"\")","v":""},{"$f":"IFERROR(INDEX($AJ$6:$BM$25,MATCH(ROWS($AG$6:AU24),$AG$6:$AG$25,0),MATCH(COLUMNS($AJ$3:AX21),$AJ$3:$BM$3,0)),\"\")","v":""},{"$f":"IFERROR(INDEX($AJ$6:$BM$25,MATCH(ROWS($AG$6:AV24),$AG$6:$AG$25,0),MATCH(COLUMNS($AJ$3:AY21),$AJ$3:$BM$3,0)),\"\")","v":""},{"$f":"IFERROR(INDEX($AJ$6:$BM$25,MATCH(ROWS($AG$6:AW24),$AG$6:$AG$25,0),MATCH(COLUMNS($AJ$3:AZ21),$AJ$3:$BM$3,0)),\"\")","v":""},{"$f":"IFERROR(INDEX($AJ$6:$BM$25,MATCH(ROWS($AG$6:AX24),$AG$6:$AG$25,0),MATCH(COLUMNS($AJ$3:BA21),$AJ$3:$BM$3,0)),\"\")","v":""},{"$f":"IFERROR(INDEX($AJ$6:$BM$25,MATCH(ROWS($AG$6:AY24),$AG$6:$AG$25,0),MATCH(COLUMNS($AJ$3:BB21),$AJ$3:$BM$3,0)),\"\")","v":""},{"$f":"IFERROR(INDEX($AJ$6:$BM$25,MATCH(ROWS($AG$6:AZ24),$AG$6:$AG$25,0),MATCH(COLUMNS($AJ$3:BC21),$AJ$3:$BM$3,0)),\"\")","v":""},{"$f":"IFERROR(INDEX($AJ$6:$BM$25,MATCH(ROWS($AG$6:BA24),$AG$6:$AG$25,0),MATCH(COLUMNS($AJ$3:BD21),$AJ$3:$BM$3,0)),\"\")","v":""},{"$f":"IFERROR(INDEX($AJ$6:$BM$25,MATCH(ROWS($AG$6:BB24),$AG$6:$AG$25,0),MATCH(COLUMNS($AJ$3:BE21),$AJ$3:$BM$3,0)),\"\")","v":""},{"$f":"IFERROR(INDEX($AJ$6:$BM$25,MATCH(ROWS($AG$6:BC24),$AG$6:$AG$25,0),MATCH(COLUMNS($AJ$3:BF21),$AJ$3:$BM$3,0)),\"\")","v":""},{"$f":"IFERROR(INDEX($AJ$6:$BM$25,MATCH(ROWS($AG$6:BD24),$AG$6:$AG$25,0),MATCH(COLUMNS($AJ$3:BG21),$AJ$3:$BM$3,0)),\"\")","v":""},{"$f":"IFERROR(INDEX($AJ$6:$BM$25,MATCH(ROWS($AG$6:BE24),$AG$6:$AG$25,0),MATCH(COLUMNS($AJ$3:BH21),$AJ$3:$BM$3,0)),\"\")","v":""},{"$f":"IFERROR(INDEX($AJ$6:$BM$25,MATCH(ROWS($AG$6:BF24),$AG$6:$AG$25,0),MATCH(COLUMNS($AJ$3:BI21),$AJ$3:$BM$3,0)),\"\")","v":""},{"$f":"IFERROR(INDEX($AJ$6:$BM$25,MATCH(ROWS($AG$6:BG24),$AG$6:$AG$25,0),MATCH(COLUMNS($AJ$3:BJ21),$AJ$3:$BM$3,0)),\"\")","v":""},{"$f":"IFERROR(INDEX($AJ$6:$BM$25,MATCH(ROWS($AG$6:BH24),$AG$6:$AG$25,0),MATCH(COLUMNS($AJ$3:BK21),$AJ$3:$BM$3,0)),\"\")","v":""},{"$f":"IFERROR(INDEX($AJ$6:$BM$25,MATCH(ROWS($AG$6:BI24),$AG$6:$AG$25,0),MATCH(COLUMNS($AJ$3:BL21),$AJ$3:$BM$3,0)),\"\")","v":""},{"$f":"IFERROR(INDEX($AJ$6:$BM$25,MATCH(ROWS($AG$6:BJ24),$AG$6:$AG$25,0),MATCH(COLUMNS($AJ$3:BM21),$AJ$3:$BM$3,0)),\"\")","v":""},null,{"$f":"IF(AH24=0,\"\",SUM($AH$6:AH24))","v":""},0,"استرپتوکوک",{"$f":"SUMIFS(data!BN$3:BN$1499,data!$D$3:$D$1499,$AI24,data!$G$3:$G$1499,\"مثبت\",data!$CS$3:$CS$1499,1)","v":0},{"$f":"SUMIFS(data!BO$3:BO$1499,data!$D$3:$D$1499,$AI24,data!$G$3:$G$1499,\"مثبت\",data!$CS$3:$CS$1499,1)","v":0},{"$f":"SUMIFS(data!BP$3:BP$1499,data!$D$3:$D$1499,$AI24,data!$G$3:$G$1499,\"مثبت\",data!$CS$3:$CS$1499,1)","v":0},{"$f":"SUMIFS(data!BQ$3:BQ$1499,data!$D$3:$D$1499,$AI24,data!$G$3:$G$1499,\"مثبت\",data!$CS$3:$CS$1499,1)","v":0},{"$f":"SUMIFS(data!BR$3:BR$1499,data!$D$3:$D$1499,$AI24,data!$G$3:$G$1499,\"مثبت\",data!$CS$3:$CS$1499,1)","v":0},{"$f":"SUMIFS(data!BS$3:BS$1499,data!$D$3:$D$1499,$AI24,data!$G$3:$G$1499,\"مثبت\",data!$CS$3:$CS$1499,1)","v":0},{"$f":"SUMIFS(data!BT$3:BT$1499,data!$D$3:$D$1499,$AI24,data!$G$3:$G$1499,\"مثبت\",data!$CS$3:$CS$1499,1)","v":0},{"$f":"SUMIFS(data!BU$3:BU$1499,data!$D$3:$D$1499,$AI24,data!$G$3:$G$1499,\"مثبت\",data!$CS$3:$CS$1499,1)","v":0},{"$f":"SUMIFS(data!BV$3:BV$1499,data!$D$3:$D$1499,$AI24,data!$G$3:$G$1499,\"مثبت\",data!$CS$3:$CS$1499,1)","v":0},{"$f":"SUMIFS(data!BW$3:BW$1499,data!$D$3:$D$1499,$AI24,data!$G$3:$G$1499,\"مثبت\",data!$CS$3:$CS$1499,1)","v":0},{"$f":"SUMIFS(data!BX$3:BX$1499,data!$D$3:$D$1499,$AI24,data!$G$3:$G$1499,\"مثبت\",data!$CS$3:$CS$1499,1)","v":0},{"$f":"SUMIFS(data!BY$3:BY$1499,data!$D$3:$D$1499,$AI24,data!$G$3:$G$1499,\"مثبت\",data!$CS$3:$CS$1499,1)","v":0},{"$f":"SUMIFS(data!BZ$3:BZ$1499,data!$D$3:$D$1499,$AI24,data!$G$3:$G$1499,\"مثبت\",data!$CS$3:$CS$1499,1)","v":0},{"$f":"SUMIFS(data!CA$3:CA$1499,data!$D$3:$D$1499,$AI24,data!$G$3:$G$1499,\"مثبت\",data!$CS$3:$CS$1499,1)","v":0},{"$f":"SUMIFS(data!CB$3:CB$1499,data!$D$3:$D$1499,$AI24,data!$G$3:$G$1499,\"مثبت\",data!$CS$3:$CS$1499,1)","v":0},{"$f":"SUMIFS(data!CC$3:CC$1499,data!$D$3:$D$1499,$AI24,data!$G$3:$G$1499,\"مثبت\",data!$CS$3:$CS$1499,1)","v":0},{"$f":"SUMIFS(data!CD$3:CD$1499,data!$D$3:$D$1499,$AI24,data!$G$3:$G$1499,\"مثبت\",data!$CS$3:$CS$1499,1)","v":0},{"$f":"SUMIFS(data!CE$3:CE$1499,data!$D$3:$D$1499,$AI24,data!$G$3:$G$1499,\"مثبت\",data!$CS$3:$CS$1499,1)","v":0},{"$f":"SUMIFS(data!CF$3:CF$1499,data!$D$3:$D$1499,$AI24,data!$G$3:$G$1499,\"مثبت\",data!$CS$3:$CS$1499,1)","v":0},{"$f":"SUMIFS(data!CG$3:CG$1499,data!$D$3:$D$1499,$AI24,data!$G$3:$G$1499,\"مثبت\",data!$CS$3:$CS$1499,1)","v":0},{"$f":"SUMIFS(data!CH$3:CH$1499,data!$D$3:$D$1499,$AI24,data!$G$3:$G$1499,\"مثبت\",data!$CS$3:$CS$1499,1)","v":0},{"$f":"SUMIFS(data!CI$3:CI$1499,data!$D$3:$D$1499,$AI24,data!$G$3:$G$1499,\"مثبت\",data!$CS$3:$CS$1499,1)","v":0},{"$f":"SUMIFS(data!CJ$3:CJ$1499,data!$D$3:$D$1499,$AI24,data!$G$3:$G$1499,\"مثبت\",data!$CS$3:$CS$1499,1)","v":0},{"$f":"SUMIFS(data!CK$3:CK$1499,data!$D$3:$D$1499,$AI24,data!$G$3:$G$1499,\"مثبت\",data!$CS$3:$CS$1499,1)","v":0},{"$f":"SUMIFS(data!CL$3:CL$1499,data!$D$3:$D$1499,$AI24,data!$G$3:$G$1499,\"مثبت\",data!$CS$3:$CS$1499,1)","v":0},{"$f":"SUMIFS(data!CM$3:CM$1499,data!$D$3:$D$1499,$AI24,data!$G$3:$G$1499,\"مثبت\",data!$CS$3:$CS$1499,1)","v":0},{"$f":"SUMIFS(data!CN$3:CN$1499,data!$D$3:$D$1499,$AI24,data!$G$3:$G$1499,\"مثبت\",data!$CS$3:$CS$1499,1)","v":0},{"$f":"SUMIFS(data!CO$3:CO$1499,data!$D$3:$D$1499,$AI24,data!$G$3:$G$1499,\"مثبت\",data!$CS$3:$CS$1499,1)","v":0},{"$f":"SUMIFS(data!CP$3:CP$1499,data!$D$3:$D$1499,$AI24,data!$G$3:$G$1499,\"مثبت\",data!$CS$3:$CS$1499,1)","v":0},0]
[{"$f":"IFERROR(INDEX($AI$6:$AI$25,MATCH(ROWS($AG$6:AG25),$AG$6:$AG$115,0),1),\"\")","v":""},{"$f":"IFERROR(INDEX($AJ$6:$BM$25,MATCH(ROWS($AG$6:AG25),$AG$6:$AG$25,0),MATCH(COLUMNS($AJ$3:AJ22),$AJ$3:$BM$3,0)),\"\")","v":""},{"$f":"IFERROR(INDEX($AJ$6:$BM$25,MATCH(ROWS($AG$6:AH25),$AG$6:$AG$25,0),MATCH(COLUMNS($AJ$3:AK22),$AJ$3:$BM$3,0)),\"\")","v":""},{"$f":"IFERROR(INDEX($AJ$6:$BM$25,MATCH(ROWS($AG$6:AI25),$AG$6:$AG$25,0),MATCH(COLUMNS($AJ$3:AL22),$AJ$3:$BM$3,0)),\"\")","v":""},{"$f":"IFERROR(INDEX($AJ$6:$BM$25,MATCH(ROWS($AG$6:AJ25),$AG$6:$AG$25,0),MATCH(COLUMNS($AJ$3:AM22),$AJ$3:$BM$3,0)),\"\")","v":""},{"$f":"IFERROR(INDEX($AJ$6:$BM$25,MATCH(ROWS($AG$6:AK25),$AG$6:$AG$25,0),MATCH(COLUMNS($AJ$3:AN22),$AJ$3:$BM$3,0)),\"\")","v":""},{"$f":"IFERROR(INDEX($AJ$6:$BM$25,MATCH(ROWS($AG$6:AL25),$AG$6:$AG$25,0),MATCH(COLUMNS($AJ$3:AO22),$AJ$3:$BM$3,0)),\"\")","v":""},{"$f":"IFERROR(INDEX($AJ$6:$BM$25,MATCH(ROWS($AG$6:AM25),$AG$6:$AG$25,0),MATCH(COLUMNS($AJ$3:AP22),$AJ$3:$BM$3,0)),\"\")","v":""},{"$f":"IFERROR(INDEX($AJ$6:$BM$25,MATCH(ROWS($AG$6:AN25),$AG$6:$AG$25,0),MATCH(COLUMNS($AJ$3:AQ22),$AJ$3:$BM$3,0)),\"\")","v":""},{"$f":"IFERROR(INDEX($AJ$6:$BM$25,MATCH(ROWS($AG$6:AO25),$AG$6:$AG$25,0),MATCH(COLUMNS($AJ$3:AR22),$AJ$3:$BM$3,0)),\"\")","v":""},{"$f":"IFERROR(INDEX($AJ$6:$BM$25,MATCH(ROWS($AG$6:AP25),$AG$6:$AG$25,0),MATCH(COLUMNS($AJ$3:AS22),$AJ$3:$BM$3,0)),\"\")","v":""},{"$f":"IFERROR(INDEX($AJ$6:$BM$25,MATCH(ROWS($AG$6:AQ25),$AG$6:$AG$25,0),MATCH(COLUMNS($AJ$3:AT22),$AJ$3:$BM$3,0)),\"\")","v":""},{"$f":"IFERROR(INDEX($AJ$6:$BM$25,MATCH(ROWS($AG$6:AR25),$AG$6:$AG$25,0),MATCH(COLUMNS($AJ$3:AU22),$AJ$3:$BM$3,0)),\"\")","v":""},{"$f":"IFERROR(INDEX($AJ$6:$BM$25,MATCH(ROWS($AG$6:AS25),$AG$6:$AG$25,0),MATCH(COLUMNS($AJ$3:AV22),$AJ$3:$BM$3,0)),\"\")","v":""},{"$f":"IFERROR(INDEX($AJ$6:$BM$25,MATCH(ROWS($AG$6:AT25),$AG$6:$AG$25,0),MATCH(COLUMNS($AJ$3:AW22),$AJ$3:$BM$3,0)),\"\")","v":""},{"$f":"IFERROR(INDEX($AJ$6:$BM$25,MATCH(ROWS($AG$6:AU25),$AG$6:$AG$25,0),MATCH(COLUMNS($AJ$3:AX22),$AJ$3:$BM$3,0)),\"\")","v":""},{"$f":"IFERROR(INDEX($AJ$6:$BM$25,MATCH(ROWS($AG$6:AV25),$AG$6:$AG$25,0),MATCH(COLUMNS($AJ$3:AY22),$AJ$3:$BM$3,0)),\"\")","v":""},{"$f":"IFERROR(INDEX($AJ$6:$BM$25,MATCH(ROWS($AG$6:AW25),$AG$6:$AG$25,0),MATCH(COLUMNS($AJ$3:AZ22),$AJ$3:$BM$3,0)),\"\")","v":""},{"$f":"IFERROR(INDEX($AJ$6:$BM$25,MATCH(ROWS($AG$6:AX25),$AG$6:$AG$25,0),MATCH(COLUMNS($AJ$3:BA22),$AJ$3:$BM$3,0)),\"\")","v":""},{"$f":"IFERROR(INDEX($AJ$6:$BM$25,MATCH(ROWS($AG$6:AY25),$AG$6:$AG$25,0),MATCH(COLUMNS($AJ$3:BB22),$AJ$3:$BM$3,0)),\"\")","v":""},{"$f":"IFERROR(INDEX($AJ$6:$BM$25,MATCH(ROWS($AG$6:AZ25),$AG$6:$AG$25,0),MATCH(COLUMNS($AJ$3:BC22),$AJ$3:$BM$3,0)),\"\")","v":""},{"$f":"IFERROR(INDEX($AJ$6:$BM$25,MATCH(ROWS($AG$6:BA25),$AG$6:$AG$25,0),MATCH(COLUMNS($AJ$3:BD22),$AJ$3:$BM$3,0)),\"\")","v":""},{"$f":"IFERROR(INDEX($AJ$6:$BM$25,MATCH(ROWS($AG$6:BB25),$AG$6:$AG$25,0),MATCH(COLUMNS($AJ$3:BE22),$AJ$3:$BM$3,0)),\"\")","v":""},{"$f":"IFERROR(INDEX($AJ$6:$BM$25,MATCH(ROWS($AG$6:BC25),$AG$6:$AG$25,0),MATCH(COLUMNS($AJ$3:BF22),$AJ$3:$BM$3,0)),\"\")","v":""},{"$f":"IFERROR(INDEX($AJ$6:$BM$25,MATCH(ROWS($AG$6:BD25),$AG$6:$AG$25,0),MATCH(COLUMNS($AJ$3:BG22),$AJ$3:$BM$3,0)),\"\")","v":""},{"$f":"IFERROR(INDEX($AJ$6:$BM$25,MATCH(ROWS($AG$6:BE25),$AG$6:$AG$25,0),MATCH(COLUMNS($AJ$3:BH22),$AJ$3:$BM$3,0)),\"\")","v":""},{"$f":"IFERROR(INDEX($AJ$6:$BM$25,MATCH(ROWS($AG$6:BF25),$AG$6:$AG$25,0),MATCH(COLUMNS($AJ$3:BI22),$AJ$3:$BM$3,0)),\"\")","v":""},{"$f":"IFERROR(INDEX($AJ$6:$BM$25,MATCH(ROWS($AG$6:BG25),$AG$6:$AG$25,0),MATCH(COLUMNS($AJ$3:BJ22),$AJ$3:$BM$3,0)),\"\")","v":""},{"$f":"IFERROR(INDEX($AJ$6:$BM$25,MATCH(ROWS($AG$6:BH25),$AG$6:$AG$25,0),MATCH(COLUMNS($AJ$3:BK22),$AJ$3:$BM$3,0)),\"\")","v":""},{"$f":"IFERROR(INDEX($AJ$6:$BM$25,MATCH(ROWS($AG$6:BI25),$AG$6:$AG$25,0),MATCH(COLUMNS($AJ$3:BL22),$AJ$3:$BM$3,0)),\"\")","v":""},{"$f":"IFERROR(INDEX($AJ$6:$BM$25,MATCH(ROWS($AG$6:BJ25),$AG$6:$AG$25,0),MATCH(COLUMNS($AJ$3:BM22),$AJ$3:$BM$3,0)),\"\")","v":""},null,{"$f":"IF(AH25=0,\"\",SUM($AH$6:AH25))","v":""},0,"جمع",{"$f":"SUM(AJ6:AJ24)","v":0},{"$f":"SUM(AK6:AK24)","v":0},0,0,0,0,0,0,0,0,0,0,0,0,0,0,0,0,0,0,0,0,0,0,0,0,0,0,0,{"$f":"SUM(AJ25:BL25)","v":0}]
[{"$f":"IFERROR(INDEX($AI$6:$AI$25,MATCH(ROWS($AG$6:AG26),$AG$6:$AG$115,0),1),\"\")","v":""}]
[{"$f":"IFERROR(INDEX($AI$6:$AI$25,MATCH(ROWS($AG$6:AG27),$AG$6:$AG$115,0),1),\"\")","v":""}]
[{"$f":"IFERROR(INDEX($AI$6:$AI$25,MATCH(ROWS($AG$6:AG28),$AG$6:$AG$115,0),1),\"\")","v":""}]

{"sheet":"PLOT","index":4,"n_rows":8,"n_cols":66,"rows_kept":8,"cut":false,"hidden":false,"merged":[[0,20,0,21],[0,16,0,19]]}
[null,null,null,null,null,null,null,null,null,null,null,null,null,null,null,null,"نام باکتری مورد نظر خود را انتخاب کنید ",null,null,null,"پروتئوس",null,null,null,null,null,null,null,null,null,null,null,{"$f":"TABLE1!AP3&\" \"&TABLE1!AP4&\" \"&TABLE1!AP5&\" \"&TABLE1!AS3&\" \"&TABLE1!AS4&\" \"&TABLE1!AS5&\" \"&TABLE1!AV3&\" \"&TABLE1!AV4&\" \"&TABLE1!AV5&\" \"&TABLE1!AY3&\" \"&TABLE1!AY4&\" \"&TABLE1!AY5","v":"           "},null,"نوع باکتری انتخابی",null,"جنتامایسین","آمیکاسین","آمپی سیلین ","پنی سیلین ","ایمی پنم ","سفازولین ","سفوتاکسیم ","سفالوتین ","سفتریاکسون ","سفتیزوکسیم ","سیپروفلوکساسین ","کلیندامایسین ","کوتریموکسازول ","نالیدیک اسید ","ونکومایسین ","سفتازیدیم ","آموکسی سیلین","آزیترومایسین","کاربنی سیلین","سفالکسین","سپفیم","تتراسایکلین","نورفلوکساسین","نیتروفورانتوئین","مترونیدازول","مروپنم","کانامایسین","داکسی سایکلین","کلوگزایسلین","جمع"]
[null,null,null,null,null,null,null,null,null,null,null,null,null,null,null,null,null,null,null,null,null,null,null,null,null,null,null,null,null,null,null,null,null,null,{"$f":"U1","v":"پروتئوس"},"مثبت مقاوم",{"$f":"INDEX(TABLE2!$AI$6:$BM$25,MATCH($AI$2,TABLE2!$AI$6:$AI$25,0),2)","v":0},{"$f":"INDEX(TABLE2!$AI$6:$BM$25,MATCH($AI$2,TABLE2!$AI$6:$AI$25,0),3)","v":0},{"$f":"INDEX(TABLE2!$AI$6:$BM$25,MATCH($AI$2,TABLE2!$AI$6:$AI$25,0),4)","v":0},{"$f":"INDEX(TABLE2!$AI$6:$BM$25,MATCH($AI$2,TABLE2!$AI$6:$AI$25,0),5)","v":0},{"$f":"INDEX(TABLE2!$AI$6:$BM$25,MATCH($AI$2,TABLE2!$AI$6:$AI$25,0),6)","v":0},{"$f":"INDEX(TABLE2!$AI$6:$BM$25,MATCH($AI$2,TABLE2!$AI$6:$AI$25,0),7)","v":0},{"$f":"INDEX(TABLE2!$AI$6:$BM$25,MATCH($AI$2,TABLE2!$AI$6:$AI$25,0),8)","v":0},{"$f":"INDEX(TABLE2!$AI$6:$BM$25,MATCH($AI$2,TABLE2!$AI$6:$AI$25,0),9)","v":0},{"$f":"INDEX(TABLE2!$AI$6:$BM$25,MATCH($AI$2,TABLE2!$AI$6:$AI$25,0),10)","v":0},{"$f":"INDEX(TABLE2!$AI$6:$BM$25,MATCH($AI$2,TABLE2!$AI$6:$AI$25,0),11)","v":0},{"$f":"INDEX(TABLE2!$AI$6:$BM$25,MATCH($AI$2,TABLE2!$AI$6:$AI$25,0),12)","v":0},{"$f":"INDEX(TABLE2!$AI$6:$BM$25,MATCH($AI$2,TABLE2!$AI$6:$AI$25,0),13)","v":0},{"$f":"INDEX(TABLE2!$AI$6:$BM$25,MATCH($AI$2,TABLE2!$AI$6:$AI$25,0),14)","v":0},{"$f":"INDEX(TABLE2!$AI$6:$BM$25,MATCH($AI$2,TABLE2!$AI$6:$AI$25,0),15)","v":0},{"$f":"INDEX(TABLE2!$AI$6:$BM$25,MATCH($AI$2,TABLE2!$AI$6:$AI$25,0),16)","v":0},{"$f":"INDEX(TABLE2!$AI$6:$BM$25,MATCH($AI$2,TABLE2!$AI$6:$AI$25,0),17)","v":0},{"$f":"INDEX(TABLE2!$AI$6:$BM$25,MATCH($AI$2,TABLE2!$AI$6:$AI$25,0),18)","v":0},{"$f":"INDEX(TABLE2!$AI$6:$BM$25,MATCH($AI$2,TABLE2!$AI$6:$AI$25,0),19)","v":0},{"$f":"INDEX(TABLE2!$AI$6:$BM$25,MATCH($AI$2,TABLE2!$AI$6:$AI$25,0),20)","v":0},{"$f":"INDEX(TABLE2!$AI$6:$BM$25,MATCH($AI$2,TABLE2!$AI$6:$AI$25,0),21)","v":0},{"$f":"INDEX(TABLE2!$AI$6:$BM$25,MATCH($AI$2,TABLE2!$AI$6:$AI$25,0),22)","v":0},{"$f":"INDEX(TABLE2!$AI$6:$BM$25,MATCH($AI$2,TABLE2!$AI$6:$AI$25,0),23)","v":0},{"$f":"INDEX(TABLE2!$AI$6:$BM$25,MATCH($AI$2,TABLE2!$AI$6:$AI$25,0),24)","v":0},{"$f":"INDEX(TABLE2!$AI$6:$BM$25,MATCH($AI$2,TABLE2!$AI$6:$AI$25,0),25)","v":0},{"$f":"INDEX(TABLE2!$AI$6:$BM$25,MATCH($AI$2,TABLE2!$AI$6:$AI$25,0),26)","v":0},{"$f":"INDEX(TABLE2!$AI$6:$BM$25,MATCH($AI$2,TABLE2!$AI$6:$AI$25,0),27)","v":0},{"$f":"INDEX(TABLE2!$AI$6:$BM$25,MATCH($AI$2,TABLE2!$AI$6:$AI$25,0),28)","v":0},{"$f":"INDEX(TABLE2!$AI$6:$BM$25,MATCH($AI$2,TABLE2!$AI$6:$AI$25,0),29)","v":0},{"$f":"INDEX(TABLE2!$AI$6:$BM$25,MATCH($AI$2,TABLE2!$AI$6:$AI$25,0),30)","v":0},{"$f":"INDEX(TABLE2!$AI$6:$BM$25,MATCH($AI$2,TABLE2!$AI$6:$AI$25,0),31)","v":0}]
[null,null,null,null,null,null,null,null,null,null,null,null,null,null,null,null,null,null,null,null,null,null,null,null,null,null,null,null,null,null,null,null,null,null,null,"کل نمونه ارسالی",{"$f":"SUMIFS(data!$AN$3:$AN$1499,data!$D$3:$D$1499,$U$1,data!$CS$7:$CS$1503,1)","v":0},{"$f":"SUMIFS(data!$AO$3:$AO$1499,data!$D$3:$D$1499,$U$1,data!$CS$7:$CS$1503,1)","v":0},{"$f":"SUMIFS(data!$AP$3:$AP$1499,data!$D$3:$D$1499,$U$1,data!$CS$7:$CS$1503,1)","v":0},{"$f":"SUMIFS(data!$AQ$3:$AQ$1499,data!$D$3:$D$1499,$U$1,data!$CS$7:$CS$1503,1)","v":0},{"$f":"SUMIFS(data!$AR$3:$AR$1499,data!$D$3:$D$1499,$U$1,data!$CS$7:$CS$1503,1)","v":0},{"$f":"SUMIFS(data!$AS$3:$AS$1499,data!$D$3:$D$1499,$U$1,data!$CS$7:$CS$1503,1)","v":0},{"$f":"SUMIFS(data!$AT$3:$AT$1499,data!$D$3:$D$1499,$U$1,data!$CS$7:$CS$1503,1)","v":0},{"$f":"SUMIFS(data!$AU$3:$AU$1499,data!$D$3:$D$1499,$U$1,data!$CS$7:$CS$1503,1)","v":0},{"$f":"SUMIFS(data!$AV$3:$AV$1499,data!$D$3:$D$1499,$U$1,data!$CS$7:$CS$1503,1)","v":0},{"$f":"SUMIFS(data!$AW$3:$AW$1499,data!$D$3:$D$1499,$U$1,data!$CS$7:$CS$1503,1)","v":0},{"$f":"SUMIFS(data!$AX$3:$AX$1499,data!$D$3:$D$1499,$U$1,data!$CS$7:$CS$1503,1)","v":0},{"$f":"SUMIFS(data!$AY$3:$AY$1499,data!$D$3:$D$1499,$U$1,data!$CS$7:$CS$1503,1)","v":0},{"$f":"SUMIFS(data!$AZ$3:$AZ$1499,data!$D$3:$D$1499,$U$1,data!$CS$7:$CS$1503,1)","v":0},{"$f":"SUMIFS(data!$BA$3:$BA$1499,data!$D$3:$D$1499,$U$1,data!$CS$7:$CS$1503,1)","v":0},{"$f":"SUMIFS(data!$BB$3:$BB$1499,data!$D$3:$D$1499,$U$1,data!$CS$7:$CS$1503,1)","v":0},{"$f":"SUMIFS(data!$BC$3:$BC$1499,data!$D$3:$D$1499,$U$1,data!$CS$7:$CS$1503,1)","v":0},{"$f":"SUM(AK3:AZ3)","v":0}]
[]
[null,null,null,null,null,null,null,null,null,null,null,null,null,null,null,null,null,null,null,null,null,null,null,null,null,null,null,null,null,null,null,null,null,null,null,"مثبت حساس",{"$f":"INDEX(TABLE1!$AI$10:$BM$29,MATCH($AI$2,TABLE1!$AI$10:$AI$29,0),COLUMNS($AJ$5:AK5))","v":0},{"$f":"INDEX(TABLE1!$AI$10:$BM$29,MATCH($AI$2,TABLE1!$AI$10:$AI$29,0),COLUMNS($AJ$5:AL5))","v":0},{"$f":"INDEX(TABLE1!$AI$10:$BM$29,MATCH($AI$2,TABLE1!$AI$10:$AI$29,0),COLUMNS($AJ$5:AM5))","v":0},{"$f":"INDEX(TABLE1!$AI$10:$BM$29,MATCH($AI$2,TABLE1!$AI$10:$AI$29,0),COLUMNS($AJ$5:AN5))","v":0},{"$f":"INDEX(TABLE1!$AI$10:$BM$29,MATCH($AI$2,TABLE1!$AI$10:$AI$29,0),COLUMNS($AJ$5:AO5))","v":0},{"$f":"INDEX(TABLE1!$AI$10:$BM$29,MATCH($AI$2,TABLE1!$AI$10:$AI$29,0),COLUMNS($AJ$5:AP5))","v":0},{"$f":"INDEX(TABLE1!$AI$10:$BM$29,MATCH($AI$2,TABLE1!$AI$10:$AI$29,0),COLUMNS($AJ$5:AQ5))","v":0},{"$f":"INDEX(TABLE1!$AI$10:$BM$29,MATCH($AI$2,TABLE1!$AI$10:$AI$29,0),COLUMNS($AJ$5:AR5))","v":0},{"$f":"INDEX(TABLE1!$AI$10:$BM$29,MATCH($AI$2,TABLE1!$AI$10:$AI$29,0),COLUMNS($AJ$5:AS5))","v":0},{"$f":"INDEX(TABLE1!$AI$10:$BM$29,MATCH($AI$2,TABLE1!$AI$10:$AI$29,0),COLUMNS($AJ$5:AT5))","v":0},{"$f":"INDEX(TABLE1!$AI$10:$BM$29,MATCH($AI$2,TABLE1!$AI$10:$AI$29,0),COLUMNS($AJ$5:AU5))","v":0},{"$f":"INDEX(TABLE1!$AI$10:$BM$29,MATCH($AI$2,TABLE1!$AI$10:$AI$29,0),COLUMNS($AJ$5:AV5))","v":0},{"$f":"INDEX(TABLE1!$AI$10:$BM$29,MATCH($AI$2,TABLE1!$AI$10:$AI$29,0),COLUMNS($AJ$5:AW5))","v":0},{"$f":"INDEX(TABLE1!$AI$10:$BM$29,MATCH($AI$2,TABLE1!$AI$10:$AI$29,0),COLUMNS($AJ$5:AX5))","v":0},{"$f":"INDEX(TABLE1!$AI$10:$BM$29,MATCH($AI$2,TABLE1!$AI$10:$AI$29,0),COLUMNS($AJ$5:AY5))","v":0},{"$f":"INDEX(TABLE1!$AI$10:$BM$29,MATCH($AI$2,TABLE1!$AI$10:$AI$29,0),COLUMNS($AJ$5:AZ5))","v":0},{"$f":"INDEX(TABLE1!$AI$10:$BM$29,MATCH($AI$2,TABLE1!$AI$10:$AI$29,0),COLUMNS($AJ$5:BA5))","v":0},{"$f":"INDEX(TABLE1!$AI$10:$BM$29,MATCH($AI$2,TABLE1!$AI$10:$AI$29,0),COLUMNS($AJ$5:BB5))","v":0},{"$f":"INDEX(TABLE1!$AI$10:$BM$29,MATCH($AI$2,TABLE1!$AI$10:$AI$29,0),COLUMNS($AJ$5:BC5))","v":0},{"$f":"INDEX(TABLE1!$AI$10:$BM$29,MATCH($AI$2,TABLE1!$AI$10:$AI$29,0),COLUMNS($AJ$5:BD5))","v":0},{"$f":"INDEX(TABLE1!$AI$10:$BM$29,MATCH($AI$2,TABLE1!$AI$10:$AI$29,0),COLUMNS($AJ$5:BE5))","v":0},{"$f":"INDEX(TABLE1!$AI$10:$BM$29,MATCH($AI$2,TABLE1!$AI$10:$AI$29,0),COLUMNS($AJ$5:BF5))","v":0},{"$f":"INDEX(TABLE1!$AI$10:$BM$29,MATCH($AI$2,TABLE1!$AI$10:$AI$29,0),COLUMNS($AJ$5:BG5))","v":0},{"$f":"INDEX(TABLE1!$AI$10:$BM$29,MATCH($AI$2,TABLE1!$AI$10:$AI$29,0),COLUMNS($AJ$5:BH5))","v":0},{"$f":"INDEX(TABLE1!$AI$10:$BM$29,MATCH($AI$2,TABLE1!$AI$10:$AI$29,0),COLUMNS($AJ$5:BI5))","v":0},{"$f":"INDEX(TABLE1!$AI$10:$BM$29,MATCH($AI$2,TABLE1!$AI$10:$AI$29,0),COLUMNS($AJ$5:BJ5))","v":0},{"$f":"INDEX(TABLE1!$AI$10:$BM$29,MATCH($AI$2,TABLE1!$AI$10:$AI$29,0),COLUMNS($AJ$5:BK5))","v":0},{"$f":"INDEX(TABLE1!$AI$10:$BM$29,MATCH($AI$2,TABLE1!$AI$10:$AI$29,0),COLUMNS($AJ$5:BL5))","v":0},{"$f":"INDEX(TABLE1!$AI$10:$BM$29,MATCH($AI$2,TABLE1!$AI$10:$AI$29,0),COLUMNS($AJ$5:BM5))","v":0},{"$f":"INDEX(TABLE1!$AI$10:$BM$29,MATCH($AI$2,TABLE1!$AI$10:$AI$29,0),COLUMNS($AJ$5:BN5))","v":0}]
[]
[null,null,null,null,null,null,null,null,null,null,null,null,null,null,null,null,null,null,null,null,null,null,null,null,null,null,null,null,null,null,null,null,null,null,null,null,{"$f":"\"نمودار آنتی بیوتیک های مقاوم به باکتری \"&\" \"&U1&\" \"&\"بخش \"&TABLE1!D5&\" سال\"&TABLE1!D1\n&AG1","v":"نمودار آنتی بیوتیک های مقاوم به باکتری  پروتئوس بخش کل بخشها سال1396           "}]
[null,null,null,null,null,null,null,null,null,null,null,null,null,null,null,null,null,null,null,null,null,null,null,null,null,null,null,null,null,null,null,null,null,null,null,null,{"$f":"\"نمودار آنتی بیوتیک های حساس به باکتری \"&\" \"&U1&\" \"&\"بخش \"&TABLE1!D5&\" سال\"&TABLE1!D1&AG1","v":"نمودار آنتی بیوتیک های حساس به باکتری  پروتئوس بخش کل بخشها سال1396           "}]